{"text_format":"1","workbook":"xlsx","n_sheets":20,"sheets":["Інструкція","Головна_Summary","План фінансування_Funding plan","Фінансування_Financing (CFI)","Припущення_Assumptions","Добовий графік_Daily schedule","Грошові потоки _ Cash flows","CFO","CFF","Амортизація_Depreciation","Факторн. аналіз_Factor analysis","Ризики проекту_Project risks","Аналіз чутливості_Sensitivity","Тариф ОСП_Tariff","Тарифи ОСР (НКРЕКП)_Tariff","Споживачі_CONSUMER","TenYearsMarket","Строки експлуатації_useful life","Списки","Lists"],"not_rendered":{"charts":5,"images":16,"macros":1,"external_links":94,"defined_names":2933,"comments":4,"pivot_tables":0},"unopened":[],"bounds":{"document_bytes":16777216,"sheet_cells":100000,"rows_first":2000,"rows_last":500,"rows_between":2000,"halvings":0,"cell_chars":16384,"cell_head_chars":4096},"cells_cut":0,"cells_raw":0,"read":"whole","date_system":"1900"}

{"sheet":"Інструкція","index":0,"n_rows":461,"n_cols":2,"rows_kept":461,"cut":false,"hidden":true,"merged":[[459,1,459,5],[460,1,460,20],[235,1,235,6],[290,1,290,5],[291,1,291,20],[270,1,270,20],[236,1,236,20],[146,1,146,18],[421,1,421,20],[420,1,420,5],[387,1,387,20],[0,0,1,4],[4,1,4,15],[3,1,3,3],[77,1,77,18],[76,1,76,3],[39,1,39,15],[38,1,38,3],[145,1,145,3],[205,1,205,20],[269,1,269,4],[386,1,386,5],[204,1,204,4]]}
["ІНСТРУКЦІЯ"]
[]
[]
[null,"1. ГОЛОВНА"]
[null,"Даний аркуш є обов'язковим для заповнення. На даному аркуші відображаються всі ключові параметри інвестиційного проекту, що дозволяють отримати уявлення про його суть, етапи та ефективності.\n"]
[]
[]
[]
[]
[]
[]
[]
[]
[]
[]
[]
[]
[]
[]
[]
[]
[]
[]
[]
[]
[]
[]
[]
[]
[]
[]
[]
[]
[]
[]
[]
[]
[]
[null,"2. ФІНАНСУВАННЯ (CFI)"]
[null,"    Даний аркуш є обов'язковим для заповнення. Показує елементний склад витрат, пов'язаних з реалізацією проекту: \n    - Операційні витрати на реалізацію проекту;\n    - Інвестиції по проекту;\n    - Отримання кредиту;\n    - Заплановані витрати на капітальні ремонти протягом терміну експлуатації;  \n     На аркуші «Фінансування (CFI)» також відображається інформація про розподіл витрат по роках. Дана інформація в автоматичному режимі використовуються на аркушах «Амортизація» та «Грошові потоки»."]
[]
[]
[]
[]
[]
[]
[]
[]
[]
[]
[]
[]
[]
[]
[]
[]
[]
[]
[]
[]
[]
[]
[]
[]
[]
[]
[]
[]
[]
[]
[]
[]
[]
[]
[]
[]
[null,"3. ПЛАН ФІНАНСУВАННЯ"]
[null,"Даний аркуш є обов'язковим для заповнення. аркуш складається з двой таблиць: План фінансування та план освоєння. Мета даного аркуша показати графік реалізації інвестиційного проекту і взаємозв'язок з графіком фінансування / освоєння. Дана інформація повинна відповідати графіку впровадження проекта виконаному в MS Project. Дані по графіку проекту автоматично переносяться на аркуш \"Головна\".\n"]
[]
[]
[]
[]
[]
[]
[]
[]
[]
[]
[]
[]
[]
[]
[]
[]
[]
[]
[]
[]
[]
[]
[]
[]
[]
[]
[]
[]
[]
[]
[]
[]
[]
[]
[]
[]
[]
[]
[]
[]
[]
[]
[]
[]
[]
[]
[]
[]
[]
[]
[]
[]
[]
[]
[]
[]
[]
[]
[]
[]
[]
[]
[]
[]
[]
[]
[]
[null,"4.ГРОШОВІ ПОТОКИ"]
[null,"Даний аркуш є обов'язковим для заповнення. Необхідний для розрахунку дисконтування грошових потоків.  Мета форми - показати розрахунок основних економічних показників проекту. ПРИМІТКА: додавання рядків в цей аркуш не допускається (будуть неправильно працювати формули розрахунку ставок дисконтування)!"]
[]
[]
[]
[]
[]
[]
[]
[]
[]
[]
[]
[]
[]
[]
[]
[]
[]
[]
[]
[]
[]
[]
[]
[]
[]
[]
[]
[]
[]
[]
[]
[]
[]
[]
[]
[]
[]
[]
[]
[]
[]
[]
[]
[]
[]
[]
[]
[]
[]
[]
[]
[]
[]
[]
[]
[]
[]
[null,"5.РОЗРАХУНОК КРЕДИТУ (CFF)"]
[null,"Аркуш використовується для розрахунку кредитних виплат у разі,я кщо джелом фінансування проекту є кредитні кошти. Розрахунки автоматично переносяться на аркуш \"Грошові потоки\" в розділ \"Фінансовий грошовий потік\".  "]
[]
[]
[]
[]
[]
[]
[]
[]
[]
[]
[]
[]
[]
[]
[]
[]
[]
[]
[]
[]
[]
[]
[]
[]
[]
[]
[]
[]
[]
[null,"6.  РОЗРАХУНОК ОПЕРАЦІЙНОГО ГРОШОВОГО ПОТОКУ (CFO)"]
[null,"Два аркуши використовуються для довільних розрахунків автора. На аркуші \"Для розрахунків (CFO)\" є макропрогноз показників, які можливо використовувати для розрахунків. На аркуші CFO перелічені можливі грошові потоки по проектам. Обидва аркуші розраховані на додавання рядків."]
[]
[]
[]
[]
[]
[]
[]
[]
[]
[]
[]
[]
[]
[]
[]
[]
[]
[]
[]
[]
[]
[]
[]
[]
[]
[]
[]
[]
[]
[]
[]
[]
[null,"7.АМОРТИЗАЦІЯ"]
[null,"Мета форми - показати розрахунок амортизаційних відрахувань при введенні в експлуатацію об'єкта інвестицій, бухгалтерську залишкову вартість об'єкта. В інвестиційній формі передбачено використання прямолінійного методу розрахунку амортизації: Згідно Наказу НЕК «Укренерго» №54 від 31.01.2019р. \"Про затвердження Облікової політики за міжнародними стандартами фінансової звітності\", підприємство застосовує прямолінійний метод амортизації.  Значення амортизації вносяться в аркуш «Грошові потоки» автоматично, посиланнями на відповідні осередки аркуша додатка."]
[]
[]
[]
[]
[]
[]
[]
[]
[]
[]
[]
[]
[]
[]
[]
[]
[]
[]
[]
[null,"8. Факторний аналіз "]
[null,"Аркуш призначений для визначення складу NPV, а також для визначення кількісної зміни показників економічної ефективності в результаті зміни кожного чи двох одночасно факторів. "]
[]
[]
[]
[]
[]
[]
[]
[]
[]
[]
[]
[]
[]
[]
[]
[]
[]
[]
[]
[]
[]
[]
[]
[]
[]
[]
[]
[]
[]
[]
[]
[]
[]
[]
[]
[]
[]
[]
[]
[]
[]
[]
[]
[]
[]
[]
[]
[]
[]
[]
[]
[]
[]
[]
[]
[]
[]
[]
[]
[]
[]
[]
[]
[]
[]
[]
[]
[]
[]
[]
[]
[]
[]
[]
[]
[]
[]
[]
[]
[]
[]
[]
[]
[]
[]
[]
[]
[]
[]
[]
[]
[]
[]
[]
[null,"9. РИЗИКИ ПРОЕКТУ"]
[null,"Мета форми - описати основні специфічні ризики проекту, їх вірогідність і заходи, які будуть вжиті для мінімізації ризиків невдачі проекту. В даній формі оцінюються тільки специфічні для даного проекту ризики і пропонуються специфічні для проекту заходи щодо їх мінімізації. Якщо мінімізація загальних ризиків забезпечується наявними на підприємстві звичайними бізнес-процедурами, описувати ці ризики і заходи щодо їх мінімізації в формі не потрібно. Заходи щодо мінімізації ризику розробляються в обов'язковому порядку в разі, якщо ризик оцінюється як «середній» або «високий». Загальна оцінка ризиків розраховується автоматично.\n"]
[]
[]
[]
[]
[]
[]
[]
[]
[]
[]
[]
[]
[]
[]
[]
[]
[]
[]
[]
[]
[]
[]
[]
[]
[]
[]
[]
[]
[]
[]
[]
[]
[null,"10.АНАЛІЗ ЧУТЛИВОСТІ"]
[null,"Мета форми - оцінити чутливість економічних показників проекту до зміни основних параметрів, щодо базового варіанту. Додавання і видалення рядків в цій формі не допускається."]
[]
[]
[]
[]
[]
[]
[]
[]
[]
[]
[]
[]
[]
[]
[]
[]
[]
[]
[]
[]
[]
[]
[]
[]
[]
[]
[]
[]
[]
[]
[]
[]
[]
[]
[]
[]
[]
[null,"11. ТАРИФ "]
[null,"Мета даного аркушу - демонстрація впливу реалізації  проєкту на тариф на передачу електроенергії та на тариф на диспечеризацію. "]

{"sheet":"Головна_Summary","index":1,"n_rows":69,"n_cols":43,"rows_kept":69,"cut":false,"hidden":false,"merged":[[1,0,2,7],[14,2,27,7],[31,6,31,7],[31,19,48,19],[16,19,30,19],[41,6,41,7],[31,2,31,4],[33,2,33,4],[35,2,35,4],[37,2,37,4],[33,12,33,14],[33,16,33,17],[41,16,41,17],[43,12,43,14],[35,16,35,17],[37,12,37,14],[31,10,31,11],[29,2,29,4],[29,6,29,7],[31,12,31,14],[31,16,31,17],[45,12,45,14],[10,2,10,7],[60,2,60,7],[60,12,60,17],[35,6,35,7],[37,6,37,7],[39,6,39,7],[39,2,39,4],[45,2,45,4],[41,10,41,11],[50,10,51,11],[43,16,49,17],[52,10,54,11],[52,2,57,7],[43,6,49,7],[43,2,43,4],[49,12,49,14],[43,10,43,11],[35,12,35,14],[47,12,47,14],[47,2,47,4],[49,2,49,4],[37,16,37,17],[52,12,57,17],[39,12,39,14],[39,16,39,17],[0,32,14,32],[1,10,2,17],[4,33,4,36],[8,12,8,17],[6,33,6,36],[12,12,12,14],[10,33,10,36],[14,12,27,17],[12,33,12,36],[14,33,14,36],[16,32,30,32],[17,33,17,36],[21,33,21,36],[23,33,23,36],[25,33,25,36],[27,20,27,23],[29,16,29,17],[10,12,10,17],[29,12,29,14],[0,19,15,19],[29,10,29,11],[8,10,8,11],[55,32,55,33],[55,40,55,41],[56,36,56,37],[56,38,56,39],[56,32,56,33],[55,36,55,37],[55,38,55,39],[53,36,53,37],[53,38,53,39],[54,36,54,37],[54,38,54,39],[56,40,56,41],[53,40,53,41],[54,32,54,33],[54,40,54,41],[53,23,53,24],[53,25,53,26],[53,27,53,28],[54,27,54,28],[54,23,54,24],[54,25,54,26],[52,19,52,29],[47,21,47,23],[50,19,50,20],[54,19,54,20],[52,32,52,42],[19,20,19,23],[17,26,17,27],[19,26,19,27],[50,34,50,35],[50,32,50,33],[31,32,48,32],[31,34,31,35],[33,34,33,36],[27,33,27,36],[45,21,45,23],[47,34,47,36],[50,21,50,22],[51,19,51,29],[39,34,39,36],[39,21,39,23],[33,21,33,23],[35,21,35,23],[37,21,37,23],[31,21,31,23],[35,34,35,36],[37,34,37,36],[41,34,41,36],[43,34,43,36],[41,21,41,23],[45,34,45,36],[43,21,43,23],[14,1,15,1],[14,10,15,11],[12,10,12,11],[4,2,4,7],[5,1,6,1],[10,10,10,11],[5,10,6,11],[4,12,4,17],[4,10,4,11],[12,2,12,4],[8,2,8,7],[33,6,33,7],[17,20,17,23],[4,20,4,23],[6,20,6,23],[10,20,10,23],[25,20,25,23],[23,20,23,23],[21,20,21,23],[12,20,12,23],[14,20,14,23]]}
["UKR",null,null,null,null,null,null,null,null,null,"ENG",null,null,null,null,null,null,null,null,"ФІНАНССОВІ ВИТРАТИ / FINANCIAL EXPENSES",null,null,null,null,null,null,null,null,null,null,null,null,"FINANCIAL EXPENSES"]
["Energy storage system 10МВт",null,null,null,null,null,null,null,null,null,"Energy storage system 10 MW"]
[]
[null,null,null,null,null,null,null,null,null,null,null,null,null,null,null,null,null,null,null,null,null,null,null,null,null,{"$f":"E7","v":2024},null,"Весь період / All period",null,"Валюта / Currency",null,null,null,null,null,null,null,null,{"$f":"O7","v":2024},null,"All period",null,"Currency"]
[null,"Оцінка ефективності з урахуванням:","Погашення тіла кредиту",null,null,null,null,null,null,null,"Efficiency evaluation taking into account:",null,"Repayment of principal",null,null,null,null,null,null,null,"Бюджет проекту  / Project budjet",null,null,null,null,{"$f":"'Фінансування_Financing (CFI)'!AD8","v":6000},null,{"$f":"'Фінансування_Financing (CFI)'!BH8","v":9000},null,"тис.US$/ ths.US$",null,null,null,"Project budjet",null,null,null,null,3961,null,58132,null,"тис.EUR/ ths.EUR"]
[null,"Терміни реалізації","Місяць",null,"Початок витрат за проєктом",null,"Введення в експлуатацію",null,null,null,"Implementation period",null,"Month",null,"Start of project costs",null,"Commissioning"]
[null,null,6,null,2024,null,2025,null,null,null,null,null,{"$f":"C7","v":6},null,{"$f":"E7","v":2024},null,{"$f":"G7","v":2025},null,null,null,"Бюджет освоєння / Project budget - capitalization",null,null,null,null,{"$f":"'Фінансування_Financing (CFI)'!AD22","v":5500},null,{"$f":"'Фінансування_Financing (CFI)'!BH22","v":9000},null,{"$f":"AD5","v":"тис.US$/ ths.US$"},null,null,null,"Development budget",null,null,null,null,3961,null,58132,null,{"$f":"AQ5","v":"тис.EUR/ ths.EUR"}]
[]
[null,"Вид робіт за проєктом","Нове будівництво",null,null,null,null,null,null,null,"Type of works",null,"New construction"]
[]
[null,"Застосовуваний тариф","Повний тариф",null,null,null,null,null,{"$f":"IF(Головна_Summary!H13=\"Власні кошти\",1,0)","v":0},null,"Tariff applied",null,{"$f":"IF(C11=\"Інфраструктурний тариф\",\"Infrastructure tariff\",\"Full tariff\")","v":"Full tariff"},null,null,null,null,null,{"$f":"IF(Головна_Summary!R13=\"Власні кошти\",1,0)","v":0},null,"Витрати за кредитом /Costs on the loan",null,null,null,null,{"$f":"'Грошові потоки _ Cash flows'!I36","v":150},null,{"$f":"'Грошові потоки _ Cash flows'!AM36","v":1725.0000000000002},null,{"$f":"AD5","v":"тис.US$/ ths.US$"},null,null,null,"Operating costs for implementation",null,null,null,null,{"$f":"'Фінансування_Financing (CFI)'!AP20","v":5500},null,{"$f":"'Фінансування_Financing (CFI)'!BH22","v":9000},null,{"$f":"AQ5","v":"тис.EUR/ ths.EUR"}]
[]
[null,"Поточний стан","Передпроектні роботи",null,null,null,"Фінансування","Кредитні кошти",null,null,"Current status",null,"Pre-Project work",null,null,null,"Financing","Loan + Own funds",null,null,"Капітальні ремонти / Capital repairs",null,null,null,null,{"$f":"'Фінансування_Financing (CFI)'!AD35","v":0},null,{"$f":"'Фінансування_Financing (CFI)'!BH35","v":0},null,{"$f":"AD5","v":"тис.US$/ ths.US$"},null,null,null,"Overhaul",null,null,null,null,{"$f":"'Фінансування_Financing (CFI)'!BA35","v":0},null,{"$f":"'Фінансування_Financing (CFI)'!BH35","v":0},null,{"$f":"AQ5","v":"тис.EUR/ ths.EUR"}]
[]
[null,"Обгрунтування необхідності ","Реалізація проєкту передбачена загальносистемними заходами з підвищення маневрової спроможності ОЕС України. Цими заходами передбачено  впровадження до  0,74 ГВт потужностей СНЕ на базі Energy Storages в період з 2023 року до 2032 року. Це забезпечить можливість швидкої компенсації небалансів у межах до ±740 МВт, знижує потребу в підтриманні відповідних резервів на станціях традиційної енергетики, збільшується можливість використання ВДЕ для покриття графіку електричних навантажень.",null,null,null,null,null,null,null,"Necessity of the project",null,"Implementation of the project is envisaged by system-wide measures to increase the maneuverability of of the IPS of Ukraine. These measures envisage the introduction of up to 0.74 GW of frequency control and maintenance systems capacity based on Energy Storages in the period from 2023 to 2032. It will enable to quickly settle imbalances up to ± 740 MW, reduces the need to maintain appropriate reserves at traditional power stations, increases the possibility of using RES to meet the schedule of power loads. ",null,null,null,null,null,null,null,"Sunk costs",null,null,null,null,null,null,null,null,{"$f":"AD5","v":"тис.US$/ ths.US$"},null,null,null,"Sunk costs",null,null,null,null,null,null,null,null,{"$f":"AQ5","v":"тис.EUR/ ths.EUR"}]
[]
[null,null,null,null,null,null,null,null,null,null,null,null,null,null,null,null,null,null,null,"ЕКОНОМІЧНИЙ ЕФЕКТ / ECONOMIC EFFECT",null,null,null,null,null,null,null,null,null,null,null,null,"ECONOMIC EFFECT"]
[null,null,null,null,null,null,null,null,null,null,null,null,null,null,null,null,null,null,null,null,"Чиста приведена вартість/Net Present Value   (NPV)     ",null,null,null,null,{"$f":"'Грошові потоки _ Cash flows'!K7","v":10374214.43011884},{"$f":"AD5","v":"тис.US$/ ths.US$"},null,null,null,null,null,null,"Net Present Value  ",null,null,null,null,{"$f":"'Грошові потоки _ Cash flows'!AI7","v":0},null,{"$f":"AQ5","v":"тис.EUR/ ths.EUR"}]
[]
[null,null,null,null,null,null,null,null,null,null,null,null,null,null,null,null,null,null,null,null,"NPV без залишкової вартості / Net Present Value without residual value   ",null,null,null,null,{"$f":"'Грошові потоки _ Cash flows'!K9","v":6661.6382856210284},{"$f":"AA18","v":"тис.US$/ ths.US$"}]
[]
[null,null,null,null,null,null,null,null,null,null,null,null,null,null,null,null,null,null,null,null,"Внутрішня норма доходу/Internal rate of return (IRR)    ",null,null,null,null,{"$f":"'Грошові потоки _ Cash flows'!K13","v":0.22240220193303389},"%",null,null,null,null,null,null,"Internal rate of return",null,null,null,null,{"$f":"IF(H13=\"Кредитні кошти\",\"Не розраховується\",'Грошові потоки _ Cash flows'!K13)","v":"Не розраховується"},"%"]
[]
[null,null,null,null,null,null,null,null,null,null,null,null,null,null,null,null,null,null,null,null,"Окупність інвестицій/Return on investments  (ROI)    ",null,null,null,null,{"$f":"'Грошові потоки _ Cash flows'!K11","v":0.40979644123483971},"%",null,null,null,null,null,null,"Return on investments ",null,null,null,null,{"$f":"'Грошові потоки _ Cash flows'!K11","v":0.40979644123483971},"%"]
[]
[null,null,null,null,null,null,null,null,null,null,null,null,null,null,null,null,null,null,null,null,"Індекс прибутковості/Profitability index (PI)    ",null,null,null,null,{"$f":"'Грошові потоки _ Cash flows'!N7","v":2579.1361791289023},null,null,null,null,null,null,null,"Profitability index",null,null,null,null,{"$f":"'Грошові потоки _ Cash flows'!N7","v":2579.1361791289023}]
[]
[null,null,null,null,null,null,null,null,null,null,null,null,null,null,null,null,null,null,null,null,"Дисконтований термін окупності/Discounted payback period (DPP)    ",null,null,null,null,{"$f":"'Грошові потоки _ Cash flows'!N9","v":9.9443971889006182},"міс./months",{"$f":"IFERROR(Z28/12,\"Не окуповується/ Doesn't pay off\")","v":0.82869976574171822},"років/years",null,null,null,null,"Discounted payback period",null,null,null,null,{"$f":"'Грошові потоки _ Cash flows'!N9","v":9.9443971889006182},"Month."]
[]
[null,null,"ЕС",null,null,null,"Підстанція",null,null,null,null,null,"ES",null,null,null,"Substation"]
[]
[null,"Територія проведення",null,null,null,null,null,null,null,null,"Location",null,null,null,null,null,null,null,null,"ПЛАН ФІНАНСУВАННЯ / FINANCING PLAN",null,"Етап проєкту / Project phase",null,null,null,"Початок / Start",null,"Кінець / End",null,null,null,null,"FUNDING PLAN",null,"Project phase",null,null,null,"Start",null,"End"]
[]
[null,null,null,null,null,null,null,null,null,null,null,null,null,null,null,null,null,null,null,null,null,{"$f":"'План фінансування_Funding plan'!B9","v":"ESS 10 MW"},null,null,null,{"$f":"'План фінансування_Funding plan'!E10","v":"2024-01-01"},null,{"$f":"'План фінансування_Funding plan'!G10","v":"2025-06-01"},null,null,null,null,null,null,"Phase 1"]
[]
[null,null,null,null,null,null,null,null,null,null,null,null,null,null,null,null,null,null,null,null,null,null,null,null,null,null,null,null,null,null,null,null,null,null,"Phase 2"]
[]
[null,null,null,null,null,null,null,null,null,null,null,null,null,null,null,null,null,null,null,null,null,null,null,null,null,null,null,null,null,null,null,null,null,null,"Phase 3"]
[]
[null,null,null,null,null,null,null,null,null,null,null,null,null,null,null,null,null,null,null,null,null,null,null,null,null,null,null,null,null,null,null,null,null,null,"Phase 4 "]
[]
[null,null,null,null,null,null,"Факотри отримання техніко-економічного ефекту",null,null,null,null,null,null,null,null,null,"Factors of obtaining technical and economic effect",null,null,null,null,null,null,null,null,null,null,null,null,null,null,null,null,null,"Phase 5"]
[]
[null,"Об'єкт","Системи накопичення електроенергії",null,null,null,"Економічний ефект грунтується на тому, що з встановленими акумулюючими батареями буде можливість отримувати дохід за надання послуг з вторинного регулювання на ринку допоміжних послуг. У разі активації резерву, додатково до «плати за готовність» здійснюється плата за послуги розвантаження чи завантаження системи на балансуючому ринку",null,null,null,"Object",null,"Energy storage systems",null,null,null,"Economic effect is based on the fact, that after installation of energy storage systems there will be the possibility to get income for providing of secondary control on the market of ancillary services",null,null,null,null,null,null,null,null,null,null,null,null,null,null,null,null,null,"Phase 6"]
[]
[null,null,null,null,null,null,null,null,null,null,null,null,null,null,null,null,null,null,null,null,null,null,null,null,null,null,null,null,null,null,null,null,null,null,"Phase 7"]
[]
[null,null,null,null,null,null,null,null,null,null,null,null,null,null,null,null,null,null,null,null,null,null,null,null,null,null,null,null,null,null,null,null,null,null,"Phase 8"]
[]
[]
[null,null,null,null,null,null,null,null,null,null,null,null,null,null,null,null,null,null,null,"Оцінка ризиків / Risk assessment",null,{"$f":"'Ризики проекту_Project risks'!D4","v":"Простий/Simple"},null,null,null,null,null,null,null,null,null,null,"Risk assessment",null,{"$f":"'Ризики проекту_Project risks'!#REF!","v":{"$error":"#REF!"}}]
[null,null,null,null,null,null,null,null,null,null,null,null,null,null,null,null,null,null,null,"Вплив проєкту на кінцеву ціну е/е для споживачів"]
[null,"Опис/склад робіт","Складання та підписання кредитної угоди\nАналіз та розрахунки, визначення підстанції для розміщення BESS\nСкладання та підписання проектного контракту\nРозробка техніко-економічного обґрунтування відповідно до ДБН\nРозробка тендерної документації Консультантом\nПідготовка та проведення торгів для вибору генерального підрядника. Складання та підписання договору\nВиконання контракту (проектні роботи, виготовлення та поставка обладнання, монтаж, випробування та введення в експлуатацію)",null,null,null,null,null,null,null,"Description / composition of works",null,"Drawing up and signing of the Loan Agreement\nAnalysis and calculations, determining substation for placing of BESS\nDrawing up and signing of Project Contract\nDevelopment of feasibility study according to the state building code\nDevelopment of bidding documentation by the Consultant\nPreparing and bidding for the selection of general contractor. Drawing up and signing the contract\nImplementation of the contract (design works, production and supply of equipment, installation, equipment tests and commissioning)",null,null,null,null,null,null,"The impact of the project on the final price of electricity  for consumers",null,null,null,null,null,null,null,null,null,null,null,null,"The impact of the project on the final price of electricity  for consumers"]
[null,null,null,null,null,null,null,null,null,null,null,null,null,null,null,null,null,null,null,null,null,{"$f":"'Тариф ОСП_Tariff'!G6","v":2022},{"$f":"V54+1","v":2023},{"$f":"W54+1","v":2024},null,{"$f":"X54+1","v":2025},null,{"$f":"Z54+1","v":2026},null,{"$f":"AB54+1","v":2027},null,null,null,null,2020,2021,2022,null,2023,null,2024,null,2025]
[null,null,null,null,null,null,null,null,null,null,null,null,null,null,null,null,null,null,null,"Тариф ОСП / TSO tariff",null,{"$f":"1-('Тариф ОСП_Tariff'!H38+'Тариф ОСП_Tariff'!G38)/('Тариф ОСП_Tariff'!H39+'Тариф ОСП_Tariff'!G39)","v":0},{"$f":"1-('Тариф ОСП_Tariff'!K38+'Тариф ОСП_Tariff'!J38)/('Тариф ОСП_Tariff'!K39+'Тариф ОСП_Tariff'!J39)","v":0},{"$f":"1-('Тариф ОСП_Tariff'!N38+'Тариф ОСП_Tariff'!M38)/('Тариф ОСП_Tariff'!N39+'Тариф ОСП_Tariff'!M39)","v":1.5800081831129908E-4},null,{"$f":"1-('Тариф ОСП_Tariff'!Q38+'Тариф ОСП_Tariff'!P38)/('Тариф ОСП_Tariff'!Q39+'Тариф ОСП_Tariff'!P39)","v":2.0601561149585779E-3},null,{"$f":"1-('Тариф ОСП_Tariff'!T38+'Тариф ОСП_Tariff'!S38)/('Тариф ОСП_Tariff'!T39+'Тариф ОСП_Tariff'!S39)","v":2.4640693191396723E-3},null,{"$f":"1-('Тариф ОСП_Tariff'!W38+'Тариф ОСП_Tariff'!V38)/('Тариф ОСП_Tariff'!W39+'Тариф ОСП_Tariff'!V39)","v":2.1561311617602774E-3},null,null,"TSO Consumers",null,{"$f":"Споживачі_CONSUMER!AK43","v":0},{"$f":"Споживачі_CONSUMER!AL43","v":0},{"$f":"Споживачі_CONSUMER!AM43","v":0},null,{"$f":"Споживачі_CONSUMER!AN43","v":0},null,{"$f":"Споживачі_CONSUMER!AO43","v":0},null,{"$f":"Споживачі_CONSUMER!AP43","v":0}]
[null,null,null,null,null,null,null,null,null,null,null,null,null,null,null,null,null,null,null,null,null,null,null,null,null,null,null,null,null,null,null,null,"1st class MSO Consumers",null,{"$f":"Споживачі_CONSUMER!AK44","v":0},{"$f":"Споживачі_CONSUMER!AL44","v":0},{"$f":"Споживачі_CONSUMER!AM44","v":0},null,{"$f":"Споживачі_CONSUMER!AN44","v":0},null,{"$f":"Споживачі_CONSUMER!AO44","v":0},null,{"$f":"Споживачі_CONSUMER!AP44","v":0}]
[null,null,null,null,null,null,null,null,null,null,null,null,null,null,null,null,null,null,null,null,null,null,null,null,null,null,null,null,null,null,null,null,"2nd class MSO Consumers",null,{"$f":"Споживачі_CONSUMER!AK45","v":0},{"$f":"Споживачі_CONSUMER!AL45","v":0},{"$f":"Споживачі_CONSUMER!AM45","v":0},null,{"$f":"Споживачі_CONSUMER!AN45","v":0},null,{"$f":"Споживачі_CONSUMER!AO45","v":0},null,{"$f":"Споживачі_CONSUMER!AP45","v":0}]
[]
[]
[]
[]
[null,null,null,null,null,null,null,null,null,null,null,null,null,null,null,{"$f":"'План фінансування_Funding plan'!E9","v":"2024-01-01"},null,{"$f":"'План фінансування_Funding plan'!G9","v":"2025-06-01"}]
[null,null,null,null,null,null,null,null,null,null,null,null,null,null,null,{"$f":"'План фінансування_Funding plan'!E12","v":"00:00:00"},null,{"$f":"'План фінансування_Funding plan'!G12","v":"00:00:00"}]
[null,null,null,null,null,null,null,null,null,null,null,null,null,null,null,{"$f":"'План фінансування_Funding plan'!E17","v":"00:00:00"},null,{"$f":"'План фінансування_Funding plan'!G17","v":"00:00:00"}]
[null,null,null,null,null,null,null,null,null,null,null,null,null,null,null,{"$f":"'План фінансування_Funding plan'!E22","v":"00:00:00"},null,{"$f":"'План фінансування_Funding plan'!G22","v":"00:00:00"}]
[null,null,null,null,null,null,null,null,null,null,null,null,null,null,null,{"$f":"'План фінансування_Funding plan'!E27","v":"00:00:00"},null,{"$f":"'План фінансування_Funding plan'!G27","v":"00:00:00"}]
[null,null,null,null,null,null,null,null,null,null,null,null,null,null,null,{"$f":"'План фінансування_Funding plan'!E32","v":"00:00:00"},null,{"$f":"'План фінансування_Funding plan'!G32","v":"00:00:00"}]
[null,null,null,null,null,null,null,null,null,null,null,null,null,null,null,{"$f":"'План фінансування_Funding plan'!E37","v":"00:00:00"},null,{"$f":"'План фінансування_Funding plan'!G37","v":"00:00:00"}]
[null,null,null,null,null,null,null,null,null,null,null,null,null,null,null,{"$f":"'План фінансування_Funding plan'!E42","v":"00:00:00"},null,{"$f":"'План фінансування_Funding plan'!G42","v":"00:00:00"}]

{"sheet":"План фінансування_Funding plan","index":2,"n_rows":94,"n_cols":60,"rows_kept":94,"cut":false,"hidden":false,"merged":[[4,1,6,1],[51,1,53,1],[13,66,14,66],[13,67,14,67],[13,68,14,68],[13,64,14,64],[13,65,14,65],[2,66,3,66],[2,67,3,67],[2,68,3,68],[1,1,2,1],[2,63,3,63],[2,65,3,65]]}
[null,null,null,null,null,null,null,null,null,null,null,null,null,null,null,null,null,null,null,null,{"$f":"'Грошові потоки _ Cash flows'!$G$7","v":2024},null,null,null,null,null,null,null,null,null,null,null,null,{"$f":"U1+1","v":2025},null,null,null,null,null,null,null,null,null,null,null,null,{"$f":"AH1+1","v":2026},null,null,null,null,null,null,null,null,null,null,null,null,{"$f":"AU1+1","v":2027}]
[null,"ПЛАН ФІНАНСУВАННЯ / FUNDING PLAN",{"$f":"CONCATENATE(Головна_Summary!A2,\" / \",Головна_Summary!K2)","v":"Energy storage system 10МВт / Energy storage system 10 MW"}]
[null,null,{"$f":"CONCATENATE(Головна_Summary!G13,\"/\",Головна_Summary!Q13)","v":"Фінансування/Financing"},{"$f":"CONCATENATE(Головна_Summary!H13,\"/\",Головна_Summary!R13)","v":"Кредитні кошти/Loan + Own funds"},null,"Кредитні кошти/Loans",null,{"$f":"Головна_Summary!AD5","v":"тис.US$/ ths.US$"},null,null,null,null,null,null,null,null,null,null,null,null,{"$f":"H3","v":"тис.US$/ ths.US$"},null,null,null,null,null,null,null,null,null,null,null,null,{"$f":"H3","v":"тис.US$/ ths.US$"},null,null,null,null,null,null,null,null,null,null,null,null,{"$f":"H3","v":"тис.US$/ ths.US$"},null,null,null,null,null,null,null,null,null,null,null,null,{"$f":"H3","v":"тис.US$/ ths.US$"}]
[null,"Етап / Phase","Відповідальний / Responsible","Джерело фінансування/Source of financing","Початок / Start","Тривалість / Duration","Кінець / End","Сума за весь період / Whole period amount",{"$f":"DATE(Головна_Summary!$E$7,1,1)","v":"2024-01-01"},{"$f":"DATE(Головна_Summary!$E$7,2,1)","v":"2024-02-01"},{"$f":"DATE(Головна_Summary!$E$7,3,1)","v":"2024-03-01"},{"$f":"DATE(Головна_Summary!$E$7,4,1)","v":"2024-04-01"},{"$f":"DATE(Головна_Summary!$E$7,5,1)","v":"2024-05-01"},{"$f":"DATE(Головна_Summary!$E$7,6,1)","v":"2024-06-01"},{"$f":"DATE(Головна_Summary!$E$7,7,1)","v":"2024-07-01"},{"$f":"DATE(Головна_Summary!$E$7,8,1)","v":"2024-08-01"},{"$f":"DATE(Головна_Summary!$E$7,9,1)","v":"2024-09-01"},{"$f":"DATE(Головна_Summary!$E$7,10,1)","v":"2024-10-01"},{"$f":"DATE(Головна_Summary!$E$7,11,1)","v":"2024-11-01"},{"$f":"DATE(Головна_Summary!$E$7,12,1)","v":"2024-12-01"},{"$f":"CONCATENATE(\"Всього за \", \"/ overall during \",  'Грошові потоки _ Cash flows'!$G$7, \" рік\")","v":"Всього за / overall during 2024 рік"},{"$f":"DATE(Головна_Summary!$E$7+1,1,1)","v":"2025-01-01"},{"$f":"DATE(Головна_Summary!$E$7+1,2,1)","v":"2025-02-01"},{"$f":"DATE(Головна_Summary!$E$7+1,3,1)","v":"2025-03-01"},{"$f":"DATE(Головна_Summary!$E$7+1,4,1)","v":"2025-04-01"},{"$f":"DATE(Головна_Summary!$E$7+1,5,1)","v":"2025-05-01"},{"$f":"DATE(Головна_Summary!$E$7+1,6,1)","v":"2025-06-01"},{"$f":"DATE(Головна_Summary!$E$7+1,7,1)","v":"2025-07-01"},{"$f":"DATE(Головна_Summary!$E$7+1,8,1)","v":"2025-08-01"},{"$f":"DATE(Головна_Summary!$E$7+1,9,1)","v":"2025-09-01"},{"$f":"DATE(Головна_Summary!$E$7+1,10,1)","v":"2025-10-01"},{"$f":"DATE(Головна_Summary!$E$7+1,11,1)","v":"2025-11-01"},{"$f":"DATE(Головна_Summary!$E$7+1,12,1)","v":"2025-12-01"},{"$f":"CONCATENATE(\"Всього за \", \"/ overall during\", 'Грошові потоки _ Cash flows'!$G$7+1, \" рік\")","v":"Всього за / overall during2025 рік"},{"$f":"DATE(Головна_Summary!E7+2,1,1)","v":"2026-01-01"},{"$f":"DATE(Головна_Summary!$E$7+2,2,1)","v":"2026-02-01"},{"$f":"DATE(Головна_Summary!$E$7+2,3,1)","v":"2026-03-01"},{"$f":"DATE(Головна_Summary!$E$7+2,4,1)","v":"2026-04-01"},{"$f":"DATE(Головна_Summary!$E$7+2,5,1)","v":"2026-05-01"},{"$f":"DATE(Головна_Summary!$E$7+2,6,1)","v":"2026-06-01"},{"$f":"DATE(Головна_Summary!$E$7+2,7,1)","v":"2026-07-01"},{"$f":"DATE(Головна_Summary!$E$7+2,8,1)","v":"2026-08-01"},{"$f":"DATE(Головна_Summary!$E$7+2,9,1)","v":"2026-09-01"},{"$f":"DATE(Головна_Summary!$E$7+2,10,1)","v":"2026-10-01"},{"$f":"DATE(Головна_Summary!$E$7+2,11,1)","v":"2026-11-01"},{"$f":"DATE(Головна_Summary!$E$7+2,12,1)","v":"2026-12-01"},{"$f":"CONCATENATE(\"Всього за \", \"/ overall during\",   'Грошові потоки _ Cash flows'!$G$7+2, \" рік\")","v":"Всього за / overall during2026 рік"},{"$f":"DATE(Головна_Summary!$E$7+3,1,1)","v":"2027-01-01"},{"$f":"DATE(Головна_Summary!$E$7+3,2,1)","v":"2027-02-01"},{"$f":"DATE(Головна_Summary!$E$7+3,3,1)","v":"2027-03-01"},{"$f":"DATE(Головна_Summary!$E$7+3,4,1)","v":"2027-04-01"},{"$f":"DATE(Головна_Summary!$E$7+3,5,1)","v":"2027-05-01"},{"$f":"DATE(Головна_Summary!$E$7+3,6,1)","v":"2027-06-01"},{"$f":"DATE(Головна_Summary!$E$7+3,7,1)","v":"2027-07-01"},{"$f":"DATE(Головна_Summary!$E$7+3,8,1)","v":"2027-08-01"},{"$f":"DATE(Головна_Summary!$E$7+3,9,1)","v":"2027-09-01"},{"$f":"DATE(Головна_Summary!$E$7+3,10,1)","v":"2027-10-01"},{"$f":"DATE(Головна_Summary!$E$7+3,11,1)","v":"2027-11-01"},{"$f":"DATE(Головна_Summary!$E$7+3,12,1)","v":"2027-12-01"},{"$f":"CONCATENATE(\"Всього за \", \"/ overall during\",  'Грошові потоки _ Cash flows'!$G$7+3, \" рік\")","v":"Всього за / overall during2027 рік"}]
[null,"Фінансування проєкту всього/  Finansing total ",null,"Всього/Total",{"$f":"MIN(E9,E12,E17,E22,E27,E32,E37,E42)","v":"00:00:00"},{"$f":"NETWORKDAYS(E5,G5,0)","v":32720},{"$f":"MAX(G9,G12,G17,G22,G27,G32,G37,G42)","v":"2025-06-01"},{"$f":"H6+H7","v":9000},{"$f":"I6+I7","v":500},{"$f":"J6+J7","v":500},500,500,500,500,500,500,500,500,500,500,6000,{"$f":"V6+V7","v":500},{"$f":"W6+W7","v":500},{"$f":"X6+X7","v":500},{"$f":"Y6+Y7","v":500},{"$f":"Z6+Z7","v":500},{"$f":"AA6+AA7","v":500},{"$f":"AB6+AB7","v":0},{"$f":"AC6+AC7","v":0},{"$f":"AD6+AD7","v":0},{"$f":"AE6+AE7","v":0},{"$f":"AF6+AF7","v":0},0,{"$f":"AH6+AH7","v":3000},{"$f":"AI6+AI7","v":0},{"$f":"AJ6+AJ7","v":0},{"$f":"AK6+AK7","v":0},{"$f":"AL6+AL7","v":0},{"$f":"AM6+AM7","v":0},{"$f":"AN6+AN7","v":0},{"$f":"AO6+AO7","v":0},{"$f":"AP6+AP7","v":0},{"$f":"AQ6+AQ7","v":0},{"$f":"AR6+AR7","v":0},0,{"$f":"AT6+AT7","v":0},{"$f":"AU6+AU7","v":0},{"$f":"AV6+AV7","v":0},{"$f":"AW6+AW7","v":0},{"$f":"AX6+AX7","v":0},{"$f":"AY6+AY7","v":0},{"$f":"AZ6+AZ7","v":0},{"$f":"BA6+BA7","v":0},{"$f":"BB6+BB7","v":0},{"$f":"BC6+BC7","v":0},{"$f":"BD6+BD7","v":0},0,{"$f":"BF6+BF7","v":0},{"$f":"BG6+BG7","v":0},{"$f":"BH6+BH7","v":0}]
[null,null,null,"Кредитні кошти/Loans","2024-01-01",{"$f":"NETWORKDAYS(E6,G6,0)","v":370},"2025-06-01",{"$f":"U6+AH6+AU6+BH6","v":9000},{"$f":"SUMIF($D$9:$D$46,$D$6,I9:I46)","v":500},500,500,500,500,500,500,500,500,500,500,500,6000,500,500,500,500,500,500,0,0,0,0,0,0,3000,0,0,0,0,0,0,{"$f":"SUMIF($D$9:$D$46,$D$6,AO9:AO46)","v":0},0,0,0,0,0,0,0,0,0,0,0,0,0,0,0,0,0,0,0]
[null,null,null,"Власні кошти/ Own fonds",null,{"$f":"NETWORKDAYS(E7,G7,0)","v":0},null,{"$f":"U7+AH7+AU7+BH7","v":0},{"$f":"SUMIF($D$9:$D$46,$D$7,I9:I46)","v":0},0,0,0,0,0,0,0,0,0,0,0,0,0,0,0,0,0,0,0,0,0,0,0,0,0,0,0,0,0,0,0,{"$f":"SUMIF($D$9:$D$46,$D$7,AO9:AO46)","v":0},0,0,0,0,0,0,0,0,0,0,0,0,0,0,0,0,0,0,0]
[null,"Проверка",null,null,null,null,null,null,{"$f":"I9+I13+I17+I22+I27+I32+I37+I42","v":500},500,500,500,500,500,500,500,500,500,500,500,6000,500,500,500,500,500,500,0,0,0,0,0,0,3000,0,0,0,0,0,0,{"$f":"AO9+AO13+AO17+AO22+AO27+AO32+AO37+AO42","v":0},0,0,0,0,0,0,0,0,0,0,0,0,0,0,0,0,0,0,0]
[null,"ESS 10 MW",null,null,{"$f":"MIN(E10:E11)","v":"2024-01-01"},{"$f":"NETWORKDAYS(E9,G9,0)","v":370},{"$f":"MAX(G10:G11)","v":"2025-06-01"},{"$f":"U9+AH9+AU9+BH9","v":9000},{"$f":"SUM(I10:I11)","v":500},500,500,500,500,500,500,500,500,500,500,500,{"$f":"SUM(I9:T9)","v":6000},{"$f":"SUM(V10:V11)","v":500},500,500,500,500,500,0,0,0,0,0,0,{"$f":"SUM(V9:AG9)","v":3000},{"$f":"SUM(AI10:AI11)","v":0},0,0,0,0,0,0,0,0,0,0,0,{"$f":"SUM(AI9:AT9)","v":0},{"$f":"SUM(AV10:AV11)","v":0},0,0,0,0,0,0,0,0,0,0,0,{"$f":"SUM(AV9:BG9)","v":0}]
[null,"Виконання робіт за проєктом/Execution of project works",null,"Кредитні кошти/Loans","2024-01-01",{"$f":"NETWORKDAYS(E10,G10,0)","v":370},"2025-06-01",{"$f":"'Фінансування_Financing (CFI)'!J8","v":9000},{"$f":"H10/18","v":500},{"$f":"$I$10","v":500},{"$f":"$I$10","v":500},500,500,500,500,500,500,500,500,500,{"$f":"SUM(I10:T10)","v":6000},{"$f":"$I$10","v":500},500,500,500,500,500,null,null,null,null,null,null,3000,null,null,null,null,null,null,null,null,null,null,null,null,0,null,null,null,null,null,null,null,null,null,null,null,null,0]
[null,"Плата за приєднання/Joining fee",null,"Кредитні кошти/Loans","2025-01-01",22,"2025-01-30",{"$f":"U11+AH11+AU11+BH11","v":0},null,null,null,null,null,null,null,null,null,null,null,null,null,{"$f":"'Фінансування_Financing (CFI)'!J9","v":0},null,null,null,null,null,null,null,null,null,null,null,0,null,null,null,null,null,null,null,null,null,null,null,null,0,null,null,null,null,null,null,null,null,null,null,null,null,0]
[null,"Операція 5/ Operation 5",null,null,null,{"$f":"NETWORKDAYS(E12,G12,0)","v":0},null,{"$f":"U12+AH12+AU12+BH12","v":0},{"$f":"SUM(I13:I15)","v":0},{"$f":"SUM(J13:J15)","v":0},{"$f":"SUM(K13:K15)","v":0},0,0,{"$f":"SUM(N13:N15)","v":0},0,0,0,0,0,0,0,{"$f":"SUM(V13:V15)","v":0},{"$f":"SUM(W13:W15)","v":0},0,0,0,0,0,0,0,0,0,{"$f":"SUM(AG13:AG15)","v":0},0,{"$f":"SUM(AI13:AI15)","v":0},{"$f":"SUM(AJ13:AJ15)","v":0},0,0,0,0,0,0,0,0,0,0,0,{"$f":"SUM(AV13:AV15)","v":0},{"$f":"SUM(AW13:AW15)","v":0},0,0,0,0,0,0,0,0,0,0,0]
[null,"Етап 2 / Phase 7",null,null,null,{"$f":"NETWORKDAYS(E13,G13,0)","v":0},null,null,null,null,null,null,null,{"$f":"H13/25","v":0},{"$f":"$N$13","v":0},{"$f":"$N$13","v":0},0,0,0,0,0,0,0,0,0,0,0,0,0,0,0,0,0,0,0,0,0,0,0,0,null,null,null,null,null,null,0,null,null,null,null,null,null,null,null,null,null,null,null,0]
[null,"Операція 1/ Operation 1",null,null,null,0,null,0,null,null,null,null,null,null,null,null,null,null,null,null,0,null,null,null,null,null,null,null,null,null,null,null,null,0,null,null,null,null,null,null,null,null,null,null,null,null,0,null,null,null,null,null,null,null,null,null,null,null,null,0]
[null,"Операція 2/ Operation 2",null,null,null,0,null,0,null,null,null,null,null,null,null,null,null,null,null,null,0,null,null,null,null,null,null,null,null,null,null,null,null,0,null,null,null,null,null,null,null,null,null,null,null,null,0,null,null,null,null,null,null,null,null,null,null,null,null,0]
[null,"Операція 3/ Operation 3"]
[null,"Етап 3 / Phase 3",null,null,{"$f":"MIN(E18:E21)","v":"00:00:00"},{"$f":"NETWORKDAYS(E17,G17,0)","v":0},{"$f":"MAX(G18:G21)","v":"00:00:00"},0,{"$f":"SUM(I18:I20)","v":0},{"$f":"SUM(J18:J20)","v":0},0,0,0,0,0,0,0,0,0,0,0,{"$f":"SUM(V18:V20)","v":0},{"$f":"SUM(W18:W20)","v":0},0,0,0,0,0,0,0,0,0,0,{"$f":"SUM(V17:AG17)","v":0},{"$f":"SUM(AI18:AI20)","v":0},{"$f":"SUM(AJ18:AJ20)","v":0},0,0,0,0,0,0,0,0,0,0,{"$f":"SUM(AI17:AT17)","v":0},{"$f":"SUM(AV18:AV20)","v":0},{"$f":"SUM(AW18:AW20)","v":0},0,0,0,0,0,0,0,0,0,0,{"$f":"SUM(AV17:BG17)","v":0}]
[null,"Операція 1/ Operation 1",null,null,null,{"$f":"NETWORKDAYS(E18,G18,0)","v":0},null,0,null,null,null,null,null,null,null,null,null,null,null,null,0,null,null,null,null,null,null,null,null,null,null,null,null,{"$f":"SUM(V18:AG18)","v":0},null,null,null,null,null,null,null,null,null,null,null,null,{"$f":"SUM(AI18:AT18)","v":0},null,null,null,null,null,null,null,null,null,null,null,null,{"$f":"SUM(AV18:BG18)","v":0}]
[null,"Операція 2/ Operation 2",null,null,null,0,null,0,null,null,null,null,null,null,null,null,null,null,null,null,0,null,null,null,null,null,null,null,null,null,null,null,null,{"$f":"SUM(V19:AG19)","v":0},null,null,null,null,null,null,null,null,null,null,null,null,{"$f":"SUM(AI19:AT19)","v":0},null,null,null,null,null,null,null,null,null,null,null,null,{"$f":"SUM(AV19:BG19)","v":0}]
[null,"Операція 3/ Operation 3",null,null,null,0,null,0,null,null,null,null,null,null,null,null,null,null,null,null,0,null,null,null,null,null,null,null,null,null,null,null,null,{"$f":"SUM(V20:AG20)","v":0},null,null,null,null,null,null,null,null,null,null,null,null,{"$f":"SUM(AI20:AT20)","v":0},null,null,null,null,null,null,null,null,null,null,null,null,{"$f":"SUM(AV20:BG20)","v":0}]
[null,"Операція 4/ Operation 4"]
[null,"Етап 4 / Phase 4",null,null,{"$f":"MIN(E23:E26)","v":"00:00:00"},{"$f":"NETWORKDAYS(E22,G22,0)","v":0},{"$f":"MAX(G23:G26)","v":"00:00:00"},0,{"$f":"SUM(I23:I25)","v":0},{"$f":"SUM(J23:J25)","v":0},0,0,0,0,0,0,0,0,0,0,0,{"$f":"SUM(V23:V25)","v":0},{"$f":"SUM(W23:W25)","v":0},0,0,0,0,0,0,0,0,0,0,{"$f":"SUM(V22:AG22)","v":0},{"$f":"SUM(AI23:AI25)","v":0},{"$f":"SUM(AJ23:AJ25)","v":0},0,0,0,0,0,0,0,0,0,0,{"$f":"SUM(AI22:AT22)","v":0},{"$f":"SUM(AV23:AV25)","v":0},{"$f":"SUM(AW23:AW25)","v":0},0,0,0,0,0,0,0,0,0,0,{"$f":"SUM(AV22:BG22)","v":0}]
[null,"Операція 1/ Operation 1",null,null,null,{"$f":"NETWORKDAYS(E23,G23,0)","v":0},null,0,null,null,null,null,null,null,null,null,null,null,null,null,0,null,null,null,null,null,null,null,null,null,null,null,null,{"$f":"SUM(V23:AG23)","v":0},null,null,null,null,null,null,null,null,null,null,null,null,{"$f":"SUM(AI23:AT23)","v":0},null,null,null,null,null,null,null,null,null,null,null,null,{"$f":"SUM(AV23:BG23)","v":0}]
[null,"Операція 2/ Operation 2",null,null,null,0,null,0,null,null,null,null,null,null,null,null,null,null,null,null,0,null,null,null,null,null,null,null,null,null,null,null,null,{"$f":"SUM(V24:AG24)","v":0},null,null,null,null,null,null,null,null,null,null,null,null,{"$f":"SUM(AI24:AT24)","v":0},null,null,null,null,null,null,null,null,null,null,null,null,{"$f":"SUM(AV24:BG24)","v":0}]
[null,"Операція 3/ Operation 3",null,null,null,0,null,0,null,null,null,null,null,null,null,null,null,null,null,null,0,null,null,null,null,null,null,null,null,null,null,null,null,{"$f":"SUM(V25:AG25)","v":0},null,null,null,null,null,null,null,null,null,null,null,null,{"$f":"SUM(AI25:AT25)","v":0},null,null,null,null,null,null,null,null,null,null,null,null,{"$f":"SUM(AV25:BG25)","v":0}]
[null,"Операція 4/ Operation 4"]
[null,"Етап 5 / Phase 5",null,null,{"$f":"MIN(E28:E31)","v":"00:00:00"},{"$f":"NETWORKDAYS(E27,G27,0)","v":0},{"$f":"MAX(G28:G31)","v":"00:00:00"},0,{"$f":"SUM(I28:I30)","v":0},{"$f":"SUM(J28:J30)","v":0},0,0,0,0,0,0,0,0,0,0,0,{"$f":"SUM(V28:V30)","v":0},{"$f":"SUM(W28:W30)","v":0},0,0,0,0,0,0,0,0,0,0,{"$f":"SUM(V27:AG27)","v":0},{"$f":"SUM(AI28:AI30)","v":0},{"$f":"SUM(AJ28:AJ30)","v":0},0,0,0,0,0,0,0,0,0,0,{"$f":"SUM(AI27:AT27)","v":0},{"$f":"SUM(AV28:AV30)","v":0},{"$f":"SUM(AW28:AW30)","v":0},0,0,0,0,0,0,0,0,0,0,{"$f":"SUM(AV27:BG27)","v":0}]
[null,"Операція 1/ Operation 1",null,null,null,{"$f":"NETWORKDAYS(E28,G28,0)","v":0},null,0,null,null,null,null,null,null,null,null,null,null,null,null,0,null,null,null,null,null,null,null,null,null,null,null,null,{"$f":"SUM(V28:AG28)","v":0},null,null,null,null,null,null,null,null,null,null,null,null,{"$f":"SUM(AI28:AT28)","v":0},null,null,null,null,null,null,null,null,null,null,null,null,{"$f":"SUM(AV28:BG28)","v":0}]
[null,"Операція 2/ Operation 2",null,null,null,0,null,0,null,null,null,null,null,null,null,null,null,null,null,null,0,null,null,null,null,null,null,null,null,null,null,null,null,{"$f":"SUM(V29:AG29)","v":0},null,null,null,null,null,null,null,null,null,null,null,null,{"$f":"SUM(AI29:AT29)","v":0},null,null,null,null,null,null,null,null,null,null,null,null,{"$f":"SUM(AV29:BG29)","v":0}]
[null,"Операція 3/ Operation 3",null,null,null,0,null,0,null,null,null,null,null,null,null,null,null,null,null,null,0,null,null,null,null,null,null,null,null,null,null,null,null,{"$f":"SUM(V30:AG30)","v":0},null,null,null,null,null,null,null,null,null,null,null,null,{"$f":"SUM(AI30:AT30)","v":0},null,null,null,null,null,null,null,null,null,null,null,null,{"$f":"SUM(AV30:BG30)","v":0}]
[null,"Операція 4/ Operation 4"]
[null,"Етап 6 / Phase 6",null,null,{"$f":"MIN(E33:E36)","v":"00:00:00"},{"$f":"NETWORKDAYS(E32,G32,0)","v":0},{"$f":"MAX(G33:G36)","v":"00:00:00"},0,{"$f":"SUM(I33:I35)","v":0},{"$f":"SUM(J33:J35)","v":0},0,0,0,0,0,0,0,0,0,0,0,{"$f":"SUM(V33:V35)","v":0},{"$f":"SUM(W33:W35)","v":0},0,0,0,0,0,0,0,0,0,{"$f":"SUM(AG33:AG35)","v":0},{"$f":"SUM(V32:AG32)","v":0},{"$f":"SUM(AI33:AI35)","v":0},{"$f":"SUM(AJ33:AJ35)","v":0},0,0,0,0,0,0,0,0,0,0,{"$f":"SUM(AI32:AT32)","v":0},{"$f":"SUM(AV33:AV35)","v":0},{"$f":"SUM(AW33:AW35)","v":0},0,0,0,0,0,0,0,0,0,0,{"$f":"SUM(AV32:BG32)","v":0}]
[null,"Операція 1/ Operation 1",null,null,null,{"$f":"NETWORKDAYS(E33,G33,0)","v":0},null,0,null,null,null,null,null,null,null,null,null,null,null,null,{"$f":"SUM(I33:T33)","v":0},null,null,null,null,null,null,null,null,null,null,null,null,{"$f":"SUM(V33:AG33)","v":0},null,null,null,null,null,null,null,null,null,null,null,null,{"$f":"SUM(AI33:AT33)","v":0},null,null,null,null,null,null,null,null,null,null,null,null,{"$f":"SUM(AV33:BG33)","v":0}]
[null,"Операція 2/ Operation 2",null,null,null,0,null,0,null,null,null,null,null,null,null,null,null,null,null,null,0,null,null,null,null,null,null,null,null,null,null,null,null,{"$f":"SUM(V34:AG34)","v":0},null,null,null,null,null,null,null,null,null,null,null,null,{"$f":"SUM(AI34:AT34)","v":0},null,null,null,null,null,null,null,null,null,null,null,null,{"$f":"SUM(AV34:BG34)","v":0}]
[null,"Операція 3/ Operation 3",null,null,null,0,null,0,null,null,null,null,null,null,null,null,null,null,null,null,0,null,null,null,null,null,null,null,null,null,null,null,null,{"$f":"SUM(V35:AG35)","v":0},null,null,null,null,null,null,null,null,null,null,null,null,{"$f":"SUM(AI35:AT35)","v":0},null,null,null,null,null,null,null,null,null,null,null,null,{"$f":"SUM(AV35:BG35)","v":0}]
[null,"Операція 4/ Operation 4"]
[null,"Етап 7 / Phase 7",null,null,{"$f":"MIN(E38:E41)","v":"00:00:00"},{"$f":"NETWORKDAYS(E37,G37,0)","v":0},{"$f":"MAX(G38:G41)","v":"00:00:00"},0,{"$f":"SUM(I38:I40)","v":0},{"$f":"SUM(J38:J40)","v":0},0,0,0,0,0,0,0,0,0,0,0,{"$f":"SUM(V38:V40)","v":0},{"$f":"SUM(W38:W40)","v":0},0,0,0,0,0,0,0,0,0,{"$f":"SUM(AG38:AG40)","v":0},{"$f":"SUM(V37:AF37)","v":0},{"$f":"SUM(AI38:AI40)","v":0},{"$f":"SUM(AJ38:AJ40)","v":0},0,0,0,0,0,0,0,0,0,0,{"$f":"SUM(AI37:AT37)","v":0},{"$f":"SUM(AV38:AV40)","v":0},{"$f":"SUM(AW38:AW40)","v":0},0,0,0,0,0,0,0,0,0,0,{"$f":"SUM(AV37:BG37)","v":0}]
[null,"Операція 1/ Operation 1",null,null,null,{"$f":"NETWORKDAYS(E38,G38,0)","v":0},null,0,null,null,null,null,null,null,null,null,null,null,null,null,0,null,null,null,null,null,null,null,null,null,null,null,null,{"$f":"SUM(V38:AG38)","v":0},null,null,null,null,null,null,null,null,null,null,null,null,{"$f":"SUM(AI38:AT38)","v":0},null,null,null,null,null,null,null,null,null,null,null,null,{"$f":"SUM(AV38:BG38)","v":0}]
[null,"Операція 2/ Operation 2",null,null,null,0,null,0,null,null,null,null,null,null,null,null,null,null,null,null,0,null,null,null,null,null,null,null,null,null,null,null,null,{"$f":"SUM(V39:AG39)","v":0},null,null,null,null,null,null,null,null,null,null,null,null,{"$f":"SUM(AI39:AT39)","v":0},null,null,null,null,null,null,null,null,null,null,null,null,{"$f":"SUM(AV39:BG39)","v":0}]
[null,"Операція 3/ Operation 3",null,null,null,0,null,0,null,null,null,null,null,null,null,null,null,null,null,null,0,null,null,null,null,null,null,null,null,null,null,null,null,{"$f":"SUM(V40:AG40)","v":0},null,null,null,null,null,null,null,null,null,null,null,null,{"$f":"SUM(AI40:AT40)","v":0},null,null,null,null,null,null,null,null,null,null,null,null,{"$f":"SUM(AV40:BG40)","v":0}]
[null,"Операція 4/ Operation 4"]
[null,"Етап 8 / Phase 8",null,null,{"$f":"MIN(E43:E46)","v":"00:00:00"},{"$f":"NETWORKDAYS(E42,G42,0)","v":0},{"$f":"MAX(G43:G46)","v":"00:00:00"},{"$f":"U42+AH42+AU42+BH42","v":0},{"$f":"SUM(I43:I46)","v":0},{"$f":"SUM(J43:J46)","v":0},0,0,0,0,0,0,0,0,0,0,0,0,0,0,0,0,0,0,0,0,0,0,0,0,0,0,0,0,0,0,0,0,0,0,0,0,0,0,0,0,0,0,0,0,0,0,0,0,0,0]
[null,"Операція 1/ Operation 1",null,null,null,{"$f":"NETWORKDAYS(E43,G43,0)","v":0},null,0,null,null,null,null,null,null,null,null,null,null,null,null,0,null,null,null,null,null,null,null,null,null,null,null,null,{"$f":"SUM(V43:AG43)","v":0},null,null,null,null,null,null,null,null,null,null,null,null,{"$f":"SUM(AI43:AT43)","v":0},null,null,null,null,null,null,null,null,null,null,null,null,{"$f":"SUM(AV43:BG43)","v":0}]
[null,"Операція 2/ Operation 2",null,null,null,0,null,0,null,null,null,null,null,null,null,null,null,null,null,null,0,null,null,null,null,null,null,null,null,null,null,null,null,{"$f":"SUM(V44:AG44)","v":0},null,null,null,null,null,null,null,null,null,null,null,null,{"$f":"SUM(AI44:AT44)","v":0},null,null,null,null,null,null,null,null,null,null,null,null,{"$f":"SUM(AV44:BG44)","v":0}]
[null,"Операція 3/ Operation 3",null,null,null,0,null,{"$f":"U45+AH45+AU45+BH45","v":0},null,null,null,null,null,null,null,null,null,null,null,null,{"$f":"SUM(I45:T45)","v":0},null,null,null,null,null,null,null,null,null,null,null,null,{"$f":"SUM(V45:AG45)","v":0},null,null,null,null,null,null,null,null,null,null,null,null,{"$f":"SUM(AI45:AT45)","v":0},null,null,null,null,null,null,null,null,null,null,null,null,{"$f":"SUM(AV45:BG45)","v":0}]
[null,"Операція 4/ Operation 4",null,null,null,0,null,{"$f":"U46+AH46+AU46+BH46","v":0},null,null,null,null,null,null,null,null,null,null,null,null,{"$f":"SUM(I46:T46)","v":0}]
[null,null,null,null,null,null,null,null,null,null,null,null,null,{"$f":"CONCATENATE(\"I півріччя/ half a year\",U1)","v":"I півріччя/ half a year2024"},null,null,null,null,null,{"$f":"CONCATENATE(\"II півріччя/ half a year\",U1)","v":"II півріччя/ half a year2024"},null,null,null,null,null,null,{"$f":"CONCATENATE(\"I півріччя/ half a year\",AH1)","v":"I півріччя/ half a year2025"},null,null,null,null,null,{"$f":"CONCATENATE(\"II півріччя/ half a year\",AH1)","v":"II півріччя/ half a year2025"},null,null,null,null,null,null,{"$f":"CONCATENATE(\"I півріччя/ half a year\",AU1)","v":"I півріччя/ half a year2026"},null,null,null,null,null,{"$f":"CONCATENATE(\"II півріччя/ half a year\",AU1)","v":"II півріччя/ half a year2026"},null,null,null,null,null,null,{"$f":"CONCATENATE(\"I півріччя/ half a year\",BH1)","v":"I півріччя/ half a year2027"},null,null,null,null,null,{"$f":"CONCATENATE(\"II півріччя/ half a year\",BH1)","v":"II півріччя/ half a year2027"}]
[null,null,null,null,null,null,null,null,null,null,null,null,null,{"$f":"SUM(I6:N6)","v":3000},null,null,null,null,null,{"$f":"SUM(O6:T6)","v":3000},null,null,null,null,null,null,{"$f":"SUM(V6:AA6)","v":3000},null,null,null,null,null,{"$f":"SUM(AB6:AG6)","v":0},null,null,null,null,null,null,{"$f":"SUM(AI6:AN6)","v":0},null,null,null,null,null,{"$f":"SUM(AO6:AT6)","v":0},null,null,null,null,null,null,{"$f":"SUM(AV6:BA6)","v":0},null,null,null,null,null,{"$f":"SUM(BB6:BG6)","v":0}]
[null,"ПЛАН ОСВОЄННЯ / DEVELOPMENT PLAN"]
[null,null,null,null,null,null,null,{"$f":"H3","v":"тис.US$/ ths.US$"},{"$f":"I52=I55","v":true},null,null,null,null,null,null,null,null,null,null,null,{"$f":"H3","v":"тис.US$/ ths.US$"},null,null,null,null,null,null,null,null,null,null,null,null,{"$f":"H3","v":"тис.US$/ ths.US$"},null,null,null,null,null,null,null,null,null,null,null,null,{"$f":"H3","v":"тис.US$/ ths.US$"},null,null,null,null,null,null,null,null,null,null,null,null,{"$f":"H3","v":"тис.US$/ ths.US$"}]
[null,{"$f":"B4","v":"Етап / Phase"},"Відповідальний / Responsible","Джерело фінансування/Source of financing","Початок / Start","Тривалість / Duration","Кінець / End",{"$f":"H4","v":"Сума за весь період / Whole period amount"},{"$f":"DATE(Головна_Summary!$E$7,1,1)","v":"2024-01-01"},{"$f":"DATE(Головна_Summary!$E$7,2,1)","v":"2024-02-01"},{"$f":"DATE(Головна_Summary!$E$7,3,1)","v":"2024-03-01"},{"$f":"DATE(Головна_Summary!$E$7,4,1)","v":"2024-04-01"},{"$f":"DATE(Головна_Summary!$E$7,5,1)","v":"2024-05-01"},{"$f":"DATE(Головна_Summary!$E$7,6,1)","v":"2024-06-01"},{"$f":"DATE(Головна_Summary!$E$7,7,1)","v":"2024-07-01"},{"$f":"DATE(Головна_Summary!$E$7,8,1)","v":"2024-08-01"},{"$f":"DATE(Головна_Summary!$E$7,9,1)","v":"2024-09-01"},{"$f":"DATE(Головна_Summary!$E$7,10,1)","v":"2024-10-01"},{"$f":"DATE(Головна_Summary!$E$7,11,1)","v":"2024-11-01"},{"$f":"DATE(Головна_Summary!$E$7,12,1)","v":"2024-12-01"},{"$f":"U4","v":"Всього за / overall during 2024 рік"},{"$f":"DATE(Головна_Summary!$E$7+1,1,1)","v":"2025-01-01"},{"$f":"DATE(Головна_Summary!$E$7+1,2,1)","v":"2025-02-01"},{"$f":"DATE(Головна_Summary!$E$7+1,3,1)","v":"2025-03-01"},{"$f":"DATE(Головна_Summary!$E$7+1,4,1)","v":"2025-04-01"},{"$f":"DATE(Головна_Summary!$E$7+1,5,1)","v":"2025-05-01"},{"$f":"DATE(Головна_Summary!$E$7+1,6,1)","v":"2025-06-01"},{"$f":"DATE(Головна_Summary!$E$7+1,7,1)","v":"2025-07-01"},{"$f":"DATE(Головна_Summary!$E$7+1,8,1)","v":"2025-08-01"},{"$f":"DATE(Головна_Summary!$E$7+1,9,1)","v":"2025-09-01"},{"$f":"DATE(Головна_Summary!$E$7+1,10,1)","v":"2025-10-01"},{"$f":"DATE(Головна_Summary!$E$7+1,11,1)","v":"2025-11-01"},{"$f":"DATE(Головна_Summary!$E$7+1,12,1)","v":"2025-12-01"},{"$f":"AH4","v":"Всього за / overall during2025 рік"},{"$f":"DATE(Головна_Summary!E59+2,1,1)","v":"1902-01-01"},{"$f":"DATE(Головна_Summary!$E$7+2,2,1)","v":"2026-02-01"},{"$f":"DATE(Головна_Summary!$E$7+2,3,1)","v":"2026-03-01"},{"$f":"DATE(Головна_Summary!$E$7+2,4,1)","v":"2026-04-01"},{"$f":"DATE(Головна_Summary!$E$7+2,5,1)","v":"2026-05-01"},{"$f":"DATE(Головна_Summary!$E$7+2,6,1)","v":"2026-06-01"},{"$f":"DATE(Головна_Summary!$E$7+2,7,1)","v":"2026-07-01"},{"$f":"DATE(Головна_Summary!$E$7+2,8,1)","v":"2026-08-01"},{"$f":"DATE(Головна_Summary!$E$7+2,9,1)","v":"2026-09-01"},{"$f":"DATE(Головна_Summary!$E$7+2,10,1)","v":"2026-10-01"},{"$f":"DATE(Головна_Summary!$E$7+2,11,1)","v":"2026-11-01"},{"$f":"DATE(Головна_Summary!$E$7+2,12,1)","v":"2026-12-01"},{"$f":"AU4","v":"Всього за / overall during2026 рік"},{"$f":"DATE(Головна_Summary!$E$7+3,1,1)","v":"2027-01-01"},{"$f":"DATE(Головна_Summary!$E$7+3,2,1)","v":"2027-02-01"},{"$f":"DATE(Головна_Summary!$E$7+3,3,1)","v":"2027-03-01"},{"$f":"DATE(Головна_Summary!$E$7+3,4,1)","v":"2027-04-01"},{"$f":"DATE(Головна_Summary!$E$7+3,5,1)","v":"2027-05-01"},{"$f":"DATE(Головна_Summary!$E$7+3,6,1)","v":"2027-06-01"},{"$f":"DATE(Головна_Summary!$E$7+3,7,1)","v":"2027-07-01"},{"$f":"DATE(Головна_Summary!$E$7+3,8,1)","v":"2027-08-01"},{"$f":"DATE(Головна_Summary!$E$7+3,9,1)","v":"2027-09-01"},{"$f":"DATE(Головна_Summary!$E$7+3,10,1)","v":"2027-10-01"},{"$f":"DATE(Головна_Summary!$E$7+3,11,1)","v":"2027-11-01"},{"$f":"DATE(Головна_Summary!$E$7+3,12,1)","v":"2027-12-01"},{"$f":"BH4","v":"Всього за / overall during2027 рік"}]
[null,"Освоєння проєкту всього/  Development total ",null,"Всього/Total",{"$f":"MIN(E56,E60,E64,E69,E74,E79,E84,E89)","v":"00:00:00"},{"$f":"NETWORKDAYS(E52,G52,0)","v":32742},{"$f":"MAX(G56,G60,G64,G69,G74,G79,G84,G89)","v":"2025-07-01"},{"$f":"H53+H54","v":9000},{"$f":"I53+I54","v":0},{"$f":"J53+J54","v":500},{"$f":"K53+K54","v":500},{"$f":"L53+L54","v":500},{"$f":"M53+M54","v":500},{"$f":"N53+N54","v":500},{"$f":"O53+O54","v":500},{"$f":"P53+P54","v":500},{"$f":"Q53+Q54","v":500},{"$f":"R53+R54","v":500},{"$f":"S53+S54","v":500},{"$f":"T53+T54","v":500},{"$f":"U53+U54","v":5500},{"$f":"V53+V54","v":500},{"$f":"W53+W54","v":500},{"$f":"X53+X54","v":500},{"$f":"Y53+Y54","v":500},{"$f":"Z53+Z54","v":500},{"$f":"AA53+AA54","v":500},{"$f":"AB53+AB54","v":500},{"$f":"AC53+AC54","v":0},{"$f":"AD53+AD54","v":0},{"$f":"AE53+AE54","v":0},{"$f":"AF53+AF54","v":0},{"$f":"AG53+AG54","v":0},{"$f":"AH53+AH54","v":3500},{"$f":"AI53+AI54","v":0},{"$f":"AJ53+AJ54","v":0},{"$f":"AK53+AK54","v":0},{"$f":"AL53+AL54","v":0},{"$f":"AM53+AM54","v":0},{"$f":"AN53+AN54","v":0},{"$f":"AO53+AO54","v":0},{"$f":"AP53+AP54","v":0},{"$f":"AQ53+AQ54","v":0},{"$f":"AR53+AR54","v":0},{"$f":"AS53+AS54","v":0},{"$f":"AT53+AT54","v":0},{"$f":"AU53+AU54","v":0},{"$f":"AV53+AV54","v":0},{"$f":"AW53+AW54","v":0},{"$f":"AX53+AX54","v":0},{"$f":"AY53+AY54","v":0},{"$f":"AZ53+AZ54","v":0},{"$f":"BA53+BA54","v":0},{"$f":"BB53+BB54","v":0},{"$f":"BC53+BC54","v":0},{"$f":"BD53+BD54","v":0},{"$f":"BE53+BE54","v":0},{"$f":"BF53+BF54","v":0},{"$f":"BG53+BG54","v":0},{"$f":"BH53+BH54","v":0}]
[null,null,null,"Кредитні кошти/Loans","2024-02-01",{"$f":"NETWORKDAYS(E53,G53,0)","v":369},"2025-07-01",{"$f":"U53+AH53+AU53+BH53","v":9000},{"$f":"SUMIF($D$56:$D$93,$D$6,I56:I93)","v":0},500,500,500,500,500,500,500,500,500,500,500,5500,500,500,500,500,500,500,500,0,0,0,0,0,3500,0,0,0,0,0,0,{"$f":"SUMIF($D$56:$D$93,$D$6,AO56:AO93)","v":0},0,0,0,0,0,0,0,0,0,0,0,0,0,0,0,0,0,0,0]
[null,null,null,"Власні кошти/ Own fonds",null,{"$f":"NETWORKDAYS(E54,G54,0)","v":0},null,{"$f":"U54+AH54+AU54+BH54","v":0},{"$f":"SUMIF($D$56:$D$93,$D$54,I56:I93)","v":0},0,0,0,0,0,0,0,0,0,0,0,0,0,0,0,0,0,0,0,0,0,0,0,0,0,0,0,0,0,0,0,{"$f":"SUMIF($D$56:$D$93,$D$54,AO56:AO93)","v":0},0,0,0,0,0,0,0,0,0,0,0,0,0,0,0,0,0,0,0]
[null,null,null,null,null,null,null,null,{"$f":"I56+I60+I64+I69+I74+I79+I84+I89","v":0},500,500,500,500,500,500,500,500,500,500,500,5500,500,500,500,500,500,500,500,0,0,0,0,0,3500,0,0,0,0,0,0,{"$f":"AO56+AO60+AO64+AO69+AO74+AO79+AO84+AO89","v":0},0,0,0,0,0,0,0,0,0,0,0,0,0,0,0,0,0,0,0]
[null,{"$f":"B9","v":"ESS 10 MW"},null,null,{"$f":"MIN(E57:E58)","v":"2024-02-01"},{"$f":"NETWORKDAYS(E56,G56,0)","v":369},{"$f":"MAX(G57:G58)","v":"2025-07-01"},{"$f":"U56+AH56+AU56+BH56","v":9000},{"$f":"SUM(I57:I58)","v":0},500,500,500,500,500,500,500,500,500,500,500,{"$f":"SUM(I56:T56)","v":5500},{"$f":"SUM(V57:V58)","v":500},500,500,500,500,500,500,0,0,0,0,0,{"$f":"SUM(V56:AG56)","v":3500},{"$f":"SUM(AI57:AI58)","v":0},0,0,0,0,0,0,0,0,0,0,0,{"$f":"SUM(AI56:AT56)","v":0},{"$f":"SUM(AV57:AV58)","v":0},0,0,0,0,0,0,0,0,0,0,0,{"$f":"SUM(AV56:BG56)","v":0}]
[null,"Виконання робіт за проєктом/Execution of project works",null,{"$f":"D10","v":"Кредитні кошти/Loans"},"2024-02-01",{"$f":"NETWORKDAYS(E57,G57,0)","v":369},"2025-07-01",{"$f":"H10","v":9000},null,{"$f":"I10","v":500},500,500,500,500,500,500,500,500,500,500,{"$f":"SUM(I57:T57)","v":5500},{"$f":"T10","v":500},{"$f":"V10","v":500},500,500,500,500,500,null,null,null,null,{"$f":"AE9+AF9+AG9","v":0},3500,null,{"$f":"AK9","v":0},0,0,0,0,0,0,0,0,0,{"$f":"AV9+AW9","v":0},0,{"$f":"AX9+AD9","v":0},null,null,{"$f":"AY10","v":0},null,null,null,{"$f":"BC10","v":0},null,null,null,{"$f":"BG10","v":0},0]
[null,"Плата за приєднання/Joining fee",null,{"$f":"D11","v":"Кредитні кошти/Loans"},"2025-02-01",14,"2025-02-20",{"$f":"U58+AH58+AU58+BH58","v":0},null,{"$f":"I11","v":0},0,0,0,0,0,0,0,0,0,0,{"$f":"SUM(I58:T58)","v":0},{"$f":"T11","v":0},0,0,0,0,0,0,null,null,null,null,null,0,null,null,null,null,null,null,null,null,null,null,null,null,0,null,null,null,null,null,null,null,null,null,null,null,null,0]
[null,"Операція 5/ Operation 5",null,{"$f":"D12","v":0},null,{"$f":"NETWORKDAYS(E59,G59,0)","v":0},null,{"$f":"U59+AH59+AU59+BH59","v":0},{"$f":"SUM(I60:I62)","v":0},{"$f":"SUM(J60:J62)","v":0},{"$f":"SUM(K60:K62)","v":0},0,0,0,0,0,0,0,0,0,{"$f":"SUM(I59:T59)","v":0},{"$f":"SUM(V60:V62)","v":0},{"$f":"SUM(W60:W62)","v":0},0,0,0,0,0,0,0,0,0,{"$f":"SUM(AG60:AG62)","v":0},0,{"$f":"SUM(AI60:AI62)","v":0},{"$f":"SUM(AJ60:AJ62)","v":0},0,0,0,0,0,0,0,0,0,0,0,{"$f":"SUM(AV60:AV62)","v":0},{"$f":"SUM(AW60:AW62)","v":0},0,0,0,0,0,0,0,0,0,0,0]
[null,"Етап 2 / Phase 7",null,null,{"$f":"MIN(E61:E63)","v":"00:00:00"},{"$f":"NETWORKDAYS(E60,G60,0)","v":0},{"$f":"MAX(G61:G63)","v":"00:00:00"},{"$f":"H13","v":0},null,null,null,null,null,null,{"$f":"N13","v":0},0,0,0,0,0,0,{"$f":"T13","v":0},{"$f":"V13","v":0},0,0,0,0,0,0,0,0,0,0,0,{"$f":"AG13","v":0},{"$f":"AI13","v":0},0,0,0,0,0,null,null,null,null,null,0,null,null,null,null,null,null,null,null,null,null,null,null,0]
[null,"Операція 1/ Operation 1",null,{"$f":"D14","v":0},null,0,null,0,null,null,null,null,null,null,null,null,null,null,null,null,0,null,null,null,null,null,null,null,null,null,null,null,null,0,null,null,null,null,null,null,null,null,null,null,null,null,0,null,null,null,null,null,null,null,null,null,null,null,null,0]
[null,"Операція 2/ Operation 2",null,{"$f":"D15","v":0},null,0,null,0,null,null,null,null,null,null,null,null,null,null,null,null,0,null,null,null,null,null,null,null,null,null,null,null,null,0,null,null,null,null,null,null,null,null,null,null,null,null,0,null,null,null,null,null,null,null,null,null,null,null,null,0]
[null,"Операція 3/ Operation 3",null,{"$f":"D16","v":0}]
[null,"Етап 3 / Phase 3",null,null,{"$f":"MIN(E65:E68)","v":"00:00:00"},{"$f":"NETWORKDAYS(E64,G64,0)","v":0},{"$f":"MAX(G65:G68)","v":"00:00:00"},{"$f":"U64+AH64+AU64+BH64","v":0},{"$f":"SUM(I65:I67)","v":0},{"$f":"SUM(J65:J67)","v":0},0,0,0,0,0,0,0,0,0,0,{"$f":"SUM(I64:T64)","v":0},{"$f":"SUM(V65:V67)","v":0},{"$f":"SUM(W65:W67)","v":0},0,0,0,0,0,0,0,0,0,0,{"$f":"SUM(V64:AG64)","v":0},{"$f":"SUM(AI65:AI67)","v":0},{"$f":"SUM(AJ65:AJ67)","v":0},0,0,0,0,0,0,0,0,0,0,{"$f":"SUM(AI64:AT64)","v":0},{"$f":"SUM(AV65:AV67)","v":0},{"$f":"SUM(AW65:AW67)","v":0},0,0,0,0,0,0,0,0,0,0,{"$f":"SUM(AV64:BG64)","v":0}]
[null,"Операція 1/ Operation 1",null,{"$f":"D18","v":0},null,{"$f":"NETWORKDAYS(E65,G65,0)","v":0},null,0,null,null,null,null,null,null,null,null,null,null,null,null,0,null,null,null,null,null,null,null,null,null,null,null,null,{"$f":"SUM(V65:AG65)","v":0},null,null,null,null,null,null,null,null,null,null,null,null,{"$f":"SUM(AI65:AT65)","v":0},null,null,null,null,null,null,null,null,null,null,null,null,{"$f":"SUM(AV65:BG65)","v":0}]
[null,"Операція 2/ Operation 2",null,{"$f":"D19","v":0},null,0,null,0,null,null,null,null,null,null,null,null,null,null,null,null,0,null,null,null,null,null,null,null,null,null,null,null,null,{"$f":"SUM(V66:AG66)","v":0},null,null,null,null,null,null,null,null,null,null,null,null,{"$f":"SUM(AI66:AT66)","v":0},null,null,null,null,null,null,null,null,null,null,null,null,{"$f":"SUM(AV66:BG66)","v":0}]
[null,"Операція 3/ Operation 3",null,{"$f":"D20","v":0},null,0,null,0,null,null,null,null,null,null,null,null,null,null,null,null,0,null,null,null,null,null,null,null,null,null,null,null,null,{"$f":"SUM(V67:AG67)","v":0},null,null,null,null,null,null,null,null,null,null,null,null,{"$f":"SUM(AI67:AT67)","v":0},null,null,null,null,null,null,null,null,null,null,null,null,{"$f":"SUM(AV67:BG67)","v":0}]
[null,"Операція 4/ Operation 4",null,{"$f":"D21","v":0}]
[null,"Етап 4 / Phase 4",null,null,{"$f":"MIN(E70:E73)","v":"00:00:00"},{"$f":"NETWORKDAYS(E69,G69,0)","v":0},{"$f":"MAX(G70:G73)","v":"00:00:00"},{"$f":"U69+AH69+AU69+BH69","v":0},{"$f":"SUM(I70:I72)","v":0},{"$f":"SUM(J70:J72)","v":0},0,0,0,0,0,0,0,0,0,0,{"$f":"SUM(I69:T69)","v":0},{"$f":"SUM(V70:V72)","v":0},{"$f":"SUM(W70:W72)","v":0},0,0,0,0,0,0,0,0,0,0,{"$f":"SUM(V69:AG69)","v":0},{"$f":"SUM(AI70:AI72)","v":0},{"$f":"SUM(AJ70:AJ72)","v":0},0,0,0,0,0,0,0,0,0,0,{"$f":"SUM(AI69:AT69)","v":0},{"$f":"SUM(AV70:AV72)","v":0},{"$f":"SUM(AW70:AW72)","v":0},0,0,0,0,0,0,0,0,0,0,{"$f":"SUM(AV69:BG69)","v":0}]
[null,"Операція 1/ Operation 1",null,{"$f":"D23","v":0},null,{"$f":"NETWORKDAYS(E70,G70,0)","v":0},null,0,null,null,null,null,null,null,null,null,null,null,null,null,0,null,null,null,null,null,null,null,null,null,null,null,null,{"$f":"SUM(V70:AG70)","v":0},null,null,null,null,null,null,null,null,null,null,null,null,{"$f":"SUM(AI70:AT70)","v":0},null,null,null,null,null,null,null,null,null,null,null,null,{"$f":"SUM(AV70:BG70)","v":0}]
[null,"Операція 2/ Operation 2",null,{"$f":"D24","v":0},null,0,null,0,null,null,null,null,null,null,null,null,null,null,null,null,0,null,null,null,null,null,null,null,null,null,null,null,null,{"$f":"SUM(V71:AG71)","v":0},null,null,null,null,null,null,null,null,null,null,null,null,{"$f":"SUM(AI71:AT71)","v":0},null,null,null,null,null,null,null,null,null,null,null,null,{"$f":"SUM(AV71:BG71)","v":0}]
[null,"Операція 3/ Operation 3",null,{"$f":"D25","v":0},null,0,null,0,null,null,null,null,null,null,null,null,null,null,null,null,0,null,null,null,null,null,null,null,null,null,null,null,null,{"$f":"SUM(V72:AG72)","v":0},null,null,null,null,null,null,null,null,null,null,null,null,{"$f":"SUM(AI72:AT72)","v":0},null,null,null,null,null,null,null,null,null,null,null,null,{"$f":"SUM(AV72:BG72)","v":0}]
[null,"Операція 4/ Operation 4",null,{"$f":"D26","v":0}]
[null,"Етап 5 / Phase 5",null,null,{"$f":"MIN(E75:E78)","v":"00:00:00"},{"$f":"NETWORKDAYS(E74,G74,0)","v":0},{"$f":"MAX(G75:G78)","v":"00:00:00"},{"$f":"U74+AH74+AU74+BH74","v":0},{"$f":"SUM(I75:I77)","v":0},{"$f":"SUM(J75:J77)","v":0},0,0,0,0,0,0,0,0,0,0,{"$f":"SUM(I74:T74)","v":0},{"$f":"SUM(V75:V77)","v":0},{"$f":"SUM(W75:W77)","v":0},0,0,0,0,0,0,0,0,0,0,{"$f":"SUM(V74:AG74)","v":0},{"$f":"SUM(AI75:AI77)","v":0},{"$f":"SUM(AJ75:AJ77)","v":0},0,0,0,0,0,0,0,0,0,0,{"$f":"SUM(AI74:AT74)","v":0},{"$f":"SUM(AV75:AV77)","v":0},{"$f":"SUM(AW75:AW77)","v":0},0,0,0,0,0,0,0,0,0,0,{"$f":"SUM(AV74:BG74)","v":0}]
[null,"Операція 1/ Operation 1",null,{"$f":"D28","v":0},null,{"$f":"NETWORKDAYS(E75,G75,0)","v":0},null,0,null,null,null,null,null,null,null,null,null,null,null,null,0,null,null,null,null,null,null,null,null,null,null,null,null,{"$f":"SUM(V75:AG75)","v":0},null,null,null,null,null,null,null,null,null,null,null,null,{"$f":"SUM(AI75:AT75)","v":0},null,null,null,null,null,null,null,null,null,null,null,null,{"$f":"SUM(AV75:BG75)","v":0}]
[null,"Операція 2/ Operation 2",null,{"$f":"D29","v":0},null,0,null,0,null,null,null,null,null,null,null,null,null,null,null,null,0,null,null,null,null,null,null,null,null,null,null,null,null,{"$f":"SUM(V76:AG76)","v":0},null,null,null,null,null,null,null,null,null,null,null,null,{"$f":"SUM(AI76:AT76)","v":0},null,null,null,null,null,null,null,null,null,null,null,null,{"$f":"SUM(AV76:BG76)","v":0}]
[null,"Операція 3/ Operation 3",null,{"$f":"D30","v":0},null,0,null,0,null,null,null,null,null,null,null,null,null,null,null,null,0,null,null,null,null,null,null,null,null,null,null,null,null,{"$f":"SUM(V77:AG77)","v":0},null,null,null,null,null,null,null,null,null,null,null,null,{"$f":"SUM(AI77:AT77)","v":0},null,null,null,null,null,null,null,null,null,null,null,null,{"$f":"SUM(AV77:BG77)","v":0}]
[null,"Операція 4/ Operation 4",null,{"$f":"D31","v":0}]
[null,"Етап 6 / Phase 6",null,null,{"$f":"MIN(E80:E83)","v":"00:00:00"},{"$f":"NETWORKDAYS(E79,G79,0)","v":0},{"$f":"MAX(G80:G83)","v":"00:00:00"},{"$f":"U79+AH79+AU79+BH79","v":0},{"$f":"SUM(I80:I82)","v":0},{"$f":"SUM(J80:J82)","v":0},0,0,0,0,0,0,0,0,0,0,{"$f":"SUM(I79:T79)","v":0},{"$f":"SUM(V80:V82)","v":0},{"$f":"SUM(W80:W82)","v":0},0,0,0,0,0,0,0,0,0,{"$f":"SUM(AG80:AG82)","v":0},{"$f":"SUM(V79:AG79)","v":0},{"$f":"SUM(AI80:AI82)","v":0},{"$f":"SUM(AJ80:AJ82)","v":0},0,0,0,0,0,0,0,0,0,0,{"$f":"SUM(AI79:AT79)","v":0},{"$f":"SUM(AV80:AV82)","v":0},{"$f":"SUM(AW80:AW82)","v":0},0,0,0,0,0,0,0,0,0,0,{"$f":"SUM(AV79:BG79)","v":0}]
[null,"Операція 1/ Operation 1",null,{"$f":"D33","v":0},null,{"$f":"NETWORKDAYS(E80,G80,0)","v":0},null,0,null,null,null,null,null,null,null,null,null,null,null,null,0,null,null,null,null,null,null,null,null,null,null,null,null,{"$f":"SUM(V80:AG80)","v":0},null,null,null,null,null,null,null,null,null,null,null,null,{"$f":"SUM(AI80:AT80)","v":0},null,null,null,null,null,null,null,null,null,null,null,null,{"$f":"SUM(AV80:BG80)","v":0}]
[null,"Операція 2/ Operation 2",null,{"$f":"D34","v":0},null,0,null,0,null,null,null,null,null,null,null,null,null,null,null,null,0,null,null,null,null,null,null,null,null,null,null,null,null,{"$f":"SUM(V81:AG81)","v":0},null,null,null,null,null,null,null,null,null,null,null,null,{"$f":"SUM(AI81:AT81)","v":0},null,null,null,null,null,null,null,null,null,null,null,null,{"$f":"SUM(AV81:BG81)","v":0}]
[null,"Операція 3/ Operation 3",null,{"$f":"D35","v":0},null,0,null,0,null,null,null,null,null,null,null,null,null,null,null,null,0,null,null,null,null,null,null,null,null,null,null,null,null,{"$f":"SUM(V82:AG82)","v":0},null,null,null,null,null,null,null,null,null,null,null,null,{"$f":"SUM(AI82:AT82)","v":0},null,null,null,null,null,null,null,null,null,null,null,null,{"$f":"SUM(AV82:BG82)","v":0}]
[null,"Операція 4/ Operation 4",null,{"$f":"D36","v":0}]
[null,"Етап 7 / Phase 7",null,null,{"$f":"MIN(E85:E88)","v":"00:00:00"},{"$f":"NETWORKDAYS(E84,G84,0)","v":0},{"$f":"MAX(G85:G88)","v":"00:00:00"},{"$f":"U84+AH84+AU84+BH84","v":0},{"$f":"SUM(I85:I87)","v":0},{"$f":"SUM(J85:J87)","v":0},0,0,0,0,0,0,0,0,0,0,{"$f":"SUM(I84:T84)","v":0},{"$f":"SUM(V85:V87)","v":0},{"$f":"SUM(W85:W87)","v":0},0,0,0,0,0,0,0,0,0,{"$f":"SUM(AG85:AG87)","v":0},{"$f":"SUM(V84:AF84)","v":0},{"$f":"SUM(AI85:AI87)","v":0},{"$f":"SUM(AJ85:AJ87)","v":0},0,0,0,0,0,0,0,0,0,0,{"$f":"SUM(AI84:AT84)","v":0},{"$f":"SUM(AV85:AV87)","v":0},{"$f":"SUM(AW85:AW87)","v":0},0,0,0,0,0,0,0,0,0,0,{"$f":"SUM(AV84:BG84)","v":0}]
[null,"Операція 1/ Operation 1",null,{"$f":"D38","v":0},null,{"$f":"NETWORKDAYS(E85,G85,0)","v":0},null,0,null,null,null,null,null,null,null,null,null,null,null,null,0,null,null,null,null,null,null,null,null,null,null,null,null,{"$f":"SUM(V85:AG85)","v":0},null,null,null,null,null,null,null,null,null,null,null,null,{"$f":"SUM(AI85:AT85)","v":0},null,null,null,null,null,null,null,null,null,null,null,null,{"$f":"SUM(AV85:BG85)","v":0}]
[null,"Операція 2/ Operation 2",null,{"$f":"D39","v":0},null,0,null,0,null,null,null,null,null,null,null,null,null,null,null,null,0,null,null,null,null,null,null,null,null,null,null,null,null,{"$f":"SUM(V86:AG86)","v":0},null,null,null,null,null,null,null,null,null,null,null,null,{"$f":"SUM(AI86:AT86)","v":0},null,null,null,null,null,null,null,null,null,null,null,null,{"$f":"SUM(AV86:BG86)","v":0}]
[null,"Операція 3/ Operation 3",null,{"$f":"D40","v":0},null,0,null,0,null,null,null,null,null,null,null,null,null,null,null,null,0,null,null,null,null,null,null,null,null,null,null,null,null,{"$f":"SUM(V87:AG87)","v":0},null,null,null,null,null,null,null,null,null,null,null,null,{"$f":"SUM(AI87:AT87)","v":0},null,null,null,null,null,null,null,null,null,null,null,null,{"$f":"SUM(AV87:BG87)","v":0}]
[null,"Операція 4/ Operation 4",null,{"$f":"D41","v":0}]
[null,"Етап 8 / Phase 8",null,null,{"$f":"MIN(E90:E93)","v":"00:00:00"},{"$f":"NETWORKDAYS(E89,G89,0)","v":0},{"$f":"MAX(G90:G93)","v":"00:00:00"},{"$f":"U89+AH89+AU89+BH89","v":0},{"$f":"SUM(I90:I92)","v":0},{"$f":"SUM(J90:J92)","v":0},0,0,0,0,0,0,0,0,0,0,{"$f":"SUM(I89:T89)","v":0},{"$f":"SUM(V90:V92)","v":0},{"$f":"SUM(W90:W92)","v":0},0,0,0,0,0,0,0,0,0,0,{"$f":"SUM(V89:AG89)","v":0},{"$f":"SUM(AI90:AI92)","v":0},{"$f":"SUM(AJ90:AJ92)","v":0},0,0,0,0,0,0,0,0,0,0,{"$f":"SUM(AI89:AT89)","v":0},{"$f":"SUM(AV90:AV92)","v":0},{"$f":"SUM(AW90:AW92)","v":0},0,0,0,0,0,0,0,0,0,0,{"$f":"SUM(AV89:BG89)","v":0}]
[null,"Операція 1/ Operation 1",null,{"$f":"D43","v":0},null,{"$f":"NETWORKDAYS(E90,G90,0)","v":0},null,0,null,null,null,null,null,null,null,null,null,null,null,null,0,null,null,null,null,null,null,null,null,null,null,null,null,{"$f":"SUM(V90:AG90)","v":0},null,null,null,null,null,null,null,null,null,null,null,null,{"$f":"SUM(AI90:AT90)","v":0},null,null,null,null,null,null,null,null,null,null,null,null,{"$f":"SUM(AV90:BG90)","v":0}]
[null,"Операція 2/ Operation 2",null,{"$f":"D44","v":0},null,0,null,0,null,null,null,null,null,null,null,null,null,null,null,null,0,null,null,null,null,null,null,null,null,null,null,null,null,{"$f":"SUM(V91:AG91)","v":0},null,null,null,null,null,null,null,null,null,null,null,null,{"$f":"SUM(AI91:AT91)","v":0},null,null,null,null,null,null,null,null,null,null,null,null,{"$f":"SUM(AV91:BG91)","v":0}]
[null,"Операція 3/ Operation 3",null,{"$f":"D45","v":0},null,0,null,0,null,null,null,null,null,null,null,null,null,null,null,null,0,null,null,null,null,null,null,null,null,null,null,null,null,{"$f":"SUM(V92:AG92)","v":0},null,null,null,null,null,null,null,null,null,null,null,null,{"$f":"SUM(AI92:AT92)","v":0},null,null,null,null,null,null,null,null,null,null,null,null,{"$f":"SUM(AV92:BG92)","v":0}]
[null,"Операція 4/ Operation 4",null,{"$f":"D46","v":0}]
[null,null,null,{"$f":"D47","v":0}]

{"sheet":"Фінансування_Financing (CFI)","index":3,"n_rows":37,"n_cols":60,"rows_kept":37,"cut":false,"hidden":false,"merged":[[7,19,7,20],[24,27,24,28],[10,27,10,28],[13,27,13,28],[16,27,16,28],[1,27,1,28],[31,27,31,28],[34,27,34,28],[16,29,16,31],[29,29,29,31],[1,29,1,30],[34,21,34,22],[8,19,8,20],[34,2,34,4],[35,2,35,4],[34,5,34,6],[35,5,35,6],[34,7,34,8],[35,7,35,8],[22,2,22,4],[23,2,23,4],[22,5,22,6],[23,5,23,6],[22,7,22,8],[23,7,23,8],[31,7,31,8],[30,7,30,8],[29,7,29,8],[26,1,26,4],[28,1,28,4],[28,5,28,6],[28,7,28,8],[33,7,33,8],[32,7,32,8],[30,2,30,4],[33,2,33,4],[32,2,32,4],[1,0,1,4],[1,5,1,10],[6,9,6,10],[6,7,6,8],[6,1,6,4],[4,1,4,4],[6,5,6,6],[19,7,19,8],[24,2,24,4],[16,1,16,4],[17,1,17,4],[18,5,18,6],[19,5,19,6],[20,5,20,6],[21,5,21,6],[18,2,18,4],[8,7,8,8],[9,7,9,8],[10,7,10,8],[11,7,11,8],[12,7,12,8],[13,7,13,8],[7,7,7,8],[7,2,7,4],[29,2,29,4],[31,2,31,4],[19,2,19,4],[20,2,20,4],[21,2,21,4],[17,5,17,6],[1,12,1,16],[1,17,1,22],[4,13,4,16],[6,13,6,16],[6,17,6,18],[6,19,6,20],[6,21,6,22],[14,9,14,10],[14,21,14,22],[16,13,16,16],[17,13,17,16],[17,17,17,18],[17,19,17,20],[17,21,17,22],[18,14,18,16],[18,17,18,18],[18,19,18,20],[18,21,18,22],[33,5,33,6],[32,5,32,6],[31,5,31,6],[30,5,30,6],[29,5,29,6],[17,7,17,8],[24,5,24,6],[18,7,18,8],[24,7,24,8],[21,7,21,8],[20,7,20,8],[36,9,36,10],[25,9,25,10],[33,9,33,10],[32,9,32,10],[31,9,31,10],[30,9,30,10],[29,9,29,10],[28,9,28,10],[17,9,17,10],[34,9,34,10],[35,9,35,10],[24,9,24,10],[21,9,21,10],[20,9,20,10],[19,9,19,10],[18,9,18,10],[23,9,23,10],[22,9,22,10],[19,14,19,16],[19,17,19,18],[19,19,19,20],[19,21,19,22],[20,14,20,16],[20,17,20,18],[20,19,20,20],[20,21,20,22],[21,14,21,16],[21,17,21,18],[21,19,21,20],[21,21,21,22],[22,14,22,16],[22,17,22,18],[22,19,22,20],[22,21,22,22],[23,14,23,16],[23,17,23,18],[23,19,23,20],[23,21,23,22],[30,14,30,16],[30,17,30,18],[30,19,30,20],[30,21,30,22],[29,14,29,16],[29,17,29,18],[29,19,29,20],[29,21,29,22],[31,14,31,16],[31,17,31,18],[31,19,31,20],[31,21,31,22],[24,14,24,16],[24,17,24,18],[24,19,24,20],[24,21,24,22],[25,21,25,22],[26,13,26,16],[28,13,28,16],[28,17,28,18],[28,19,28,20],[28,21,28,22],[8,2,8,4],[7,14,7,16],[8,5,8,6],[10,5,10,6],[11,5,11,6],[15,25,25,25],[0,25,14,25],[26,25,37,25],[35,14,35,16],[35,17,35,18],[35,19,35,20],[35,21,35,22],[36,21,36,22],[32,14,32,16],[32,17,32,18],[32,19,32,20],[32,21,32,22],[33,14,33,16],[33,17,33,18],[33,19,33,20],[33,21,33,22],[34,14,34,16],[34,17,34,18],[34,19,34,20]]}
[null,"UKR",null,null,null,null,null,null,null,null,null,null,null,"ENG",null,null,null,null,null,null,null,null,null,null,null,"ГРАФІК ФІНАНСУВАННЯ/ \nFINANCING SCHEDULE"]
["ФІНАНСОВІ ВИТРАТИ ПО ПРОЕКТУ",null,null,null,null,{"$f":"Головна_Summary!A2","v":"Energy storage system 10МВт"},null,null,null,null,null,null,"FINANCIAL COSTS OF THE PROJECT",null,null,null,null,{"$f":"Головна_Summary!K2","v":"Energy storage system 10 MW"},null,null,null,null,null,null,null,null,null,"Інвестиційні витрати / Investment costs",null,{"$f":"Головна_Summary!AD5","v":"тис.US$/ ths.US$"}]
[]
[null,null,null,null,null,null,null,null,null,null,null,null,null,null,null,null,null,null,null,null,null,null,null,null,null,null,null,null,null,"Січень / Jan","Лютий / Feb","Березень / Mar","Квітень / Apr","Травень / May","Червень / Jun","Липень / Jul","Серпень / Aug","Вересень / Sep","Жовтень / Oct","Листопад / Nov","Грудень / Dec","Разом / Total"]
[null,"Інвестиційні витрати по проекту",null,null,null,null,null,null,null,null,null,null,null,"Investment costs of the project",null,null,null,null,null,null,null,null,null,null,null,null,null,null,{"$f":"'Грошові потоки _ Cash flows'!G7","v":2024},{"$f":"'План фінансування_Funding plan'!I5","v":500},{"$f":"'План фінансування_Funding plan'!J5","v":500},{"$f":"'План фінансування_Funding plan'!K5","v":500},{"$f":"'План фінансування_Funding plan'!L5","v":500},{"$f":"'План фінансування_Funding plan'!M5","v":500},{"$f":"'План фінансування_Funding plan'!N5","v":500},{"$f":"'План фінансування_Funding plan'!O5","v":500},{"$f":"'План фінансування_Funding plan'!P5","v":500},{"$f":"'План фінансування_Funding plan'!Q5","v":500},{"$f":"'План фінансування_Funding plan'!R5","v":500},{"$f":"'План фінансування_Funding plan'!S5","v":500},{"$f":"'План фінансування_Funding plan'!T5","v":500},{"$f":"SUM(AD5:AO5)","v":6000}]
[]
[null,"Найменування об'єкту",null,null,null,"Кількість",null,"Одн.виміру",null,"Сума",null,null,null,"Object name",null,null,null,"Amount",null,"Unit",null,"Sum",null,null,null,null,null,null,null,{"$f":"AC5","v":2024},{"$f":"AD7+1","v":2025},{"$f":"AE7+1","v":2026},{"$f":"AF7+1","v":2027},{"$f":"AG7+1","v":2028},{"$f":"AH7+1","v":2029},2030,2031,2032,2033,2034,2035,{"$f":"AO7+1","v":2036},{"$f":"AP7+1","v":2037},{"$f":"AQ7+1","v":2038},{"$f":"AR7+1","v":2039},{"$f":"AS7+1","v":2040},2041,{"$f":"AU7+1","v":2042},{"$f":"AV7+1","v":2043},{"$f":"AW7+1","v":2044},{"$f":"AX7+1","v":2045},{"$f":"AY7+1","v":2046},{"$f":"AZ7+1","v":2047},{"$f":"BA7+1","v":2048},{"$f":"BB7+1","v":2049},{"$f":"BC7+1","v":2050},{"$f":"BD7+1","v":2051},{"$f":"BE7+1","v":2052},{"$f":"BF7+1","v":2053},{"$f":"AP4","v":"Разом / Total"}]
[null,1,"ESS 10 MW",null,null,null,null,"тис. дол",null,{"$f":"Припущення_Assumptions!G8*Припущення_Assumptions!G11","v":9000},null,1,null,1,{"$f":"C8","v":"ESS 10 MW"},null,null,null,null,"ths. USA",null,{"$f":"J8","v":9000},null,1,null,null,null,null,null,{"$f":"'План фінансування_Funding plan'!U5","v":6000},{"$f":"'План фінансування_Funding plan'!AH5","v":3000},{"$f":"'План фінансування_Funding plan'!AU6","v":0},{"$f":"'План фінансування_Funding plan'!BH6","v":0},null,null,null,null,null,null,null,null,null,null,null,null,null,null,null,null,null,null,null,null,null,null,null,null,null,null,{"$f":"SUM(AD8:BG8)","v":9000}]
[null,2,null,null,null,null,null,null,null,null,null,0,null,2,null,null,null,null,null,null,null,null,null,0]
[null,null,null,null,null,null,null,null,null,null,null,1,null,null,null,null,null,null,null,null,null,null,null,1,null,null,null,null,null,{"$f":"AC5","v":2024},{"$f":"AD10+1","v":2025},{"$f":"AE10+1","v":2026},{"$f":"AF10+1","v":2027},{"$f":"AG10+1","v":2028},{"$f":"AH10+1","v":2029},2030,2031,2032,2033,2034,2035,{"$f":"AO10+1","v":2036},{"$f":"AP10+1","v":2037},{"$f":"AQ10+1","v":2038},{"$f":"AR10+1","v":2039},{"$f":"AS10+1","v":2040},2041,{"$f":"AU10+1","v":2042},{"$f":"AV10+1","v":2043},{"$f":"AW10+1","v":2044},{"$f":"AX10+1","v":2045},{"$f":"AY10+1","v":2046},{"$f":"AZ10+1","v":2047},{"$f":"BA10+1","v":2048},{"$f":"BB10+1","v":2049},{"$f":"BC10+1","v":2050},{"$f":"BD10+1","v":2051},{"$f":"BE10+1","v":2052},{"$f":"BF10+1","v":2053},{"$f":"BH7","v":"Разом / Total"}]
[null,null,null,null,null,null,null,null,null,null,null,0,null,null,null,null,null,null,null,null,null,null,null,0,null,null,null,"Капітальні ремонти / Overhauls",null,null,null,null,null,null,null,null,null,{"$f":"AL35","v":0},null,null,null,null,null,{"$f":"AR35","v":0},null,null,null,null,null,null,null,null,null,null,null,null,null,null,null,{"$f":"SUM(AD11:BG11)","v":0}]
[null,null,null,null,null,null,null,null,null,null,null,0,null,null,null,null,null,null,null,null,null,null,null,0]
[null,null,null,null,null,null,null,null,null,null,null,1,null,null,null,null,null,null,null,null,null,null,null,1,null,null,null,null,null,{"$f":"AC5","v":2024},{"$f":"AD13+1","v":2025},{"$f":"AE13+1","v":2026},{"$f":"AF13+1","v":2027},{"$f":"AG13+1","v":2028},{"$f":"AH13+1","v":2029},2030,2031,2032,2033,2034,2035,{"$f":"AO13+1","v":2036},{"$f":"AP13+1","v":2037},{"$f":"AQ13+1","v":2038},{"$f":"AR13+1","v":2039},{"$f":"AS13+1","v":2040},2041,{"$f":"AU13+1","v":2042},{"$f":"AV13+1","v":2043},{"$f":"AW13+1","v":2044},{"$f":"AX13+1","v":2045},{"$f":"AY13+1","v":2046},{"$f":"AZ13+1","v":2047},{"$f":"BA13+1","v":2048},{"$f":"BB13+1","v":2049},{"$f":"BC13+1","v":2050},{"$f":"BD13+1","v":2051},{"$f":"BE13+1","v":2052},{"$f":"BF13+1","v":2053},{"$f":"BH10","v":"Разом / Total"}]
[null,null,null,null,null,null,null,null,null,null,null,0,null,null,null,null,null,null,null,null,null,null,null,0,null,null,null,"Операційні витрати / Operating costs ",null,null,null,null,null,null,null,null,null,null,null,null,null,null,null,null,null,null,null,null,null,null,null,null,null,null,null,null,null,null,null,{"$f":"SUM(AD14:BG14)","v":0}]
[null,null,null,null,null,null,null,null,"Всього",{"$f":"J8+J9","v":9000},null,{"$f":"COUNTIF(L8:L14,1)","v":3},null,null,null,null,null,null,null,null,"Total",{"$f":"V8+V9+V10+V13","v":9000},null,{"$f":"COUNTIF(X8:X14,1)","v":3}]
[null,null,null,null,null,null,null,null,null,null,null,null,null,null,null,null,null,null,null,null,null,null,null,null,null,"ГРАФІК ОСВОЕННЯ/ \nCAPITALIZATION SCHEDULE"]
[null,"Капітальні ремонти під час експлуатації",null,null,null,null,null,null,null,null,null,null,null,"Overhauls during comissioning",null,null,null,null,null,null,null,null,null,null,null,null,null,"Інвестиційні витрати / Investment costs",null,{"$f":"AD2","v":"тис.US$/ ths.US$"}]
[null,"Найменування об'єкту",null,null,null,"Кількість",null,"Одн.виміру",null,"Сума",null,null,null,{"$f":"N7","v":"Object name"},null,null,null,{"$f":"R7","v":"Amount"},null,{"$f":"T7","v":"Unit"},null,{"$f":"V7","v":"Sum"}]
[null,1,null,null,null,null,null,null,null,null,null,null,null,1,null,null,null,{"$f":"F19","v":0},null,{"$f":"H19","v":0},null,{"$f":"J19","v":0},null,null,null,null,null,null,null,{"$f":"AD4","v":"Січень / Jan"},"Лютий / Feb","Березень / Mar","Квітень / Apr","Травень / May","Червень / Jun","Липень / Jul","Серпень / Aug","Вересень / Sep","Жовтень / Oct","Листопад / Nov","Грудень / Dec","Разом / Total"]
[null,2,null,null,null,null,null,null,null,null,null,null,null,2,null,null,null,{"$f":"F20","v":0},null,{"$f":"H20","v":0},null,{"$f":"J20","v":0},null,null,null,null,null,null,{"$f":"AC5","v":2024},{"$f":"'План фінансування_Funding plan'!I52","v":0},{"$f":"'План фінансування_Funding plan'!J52","v":500},{"$f":"'План фінансування_Funding plan'!K52","v":500},{"$f":"'План фінансування_Funding plan'!L52","v":500},{"$f":"'План фінансування_Funding plan'!M52","v":500},{"$f":"'План фінансування_Funding plan'!N52","v":500},{"$f":"'План фінансування_Funding plan'!O52","v":500},{"$f":"'План фінансування_Funding plan'!P52","v":500},{"$f":"'План фінансування_Funding plan'!Q52","v":500},{"$f":"'План фінансування_Funding plan'!R52","v":500},{"$f":"'План фінансування_Funding plan'!S52","v":500},{"$f":"'План фінансування_Funding plan'!T52","v":500},{"$f":"SUM(AD20:AO20)","v":5500}]
[null,3,null,null,null,null,null,null,null,null,null,null,null,3,null,null,null,0,null,0,null,0,null,null,null,null,null,null,null,{"$f":"AC20","v":2024},{"$f":"AD21+1","v":2025},{"$f":"AE21+1","v":2026},{"$f":"AF21+1","v":2027},{"$f":"AG21+1","v":2028},{"$f":"AH21+1","v":2029},2030,2031,2032,2033,2034,2035,{"$f":"AO21+1","v":2036},{"$f":"AP21+1","v":2037},{"$f":"AQ21+1","v":2038},{"$f":"AR21+1","v":2039},{"$f":"AS21+1","v":2040},2041,{"$f":"AU21+1","v":2042},{"$f":"AV21+1","v":2043},{"$f":"AW21+1","v":2044},{"$f":"AX21+1","v":2045},{"$f":"AY21+1","v":2046},{"$f":"AZ21+1","v":2047},{"$f":"BA21+1","v":2048},{"$f":"BB21+1","v":2049},{"$f":"BC21+1","v":2050},{"$f":"BD21+1","v":2051},{"$f":"BE21+1","v":2052},{"$f":"BF21+1","v":2053},{"$f":"BH13","v":"Разом / Total"}]
[null,4,null,null,null,null,null,null,null,null,null,null,null,4,null,null,null,0,null,0,null,0,null,null,null,null,null,null,null,{"$f":"AP20","v":5500},{"$f":"'План фінансування_Funding plan'!AH52","v":3500},{"$f":"'План фінансування_Funding plan'!AU52","v":0},{"$f":"'План фінансування_Funding plan'!BH52","v":0},null,null,null,null,null,null,null,null,null,null,null,null,null,null,null,null,null,null,null,null,null,null,null,null,null,null,{"$f":"SUM(AD22:BG22)","v":9000}]
[null,5,null,null,null,null,null,null,null,null,null,null,null,5,null,null,null,0,null,0,null,0]
[null,6,null,null,null,null,null,null,null,null,null,null,null,6,null,null,null,0,null,0,null,0,null,null,null,null,null,null,null,{"$f":"AC20","v":2024},{"$f":"AD24+1","v":2025},{"$f":"AE24+1","v":2026},{"$f":"AF24+1","v":2027},{"$f":"AG24+1","v":2028},{"$f":"AH24+1","v":2029},2030,2031,2032,2033,2034,2035,{"$f":"AO24+1","v":2036},{"$f":"AP24+1","v":2037},{"$f":"AQ24+1","v":2038},{"$f":"AR24+1","v":2039},{"$f":"AS24+1","v":2040},2041,{"$f":"AU24+1","v":2042},{"$f":"AV24+1","v":2043},{"$f":"AW24+1","v":2044},{"$f":"AX24+1","v":2045},{"$f":"AY24+1","v":2046},{"$f":"AZ24+1","v":2047},{"$f":"BA24+1","v":2048},{"$f":"BB24+1","v":2049},{"$f":"BC24+1","v":2050},{"$f":"BD24+1","v":2051},{"$f":"BE24+1","v":2052},{"$f":"BF24+1","v":2053},{"$f":"BH13","v":"Разом / Total"}]
[null,7,null,null,null,null,null,null,null,null,null,null,null,7,null,null,null,0,null,0,null,0,null,null,null,null,null,"Капітальні ремонти / Overhauls",null,null,null,null,null,null,null,null,null,null,null,null,null,null,null,null,null,null,null,null,null,null,null,null,null,null,null,null,null,null,null,{"$f":"SUM(AD25:BG25)","v":0}]
[null,null,null,null,null,null,null,null,"Всього",{"$f":"SUM(J19:K25)","v":0},null,null,null,null,null,null,null,null,null,null,{"$f":"U15","v":"Total"},{"$f":"SUM(V19:W25)","v":0}]
[null,"Операційні витрати на проект",null,null,null,null,null,null,null,null,null,null,null,"Operating costs of the project",null,null,null,null,null,null,null,null,null,null,null,"ВВЕДЕННЯ В ЕКСПЛУАТАЦІЮ/ \nCOMMISSIONING"]
[]
[null,"Найменування об'єкту",null,null,null,"Кількість",null,"Одн.виміру",null,"Сума",null,null,null,{"$f":"N18","v":"Object name"},null,null,null,{"$f":"R18","v":"Amount"},null,{"$f":"T18","v":"Unit"},null,{"$f":"V18","v":"Sum"}]
[null,1,null,null,null,null,null,null,null,null,null,null,null,1,null,null,null,{"$f":"F30","v":0},null,{"$f":"H30","v":0},null,{"$f":"J30","v":0},null,null,null,null,null,null,null,{"$f":"AD17","v":"тис.US$/ ths.US$"}]
[null,2,null,null,null,null,null,null,null,null,null,null,null,2,null,null,null,{"$f":"F31","v":0},null,0,null,{"$f":"J31","v":0},null,null,null,null,null,null,null,{"$f":"AC20","v":2024},{"$f":"AD31+1","v":2025},{"$f":"AE31+1","v":2026},{"$f":"AF31+1","v":2027},{"$f":"AG31+1","v":2028},{"$f":"AH31+1","v":2029},2030,2031,2032,2033,2034,2035,{"$f":"AO31+1","v":2036},{"$f":"AP31+1","v":2037},{"$f":"AQ31+1","v":2038},{"$f":"AR31+1","v":2039},{"$f":"AS31+1","v":2040},2041,{"$f":"AU31+1","v":2042},{"$f":"AV31+1","v":2043},{"$f":"AW31+1","v":2044},{"$f":"AX31+1","v":2045},{"$f":"AY31+1","v":2046},{"$f":"AZ31+1","v":2047},{"$f":"BA31+1","v":2048},{"$f":"BB31+1","v":2049},{"$f":"BC31+1","v":2050},{"$f":"BD31+1","v":2051},{"$f":"BE31+1","v":2052},{"$f":"BF31+1","v":2053},{"$f":"BH24","v":"Разом / Total"}]
[null,3,null,null,null,null,null,null,null,null,null,null,null,3,null,null,null,0,null,0,null,0,null,null,null,null,null,"Введення об'екта / Commissioning",null,null,{"$f":"Головна_Summary!AB7","v":9000},{"$f":"R9","v":0},null,null,null,null,null,null,null,null,null,null,null,null,null,null,null,null,null,null,null,null,null,null,null,null,null,null,null,{"$f":"SUM(AD32:BG32)","v":9000}]
[null,4,null,null,null,null,null,null,null,null,null,null,null,4,null,null,null,0,null,0,null,0]
[null,5,null,null,null,null,null,null,null,null,null,null,null,5,null,null,null,0,null,0,null,0,null,null,null,null,null,null,null,{"$f":"AD24","v":2024},{"$f":"AD34+1","v":2025},{"$f":"AE34+1","v":2026},{"$f":"AF34+1","v":2027},{"$f":"AG34+1","v":2028},{"$f":"AH34+1","v":2029},2030,2031,2032,2033,2034,2035,{"$f":"AO34+1","v":2036},{"$f":"AP34+1","v":2037},{"$f":"AQ34+1","v":2038},{"$f":"AR34+1","v":2039},{"$f":"AS34+1","v":2040},2041,{"$f":"AU34+1","v":2042},{"$f":"AV34+1","v":2043},{"$f":"AW34+1","v":2044},{"$f":"AX34+1","v":2045},{"$f":"AY34+1","v":2046},{"$f":"AZ34+1","v":2047},{"$f":"BA34+1","v":2048},{"$f":"BB34+1","v":2049},{"$f":"BC34+1","v":2050},{"$f":"BD34+1","v":2051},{"$f":"BE34+1","v":2052},{"$f":"BF34+1","v":2053},{"$f":"BH31","v":"Разом / Total"}]
[null,6,null,null,null,null,null,null,null,null,null,null,null,6,null,null,null,0,null,0,null,0,null,null,null,null,null,"Капітальні ремонти / Overhauls",null,null,null,null,null,null,null,null,null,null,null,null,null,null,null,null,null,null,null,null,null,null,null,null,null,null,null,null,null,null,null,{"$f":"SUM(AD35:BG35)","v":0}]
[null,7,null,null,null,null,null,null,null,null,null,null,null,7,null,null,null,0,null,0,null,0]
[null,null,null,null,null,null,null,null,"Всього",{"$f":"J15","v":9000},null,null,null,null,null,null,null,null,null,null,{"$f":"U26","v":"Total"},{"$f":"SUM(V8:W14)","v":9000}]

{"sheet":"Припущення_Assumptions","index":4,"n_rows":98,"n_cols":15,"rows_kept":98,"cut":false,"hidden":false,"merged":[[61,10,61,11],[1,11,1,13],[1,2,1,5],[1,9,1,10],[3,6,4,6],[3,14,4,14],[14,1,14,6],[20,1,20,6],[25,2,25,3],[24,2,24,3],[21,2,21,3],[22,2,22,3],[23,2,23,3],[18,2,18,3],[16,2,16,3],[17,2,17,3],[16,10,16,11],[17,10,17,11],[18,10,18,11],[21,10,21,11],[22,10,22,11],[23,10,23,11],[32,10,32,11],[33,10,33,11],[43,10,43,11],[45,10,45,11],[46,10,46,11],[34,10,34,11],[24,10,24,11],[25,10,25,11],[29,10,29,11],[31,10,31,11],[30,10,30,11],[30,2,30,3],[36,2,36,3],[32,2,32,3],[31,2,31,3],[30,5,30,6],[12,10,12,11],[42,10,42,11],[35,10,35,11],[41,10,41,11],[40,10,40,11],[39,10,39,11],[37,2,37,3],[38,2,38,3],[37,10,37,11],[38,10,38,11],[27,2,27,3],[26,2,26,3],[27,10,27,11],[26,10,26,11],[13,10,13,11],[28,10,28,11],[36,10,36,11],[67,1,68,5],[65,1,66,5],[50,2,50,3],[48,2,48,3],[1,0,1,1],[3,1,4,3],[3,5,4,5],[3,4,4,4],[5,2,5,3],[6,2,6,3],[7,2,7,3],[10,2,10,3],[33,2,33,3],[39,2,39,3],[12,2,12,3],[29,2,29,3],[28,2,28,3],[15,2,15,3],[19,2,19,3],[40,2,40,3],[35,2,35,3],[41,2,41,3],[34,2,34,3],[42,2,42,3],[60,2,60,3],[53,10,53,11],[58,10,58,11],[59,10,59,11],[49,10,49,11],[54,2,54,3],[55,2,55,3],[56,2,56,3],[57,2,57,3],[44,2,44,3],[45,2,45,3],[51,10,51,11],[47,10,47,11],[51,2,51,3],[52,2,52,3],[50,10,50,11],[48,10,48,11],[53,2,53,3],[8,7,9,8],[54,7,57,8],[61,2,61,3],[58,2,58,3],[59,2,59,3],[30,13,30,14],[3,12,4,12],[5,10,5,11],[6,10,6,11],[3,13,4,13],[10,10,10,11],[7,10,7,11],[3,9,4,11],[14,9,14,14],[20,9,20,14],[15,10,15,11],[19,10,19,11],[52,10,52,11],[60,10,60,11],[49,2,49,3],[43,2,43,3],[44,10,44,11],[46,2,46,3],[47,2,47,3]]}
[null,"UKR",null,null,null,null,null,null,null,"ENG"]
["ПРИПУЩЕННЯ",null,{"$f":"Головна_Summary!A2","v":"Energy storage system 10МВт"},null,null,null,null,null,null,"Assumptions",null,{"$f":"Головна_Summary!K2","v":"Energy storage system 10 MW"}]
[]
[null,"Показник",null,null,"Джерело","Одн.вим.","Значення",null,null,"Indicator",null,null,"Source","Unit","Value"]
[]
[null,null,"Курс грн/долл на 2024",null,null,"грн/долл",{"$f":"38.47*'[94]Аналіз чутливості_Sensitivity'!F14","v":38.47},null,null,null,"Exchange rate UAH/US$, 2023",null,null,"UAH/US$",{"$f":"G6","v":38.47}]
[null,null,"Курс грн/євро на 2024",null,null,"грн/євро",41.66,null,null,null,"Exchange rate UAH/EUR, 2023",null,null,"UAH/EUR",41.66]
[null,null,"Вартість батареї",null,null,"дол./кВт",900,null,null,null,"The cost of the battery",null,null,"US$/kv",900]
[null,null,"Умовно-постійні витрати",null,null,"тис.дол",16.78]
[null,null,"Змінні витрати",null,null,"тис.дол",{"$f":"((G11*G42*G57*G51)+(G11*G42*G58*G53))/G6/1000","v":879.25656355601768}]
[null,null,"Потужність системи батарей",null,null,"МВт",{"$f":"10","v":10},null,null,null,"Energy Storage system total capacity",null,null,"MW",10]
[null,null,"Ємність батареї",null,null,"МВт*год",6,null,null,null,"Battery size",null,null,"MWh",{"$f":"G12","v":6}]
[null,null,"Ємність системи батарей",null,null,"МВт*год",{"$f":"G11*G12","v":60},null,null,null,"Energy Storage system size",null,null,"MWh",{"$f":"O11*O12","v":60}]
[null,null,"Глибина розряду ",null,null,"%",1,null,null,null,"Depth of discharge",null,null,"%",1]
[null,"ЗИМА",null,null,null,null,null,null,null,"WINTER"]
[null,null,"Тривалість надання послуги аРВЧ (готовність+активація), із них:",null,null,"год./добу",{"$f":"COUNT('Добовий графік_Daily schedule'!B5:Y5)","v":10},null,null,null,"The duration of anciliary services (FRR):",null,null,"hours/day",{"$f":"G16","v":10}]
[null,null,"завантаження",null,null,"год./добу",{"$f":"COUNT('Добовий графік_Daily schedule'!B6:Y6)","v":10},null,null,null,"award",null,null,"hours/day",{"$f":"G17","v":10}]
[null,null,"розвантаження",null,null,"год./добу",{"$f":"COUNT('Добовий графік_Daily schedule'!B7:Y7)","v":0},null,null,null,"downward",null,null,"hours/day",{"$f":"G18","v":0}]
[null,null,"Тривалість надання послуги РПЧ",null,null,"год./добу",{"$f":"COUNT('Добовий графік_Daily schedule'!B4:Y4)","v":4},null,null,null,"The duration of anciliary services (FCR)",null,null,"hours/day",{"$f":"G19","v":4}]
[null,null,"Тривалість зарядки",null,null,"год./добу",{"$f":"COUNT('Добовий графік_Daily schedule'!B8:Y8)","v":10},null,null,null,"The duration of recharging",null,null,"hours/day",{"$f":"G20","v":10}]
[null,"ЛІТО",null,null,null,null,null,null,null,"SUMMER"]
[null,null,"Тривалість надання послуги аРВЧ (готовність+активація), із них:",null,null,"год./добу",{"$f":"COUNT('Добовий графік_Daily schedule'!B13:Y13)","v":5},null,null,null,"The duration of anciliary services (FRR):",null,null,"hours/day",{"$f":"G22","v":5}]
[null,null,"завантаження",null,null,"год./добу",{"$f":"COUNT('Добовий графік_Daily schedule'!B14:Y14)","v":5},null,null,null,"award",null,null,"hours/day",{"$f":"G23","v":5}]
[null,null,"розвантаження",null,null,"год./добу",{"$f":"COUNT('Добовий графік_Daily schedule'!B15:Y15)","v":0},null,null,null,"downward",null,null,"hours/day",{"$f":"G24","v":0}]
[null,null,"Тривалість надання послуги РПЧ",null,null,"год./добу",{"$f":"COUNT('Добовий графік_Daily schedule'!B12:Y12)","v":14},null,null,null,"The duration of anciliary services (FCR)",null,null,"hours/day",{"$f":"G25","v":14}]
[null,null,"Тривалість зарядки",null,null,"год./добу",{"$f":"COUNT('Добовий графік_Daily schedule'!B16:Y16)","v":5},null,null,null,"The duration of recharging",null,null,"hours/day",{"$f":"G26","v":5}]
[null,null,"Життєвий цикл",null,null,"циклів",7300,null,null,null,"Life cycle",null,null,"cycles",{"$f":"G27","v":7300}]
[null,null,"Термін експлуатації",null,null,"років",{"$f":"ROUNDDOWN(G27/(365*((G16+G22)/2)/G12),0)","v":16},null,null,null,"Lifetime",null,null,"years",16]
[null,null,"Доступний діапазон (Available range for ESS)",null,null,"%",0.7,null,null,null,"Round trip efficiency (RTE)",null,null,"%",0.85]
[null,null,"Витрати на власні потреби",null,null,"%",0.15,null,null,null,"Losses of the battery",null,null,"%",0.15]
[null,"обрати","Дизайн модуля",null,null,"Current module design",null,null,null,null,"Module design",null,null,{"$f":"F31","v":"Current module design"}]
[null,null,"Рівень саморозряду",null,null,"%/рік",{"$f":"IF(F31=\"Current module design\",1.825%,0.9%)*'Аналіз чутливості_Sensitivity'!F12","v":1.8249999999999999E-2},null,null,null,"The level of self-discharge",null,null,"%/year",{"$f":"G32","v":1.8249999999999999E-2}]
[null,null,"Тариф Укренерго на диспетчеризацію, 2024",null,null,"грн/МВт*год",104.57,null,null,null,"Ukrenergo dispatching tariff, 2023",null,null,"UAH/MWh",104.57]
[null,null,"Гранична ціна на ДП 2024 (аРВЧрозвантаження)",null,null,"грн/МВт",{"$f":"366.43","v":366.43},null,null,null,"Price cap for anciliary services (downward), 2023",null,null,"UAH/MW",366.43]
[null,null,"Гранична ціна на ДП 2024 (аРВЧзавантаження)",null,null,"грн/МВт",{"$f":"973.39","v":973.39},null,null,null,"Price cap for anciliary services (award),2023",null,null,"UAH/MW",{"$f":"G35","v":973.39}]
[null,null,"Гранична ціна на ДП 2023 загальна",null,null,"грн/МВт",{"$f":"(G34+G35)*'Аналіз чутливості_Sensitivity'!F6","v":1339.82},null,null,null,"Price cap for anciliary services, total",null,null,"UAH/MWh",{"$f":"G36","v":1339.82}]
[null,null,"Днів у році",null,null,"днів",365,null,null,null,"Number of days in the year",null,null,"days",365]
[null,null,"Частка зимового періоду в році",null,null,"%",0.5,null,null,null,"The share of winter period in the year",null,null,"%",{"$f":"G38","v":0.5}]
[null,null,"Частка літнього періоду в році",null,null,"%",0.5,null,null,null,"The share of summer period in the year",null,null,"%",{"$f":"G39","v":0.5}]
[null,null,"Годин у добі",null,null,"год.",24,null,null,null,"Hours in the day",null,null,"hours",24]
[null,null,"Кількість місяців у році",null,null,"міс.",12,null,null,null,"The number of months in the year",null,null,"months",{"$f":"G41","v":12}]
[null,null,"Тривалість роботи загальна",null,null,"год/рік",{"$f":"G43+G44+G45","v":8760},null,null,null,"The total time of work",null,null,"hours/year",{"$f":"G42","v":8760}]
[null,null,"Тривалість готовності до надання послуг аРВЧ",null,null,"год/рік",{"$f":"(G16*G37*G38+G22*G37*G39)*'Аналіз чутливості_Sensitivity'!F13","v":2737.5},{"$f":"G43/G42","v":0.3125},null,null,"The time of readiness for anciliary services (aFRR)",null,null,"hours/year",2737.5]
[null,null,"Тривалість зарядки",null,null,"год/рік",{"$f":"(G20*G37*G38+G26*G37*G39)","v":2737.5},{"$f":"G44/G42","v":0.3125},null,null,"The time for recharging",null,null,"hours/year",2737.5]
[null,null,"Тривалість  готовності до надання послуг РПЧ",null,null,"год/рік",{"$f":"(G19*G37*G38+G25*G37*G39)","v":3285},{"$f":"G45/G42","v":0.375},null,null,"The time of readiness for FCR",null,null,"hours/year",{"$f":"G45","v":3285}]
[null,null,"Гранична ціна РПЧ, 2024",null,null,"дол/МВт",{"$f":"1339.82/G6*'Аналіз чутливості_Sensitivity'!F8","v":34.827657915258641},null,null,null,"Price cap for anciliary services (FCR)",null,null,"UAH/MW",{"$f":"G46","v":34.827657915258641}]
[null,null,"Коефіцієнт потужності",null,null,null,0.9,null,null,null,"Charge loss after providing FCR",null,null,"%",{"$f":"G47","v":0.9}]
[null,null,"Кількість дозарядок на рік",null,null,null,12,null,null,null,"Number of recharges per year",null,null,null,{"$f":"G48","v":12}]
[null,null,"Індекс цін виробників 2023-2029",null,null,null,1,null,null,null,"Producer price index 2023-2029",null,null,null,1]
[null,null,"Вартість активації на завантаження літо",null,null,"грн/МВт*год",{"$f":"G54*G59*'Аналіз чутливості_Sensitivity'!F11","v":5250},null,null,null,"The activation price for award, summer",null,null,"UAH/MWh",5250]
[null,null,"Вартість активації на розвантаження літо",null,null,"грн/МВт*год",{"$f":"G54*G61","v":750},null,null,null,"The activation price for downward, summer",null,null,"UAH/MWh",750]
[null,null,"Вартість активації на завантаження зима",null,null,"грн/МВт*год",{"$f":"G54*G60*'Аналіз чутливості_Sensitivity'!F10","v":6000},null,null,null,"The activation price for award, winter",null,null,"UAH/MWh",{"$f":"G52","v":6000}]
[null,null,"Вартість активації на розвантаження зима",null,null,"грн/МВт*год",{"$f":"G54*G62*'Аналіз чутливості_Sensitivity'!F7","v":1500},null,null,null,"The activation price for downward, winter",null,null,"UAH/MWh",1500]
[null,null,"Ціна електроенергії на РДН (максимальний показник за 2024 рік)",null,null,"грн/МВт*год",7500,null,null,null,"DAM price, 2022",null,null,"UAH/MWh",7500]
[null,null,"Коефіцієнт потужності літо РПЧ",null,null,null,{"$f":"182*(G25+G23)/8760","v":0.39474885844748858},"не викор. у розрах."]
[null,null,"Коефіцієнт потужності зима РПЧ",null,null,null,{"$f":"(G19+G16)*184/G42","v":0.29406392694063926}]
[null,null,"Коефіцієнт потужності літо аРВЧ",null,null,null,{"$f":"G23*182/G42","v":0.10388127853881278}]
[null,null,"Коефіцієнт потужності зима аРВЧ",null,null,null,{"$f":"G17*180/G42","v":0.20547945205479451}]
[null,null,"Коефіцієнт ціни на активацію завантаження літо ",null,null,null,0.7,null,null,null,"Activation for award price factor, summer",null,null,null,0.7]
[null,null,"Коефіцієнт ціни на активацію завантаження зима",null,null,null,0.8,null,null,null,"Activation for award price factor, winter",null,null,null,0.8]
[null,null,"Коефіцієнт ціни на активацію розвантаження літо ",null,null,null,0.1,null,null,null,"Activation for downward price factor, summer",null,null,null,0.1]
[null,null,"Коефіцієнт ціни на активацію розвантаження зима",null,null,null,0.2,null,null,null,"Activation for downward price factor, winter",null,null,null,0.2]
[]
[]
[]
[null,"ПІДКАЗКА"]
[]
[null,"Можливі факотри отримання техніко-економічного ефекту        "]
[]
[null,null,"1.","Додатні грошові потоки"]
[null,null,null,"Приросні операційні доходи/Додатковий прибуток, отриманий від: "]
[null,null,"+","збільшення корисного відпуску електроенергії"]
[null,null,"+","зменшення втрат в мережі навантаження "]
[null,null,"+","плати за приєднання"]
[null,null,"+","сдачі старого обладнання на металолом "]
[null,null,"+","реалізації старого обладнання"]
[null,null,"+","зменшення кількості ремонтів та техобслуговування"]
[null,null,"+","зменшення кількості працюючих на підстанції"]
[null,null,"+","попередження санкцій за недотримання природоохоронного законодавства"]
[null,null,"+","енергозберігання"]
[null,null,"+","збільшення тарифного доходу"]
[]
[null,null,"2.","Від'ємні грошові потоки"]
[null,null,"2.1.","Операційні витрати/втрати на реалізацію проєкту "]
[null,null,"-","проведення науково-дослідних робіт"]
[null,null,"-","закупка, доставка, митне оформлення"]
[null,null,"-","будівельно-монтажні роботи"]
[null,null,"-","зупинка роботи, яка була викликана необхідністю  монтажну додаткового обладнання "]
[null,null,"-","сертифікація обладнання оформлення необхідних дозволів"]
[null,null,"-","навчання персоналу"]
[]
[null,null,"2.2.","Пиросні операційні витрати "]
[null,null,"-","скророчення виробітку  іншого обладнання при роботі встановленого"]
[null,null,"-","основні матеріали та енергоресурси, необхідні для роботи обладнання"]
[null,null,"-","додатковий персонал"]
[null,null,"-","утилізація відходів"]
[null,null,"-","підтримка роботи та оновлення програмного забезпечення"]
[null,null,"-","ТО"]

{"sheet":"Добовий графік_Daily schedule","index":5,"n_rows":34,"n_cols":25,"rows_kept":34,"cut":false,"hidden":false,"merged":[[8,0,8,24],[9,0,10,0],[9,1,9,24],[17,0,17,24],[0,0,0,24],[1,0,2,0],[1,1,1,24]]}
["ЗИМА"]
["Вид роботи/Type of work","Години доби/Hours of the day"]
[null,1,2,3,4,5,6,7,8,9,10,11,12,13,14,15,16,17,18,19,20,21,22,23,24]
["РПЧ (послуга)/FCR (service)",null,null,null,null,5,5,null,null,null,null,null,null,null,null,null,null,5,null,null,null,null,null,5]
["аРВЧ (послуга+активація)/FRR (service+activation):",null,null,null,null,null,null,10,10,10,10,10,null,null,null,null,null,null,10,10,10,10,10]
["завантаження/award",null,null,null,null,null,null,10,10,10,10,10,null,null,null,null,null,null,10,10,10,10,10]
["розвантаження/downward"]
["Зарядка/Charging",10,10,10,10,null,null,null,null,null,null,null,10,10,10,10,10,null,null,null,null,null,null,null,10]
["ЛІТО"]
["Вид роботи/Type of work","Години доби/Hours of the day"]
[null,1,2,3,4,5,6,7,8,9,10,11,12,13,14,15,16,17,18,19,20,21,22,23,24]
["РПЧ (послуга)/FCR (service)",5,null,null,5,5,5,5,null,null,5,5,5,5,null,null,null,5,5,null,null,null,5,5,5]
["аРВЧ (послуга+активація)/FRR (service+activation):",null,null,null,null,null,null,null,10,10,null,null,null,null,null,null,null,null,null,10,10,10]
["завантаження/award",null,null,null,null,null,null,null,10,10,null,null,null,null,null,null,null,null,null,10,10,10]
["розвантаження/downward"]
["Зарядка/Charging",null,10,10,null,null,null,null,null,null,null,null,null,null,10,10,10]
[]
["ДОХІДНІСТЬ/EARNINGS"]
["Ціна РПЧ/Price FCR",{"$f":"Припущення_Assumptions!G46","v":34.827657915258641},{"$f":"B19","v":34.827657915258641},{"$f":"C19","v":34.827657915258641},34.827657915258641,34.827657915258641,34.827657915258641,34.827657915258641,34.827657915258641,34.827657915258641,34.827657915258641,34.827657915258641,34.827657915258641,34.827657915258641,34.827657915258641,34.827657915258641,34.827657915258641,34.827657915258641,34.827657915258641,34.827657915258641,34.827657915258641,34.827657915258641,34.827657915258641,34.827657915258641,34.827657915258641]
["Ціна аРВЧз/Price FRR award",{"$f":"Припущення_Assumptions!G35","v":973.39},973.39,{"$f":"C20","v":973.39},973.39,973.39,973.39,973.39,973.39,973.39,973.39,973.39,973.39,973.39,973.39,973.39,973.39,973.39,973.39,973.39,973.39,973.39,973.39,973.39,973.39]
["Ціна аРВЧр/Price FRR downward",{"$f":"Припущення_Assumptions!G34","v":366.43},366.43,{"$f":"C21","v":366.43},366.43,366.43,366.43,366.43,366.43,366.43,366.43,366.43,366.43,366.43,366.43,366.43,366.43,366.43,366.43,366.43,366.43,366.43,366.43,366.43,366.43]
["Ціна аРВЧз активація на БР літо/Price FRR award  activation on BM, summer",{"$f":"Припущення_Assumptions!G50","v":5250},5250,{"$f":"C22","v":5250},5250,5250,5250,5250,5250,5250,5250,5250,5250,5250,5250,5250,5250,5250,5250,5250,5250,5250,5250,5250,5250]
["Ціна аРВЧр активація на БР літо/Price FRR downward activation on BM, summer",{"$f":"Припущення_Assumptions!G51","v":750},750,750,750,750,750,750,750,750,750,750,750,750,750,750,750,750,750,750,750,750,750,750,750]
["Ціна аРВЧз активація на БР зима/Price FRR award  activation on BM, winter",{"$f":"Припущення_Assumptions!G52","v":6000},6000,{"$f":"C24","v":6000},6000,6000,6000,6000,6000,6000,6000,6000,6000,6000,6000,6000,6000,6000,6000,6000,6000,6000,6000,6000,6000]
["Ціна аРВЧр активація на БР зима/Price FRR downward activation on BM, winter",{"$f":"Припущення_Assumptions!G53","v":1500},1500,{"$f":"C25","v":1500},1500,1500,1500,1500,1500,1500,1500,1500,1500,1500,1500,1500,1500,1500,1500,1500,1500,1500,1500,1500,1500]
["Ціна БР на заряд літо/BM price for charging, summer",{"$f":"B25","v":1500},{"$f":"C25","v":1500},1500,1500,1500,1500,1500,1500,1500,1500,1500,1500,1500,1500,1500,1500,1500,1500,1500,1500,1500,1500,1500,1500]
["Ціна БР на заряд зима/BM price for charging, winter",{"$f":"B23","v":750},{"$f":"C23","v":750},750,750,750,750,750,750,750,750,750,750,750,750,750,750,750,750,750,750,750,750,750,750]
[]
["Добовий дохід, тис. грн.\nDaily income, ths.UAH",{"$f":"((B4*B19+B6*B20+B6*B24+B7*B21+B7*B25-B8*B27)+(B12*B19+B14*B20+B14*B22+B15*B21+B15*B23-B16*B26))/1000","v":-7.3258617104237063},{"$f":"((C4*C19+C6*C20+C6*C24+C7*C21+C7*C25-C8*C27)+(C12*C19+C14*C20+C14*C22+C15*C21+C15*C23-C16*C26))/1000","v":-22.5},{"$f":"((D4*D19+D6*D20+D6*D24+D7*D21+D7*D25-D8*D27)+(D12*D19+D14*D20+D14*D22+D15*D21+D15*D23-D16*D26))/1000","v":-22.5},-7.3258617104237063,{"$f":"((F4*F19+F6*F20+F6*F24+F7*F21+F7*F25-F8*F27)+(F12*F19+F14*F20+F14*F22+F15*F21+F15*F23-F16*F26))/1000","v":0.34827657915258642},0.34827657915258642,69.908038289576282,131.96779999999998,131.96779999999998,69.908038289576282,69.908038289576282,-7.3258617104237063,-7.3258617104237063,-22.5,-22.5,-22.5,0.34827657915258642,69.908038289576282,131.96779999999998,131.96779999999998,131.96779999999998,69.908038289576282,0.34827657915258642,-7.3258617104237063]
["Добовий дохід, тис. долл.\nDaily income, ths.US$",{"$f":"B29/Припущення_Assumptions!$G$6","v":-0.19043050975886941},{"$f":"C29/Припущення_Assumptions!$G$6","v":-0.58487132830777233},{"$f":"D29/Припущення_Assumptions!$G$6","v":-0.58487132830777233},{"$f":"E29/Припущення_Assumptions!$G$6","v":-0.19043050975886941},{"$f":"F29/Припущення_Assumptions!$G$6","v":9.0531993541093439E-3},{"$f":"G29/Припущення_Assumptions!$G$6","v":9.0531993541093439E-3},{"$f":"H29/Припущення_Assumptions!$G$6","v":1.8172092095028927},{"$f":"I29/Припущення_Assumptions!$G$6","v":3.430408110215752},{"$f":"J29/Припущення_Assumptions!$G$6","v":3.430408110215752},{"$f":"K29/Припущення_Assumptions!$G$6","v":1.8172092095028927},{"$f":"L29/Припущення_Assumptions!$G$6","v":1.8172092095028927},{"$f":"M29/Припущення_Assumptions!$G$6","v":-0.19043050975886941},{"$f":"N29/Припущення_Assumptions!$G$6","v":-0.19043050975886941},{"$f":"O29/Припущення_Assumptions!$G$6","v":-0.58487132830777233},{"$f":"P29/Припущення_Assumptions!$G$6","v":-0.58487132830777233},{"$f":"Q29/Припущення_Assumptions!$G$6","v":-0.58487132830777233},{"$f":"R29/Припущення_Assumptions!$G$6","v":9.0531993541093439E-3},{"$f":"S29/Припущення_Assumptions!$G$6","v":1.8172092095028927},{"$f":"T29/Припущення_Assumptions!$G$6","v":3.430408110215752},{"$f":"U29/Припущення_Assumptions!$G$6","v":3.430408110215752},{"$f":"V29/Припущення_Assumptions!$G$6","v":3.430408110215752},{"$f":"W29/Припущення_Assumptions!$G$6","v":1.8172092095028927},{"$f":"X29/Припущення_Assumptions!$G$6","v":9.0531993541093439E-3},{"$f":"Y29/Припущення_Assumptions!$G$6","v":-0.19043050975886941}]
[]
["Рівень деградації/Degradation rate",1.83E-2]
["Річний дохід, млн. грн.\nAnnual income, mln.UAH",{"$f":"SUM(B29:Y29)*(1-B32)*8760/1000","v":7409.8643211857334}]
["Річний дохід, млн. долл.\nAnnual income, mln.US$",{"$f":"B33/Припущення_Assumptions!$G$6","v":192.6140972494342}]

{"sheet":"Грошові потоки _ Cash flows","index":6,"n_rows":55,"n_cols":39,"rows_kept":55,"cut":false,"hidden":false,"merged":[[48,2,48,6],[28,2,28,3],[30,2,30,3],[43,1,43,3],[46,2,46,6],[31,2,31,6],[35,2,35,6],[38,2,38,6],[37,1,37,3],[47,2,47,6],[34,1,34,6],[29,3,29,4],[27,2,27,4],[23,1,23,6],[24,2,24,6],[6,2,6,3],[8,2,8,3],[10,2,10,3],[16,2,16,3],[25,2,25,6],[12,2,12,3],[14,2,14,3],[21,0,22,7],[18,2,18,3],[4,15,4,19],[16,9,16,11],[17,9,17,11],[4,8,4,14],[16,18,17,18],[12,15,12,17],[10,15,10,17],[18,9,18,11],[16,15,17,17],[14,15,14,17],[8,15,8,17],[6,15,6,17]]}
[]
[]
["РОЗРАХУНОК ГРОШОВИХ ПОТОКІВ І ЕКОНОМІЧНОГО ЕФЕКТУ / CALCULATION OF CASH FLOWS AND ECONOMIC EFFECT"]
[null,null,null,null,null,null,null,null,null,null,null,null,null,{"$f":"IF(Головна_Summary!H13=\"Власні кошти\",1,0)","v":0}]
[null,null,"ВХІДНІ ДАННІ / DATA",null,null,null,null,null,"ПОКАЗНИКИ ЕКОНОМІЧНОЇ ЕФЕКТИВНОСТІ ПРОЕКТУ / INDICATORS OF ECONOMIC EFFICIENCY OF THE PROJECT",null,null,null,null,null,null,"ДОДАТКОВА ІНФОРМАЦІЯ ПРО ПРОЕКТ / EXTRA PROJECT INFO"]
[null,null,null,null,"місяць / month",null,"рік / year"]
[null,null,"Початок витрат за проектом / \nStart of project expenses",null,{"$f":"Головна_Summary!C7","v":6},null,{"$f":"Головна_Summary!E7","v":2024},null,null,"NPV  із залишковою вартістю / \nwith residual value",{"$f":"AM48+S11","v":10374214.43011884},{"$f":"Головна_Summary!AD5","v":"тис.US$/ ths.US$"},"PI",{"$f":"IF(SUMPRODUCT(I38:AL38,I47:AL47)=0,\"-\",K7/SUMPRODUCT(I38:AL38,I47:AL47)+1)","v":2579.1361791289023},null,"Початкова вартість / Initial cost",null,null,{"$f":"Амортизація_Depreciation!AJ5+Амортизація_Depreciation!AJ27","v":9000},{"$f":"Головна_Summary!AD5","v":"тис.US$/ ths.US$"}]
[]
[null,null,"Розрахунок грошових потоків на / \nCash flow calculation",null,15,null,"років/ years",null,null,"NPV без залишкової вартості / \nwithout residual value",{"$f":"AM48","v":6661.6382856210284},{"$f":"Головна_Summary!AD5","v":"тис.US$/ ths.US$"},"DPP",{"$f":"IF(K7>0,IF(SUM(J51:AL51)=0,\"<12\",SUM(I51:AL51)),\"Не окуповується/ Doesn't pay off\")","v":9.9443971889006182}," міс.","Залишкова вартість / Residual value",null,null,{"$f":"IF(E17=\"Ліквідаційна\",IF(S13>S15,S13-(S13-S15)*HLOOKUP(G7+E9,I22:AL53,30),'Грошові потоки _ Cash flows'!S13+('Грошові потоки _ Cash flows'!S15-'Грошові потоки _ Cash flows'!S13)*HLOOKUP(G7+E9,I22:AL53,30)),IF(E17=\"Подовжена\",S17,0))","v":562.5},{"$f":"Головна_Summary!AD5","v":"тис.US$/ ths.US$"}]
[]
[null,null,"Ставка дисконтування / Discount rate",null,0.155,null,"%",null,null,"ROI",{"$f":"IFERROR(IF(Головна_Summary!H13=\"Кредитні кошти\",(SUMPRODUCT(I33:AL33,I47:AL47)-SUMPRODUCT(I55:AL55,I47:AL47))/SUMPRODUCT(I55:AL55,I47:AL47),IF(Головна_Summary!H13=\"Власні кошти\",(SUMPRODUCT(I33:AL33,I47:AL47)-SUMPRODUCT(I39:AL39,I47:AL47))/SUMPRODUCT(I39:AL39,I47:AL47),(SUMPRODUCT(I33:AL33,I47:AL47)-SUMPRODUCT(I54:AL54,I47:AL47))/SUMPRODUCT(I54:AL54,I47:AL47))),\"Н/Д\")","v":0.40979644123483971},"%","PP",{"$f":"IF(K7>0,IF(SUM(J52:AL52)=0,\"<12\",SUM(I52:AL52)),\"Не окуповується/ Doesn't pay off\")","v":9.5492616354117903}," міс.","Дисконтована залишкова вартість / \nDiscounted residual value",null,null,{"$f":"S9*HLOOKUP(E13+E9-1,I22:AL49,24,0)/(1+E11)","v":10367552.79183322},{"$f":"Головна_Summary!AD5","v":"тис.US$/ ths.US$"}]
[]
[null,null,"Рік введення в експлуатацію / \nYear of commissioning",null,2024,null,"рік",null,null,null,0.22240220193303389,"%","BCR",{"$f":" IFERROR(IF(Головна_Summary!H13=\"Кредитні кошти\",(SUMPRODUCT(I25:AL25,I47:AL47)/SUMPRODUCT(I55:AL55,I47:AL47)),IF(Головна_Summary!H13=\"Власні кошти\",(SUMPRODUCT(I25:AL25,I47:AL47)/SUMPRODUCT(I39:AL39,I47:AL47)),(SUMPRODUCT(I25:AL25,I47:AL47)/SUMPRODUCT(I54:AL54,I47:AL47)))),\"Н/Д\")","v":1.8613646084451887},null,"Ринкова залишкова /Market residual value",null,null,{"$f":"IF(E15<E9,0,S7*(E15-E9)/E15)","v":562.5},{"$f":"Головна_Summary!AD5","v":"тис.US$/ ths.US$"}]
[]
[null,null,"Макс.термін експлуатації об'єкта / max. service life ",null,{"$f":"Припущення_Assumptions!G28","v":16},null,"років/ years",null,null,null,null,null,null,null,null,"Бухгалтерська залишкова / Accounting residual value",null,null,{"$f":"IF(E9<=E15,HLOOKUP(E13+E9-1,Амортизація_Depreciation!F4:AI137,53,FALSE),HLOOKUP(E13+E15-1,Амортизація_Depreciation!F4:AI137,53,FALSE))","v":1125},{"$f":"Головна_Summary!AD5","v":"тис.US$/ ths.US$"},{"$f":"IFERROR(HLOOKUP(P6,'Грошові потоки _ Cash flows'!$A$22:$AL$26,5,FALSE)*Припущення_Assumptions!#REF!*'Тариф ОСП_Tariff'!$W$2,0)","v":0}]
[]
[null,null,"Залишкова вартість / Residual value",null,"Ліквідаційна",null,{"$f":"IF(E17=\"Ліквідаційна\",\"Liquidation\",IF(E17=\"Подовжена\",\"Elongated\",\"Missing\"))","v":"Liquidation"},null,null,"CAPEX у розрахунку на 1 цикл/CAPEX per 1 cycle",null,null,null,{"$f":"AM39/Припущення_Assumptions!G27","v":0.82191780821917804},"тис.US$/ ths.US$","Подовжена вартість в пост-прогнозний період / Extended cost in the post-forecast period",null,null,{"$f":"HLOOKUP(E13+E9-1,I22:AL44,21,FALSE)*(1+E19)/(E11-E19)","v":0},{"$f":"Головна_Summary!AD5","v":"тис.US$/ ths.US$"}]
[null,null,null,null,null,null,null,null,null,"OPEX у розрахунку на 1 цикл/OPEX per 1 cycle",null,null,null,{"$f":"AM26/Припущення_Assumptions!G27","v":3.2180821917808224E-2},"тис.US$/ ths.US$"]
[null,null,"Прогноз середньорічної зміни ВГП в період після розрахункових / Forecasted cash flow change",null,0,null,"%",null,null,"Дохід у розрахунку на 1 цикл/ Income per 1 cycle",null,null,null,{"$f":"AM25/Припущення_Assumptions!G27","v":3.279264305473474},"тис.US$/ ths.US$"]
[]
[]
[{"$f":"Головна_Summary!A2","v":"Energy storage system 10МВт"},null,null,null,null,null,null,null,{"$f":"G7","v":2024},{"$f":"IF(I22=0,0,IF(($E$13+$E$9-1)>=I22+1,I22+1,0))","v":2025},{"$f":"IF(J22=0,0,IF(($E$13+$E$9-1)>=J22+1,J22+1,0))","v":2026},2027,2028,2029,2030,2031,2032,2033,2034,2035,2036,2037,2038,0,{"$f":"IF(X22=0,0,IF(($E$13+$E$9-1)>=X22+1,X22+1,0))","v":0},{"$f":"IF(Y22=0,0,IF(($E$13+$E$9-1)>=Y22+1,Y22+1,0))","v":0},{"$f":"IF(Z22=0,0,IF(($E$13+$E$9-1)>=Z22+1,Z22+1,0))","v":0},{"$f":"IF(AA22=0,0,IF(($E$13+$E$9-1)>=AA22+1,AA22+1,0))","v":0},{"$f":"IF(AB22=0,0,IF(($E$13+$E$9-1)>=AB22+1,AB22+1,0))","v":0},{"$f":"IF(AC22=0,0,IF(($E$13+$E$9-1)>=AC22+1,AC22+1,0))","v":0},{"$f":"IF(AD22=0,0,IF(($E$13+$E$9-1)>=AD22+1,AD22+1,0))","v":0},{"$f":"IF(AE22=0,0,IF(($E$13+$E$9-1)>=AE22+1,AE22+1,0))","v":0},{"$f":"IF(AF22=0,0,IF(($E$13+$E$9-1)>=AF22+1,AF22+1,0))","v":0},{"$f":"IF(AG22=0,0,IF(($E$13+$E$9-1)>=AG22+1,AG22+1,0))","v":0},{"$f":"IF(AH22=0,0,IF(($E$13+$E$9-1)>=AH22+1,AH22+1,0))","v":0},{"$f":"IF(AI22=0,0,IF(($E$13+$E$9-1)>=AI22+1,AI22+1,0))","v":0},{"$f":"IF(AJ22=0,0,IF(($E$13+$E$9-1)>=AJ22+1,AJ22+1,0))","v":0},0,"Разом / Total"]
[null,null,null,null,null,null,null,null,{"$f":"IF(I22>=$G$7,COUNT($I$22:I22),0)","v":1},{"$f":"IF(J22>=$G$7,COUNT($I$22:J22),0)","v":2},{"$f":"IF(K22>=$G$7,COUNT($I$22:K22),0)","v":3},{"$f":"IF(L22>=$G$7,COUNT($I$22:L22),0)","v":4},{"$f":"IF(M22>=$G$7,COUNT($I$22:M22),0)","v":5},{"$f":"IF(N22>=$G$7,COUNT($I$22:N22),0)","v":6},{"$f":"IF(O22>=$G$7,COUNT($I$22:O22),0)","v":7},{"$f":"IF(P22>=$G$7,COUNT($I$22:P22),0)","v":8},{"$f":"IF(Q22>=$G$7,COUNT($I$22:Q22),0)","v":9},{"$f":"IF(R22>=$G$7,COUNT($I$22:R22),0)","v":10},{"$f":"IF(S22>=$G$7,COUNT($I$22:S22),0)","v":11},{"$f":"IF(T22>=$G$7,COUNT($I$22:T22),0)","v":12},{"$f":"IF(U22>=$G$7,COUNT($I$22:U22),0)","v":13},{"$f":"IF(V22>=$G$7,COUNT($I$22:V22),0)","v":14},{"$f":"IF(W22>=$G$7,COUNT($I$22:W22),0)","v":15},{"$f":"IF(X22>=$G$7,COUNT($I$22:X22),0)","v":0},{"$f":"IF(Y22>=$G$7,COUNT($I$22:Y22),0)","v":0},{"$f":"IF(Z22>=$G$7,COUNT($I$22:Z22),0)","v":0},{"$f":"IF(AA22>=$G$7,COUNT($I$22:AA22),0)","v":0},{"$f":"IF(AB22>=$G$7,COUNT($I$22:AB22),0)","v":0},{"$f":"IF(AC22>=$G$7,COUNT($I$22:AC22),0)","v":0},{"$f":"IF(AD22>=$G$7,COUNT($I$22:AD22),0)","v":0},{"$f":"IF(AE22>=$G$7,COUNT($I$22:AE22),0)","v":0},{"$f":"IF(AF22>=$G$7,COUNT($I$22:AF22),0)","v":0},{"$f":"IF(AG22>=$G$7,COUNT($I$22:AG22),0)","v":0},{"$f":"IF(AH22>=$G$7,COUNT($I$22:AH22),0)","v":0},{"$f":"IF(AI22>=$G$7,COUNT($I$22:AI22),0)","v":0},{"$f":"IF(AJ22>=$G$7,COUNT($I$22:AJ22),0)","v":0},{"$f":"IF(AK22>=$G$7,COUNT($I$22:AK22),0)","v":0},{"$f":"IF(AL22>=$G$7,COUNT($I$22:AL22),0)","v":0}]
["1.","Операційні грошові потоки (CFO)"]
["1.1.","+","Операційні доходи / Operating income",null,null,null,null,null,{"$f":"IF(AND(I22>=$E$13,I22<=($E$13+$E$15)-1),HLOOKUP(I22,CFO!$B$4:$AL$6,2,FALSE),0)","v":0},{"$f":"IF(AND(J22>=$E$13,J22<=($E$13+$E$15)-1),HLOOKUP(J22,CFO!$B$4:$AL$6,2,FALSE),0)","v":1922.0687850272934},{"$f":"IF(AND(K22>=$E$13,K22<=($E$13+$E$15)-1),HLOOKUP(K22,CFO!$B$4:$AL$6,2,FALSE),0)","v":1886.9910297005456},{"$f":"IF(AND(L22>=$E$13,L22<=($E$13+$E$15)-1),HLOOKUP(L22,CFO!$B$4:$AL$6,2,FALSE),0)","v":1852.5534434085107},{"$f":"IF(AND(M22>=$E$13,M22<=($E$13+$E$15)-1),HLOOKUP(M22,CFO!$B$4:$AL$6,2,FALSE),0)","v":1818.7443430663054},{"$f":"IF(AND(N22>=$E$13,N22<=($E$13+$E$15)-1),HLOOKUP(N22,CFO!$B$4:$AL$6,2,FALSE),0)","v":1785.5522588053452},{"$f":"IF(AND(O22>=$E$13,O22<=($E$13+$E$15)-1),HLOOKUP(O22,CFO!$B$4:$AL$6,2,FALSE),0)","v":1752.9659300821479},{"$f":"IF(AND(P22>=$E$13,P22<=($E$13+$E$15)-1),HLOOKUP(P22,CFO!$B$4:$AL$6,2,FALSE),0)","v":1720.9743018581485},{"$f":"IF(AND(Q22>=$E$13,Q22<=($E$13+$E$15)-1),HLOOKUP(Q22,CFO!$B$4:$AL$6,2,FALSE),0)","v":1689.5665208492376},{"$f":"IF(AND(R22>=$E$13,R22<=($E$13+$E$15)-1),HLOOKUP(R22,CFO!$B$4:$AL$6,2,FALSE),0)","v":1658.7319318437389},{"$f":"IF(AND(S22>=$E$13,S22<=($E$13+$E$15)-1),HLOOKUP(S22,CFO!$B$4:$AL$6,2,FALSE),0)","v":1628.460074087591},{"$f":"IF(AND(T22>=$E$13,T22<=($E$13+$E$15)-1),HLOOKUP(T22,CFO!$B$4:$AL$6,2,FALSE),0)","v":1598.7406777354925},{"$f":"IF(AND(U22>=$E$13,U22<=($E$13+$E$15)-1),HLOOKUP(U22,CFO!$B$4:$AL$6,2,FALSE),0)","v":1569.5636603668195},{"$f":"IF(AND(V22>=$E$13,V22<=($E$13+$E$15)-1),HLOOKUP(V22,CFO!$B$4:$AL$6,2,FALSE),0)","v":1540.9191235651251},{"$f":"IF(AND(W22>=$E$13,W22<=($E$13+$E$15)-1),HLOOKUP(W22,CFO!$B$4:$AL$6,2,FALSE),0)","v":1512.7973495600615},{"$f":"IF(AND(X22>=$E$13,X22<=($E$13+$E$15)-1),HLOOKUP(X22,CFO!$B$4:$AL$6,2,FALSE),0)","v":0},{"$f":"IF(AND(Y22>=$E$13,Y22<=($E$13+$E$15)-1),HLOOKUP(Y22,CFO!$B$4:$AL$6,2,FALSE),0)","v":0},{"$f":"IF(AND(Z22>=$E$13,Z22<=($E$13+$E$15)-1),HLOOKUP(Z22,CFO!$B$4:$AL$6,2,FALSE),0)","v":0},{"$f":"IF(AND(AA22>=$E$13,AA22<=($E$13+$E$15)-1),HLOOKUP(AA22,CFO!$B$4:$AL$6,2,FALSE),0)","v":0},{"$f":"IF(AND(AB22>=$E$13,AB22<=($E$13+$E$15)-1),HLOOKUP(AB22,CFO!$B$4:$AL$6,2,FALSE),0)","v":0},{"$f":"IF(AND(AC22>=$E$13,AC22<=($E$13+$E$15)-1),HLOOKUP(AC22,CFO!$B$4:$AL$6,2,FALSE),0)","v":0},{"$f":"IF(AND(AD22>=$E$13,AD22<=($E$13+$E$15)-1),HLOOKUP(AD22,CFO!$B$4:$AL$6,2,FALSE),0)","v":0},{"$f":"IF(AND(AE22>=$E$13,AE22<=($E$13+$E$15)-1),HLOOKUP(AE22,CFO!$B$4:$AL$6,2,FALSE),0)","v":0},{"$f":"IF(AND(AF22>=$E$13,AF22<=($E$13+$E$15)-1),HLOOKUP(AF22,CFO!$B$4:$AL$6,2,FALSE),0)","v":0},{"$f":"IF(AND(AG22>=$E$13,AG22<=($E$13+$E$15)-1),HLOOKUP(AG22,CFO!$B$4:$AL$6,2,FALSE),0)","v":0},{"$f":"IF(AND(AH22>=$E$13,AH22<=($E$13+$E$15)-1),HLOOKUP(AH22,CFO!$B$4:$AL$6,2,FALSE),0)","v":0},{"$f":"IF(AND(AI22>=$E$13,AI22<=($E$13+$E$15)-1),HLOOKUP(AI22,CFO!$B$4:$AL$6,2,FALSE),0)","v":0},{"$f":"IF(AND(AJ22>=$E$13,AJ22<=($E$13+$E$15)-1),HLOOKUP(AJ22,CFO!$B$4:$AL$6,2,FALSE),0)","v":0},{"$f":"IF(AND(AK22>=$E$13,AK22<=($E$13+$E$15)-1),HLOOKUP(AK22,CFO!$B$4:$AL$6,2,FALSE),0)","v":0},{"$f":"IF(AND(AL22>=$E$13,AL22<=($E$13+$E$15)-1),HLOOKUP(AL22,CFO!$B$4:$AL$6,2,FALSE),0)","v":0},{"$f":"SUM(I25:AL25)","v":23938.62942995636}]
["1.2.","-","Операційні витрати / Operating expenses",null,null,null,null,null,{"$f":"IF(AND(I22>=$E$13,I22<=($E$13+$E$15)-1),HLOOKUP(I22,CFO!B4:AL6,3,FALSE),0)","v":0},{"$f":"IF(AND(J22>=$E$13,J22<=($E$13+$E$15)-1),HLOOKUP(J22,CFO!C4:AM6,3,FALSE),0)","v":16.78},{"$f":"IF(AND(K22>=$E$13,K22<=($E$13+$E$15)-1),HLOOKUP(K22,CFO!D4:AN6,3,FALSE),0)","v":16.78},{"$f":"IF(AND(L22>=$E$13,L22<=($E$13+$E$15)-1),HLOOKUP(L22,CFO!E4:AO6,3,FALSE),0)","v":16.78},{"$f":"IF(AND(M22>=$E$13,M22<=($E$13+$E$15)-1),HLOOKUP(M22,CFO!F4:AP6,3,FALSE),0)","v":16.78},{"$f":"IF(AND(N22>=$E$13,N22<=($E$13+$E$15)-1),HLOOKUP(N22,CFO!G4:AQ6,3,FALSE),0)","v":16.78},{"$f":"IF(AND(O22>=$E$13,O22<=($E$13+$E$15)-1),HLOOKUP(O22,CFO!H4:AR6,3,FALSE),0)","v":16.78},{"$f":"IF(AND(P22>=$E$13,P22<=($E$13+$E$15)-1),HLOOKUP(P22,CFO!I4:AS6,3,FALSE),0)","v":16.78},{"$f":"IF(AND(Q22>=$E$13,Q22<=($E$13+$E$15)-1),HLOOKUP(Q22,CFO!J4:AT6,3,FALSE),0)","v":16.78},{"$f":"IF(AND(R22>=$E$13,R22<=($E$13+$E$15)-1),HLOOKUP(R22,CFO!K4:AU6,3,FALSE),0)","v":16.78},{"$f":"IF(AND(S22>=$E$13,S22<=($E$13+$E$15)-1),HLOOKUP(S22,CFO!L4:AV6,3,FALSE),0)","v":16.78},{"$f":"IF(AND(T22>=$E$13,T22<=($E$13+$E$15)-1),HLOOKUP(T22,CFO!M4:AW6,3,FALSE),0)","v":16.78},{"$f":"IF(AND(U22>=$E$13,U22<=($E$13+$E$15)-1),HLOOKUP(U22,CFO!N4:AX6,3,FALSE),0)","v":16.78},{"$f":"IF(AND(V22>=$E$13,V22<=($E$13+$E$15)-1),HLOOKUP(V22,CFO!O4:AY6,3,FALSE),0)","v":16.78},{"$f":"IF(AND(W22>=$E$13,W22<=($E$13+$E$15)-1),HLOOKUP(W22,CFO!P4:AZ6,3,FALSE),0)","v":16.78},{"$f":"IF(AND(X22>=$E$13,X22<=($E$13+$E$15)-1),HLOOKUP(X22,CFO!Q4:BA6,3,FALSE),0)","v":0},{"$f":"IF(AND(Y22>=$E$13,Y22<=($E$13+$E$15)-1),HLOOKUP(Y22,CFO!R4:BB6,3,FALSE),0)","v":0},{"$f":"IF(AND(Z22>=$E$13,Z22<=($E$13+$E$15)-1),HLOOKUP(Z22,CFO!S4:BC6,3,FALSE),0)","v":0},{"$f":"IF(AND(AA22>=$E$13,AA22<=($E$13+$E$15)-1),HLOOKUP(AA22,CFO!T4:BD6,3,FALSE),0)","v":0},{"$f":"IF(AND(AB22>=$E$13,AB22<=($E$13+$E$15)-1),HLOOKUP(AB22,CFO!U4:BE6,3,FALSE),0)","v":0},{"$f":"IF(AND(AC22>=$E$13,AC22<=($E$13+$E$15)-1),HLOOKUP(AC22,CFO!V4:BF6,3,FALSE),0)","v":0},{"$f":"IF(AND(AD22>=$E$13,AD22<=($E$13+$E$15)-1),HLOOKUP(AD22,CFO!W4:BG6,3,FALSE),0)","v":0},{"$f":"IF(AND(AE22>=$E$13,AE22<=($E$13+$E$15)-1),HLOOKUP(AE22,CFO!X4:BH6,3,FALSE),0)","v":0},{"$f":"IF(AND(AF22>=$E$13,AF22<=($E$13+$E$15)-1),HLOOKUP(AF22,CFO!Y4:BI6,3,FALSE),0)","v":0},{"$f":"IF(AND(AG22>=$E$13,AG22<=($E$13+$E$15)-1),HLOOKUP(AG22,CFO!Z4:BJ6,3,FALSE),0)","v":0},{"$f":"IF(AND(AH22>=$E$13,AH22<=($E$13+$E$15)-1),HLOOKUP(AH22,CFO!AA4:BK6,3,FALSE),0)","v":0},{"$f":"IF(AND(AI22>=$E$13,AI22<=($E$13+$E$15)-1),HLOOKUP(AI22,CFO!AB4:BL6,3,FALSE),0)","v":0},{"$f":"IF(AND(AJ22>=$E$13,AJ22<=($E$13+$E$15)-1),HLOOKUP(AJ22,CFO!AC4:BM6,3,FALSE),0)","v":0},{"$f":"IF(AND(AK22>=$E$13,AK22<=($E$13+$E$15)-1),HLOOKUP(AK22,CFO!AD4:BN6,3,FALSE),0)","v":0},{"$f":"IF(AND(AL22>=$E$13,AL22<=($E$13+$E$15)-1),HLOOKUP(AL22,CFO!AE4:BO6,3,FALSE),0)","v":0},{"$f":"SUM(I26:AL26)","v":234.92000000000002}]
[]
[null,null,"Операційний прибуток / Operating profit",null,null,null,null,null,{"$f":"I25-I26","v":0},{"$f":"J25-J26","v":1905.2887850272934},{"$f":"K25-K26","v":1870.2110297005456},{"$f":"L25-L26","v":1835.7734434085107},1801.9643430663054,1768.7722588053452,1736.1859300821479,1704.1943018581485,1672.7865208492376,1641.951931843739,1611.680074087591,1581.9606777354925,1552.7836603668195,1524.1391235651251,1496.0173495600616,{"$f":"X25-X26","v":0},{"$f":"Y25-Y26","v":0},{"$f":"Z25-Z26","v":0},0,0,0,0,0,0,0,0,0,0,0,0,{"$f":"SUM(I28:AL28)","v":23703.709429956358}]
[]
[null,null,"Амортизація / Depretiation ",null,null,null,null,null,{"$f":"IF(I22=0,0,Амортизація_Depreciation!F115)","v":0},{"$f":"IF(J22=0,0,Амортизація_Depreciation!G115)","v":562.5},{"$f":"IF(K22=0,0,Амортизація_Depreciation!H115)","v":562.5},{"$f":"IF(L22=0,0,Амортизація_Depreciation!I115)","v":562.5},{"$f":"IF(M22=0,0,Амортизація_Depreciation!J115)","v":562.5},{"$f":"IF(N22=0,0,Амортизація_Depreciation!K115)","v":562.5},{"$f":"IF(O22=0,0,Амортизація_Depreciation!L115)","v":562.5},{"$f":"IF(P22=0,0,Амортизація_Depreciation!M115)","v":562.5},{"$f":"IF(Q22=0,0,Амортизація_Depreciation!N115)","v":562.5},{"$f":"IF(R22=0,0,Амортизація_Depreciation!O115)","v":562.5},{"$f":"IF(S22=0,0,Амортизація_Depreciation!P115)","v":562.5},{"$f":"IF(T22=0,0,Амортизація_Depreciation!Q115)","v":562.5},{"$f":"IF(U22=0,0,Амортизація_Depreciation!R115)","v":562.5},{"$f":"IF(V22=0,0,Амортизація_Depreciation!S115)","v":562.5},{"$f":"IF(W22=0,0,Амортизація_Depreciation!T115)","v":562.5},{"$f":"IF(X22=0,0,Амортизація_Depreciation!U115)","v":0},{"$f":"IF(Y22=0,0,Амортизація_Depreciation!V115)","v":0},{"$f":"IF(Z22=0,0,Амортизація_Depreciation!W115)","v":0},{"$f":"IF(AA22=0,0,Амортизація_Depreciation!X115)","v":0},{"$f":"IF(AB22=0,0,Амортизація_Depreciation!Y115)","v":0},{"$f":"IF(AC22=0,0,Амортизація_Depreciation!Z115)","v":0},{"$f":"IF(AD22=0,0,Амортизація_Depreciation!AA115)","v":0},{"$f":"IF(AE22=0,0,Амортизація_Depreciation!AB115)","v":0},{"$f":"IF(AF22=0,0,Амортизація_Depreciation!AC115)","v":0},{"$f":"IF(AG22=0,0,Амортизація_Depreciation!AD115)","v":0},{"$f":"IF(AH22=0,0,Амортизація_Depreciation!AE115)","v":0},{"$f":"IF(AI22=0,0,Амортизація_Depreciation!AF115)","v":0},{"$f":"IF(AJ22=0,0,Амортизація_Depreciation!AG115)","v":0},{"$f":"IF(AK22=0,0,Амортизація_Depreciation!AH115)","v":0},{"$f":"IF(AL22=0,0,Амортизація_Depreciation!AI115)","v":0},{"$f":"SUM(I30:AL30)","v":7875}]
[]
[null,"-","Податок на прибуток від реалізації проекту з поправкою на амортизацію / Income tax on project implementation adjusted for depreciation",null,null,null,null,null,{"$f":"IF(I28<=0,0,(I28-I36-I30)*IF(I22=0,0,I53))","v":0},{"$f":"IF(J28<=0,0,(J28-J36-J30)*IF(J22=0,0,J53))","v":136.70198130491286},152.51298534609828,171.81421981353199,191.228581751935,210.75400658496218,211.26346741478667,205.50497433446679,199.85157375286283,194.30134773187308,188.85241333576644,183.50292199238871,178.25105886602756,173.09504224172258,168.03312292081114,0,0,0,0,0,0,0,0,0,0,0,0,0,0,0,{"$f":"SUM(I32:AL32)","v":2565.6676973921467}]
[null,null,"Приросний прибуток після сплати податків / Income after taxes ",null,null,null,null,null,{"$f":"I25-I26-I36-I32","v":-150},{"$f":"J25-J26-J36-J32","v":1185.2534703890474},{"$f":"K25-K26-K36-K32","v":1257.2813776877808},1345.2092235949788,1433.6524279810369,1522.6015855537164,1524.9224626673613,1498.6893275236816,1472.9349470963748,1447.650584111866,{"$f":"S25-S26-S36-S32","v":1422.8276607518246},1398.4577557431037,1374.532601500792,1351.0440813234027,1327.9842266392504,0,0,0,0,0,0,0,0,0,0,0,0,0,0,0,{"$f":"SUM(I33:AL33)","v":19413.041732564216}]
[]
["3.","Фінансовий грошовий потік (CFF)"]
["3.1.","-","Відсотки за кредит / Interests",null,null,null,null,null,{"$f":"IFERROR(IF(CFF!E25=0,0,IF(I22=0,0,HLOOKUP(I22,CFF!$B$25:$CH$34,10,FALSE))),0)","v":150},{"$f":"IFERROR(IF(CFF!G25=0,0,IF(J22=0,0,HLOOKUP(J22,CFF!$B$25:$CH$34,10,FALSE))),0)","v":583.33333333333337},{"$f":"IFERROR(IF(CFF!I25=0,0,IF(K22=0,0,HLOOKUP(K22,CFF!$B$25:$CH$34,10,FALSE))),0)","v":460.41666666666663},{"$f":"IF(CFF!K25=0,0,IF(L22=0,0,HLOOKUP(L22,CFF!$B$25:$CH$34,10,FALSE)))","v":318.75},{"$f":"IF(CFF!M25=0,0,IF(M22=0,0,HLOOKUP(M22,CFF!$B$25:$CH$34,10,FALSE)))","v":177.08333333333337},{"$f":"IF(CFF!O25=0,0,IF(N22=0,0,HLOOKUP(N22,CFF!$B$25:$CH$34,10,FALSE)))","v":35.4166666666667},{"$f":"IF(CFF!Q25=0,0,IF(O22=0,0,HLOOKUP(O22,CFF!$B$25:$CH$34,10,FALSE)))","v":0},{"$f":"IF(CFF!S25=0,0,IF(P22=0,0,HLOOKUP(P22,CFF!$B$25:$CH$34,10,FALSE)))","v":0},{"$f":"IF(CFF!U25=0,0,IF(Q22=0,0,HLOOKUP(Q22,CFF!$B$25:$CH$34,10,FALSE)))","v":0},{"$f":"IF(CFF!W25=0,0,IF(R22=0,0,HLOOKUP(R22,CFF!$B$25:$CH$34,10,FALSE)))","v":0},{"$f":"IF(CFF!Y25=0,0,IF(S22=0,0,HLOOKUP(S22,CFF!$B$25:$CH$34,10,FALSE)))","v":0},{"$f":"IF(CFF!AA25=0,0,IF(T22=0,0,HLOOKUP(T22,CFF!$B$25:$CH$34,10,FALSE)))","v":0},{"$f":"IFERROR(IF(CFF!AC25=0,0,IF(U22=0,0,HLOOKUP(U22,CFF!$B$25:$CH$34,10,FALSE))),0)","v":0},{"$f":"IFERROR(IF(CFF!AE25=0,0,IF(V22=0,0,HLOOKUP(V22,CFF!$B$25:$CH$34,10,FALSE))),0)","v":0},{"$f":"IFERROR(IF(CFF!AG25=0,0,IF(W22=0,0,HLOOKUP(W22,CFF!$B$25:$CH$34,10,FALSE))),0)","v":0},{"$f":"IFERROR(IF(CFF!AI25=0,0,IF(X22=0,0,HLOOKUP(X22,CFF!$B$25:$CH$34,10,FALSE))),0)","v":0},{"$f":"IFERROR(IF(CFF!AI25=0,0,IF(Y22=0,0,HLOOKUP(Y22,CFF!$B$25:$CH$34,10,FALSE))),0)","v":0},{"$f":"IFERROR(IF(CFF!AM25=0,0,IF(Z22=0,0,HLOOKUP(Z22,CFF!$B$25:$CH$34,10,FALSE))),0)","v":0},{"$f":"IFERROR(IF(CFF!AO25=0,0,IF(AA22=0,0,HLOOKUP(AA22,CFF!$B$25:$CH$34,10,FALSE))),0)","v":0},{"$f":"IFERROR(IF(CFF!AQ25=0,0,IF(AB22=0,0,HLOOKUP(AB22,CFF!$B$25:$CH$34,10,FALSE))),0)","v":0},{"$f":"IF(CFF!AS25=0,0,IF(AC22=0,0,HLOOKUP(AC22,CFF!$B$25:$CH$34,10,FALSE)))","v":0},{"$f":"IF(CFF!AU25=0,0,IF(AD22=0,0,HLOOKUP(AD22,CFF!$B$25:$CH$34,10,FALSE)))","v":0},{"$f":"IF(CFF!AW25=0,0,IF(AE22=0,0,HLOOKUP(AE22,CFF!$B$25:$CH$34,10,FALSE)))","v":0},{"$f":"IF(CFF!AY25=0,0,IF(AF22=0,0,HLOOKUP(AF22,CFF!$B$25:$CH$34,10,FALSE)))","v":0},{"$f":"IF(CFF!BA25=0,0,IF(AG22=0,0,HLOOKUP(AG22,CFF!$B$25:$CH$34,10,FALSE)))","v":0},{"$f":"IF(CFF!BC25=0,0,IF(AH22=0,0,HLOOKUP(AH22,CFF!$B$25:$CH$34,10,FALSE)))","v":0},{"$f":"IF(CFF!BE25=0,0,IF(AI22=0,0,HLOOKUP(AI22,CFF!$B$25:$CH$34,10,FALSE)))","v":0},{"$f":"IF(CFF!BG25=0,0,IF(AJ22=0,0,HLOOKUP(AJ22,CFF!$B$25:$CH$34,10,FALSE)))","v":0},{"$f":"IF(CFF!BI25=0,0,IF(AK22=0,0,HLOOKUP(AK22,CFF!$B$25:$CH$34,10,FALSE)))","v":0},{"$f":"IF(CFF!BK25=0,0,IF(AL22=0,0,HLOOKUP(AL22,CFF!$B$25:$CH$34,10,FALSE)))","v":0},{"$f":"SUM(I36:AL36)","v":1725.0000000000002}]
[]
["4.","Інвестиційний грошовий потік (CFI)",null,null,null,null,null,null,{"$f":"I39+I42","v":0},{"$f":"J39+J42","v":1041.6666666666667},1416.6666666666665,1416.6666666666665,1416.666666666667,708.33333333333394,0,0,0,0,0,0,0,0,0,0,0,0,0,0,0,0,0,0,0,0,0,0,0,0]
["4.1.","-","Бюджет проекту  / Project budjet",null,null,null,null,null,{"$f":"(I40+I41)*'Аналіз чутливості_Sensitivity'!F9","v":0},{"$f":"(J40+J41)*'Аналіз чутливості_Sensitivity'!F9","v":1041.6666666666667},{"$f":"(K40+K41)*'Аналіз чутливості_Sensitivity'!F9","v":1416.6666666666665},{"$f":"(L40+L41)*'Аналіз чутливості_Sensitivity'!F9","v":1416.6666666666665},{"$f":"(M40+M41)*'Аналіз чутливості_Sensitivity'!F9","v":1416.666666666667},{"$f":"(N40+N41)*'Аналіз чутливості_Sensitivity'!F9","v":708.33333333333394},{"$f":"(O40+O41)*'Аналіз чутливості_Sensitivity'!F9","v":0},{"$f":"(P40+P41)*'Аналіз чутливості_Sensitivity'!F9","v":0},{"$f":"(Q40+Q41)*'Аналіз чутливості_Sensitivity'!F9","v":0},{"$f":"(R40+R41)*'Аналіз чутливості_Sensitivity'!F9","v":0},{"$f":"(S40+S41)*'Аналіз чутливості_Sensitivity'!F9","v":0},{"$f":"(T40+T41)*'Аналіз чутливості_Sensitivity'!F9","v":0},{"$f":"(U40+U41)*'Аналіз чутливості_Sensitivity'!F9","v":0},{"$f":"(V40+V41)*'Аналіз чутливості_Sensitivity'!F9","v":0},{"$f":"(W40+W41)*'Аналіз чутливості_Sensitivity'!F9","v":0},{"$f":"(X40+X41)*'Аналіз чутливості_Sensitivity'!F9","v":0},{"$f":"Y40+Y41","v":0},0,0,0,0,0,0,0,0,0,0,0,0,0,{"$f":"SUM(I39:AL39)","v":6000}]
["4.1.1.",null,"Кредитні кошти/Loans",null,null,null,null,null,{"$f":"IFERROR(IF(Головна_Summary!$C$5=\"Погашення тіла кредиту\",HLOOKUP(I22,CFF!$E$25:$CH$45,11,FALSE),HLOOKUP(I22,CFF!$E$25:$CH$45,12,FALSE)),0)","v":0},{"$f":"IFERROR(IF(Головна_Summary!$C$5=\"Погашення тіла кредиту\",HLOOKUP(J22,CFF!$E$25:$CH$45,11,FALSE),HLOOKUP(J22,CFF!$E$25:$CH$45,12,FALSE)),0)","v":1041.6666666666667},{"$f":"IFERROR(IF(Головна_Summary!$C$5=\"Погашення тіла кредиту\",HLOOKUP(K22,CFF!$E$25:$CH$45,11,FALSE),HLOOKUP(K22,CFF!$E$25:$CH$45,12,FALSE)),0)","v":1416.6666666666665},{"$f":"IFERROR(IF(Головна_Summary!$C$5=\"Погашення тіла кредиту\",HLOOKUP(L22,CFF!$E$25:$CH$45,11,FALSE),HLOOKUP(L22,CFF!$E$25:$CH$45,12,FALSE)),0)","v":1416.6666666666665},{"$f":"IFERROR(IF(Головна_Summary!$C$5=\"Погашення тіла кредиту\",HLOOKUP(M22,CFF!$E$25:$CH$45,11,FALSE),HLOOKUP(M22,CFF!$E$25:$CH$45,12,FALSE)),0)","v":1416.666666666667},{"$f":"IFERROR(IF(Головна_Summary!$C$5=\"Погашення тіла кредиту\",HLOOKUP(N22,CFF!$E$25:$CH$45,11,FALSE),HLOOKUP(N22,CFF!$E$25:$CH$45,12,FALSE)),0)","v":708.33333333333394},{"$f":"IFERROR(IF(Головна_Summary!$C$5=\"Погашення тіла кредиту\",HLOOKUP(O22,CFF!$E$25:$CH$45,11,FALSE),HLOOKUP(O22,CFF!$E$25:$CH$45,12,FALSE)),0)","v":0},{"$f":"IFERROR(IF(Головна_Summary!$C$5=\"Погашення тіла кредиту\",HLOOKUP(P22,CFF!$E$25:$CH$45,11,FALSE),HLOOKUP(P22,CFF!$E$25:$CH$45,12,FALSE)),0)","v":0},{"$f":"IFERROR(IF(Головна_Summary!$C$5=\"Погашення тіла кредиту\",HLOOKUP(Q22,CFF!$E$25:$CH$45,11,FALSE),HLOOKUP(Q22,CFF!$E$25:$CH$45,12,FALSE)),0)","v":0},{"$f":"IFERROR(IF(Головна_Summary!$C$5=\"Погашення тіла кредиту\",HLOOKUP(R22,CFF!$E$25:$CH$45,11,FALSE),HLOOKUP(R22,CFF!$E$25:$CH$45,12,FALSE)),0)","v":0},{"$f":"IFERROR(IF(Головна_Summary!$C$5=\"Погашення тіла кредиту\",HLOOKUP(S22,CFF!$E$25:$CH$45,11,FALSE),HLOOKUP(S22,CFF!$E$25:$CH$45,12,FALSE)),0)","v":0},{"$f":"IFERROR(IF(Головна_Summary!$C$5=\"Погашення тіла кредиту\",HLOOKUP(T22,CFF!$E$25:$CH$45,11,FALSE),HLOOKUP(T22,CFF!$E$25:$CH$45,12,FALSE)),0)","v":0},{"$f":"IFERROR(IF(Головна_Summary!$C$5=\"Погашення тіла кредиту\",HLOOKUP(U22,CFF!$E$25:$CH$45,11,FALSE),HLOOKUP(U22,CFF!$E$25:$CH$45,12,FALSE)),0)","v":0},{"$f":"IFERROR(IF(Головна_Summary!$C$5=\"Погашення тіла кредиту\",HLOOKUP(V22,CFF!$E$25:$CH$45,11,FALSE),HLOOKUP(V22,CFF!$E$25:$CH$45,12,FALSE)),0)","v":0},{"$f":"IFERROR(IF(Головна_Summary!$C$5=\"Погашення тіла кредиту\",HLOOKUP(W22,CFF!$E$25:$CH$45,11,FALSE),HLOOKUP(W22,CFF!$E$25:$CH$45,12,FALSE)),0)","v":0},{"$f":"IFERROR(IF(Головна_Summary!$C$5=\"Погашення тіла кредиту\",HLOOKUP(X22,CFF!$E$25:$CH$45,11,FALSE),HLOOKUP(X22,CFF!$E$25:$CH$45,12,FALSE)),0)","v":0},{"$f":"IFERROR(IF(Головна_Summary!$C$5=\"Погашення тіла кредиту\",HLOOKUP(Y22,CFF!$E$25:$CH$45,11,FALSE),HLOOKUP(Y22,CFF!$E$25:$CH$45,12,FALSE)),0)","v":0},{"$f":"IFERROR(IF(Головна_Summary!$C$5=\"Погашення тіла кредиту\",HLOOKUP(Z22,CFF!$E$25:$CH$45,11,FALSE),HLOOKUP(Z22,CFF!$E$25:$CH$45,12,FALSE)),0)","v":0},{"$f":"IFERROR(IF(Головна_Summary!$C$5=\"Погашення тіла кредиту\",HLOOKUP(AA22,CFF!$E$25:$CH$45,11,FALSE),HLOOKUP(AA22,CFF!$E$25:$CH$45,12,FALSE)),0)","v":0},{"$f":"IFERROR(IF(Головна_Summary!$C$5=\"Погашення тіла кредиту\",HLOOKUP(AB22,CFF!$E$25:$CH$45,11,FALSE),HLOOKUP(AB22,CFF!$E$25:$CH$45,12,FALSE)),0)","v":0},{"$f":"IFERROR(IF(Головна_Summary!$C$5=\"Погашення тіла кредиту\",HLOOKUP(AC22,CFF!$E$25:$CH$45,11,FALSE),HLOOKUP(AC22,CFF!$E$25:$CH$45,12,FALSE)),0)","v":0},{"$f":"IFERROR(IF(Головна_Summary!$C$5=\"Погашення тіла кредиту\",HLOOKUP(AD22,CFF!$E$25:$CH$45,11,FALSE),HLOOKUP(AD22,CFF!$E$25:$CH$45,12,FALSE)),0)","v":0},{"$f":"IFERROR(IF(Головна_Summary!$C$5=\"Погашення тіла кредиту\",HLOOKUP(AE22,CFF!$E$25:$CH$45,11,FALSE),HLOOKUP(AE22,CFF!$E$25:$CH$45,12,FALSE)),0)","v":0},{"$f":"IFERROR(IF(Головна_Summary!$C$5=\"Погашення тіла кредиту\",HLOOKUP(AF22,CFF!$E$25:$CH$45,11,FALSE),HLOOKUP(AF22,CFF!$E$25:$CH$45,12,FALSE)),0)","v":0},{"$f":"IFERROR(IF(Головна_Summary!$C$5=\"Погашення тіла кредиту\",HLOOKUP(AG22,CFF!$E$25:$CH$45,11,FALSE),HLOOKUP(AG22,CFF!$E$25:$CH$45,12,FALSE)),0)","v":0},{"$f":"IFERROR(IF(Головна_Summary!$C$5=\"Погашення тіла кредиту\",HLOOKUP(AH22,CFF!$E$25:$CH$45,11,FALSE),HLOOKUP(AH22,CFF!$E$25:$CH$45,12,FALSE)),0)","v":0},{"$f":"IFERROR(IF(Головна_Summary!$C$5=\"Погашення тіла кредиту\",HLOOKUP(AI22,CFF!$E$25:$CH$45,11,FALSE),HLOOKUP(AI22,CFF!$E$25:$CH$45,12,FALSE)),0)","v":0},{"$f":"IFERROR(IF(Головна_Summary!$C$5=\"Погашення тіла кредиту\",HLOOKUP(AJ22,CFF!$E$25:$CH$45,11,FALSE),HLOOKUP(AJ22,CFF!$E$25:$CH$45,12,FALSE)),0)","v":0},{"$f":"IFERROR(IF(Головна_Summary!$C$5=\"Погашення тіла кредиту\",HLOOKUP(AK22,CFF!$E$25:$CH$45,11,FALSE),HLOOKUP(AK22,CFF!$E$25:$CH$45,12,FALSE)),0)","v":0},{"$f":"IFERROR(IF(Головна_Summary!$C$5=\"Погашення тіла кредиту\",HLOOKUP(AL22,CFF!$E$25:$CH$45,11,FALSE),HLOOKUP(AL22,CFF!$E$25:$CH$45,12,FALSE)),0)","v":0}]
["4.1.2.",null,"Власні кошти/ Own fonds",null,null,null,null,null,{"$f":"IFERROR(HLOOKUP(I22,'План фінансування_Funding plan'!$C$1:$BH$7,7,FALSE),0)","v":0},{"$f":"IFERROR(HLOOKUP(J22,'План фінансування_Funding plan'!$C$1:$BH$7,7,FALSE),0)","v":0},{"$f":"IFERROR(HLOOKUP(K22,'План фінансування_Funding plan'!$C$1:$BH$7,7,FALSE),0)","v":0},{"$f":"IFERROR(HLOOKUP(L22,'План фінансування_Funding plan'!$C$1:$BH$7,7,FALSE),0)","v":0},{"$f":"IFERROR(HLOOKUP(M22,'План фінансування_Funding plan'!$C$1:$BH$7,7,FALSE),0)","v":0},{"$f":"IFERROR(HLOOKUP(N22,'План фінансування_Funding plan'!$C$1:$BH$7,7,FALSE),0)","v":0},{"$f":"IFERROR(HLOOKUP(O22,'План фінансування_Funding plan'!$C$1:$BH$7,7,FALSE),0)","v":0},{"$f":"IFERROR(HLOOKUP(P22,'План фінансування_Funding plan'!$C$1:$BH$7,7,FALSE),0)","v":0},{"$f":"IFERROR(HLOOKUP(Q22,'План фінансування_Funding plan'!$C$1:$BH$7,7,FALSE),0)","v":0},{"$f":"IFERROR(HLOOKUP(R22,'План фінансування_Funding plan'!$C$1:$BH$7,7,FALSE),0)","v":0},{"$f":"IFERROR(HLOOKUP(S22,'План фінансування_Funding plan'!$C$1:$BH$7,7,FALSE),0)","v":0},{"$f":"IFERROR(HLOOKUP(T22,'План фінансування_Funding plan'!$C$1:$BH$7,7,FALSE),0)","v":0},{"$f":"IFERROR(HLOOKUP(U22,'План фінансування_Funding plan'!$C$1:$BH$7,7,FALSE),0)","v":0},{"$f":"IFERROR(HLOOKUP(V22,'План фінансування_Funding plan'!$C$1:$BH$7,7,FALSE),0)","v":0},{"$f":"IFERROR(HLOOKUP(W22,'План фінансування_Funding plan'!$C$1:$BH$7,7,FALSE),0)","v":0},{"$f":"IFERROR(HLOOKUP(X22,'План фінансування_Funding plan'!$C$1:$BH$7,7,FALSE),0)","v":0},{"$f":"IFERROR(HLOOKUP(Y22,'План фінансування_Funding plan'!$C$1:$BH$7,7,FALSE),0)","v":0},{"$f":"IFERROR(HLOOKUP(Z22,'План фінансування_Funding plan'!$C$1:$BH$7,7,FALSE),0)","v":0},{"$f":"IFERROR(HLOOKUP(AA22,'План фінансування_Funding plan'!$C$1:$BH$7,7,FALSE),0)","v":0},{"$f":"IFERROR(HLOOKUP(AB22,'План фінансування_Funding plan'!$C$1:$BH$7,7,FALSE),0)","v":0},{"$f":"IFERROR(HLOOKUP(AC22,'План фінансування_Funding plan'!$C$1:$BH$7,7,FALSE),0)","v":0},{"$f":"IFERROR(HLOOKUP(AD22,'План фінансування_Funding plan'!$C$1:$BH$7,7,FALSE),0)","v":0},{"$f":"IFERROR(HLOOKUP(AE22,'План фінансування_Funding plan'!$C$1:$BH$7,7,FALSE),0)","v":0},{"$f":"IFERROR(HLOOKUP(AF22,'План фінансування_Funding plan'!$C$1:$BH$7,7,FALSE),0)","v":0},{"$f":"IFERROR(HLOOKUP(AG22,'План фінансування_Funding plan'!$C$1:$BH$7,7,FALSE),0)","v":0},{"$f":"IFERROR(HLOOKUP(AH22,'План фінансування_Funding plan'!$C$1:$BH$7,7,FALSE),0)","v":0},{"$f":"IFERROR(HLOOKUP(AI22,'План фінансування_Funding plan'!$C$1:$BH$7,7,FALSE),0)","v":0},{"$f":"IFERROR(HLOOKUP(AJ22,'План фінансування_Funding plan'!$C$1:$BH$7,7,FALSE),0)","v":0},{"$f":"IFERROR(HLOOKUP(AK22,'План фінансування_Funding plan'!$C$1:$BH$7,7,FALSE),0)","v":0},{"$f":"IFERROR(HLOOKUP(AL22,'План фінансування_Funding plan'!$C$1:$BH$7,7,FALSE),0)","v":0}]
["4.2.","-","Капітальні ремонти / Overhauls",null,null,null,null,null,{"$f":"'Фінансування_Financing (CFI)'!AD11","v":0},{"$f":"'Фінансування_Financing (CFI)'!AE11","v":0},{"$f":"'Фінансування_Financing (CFI)'!AF11","v":0},{"$f":"'Фінансування_Financing (CFI)'!AG11","v":0},{"$f":"'Фінансування_Financing (CFI)'!AH11","v":0},{"$f":"'Фінансування_Financing (CFI)'!AI11","v":0},{"$f":"'Фінансування_Financing (CFI)'!AJ11","v":0},{"$f":"'Фінансування_Financing (CFI)'!AK11","v":0},{"$f":"'Фінансування_Financing (CFI)'!AL11","v":0},{"$f":"'Фінансування_Financing (CFI)'!AM11","v":0},{"$f":"'Фінансування_Financing (CFI)'!AN11","v":0},{"$f":"'Фінансування_Financing (CFI)'!AO11","v":0},{"$f":"'Фінансування_Financing (CFI)'!AP11","v":0},{"$f":"'Фінансування_Financing (CFI)'!AQ11","v":0},{"$f":"'Фінансування_Financing (CFI)'!AR11","v":0},{"$f":"'Фінансування_Financing (CFI)'!AS11","v":0},{"$f":"'Фінансування_Financing (CFI)'!AT11","v":0},{"$f":"'Фінансування_Financing (CFI)'!AU11","v":0},{"$f":"'Фінансування_Financing (CFI)'!AV11","v":0},{"$f":"'Фінансування_Financing (CFI)'!AW11","v":0},{"$f":"'Фінансування_Financing (CFI)'!AX11","v":0},{"$f":"'Фінансування_Financing (CFI)'!AY11","v":0},{"$f":"'Фінансування_Financing (CFI)'!AZ11","v":0},{"$f":"'Фінансування_Financing (CFI)'!BA11","v":0},{"$f":"'Фінансування_Financing (CFI)'!BB11","v":0},{"$f":"'Фінансування_Financing (CFI)'!BC11","v":0},{"$f":"'Фінансування_Financing (CFI)'!BD11","v":0},{"$f":"'Фінансування_Financing (CFI)'!BE11","v":0},{"$f":"'Фінансування_Financing (CFI)'!BF11","v":0},{"$f":"'Фінансування_Financing (CFI)'!BG11","v":0},{"$f":"SUM(I42:AL42)","v":0}]
[]
[5,"Вільний грошовий потік / FCF",null,null,null,null,null,null,{"$f":"IF(I22=0,0,I33-I39-I42+I30)","v":-150},{"$f":"IF(J22=0,0,J33-J39-J42+J30)","v":706.08680372238064},403.11471102111432,491.04255692831225,579.48576131436994,1376.7682522203825,2087.4224626673613,2061.1893275236816,2035.4349470963748,2010.150584111866,1985.3276607518246,1960.9577557431037,1937.032601500792,1913.5440813234027,1890.4842266392504,0,0,0,0,0,0,0,0,0,0,0,0,0,0,0,{"$f":"SUM(I44:AL44)","v":21288.041732564216}]
["5.1.","Вільний грошовий потік накопиченим підсумком / FCF accumulated",null,null,null,null,null,null,{"$f":"I44","v":-150},{"$f":"I45+J44","v":556.08680372238064},959.20151474349495,1450.2440716718072,2029.7298329861771,3406.4980852065596,5493.9205478739204,7555.1098753976021,9590.5448224939773,11600.695406605842,13586.023067357666,15546.98082310077,17484.013424601562,19397.557505924964,21288.041732564216,21288.041732564216,21288.041732564216,21288.041732564216,21288.041732564216,21288.041732564216,21288.041732564216,21288.041732564216,21288.041732564216,21288.041732564216,21288.041732564216,21288.041732564216,21288.041732564216,21288.041732564216,21288.041732564216,21288.041732564216]
[]
[7,null,"Коефіцієнт дисконтування / Discount rate",null,null,null,null,null,{"$f":"1/((1+$E$11)^(1/12))^0","v":1},{"$f":"I47/(1+$E$11)","v":0.86580086580086579},{"$f":"J47/(1+$E$11)","v":0.74961113922152878},{"$f":"K47/(1+$E$11)","v":0.64901397335197297},0.56191686004499819,{"$f":"M47/(1+$E$11)","v":0.48650810393506333},0.4212191376061154,0.36469189403126873,0.31575055760283005,0.2733771061496364,0.23669013519449039,{"$f":"S47/(1+$E$11)","v":0.20492652397791375},0.1774255618856396,0.15361520509579185,0.13300017757211416,0.11515166889360533,{"$f":"X47/(1+$E$11)","v":9.9698414626498116E-2},{"$f":"Y47/(1+$E$11)","v":8.6318973702595767E-2},{"$f":"Z47/(1+$E$11)","v":7.4735042166749574E-2},{"$f":"AA47/(1+$E$11)","v":6.4705664213635994E-2},5.6022220098386144E-2,4.850408666526939E-2,4.1994880229670468E-2,3.635920366205235E-2,3.1479830010434931E-2,2.725526407829864E-2,2.3597631236622198E-2,2.0430849555517053E-2,1.7689047234213898E-2,{"$f":"AK47/(1+$E$11)","v":1.5315192410574803E-2}]
[8,null,"Дисконтований вільний грошовий поток / DCF",null,null,null,null,null,{"$f":"IF(I47=\"\",\"\",I47*I44)","v":-150},{"$f":"IF(J47=\"\",\"\",J47*J44)","v":611.33056599340318},{"$f":"IF(K47=\"\",\"\",K47*K44)","v":302.17927776549487},318.69348095695631,325.62281943855606,669.80891194572928,879.26228954437954,751.6990398116485,642.68971950996718,549.52914960950318,469.90747242871072,401.85225655196507,343.67909771208025,293.94946651233312,251.43473784030121,{"$f":"IF(X47=\"\",\"\",X47*X44)","v":0},{"$f":"IF(Y47=\"\",\"\",Y47*Y44)","v":0},{"$f":"IF(Z47=\"\",\"\",Z47*Z44)","v":0},0,0,0,0,0,0,0,0,0,0,0,{"$f":"IF(AL47=\"\",\"\",AL47*AL44)","v":0},{"$f":"SUM(I48:AL48)","v":6661.6382856210284}]
[9,null,"DCF накопиченим підсумком / DCF accumulated",null,null,null,null,null,{"$f":"I48","v":-150},{"$f":"I49+J48","v":461.33056599340318},763.50984375889811,1082.2033247158545,1407.8261441544105,2077.63505610014,2956.8973456445196,3708.5963854561683,4351.2861049661351,4900.8152545756384,5370.7227270043495,5772.5749835563147,6116.2540812683947,6410.2035477807276,6661.6382856210284,6661.6382856210284,6661.6382856210284,6661.6382856210284,6661.6382856210284,6661.6382856210284,6661.6382856210284,6661.6382856210284,6661.6382856210284,6661.6382856210284,6661.6382856210284,6661.6382856210284,6661.6382856210284,6661.6382856210284,6661.6382856210284,6661.6382856210284]
[]
[10,null,"Розрахунок DPP / DPP Calculation",null,null,null,null,null,{"$f":"13-E7","v":7},{"$f":"IF(J49<0,12,IF(K49<0,12,IF(I49>0,0, -I49/J48*12)))","v":2.9443971889006177},{"$f":"IF(K49<0,12,IF(L49<0,12,IF(J49>0,0,-J49/K48*12)))","v":0},{"$f":"IF(L49<0,12,IF(M49<0,12,IF(K49>0,0,-K49/L48*12)))","v":0},{"$f":"IF(M49<0,12,IF(N49<0,12,IF(L49>0,0,-L49/M48*12)))","v":0},{"$f":"IF(N49<0,12,IF(O49<0,12,IF(M49>0,0,-M49/N48*12)))","v":0},{"$f":"IF(O49<0,12,IF(P49<0,12,IF(N49>0,0,-N49/O48*12)))","v":0},0,0,0,0,0,0,0,0,{"$f":"IF(X49<0,12,IF(Y49<0,12,IF(W49>0,0,-W49/X48*12)))","v":0},{"$f":"IF(Y49<0,12,IF(Z49<0,12,IF(X49>0,0,-X49/Y48*12)))","v":0},{"$f":"IF(Z49<0,12,IF(AA49<0,12,IF(Y49>0,0,-Y49/Z48*12)))","v":0},{"$f":"IF(AA49<0,12,IF(AB49<0,12,IF(Z49>0,0,-Z49/AA48*12)))","v":0},0,{"$f":"IF(AC49<0,12,IF(AD49<0,12,IF(AB49>0,0,-AB49/AC48*12)))","v":0},0,0,0,{"$f":"IF(AG49<0,12,IF(AH49<0,12,IF(AF49>0,0,-AF49/AG48*12)))","v":0},0,0,0,{"$f":"IF(AK49<0,12,IF(AL49<0,12,IF(AJ49>0,0,-AJ49/AK48*12)))","v":0},{"$f":"IF(AL49<0,12,IF(AM49<0,12,IF(AK49>0,0,-AK49/AL48*12)))","v":0}]
[11,null,"Розрахунок PP / PP Calculation",null,null,null,null,null,{"$f":"13-E7","v":7},{"$f":"IF(J45<0,12,IF(K45<0,12,IF(I45>0,0,-I45/J44*12)))","v":2.5492616354117903},{"$f":"IF(K45<0,12,IF(L45<0,12,IF(J45>0,0,-J45/K44*12)))","v":0},{"$f":"IF(L45<0,12,IF(M45<0,12,IF(K45>0,0,-K45/L44*12)))","v":0},{"$f":"IF(M45<0,12,IF(N45<0,12,IF(L45>0,0,-L45/M44*12)))","v":0},{"$f":"IF(N45<0,12,IF(O45<0,12,IF(M45>0,0,-M45/N44*12)))","v":0},{"$f":"IF(O45<0,12,IF(P45<0,12,IF(N45>0,0,-N45/O44*12)))","v":0},0,0,0,{"$f":"IF(S45<0,12,IF(T45<0,12,IF(R45>0,0,-R45/S44*12)))","v":0},{"$f":"IF(T45<0,12,IF(U45<0,12,IF(S45>0,0,-S45/T44*12)))","v":0},0,{"$f":"IF(V45<0,12,IF(W45<0,12,IF(U45>0,0,-U45/V44*12)))","v":0},{"$f":"IF(W45<0,12,IF(X45<0,12,IF(V45>0,0,-V45/W44*12)))","v":0},{"$f":"IF(X45<0,12,IF(Y45<0,12,IF(W45>0,0,-W45/X44*12)))","v":0},{"$f":"IF(Y45<0,12,IF(Z45<0,12,IF(X45>0,0,-X45/Y44*12)))","v":0},0,0,{"$f":"IF(AB45<0,12,IF(AC45<0,12,IF(AA45>0,0,-AA45/AB44*12)))","v":0},0,0,{"$f":"IF(AE45<0,12,IF(AF45<0,12,IF(AD45>0,0,-AD45/AE44*12)))","v":0},0,{"$f":"IF(AG45<0,12,IF(AH45<0,12,IF(AF45>0,0,-AF45/AG44*12)))","v":0},0,0,0,{"$f":"IF(AK45<0,12,IF(AL45<0,12,IF(AJ45>0,0,-AJ45/AK44*12)))","v":0},{"$f":"IF(AL45<0,12,IF(AM45<0,12,IF(AK45>0,0,-AK45/AL44*12)))","v":0}]
[12,null,"Податок на прибуток / Income tax",null,null,null,null,null,{"$f":"1-0.82","v":0.18000000000000005},{"$f":"1-0.82","v":0.18000000000000005},0.18000000000000005,0.18000000000000005,0.18000000000000005,0.18000000000000005,0.18000000000000005,0.18000000000000005,0.18000000000000005,0.18000000000000005,0.18000000000000005,0.18000000000000005,0.18000000000000005,0.18000000000000005,0.18000000000000005,0.18000000000000005,0.18000000000000005,0.18000000000000005,0.18000000000000005,0.18000000000000005,0.18000000000000005,0.18000000000000005,0.18000000000000005,0.18000000000000005,0.18000000000000005,0.18000000000000005,0.18000000000000005,0.18000000000000005,0.18000000000000005,0.18000000000000005]
[null,null,null,null,null,null,null,null,{"$f":"I55+I41","v":150},{"$f":"J55+J41","v":1625},1877.083333333333,1735.4166666666665,1593.7500000000005,743.75000000000068,0,0,0,0,0,0,0,0,0,0,0,0,0,0,0,0,0,0,0,0,0,0,0,0]
[null,null,null,null,null,null,null,null,{"$f":"IFERROR(I36+I40+HLOOKUP(I22,CFF!$25:$37,13,0),0)","v":150},{"$f":"IFERROR(J36+J40+HLOOKUP(J22,CFF!$25:$37,13,0),0)","v":1625},{"$f":"IFERROR(K36+K40+HLOOKUP(K22,CFF!$25:$37,13,0),0)","v":1877.083333333333},{"$f":"IFERROR(L36+L40+HLOOKUP(L22,CFF!$25:$37,13,0),0)","v":1735.4166666666665},{"$f":"IFERROR(M36+M40+HLOOKUP(M22,CFF!$25:$37,13,0),0)","v":1593.7500000000005},{"$f":"IFERROR(N36+N40+HLOOKUP(N22,CFF!$25:$37,13,0),0)","v":743.75000000000068},{"$f":"IFERROR(O36+O40+HLOOKUP(O22,CFF!$25:$37,13,0),0)","v":0},{"$f":"IFERROR(P36+P40+HLOOKUP(P22,CFF!$25:$37,13,0),0)","v":0},{"$f":"IFERROR(Q36+Q40+HLOOKUP(Q22,CFF!$25:$37,13,0),0)","v":0},{"$f":"IFERROR(R36+R40+HLOOKUP(R22,CFF!$25:$37,13,0),0)","v":0},{"$f":"IFERROR(S36+S40+HLOOKUP(S22,CFF!$25:$37,13,0),0)","v":0},{"$f":"IFERROR(T36+T40+HLOOKUP(T22,CFF!$25:$37,13,0),0)","v":0},{"$f":"IFERROR(U36+U40+HLOOKUP(U22,CFF!$25:$37,13,0),0)","v":0},{"$f":"IFERROR(V36+V40+HLOOKUP(V22,CFF!$25:$37,13,0),0)","v":0},{"$f":"IFERROR(W36+W40+HLOOKUP(W22,CFF!$25:$37,13,0),0)","v":0},{"$f":"IFERROR(X36+X40+HLOOKUP(X22,CFF!$25:$37,13,0),0)","v":0},{"$f":"IFERROR(Y36+Y40+HLOOKUP(Y22,CFF!$25:$37,13,0),0)","v":0},{"$f":"IFERROR(Z36+Z40+HLOOKUP(Z22,CFF!$25:$37,13,0),0)","v":0},{"$f":"IFERROR(AA36+AA40+HLOOKUP(AA22,CFF!$25:$37,13,0),0)","v":0},{"$f":"IFERROR(AB36+AB40+HLOOKUP(AB22,CFF!$25:$37,13,0),0)","v":0},{"$f":"IFERROR(AC36+AC40+HLOOKUP(AC22,CFF!$25:$37,13,0),0)","v":0},{"$f":"IFERROR(AD36+AD40+HLOOKUP(AD22,CFF!$25:$37,13,0),0)","v":0},{"$f":"IFERROR(AE36+AE40+HLOOKUP(AE22,CFF!$25:$37,13,0),0)","v":0},{"$f":"IFERROR(AF36+AF40+HLOOKUP(AF22,CFF!$25:$37,13,0),0)","v":0},{"$f":"IFERROR(AG36+AG40+HLOOKUP(AG22,CFF!$25:$37,13,0),0)","v":0},{"$f":"IFERROR(AH36+AH40+HLOOKUP(AH22,CFF!$25:$37,13,0),0)","v":0},{"$f":"IFERROR(AI36+AI40+HLOOKUP(AI22,CFF!$25:$37,13,0),0)","v":0},{"$f":"IFERROR(AJ36+AJ40+HLOOKUP(AJ22,CFF!$25:$37,13,0),0)","v":0},{"$f":"IFERROR(AK36+AK40+HLOOKUP(AK22,CFF!$25:$37,13,0),0)","v":0},{"$f":"IFERROR(AL36+AL40+HLOOKUP(AL22,CFF!$25:$37,13,0),0)","v":0}]

{"sheet":"CFO","index":7,"n_rows":97,"n_cols":38,"rows_kept":97,"cut":false,"hidden":false,"merged":[[26,4,26,5],[45,4,45,5],[43,4,43,5],[26,2,26,3],[25,4,25,5],[22,2,22,3],[28,4,28,5],[27,4,27,5],[27,1,27,3],[51,2,51,3],[37,2,37,3],[39,2,39,3],[38,2,38,3],[44,2,44,3],[45,2,45,3],[30,2,30,3],[28,2,28,3],[47,2,47,3],[42,2,42,3],[29,2,29,3],[40,2,40,3],[34,2,34,3],[35,2,35,3],[36,2,36,3],[31,2,31,3],[33,2,33,3],[32,2,32,3],[48,2,48,3],[49,2,49,3],[13,4,13,5],[13,2,13,3],[12,2,12,3],[12,4,12,5],[10,4,10,5],[11,4,11,5],[25,2,25,3],[14,2,14,3],[15,2,15,3],[14,4,14,5],[19,2,19,3],[20,2,20,3],[19,4,19,5],[17,2,17,3],[16,1,16,3],[21,2,21,3],[21,4,21,5],[20,4,20,5],[22,4,22,5],[23,2,23,3],[24,2,24,3],[66,8,67,12],[66,1,67,7],[64,1,65,7],[60,4,60,5],[59,4,59,5],[53,4,53,5],[52,4,52,5],[58,4,58,5],[56,4,56,5],[57,4,57,5],[54,4,54,5],[55,4,55,5],[60,2,60,3],[53,2,53,3],[61,4,61,5],[50,4,50,5],[43,2,43,3],[17,4,17,5],[16,4,16,5],[11,2,11,3],[10,2,10,3],[61,2,61,3],[62,4,62,5],[63,4,63,5],[18,4,18,5],[59,2,59,3],[46,4,46,5],[62,2,62,3],[58,2,58,3],[41,2,41,3],[18,2,18,3],[56,2,56,3],[57,2,57,3],[54,2,54,3],[55,2,55,3],[46,1,46,3],[50,2,50,3],[63,2,63,3],[52,2,52,3],[8,2,8,3],[9,2,9,3],[1,8,1,13],[7,4,7,5],[6,4,6,5],[5,4,5,5],[8,4,8,5],[3,4,3,5],[9,4,9,5],[4,2,4,3],[3,1,3,3],[7,2,7,3],[4,4,4,5],[5,2,5,3],[6,2,6,3]]}
[]
[null,"РОЗРАХУНОК ОПЕРАЦІЙНОГО ГРОШОВОГО ПОТОКУ /CASH FLOW OPERATION CALCULATION",null,null,null,null,null,null,{"$f":"CONCATENATE(Головна_Summary!A2,\" / \",Головна_Summary!K2)","v":"Energy storage system 10МВт / Energy storage system 10 MW"}]
[]
[null,"Показник",null,null,"Indicator",null,"Одиниці виміру / Unit",{"$f":"'Грошові потоки _ Cash flows'!$I$22","v":2024},{"$f":"IF(H4=0,0,IF(('Грошові потоки _ Cash flows'!$E$13+'Грошові потоки _ Cash flows'!$E$15-1)>=H4+1,H4+1,0))","v":2025},{"$f":"IF(I4=0,0,IF(('Грошові потоки _ Cash flows'!$E$13+'Грошові потоки _ Cash flows'!$E$15-1)>=I4+1,I4+1,0))","v":2026},{"$f":"IF(J4=0,0,IF(('Грошові потоки _ Cash flows'!$E$13+'Грошові потоки _ Cash flows'!$E$15-1)>=J4+1,J4+1,0))","v":2027},{"$f":"IF(K4=0,0,IF(('Грошові потоки _ Cash flows'!$E$13+'Грошові потоки _ Cash flows'!$E$15-1)>=K4+1,K4+1,0))","v":2028},{"$f":"IF(L4=0,0,IF(('Грошові потоки _ Cash flows'!$E$13+'Грошові потоки _ Cash flows'!$E$15-1)>=L4+1,L4+1,0))","v":2029},{"$f":"IF(M4=0,0,IF(('Грошові потоки _ Cash flows'!$E$13+'Грошові потоки _ Cash flows'!$E$15-1)>=M4+1,M4+1,0))","v":2030},{"$f":"IF(N4=0,0,IF(('Грошові потоки _ Cash flows'!$E$13+'Грошові потоки _ Cash flows'!$E$15-1)>=N4+1,N4+1,0))","v":2031},{"$f":"IF(O4=0,0,IF(('Грошові потоки _ Cash flows'!$E$13+'Грошові потоки _ Cash flows'!$E$15-1)>=O4+1,O4+1,0))","v":2032},{"$f":"IF(P4=0,0,IF(('Грошові потоки _ Cash flows'!$E$13+'Грошові потоки _ Cash flows'!$E$15-1)>=P4+1,P4+1,0))","v":2033},{"$f":"IF(Q4=0,0,IF(('Грошові потоки _ Cash flows'!$E$13+'Грошові потоки _ Cash flows'!$E$15-1)>=Q4+1,Q4+1,0))","v":2034},{"$f":"IF(R4=0,0,IF(('Грошові потоки _ Cash flows'!$E$13+'Грошові потоки _ Cash flows'!$E$15-1)>=R4+1,R4+1,0))","v":2035},{"$f":"IF(S4=0,0,IF(('Грошові потоки _ Cash flows'!$E$13+'Грошові потоки _ Cash flows'!$E$15-1)>=S4+1,S4+1,0))","v":2036},{"$f":"IF(T4=0,0,IF(('Грошові потоки _ Cash flows'!$E$13+'Грошові потоки _ Cash flows'!$E$15-1)>=T4+1,T4+1,0))","v":2037},{"$f":"IF(U4=0,0,IF(('Грошові потоки _ Cash flows'!$E$13+'Грошові потоки _ Cash flows'!$E$15-1)>=U4+1,U4+1,0))","v":2038},{"$f":"IF(V4=0,0,IF(('Грошові потоки _ Cash flows'!$E$13+'Грошові потоки _ Cash flows'!$E$15-1)>=V4+1,V4+1,0))","v":2039},{"$f":"IF(W4=0,0,IF(('Грошові потоки _ Cash flows'!$E$13+'Грошові потоки _ Cash flows'!$E$15-1)>=W4+1,W4+1,0))","v":0},{"$f":"IF(X4=0,0,IF(('Грошові потоки _ Cash flows'!$E$13+'Грошові потоки _ Cash flows'!$E$15-1)>=X4+1,X4+1,0))","v":0},{"$f":"IF(Y4=0,0,IF(('Грошові потоки _ Cash flows'!$E$13+'Грошові потоки _ Cash flows'!$E$15-1)>=Y4+1,Y4+1,0))","v":0},{"$f":"IF(Z4=0,0,IF(('Грошові потоки _ Cash flows'!$E$13+'Грошові потоки _ Cash flows'!$E$15-1)>=Z4+1,Z4+1,0))","v":0},{"$f":"IF(AA4=0,0,IF(('Грошові потоки _ Cash flows'!$E$13+'Грошові потоки _ Cash flows'!$E$15-1)>=AA4+1,AA4+1,0))","v":0},{"$f":"IF(AB4=0,0,IF(('Грошові потоки _ Cash flows'!$E$13+'Грошові потоки _ Cash flows'!$E$15-1)>=AB4+1,AB4+1,0))","v":0},{"$f":"IF(AC4=0,0,IF(('Грошові потоки _ Cash flows'!$E$13+'Грошові потоки _ Cash flows'!$E$15-1)>=AC4+1,AC4+1,0))","v":0},{"$f":"IF(AD4=0,0,IF(('Грошові потоки _ Cash flows'!$E$13+'Грошові потоки _ Cash flows'!$E$15-1)>=AD4+1,AD4+1,0))","v":0},{"$f":"IF(AE4=0,0,IF(('Грошові потоки _ Cash flows'!$E$13+'Грошові потоки _ Cash flows'!$E$15-1)>=AE4+1,AE4+1,0))","v":0},{"$f":"IF(AF4=0,0,IF(('Грошові потоки _ Cash flows'!$E$13+'Грошові потоки _ Cash flows'!$E$15-1)>=AF4+1,AF4+1,0))","v":0},{"$f":"IF(AG4=0,0,IF(('Грошові потоки _ Cash flows'!$E$13+'Грошові потоки _ Cash flows'!$E$15-1)>=AG4+1,AG4+1,0))","v":0},{"$f":"IF(AH4=0,0,IF(('Грошові потоки _ Cash flows'!$E$13+'Грошові потоки _ Cash flows'!$E$15-1)>=AH4+1,AH4+1,0))","v":0},{"$f":"IF(AI4=0,0,IF(('Грошові потоки _ Cash flows'!$E$13+'Грошові потоки _ Cash flows'!$E$15-1)>=AI4+1,AI4+1,0))","v":0},{"$f":"IF(AJ4=0,0,IF(('Грошові потоки _ Cash flows'!$E$13+'Грошові потоки _ Cash flows'!$E$15-1)>=AJ4+1,AJ4+1,0))","v":0},"Разом / Total"]
[null,null,"Приросні операційні доходи",null,"Additional income received",null,"тис.долл./ths.USA",null,{"$f":"I53","v":1922.0687850272934},{"$f":"J53","v":1886.9910297005456},1852.5534434085107,1818.7443430663054,1785.5522588053452,1752.9659300821479,1720.9743018581485,1689.5665208492376,1658.7319318437389,1628.460074087591,1598.7406777354925,1569.5636603668195,1540.9191235651251,1512.7973495600615,1485.1887979305907,null,null,null,null,null,null,null,null,null,null,null,null,null,null,{"$f":"SUM(I5:AK5)","v":25423.81822788695}]
[null,null,"Приросні операційні витрати",null,"Operating costs",null,"тис.долл./ths.USA",null,{"$f":"I58","v":16.78},{"$f":"J58","v":16.78},16.78,16.78,16.78,16.78,16.78,16.78,16.78,16.78,16.78,16.78,16.78,16.78,16.78,null,null,null,null,null,null,null,null,null,null,null,null,null,null,{"$f":"SUM(I6:AK6)","v":251.70000000000002}]
[null,null,"Ефективність проекту",null,"Project efficiency",null,"тис.долл./ths.USA",null,{"$f":"I5-I6","v":1905.2887850272934},{"$f":"J5-J6","v":1870.2110297005456},1835.7734434085107,1801.9643430663054,1768.7722588053452,1736.1859300821479,1704.1943018581485,1672.7865208492376,1641.951931843739,1611.680074087591,1581.9606777354925,1552.7836603668195,1524.1391235651251,1496.0173495600616,1468.4087979305907,null,null,null,null,null,null,null,null,null,null,null,null,null,null,{"$f":"AL5-AL6","v":25172.118227886949}]
[null,null,"Додатковий випуск е/е в мережу",null,"Additional electricity output to the grid",null,"ths.USA",null,0,0,0,0,0,0,0,0,0,0,0,0,0,0,0,null,null,null,null,null,null,null,null,null,null,null,null,null,null,{"$f":"SUM(I8:AK8)","v":0}]
[null,null,"Курс валют UAH/US$","UAH/US$","UAH/US$ Exchange rate",null,"грн./долл./UAH/US$",{"$f":"Припущення_Assumptions!G6","v":38.47},{"$f":"H9","v":38.47},{"$f":"I9","v":38.47},38.47,38.47,38.47,38.47,38.47,38.47,38.47,{"$f":"Q9","v":38.47},{"$f":"R9","v":38.47},38.47,38.47,38.47,38.47]
[null,null,"Курс валют UAH/EUR","UAH/EUR","UAH/EUR Exchange rate",null,"грн./євро/UAH/EUR",{"$f":"Припущення_Assumptions!G7","v":41.66},{"$f":"H10","v":41.66},{"$f":"I10","v":41.66},41.66,41.66,41.66,41.66,41.66,41.66,41.66,{"$f":"Q10","v":41.66},{"$f":"R10","v":41.66},41.66,41.66,41.66,41.66]
[null,null,"Гранична ціна на ДП (розвантаження)",null,"Price cap for anciliary services (downward)",null,"грн./МВт\nUAH/MW",{"$f":"Припущення_Assumptions!G34","v":366.43},{"$f":"H11*Припущення_Assumptions!$G$49","v":366.43},{"$f":"I11*Припущення_Assumptions!$G$49","v":366.43},{"$f":"J11*Припущення_Assumptions!$G$49","v":366.43},{"$f":"K11*Припущення_Assumptions!$G$49","v":366.43},{"$f":"L11*Припущення_Assumptions!$G$49","v":366.43},{"$f":"M11*Припущення_Assumptions!$G$49","v":366.43},{"$f":"N11*Припущення_Assumptions!$G$49","v":366.43},{"$f":"O11*Припущення_Assumptions!$G$49","v":366.43},{"$f":"P11*Припущення_Assumptions!$G$49","v":366.43},{"$f":"Q11*Припущення_Assumptions!$G$49","v":366.43},{"$f":"R11*Припущення_Assumptions!$G$49","v":366.43},{"$f":"S11*Припущення_Assumptions!$G$49","v":366.43},{"$f":"T11*Припущення_Assumptions!$G$49","v":366.43},{"$f":"U11*Припущення_Assumptions!$G$49","v":366.43},{"$f":"V11*Припущення_Assumptions!$G$49","v":366.43}]
[null,null,"Гранична ціна на ДП (завантаження)",null,"Price cap for anciliary services (award)",null,"грн./МВт\nUAH/MW",{"$f":"Припущення_Assumptions!G35","v":973.39},{"$f":"H12*Припущення_Assumptions!$G$49","v":973.39},{"$f":"I12*Припущення_Assumptions!$G$49","v":973.39},{"$f":"J12*Припущення_Assumptions!$G$49","v":973.39},{"$f":"K12*Припущення_Assumptions!$G$49","v":973.39},{"$f":"L12*Припущення_Assumptions!$G$49","v":973.39},{"$f":"M12*Припущення_Assumptions!$G$49","v":973.39},{"$f":"N12*Припущення_Assumptions!$G$49","v":973.39},{"$f":"O12*Припущення_Assumptions!$G$49","v":973.39},{"$f":"P12*Припущення_Assumptions!$G$49","v":973.39},{"$f":"Q12*Припущення_Assumptions!$G$49","v":973.39},{"$f":"R12*Припущення_Assumptions!$G$49","v":973.39},{"$f":"S12*Припущення_Assumptions!$G$49","v":973.39},{"$f":"T12*Припущення_Assumptions!$G$49","v":973.39},{"$f":"U12*Припущення_Assumptions!$G$49","v":973.39},{"$f":"V12*Припущення_Assumptions!$G$49","v":973.39}]
[null,null,"Гранична ціна на ДП (РПЧ)",null,"Price cap for anciliary services (FCR)",null,"грн./МВт\nUAH/MW",{"$f":"Припущення_Assumptions!G46","v":34.827657915258641},{"$f":"H13*Припущення_Assumptions!$G$49","v":34.827657915258641},{"$f":"I13*Припущення_Assumptions!$G$49","v":34.827657915258641},{"$f":"J13*Припущення_Assumptions!$G$49","v":34.827657915258641},{"$f":"K13*Припущення_Assumptions!$G$49","v":34.827657915258641},{"$f":"L13*Припущення_Assumptions!$G$49","v":34.827657915258641},{"$f":"M13*Припущення_Assumptions!$G$49","v":34.827657915258641},{"$f":"N13*Припущення_Assumptions!$G$49","v":34.827657915258641},{"$f":"O13*Припущення_Assumptions!$G$49","v":34.827657915258641},{"$f":"P13*Припущення_Assumptions!$G$49","v":34.827657915258641},{"$f":"Q13*Припущення_Assumptions!$G$49","v":34.827657915258641},{"$f":"R13*Припущення_Assumptions!$G$49","v":34.827657915258641},{"$f":"S13*Припущення_Assumptions!$G$49","v":34.827657915258641},{"$f":"T13*Припущення_Assumptions!$G$49","v":34.827657915258641},{"$f":"U13*Припущення_Assumptions!$G$49","v":34.827657915258641},{"$f":"V13*Припущення_Assumptions!$G$49","v":34.827657915258641}]
[null,null,"Гранична ціна на ДП загальна",null,"Price cap for anciliary services total",null,"грн./МВт\nUAH/MW",{"$f":"Припущення_Assumptions!G36","v":1339.82},{"$f":"H14","v":1339.82},{"$f":"I14","v":1339.82},1339.82,1339.82,{"$f":"L14","v":1339.82},{"$f":"M14","v":1339.82},1339.82,{"$f":"O14","v":1339.82},{"$f":"P14","v":1339.82},1339.82,{"$f":"R14","v":1339.82},{"$f":"S14","v":1339.82},1339.82,{"$f":"U14","v":1339.82},{"$f":"V14","v":1339.82}]
[null,null,"Частка ціни на розвантаження у загальній",null,{"$f":"Припущення_Assumptions!G34/Припущення_Assumptions!G36","v":0.27349196160678302}]
[null,null,"Частка ціни на завантаження у загальній",null,{"$f":"1-E15","v":0.72650803839321698}]
[null,"Економічний ефект Energy Storage 10МВт (РВЧ: резерв відновлення частоти)",null,null,"Economic effect of the Energy Storage 10MW (FRR: Frequency Restoration Reserve )"]
[null,null,"Втрати електроенергії (втрати стораджа), тис.грн.",null,"Losses of electricity (losses of the energy storage),  ths.UAH",null,"тис.грн./ths.UAH",0,0,{"$f":"((Припущення_Assumptions!$G$13*(Припущення_Assumptions!$G$16/(Припущення_Assumptions!$G$16+Припущення_Assumptions!$G$22))*Припущення_Assumptions!$G$32*Припущення_Assumptions!$G$53)+(Припущення_Assumptions!$G$13*(Припущення_Assumptions!$G$22/(Припущення_Assumptions!$G$16+Припущення_Assumptions!$G$22))*Припущення_Assumptions!$G$32*Припущення_Assumptions!$G$51))/1000","v":1.3687499999999999},{"$f":"J18*(1-Припущення_Assumptions!$G$32)","v":1.3437703125},{"$f":"K18*(1-Припущення_Assumptions!$G$32)","v":1.3192465042968751},{"$f":"L18*(1-Припущення_Assumptions!$G$32)","v":1.2951702555934572},{"$f":"M18*(1-Припущення_Assumptions!$G$32)","v":1.2715333984288766},{"$f":"N18*(1-Припущення_Assumptions!$G$32)","v":1.2483279139075496},{"$f":"O18*(1-Припущення_Assumptions!$G$32)","v":1.2255459294787368},{"$f":"P18*(1-Припущення_Assumptions!$G$32)","v":1.2031797162657498},{"$f":"Q18*(1-Припущення_Assumptions!$G$32)","v":1.1812216864438998},{"$f":"R18*(1-Припущення_Assumptions!$G$32)","v":1.1596643906662987},{"$f":"S18*(1-Припущення_Assumptions!$G$32)","v":1.1385005155366388},{"$f":"T18*(1-Припущення_Assumptions!$G$32)","v":1.117722881128095},{"$f":"U18*(1-Припущення_Assumptions!$G$32)","v":1.0973244385475074},{"$f":"V18*(1-Припущення_Assumptions!$G$32)","v":1.0772982675440155}]
[null,null,"Втрати електроенергії (втрати стораджа), тис.долл.",null,"Losses of electricity (losses of energy storage),  ths.EUR",null,"тис.долл./ths.USA",{"$f":"H18/H9","v":0},{"$f":"I18/I9","v":0},{"$f":"J18/J9","v":3.5579672472056144E-2},{"$f":"K18/K9","v":3.4930343449441126E-2},{"$f":"L18/L9","v":3.4292864681488823E-2},{"$f":"M18/M9","v":3.3667019901051656E-2},{"$f":"N18/N9","v":3.3052596787857463E-2},{"$f":"O18/O9","v":3.2449386896479068E-2},{"$f":"P18/P9","v":3.1857185585618321E-2},{"$f":"Q18/Q9","v":3.1275791948680784E-2},{"$f":"R18/R9","v":3.0705008745617358E-2},{"$f":"S18/S9","v":3.0144642336009844E-2},{"$f":"T18/T9","v":2.9594502613377666E-2},{"$f":"U18/U9","v":2.9054402940683521E-2},{"$f":"V18/V9","v":2.852416008701605E-2},{"$f":"W18/W9","v":2.8003594165428008E-2}]
[null,null,"Потужність стораджей",null,"Total energy storage capacity",null,"МВт/MW",{"$f":"Припущення_Assumptions!$G$11","v":10},{"$f":"Припущення_Assumptions!$G$11","v":10},{"$f":"I20","v":10},{"$f":"J20","v":10},10,10,10,10,10,10,10,10,10,10,10,10]
[null,null,"Робоча потужність на завантаження",null,"Working capacity for award",null,"МВт/MW",{"$f":"H20*((Припущення_Assumptions!$G$17+Припущення_Assumptions!$G$23)/(Припущення_Assumptions!$G$16+Припущення_Assumptions!$G$22))","v":10},{"$f":"I20*((Припущення_Assumptions!$G$17+Припущення_Assumptions!$G$23)/(Припущення_Assumptions!$G$16+Припущення_Assumptions!$G$22))","v":10},{"$f":"J20*((Припущення_Assumptions!$G$17+Припущення_Assumptions!$G$23)/(Припущення_Assumptions!$G$16+Припущення_Assumptions!$G$22))","v":10},{"$f":"K20*((Припущення_Assumptions!$G$17+Припущення_Assumptions!$G$23)/(Припущення_Assumptions!$G$16+Припущення_Assumptions!$G$22))","v":10},{"$f":"L20*((Припущення_Assumptions!$G$17+Припущення_Assumptions!$G$23)/(Припущення_Assumptions!$G$16+Припущення_Assumptions!$G$22))","v":10},{"$f":"M20*((Припущення_Assumptions!$G$17+Припущення_Assumptions!$G$23)/(Припущення_Assumptions!$G$16+Припущення_Assumptions!$G$22))","v":10},{"$f":"N20*((Припущення_Assumptions!$G$17+Припущення_Assumptions!$G$23)/(Припущення_Assumptions!$G$16+Припущення_Assumptions!$G$22))","v":10},{"$f":"O20*((Припущення_Assumptions!$G$17+Припущення_Assumptions!$G$23)/(Припущення_Assumptions!$G$16+Припущення_Assumptions!$G$22))","v":10},{"$f":"P20*((Припущення_Assumptions!$G$17+Припущення_Assumptions!$G$23)/(Припущення_Assumptions!$G$16+Припущення_Assumptions!$G$22))","v":10},{"$f":"Q20*((Припущення_Assumptions!$G$17+Припущення_Assumptions!$G$23)/(Припущення_Assumptions!$G$16+Припущення_Assumptions!$G$22))","v":10},{"$f":"R20*((Припущення_Assumptions!$G$17+Припущення_Assumptions!$G$23)/(Припущення_Assumptions!$G$16+Припущення_Assumptions!$G$22))","v":10},{"$f":"S20*((Припущення_Assumptions!$G$17+Припущення_Assumptions!$G$23)/(Припущення_Assumptions!$G$16+Припущення_Assumptions!$G$22))","v":10},{"$f":"T20*((Припущення_Assumptions!$G$17+Припущення_Assumptions!$G$23)/(Припущення_Assumptions!$G$16+Припущення_Assumptions!$G$22))","v":10},{"$f":"U20*((Припущення_Assumptions!$G$17+Припущення_Assumptions!$G$23)/(Припущення_Assumptions!$G$16+Припущення_Assumptions!$G$22))","v":10},{"$f":"V20*((Припущення_Assumptions!$G$17+Припущення_Assumptions!$G$23)/(Припущення_Assumptions!$G$16+Припущення_Assumptions!$G$22))","v":10},{"$f":"W20*((Припущення_Assumptions!$G$17+Припущення_Assumptions!$G$23)/(Припущення_Assumptions!$G$16+Припущення_Assumptions!$G$22))","v":10}]
[null,null,"Робоча потужність на розвантаження",null,"Working capacity for downward",null,"МВт/MW",{"$f":"H20*((Припущення_Assumptions!$G$18+Припущення_Assumptions!$G$24)/(Припущення_Assumptions!$G$16+Припущення_Assumptions!$G$22))","v":0},{"$f":"I20*((Припущення_Assumptions!$G$18+Припущення_Assumptions!$G$24)/(Припущення_Assumptions!$G$16+Припущення_Assumptions!$G$22))","v":0},{"$f":"J20*((Припущення_Assumptions!$G$18+Припущення_Assumptions!$G$24)/(Припущення_Assumptions!$G$16+Припущення_Assumptions!$G$22))","v":0},{"$f":"K20*((Припущення_Assumptions!$G$18+Припущення_Assumptions!$G$24)/(Припущення_Assumptions!$G$16+Припущення_Assumptions!$G$22))","v":0},{"$f":"L20*((Припущення_Assumptions!$G$18+Припущення_Assumptions!$G$24)/(Припущення_Assumptions!$G$16+Припущення_Assumptions!$G$22))","v":0},{"$f":"M20*((Припущення_Assumptions!$G$18+Припущення_Assumptions!$G$24)/(Припущення_Assumptions!$G$16+Припущення_Assumptions!$G$22))","v":0},{"$f":"N20*((Припущення_Assumptions!$G$18+Припущення_Assumptions!$G$24)/(Припущення_Assumptions!$G$16+Припущення_Assumptions!$G$22))","v":0},{"$f":"O20*((Припущення_Assumptions!$G$18+Припущення_Assumptions!$G$24)/(Припущення_Assumptions!$G$16+Припущення_Assumptions!$G$22))","v":0},{"$f":"P20*((Припущення_Assumptions!$G$18+Припущення_Assumptions!$G$24)/(Припущення_Assumptions!$G$16+Припущення_Assumptions!$G$22))","v":0},{"$f":"Q20*((Припущення_Assumptions!$G$18+Припущення_Assumptions!$G$24)/(Припущення_Assumptions!$G$16+Припущення_Assumptions!$G$22))","v":0},{"$f":"R20*((Припущення_Assumptions!$G$18+Припущення_Assumptions!$G$24)/(Припущення_Assumptions!$G$16+Припущення_Assumptions!$G$22))","v":0},{"$f":"S20*((Припущення_Assumptions!$G$18+Припущення_Assumptions!$G$24)/(Припущення_Assumptions!$G$16+Припущення_Assumptions!$G$22))","v":0},{"$f":"T20*((Припущення_Assumptions!$G$18+Припущення_Assumptions!$G$24)/(Припущення_Assumptions!$G$16+Припущення_Assumptions!$G$22))","v":0},{"$f":"U20*((Припущення_Assumptions!$G$18+Припущення_Assumptions!$G$24)/(Припущення_Assumptions!$G$16+Припущення_Assumptions!$G$22))","v":0},{"$f":"V20*((Припущення_Assumptions!$G$18+Припущення_Assumptions!$G$24)/(Припущення_Assumptions!$G$16+Припущення_Assumptions!$G$22))","v":0},{"$f":"W20*((Припущення_Assumptions!$G$18+Припущення_Assumptions!$G$24)/(Припущення_Assumptions!$G$16+Припущення_Assumptions!$G$22))","v":0}]
[null,null,"Загальна ефективність від аРВЧ",null,"The total efficiency of aFRR",null,"тис.долл./ths.USA",{"$f":"((H22*(H25+H51+H52+H57)*Припущення_Assumptions!$H$44*H14*$E$15)+(H21*(H25+H51+H52+H57)*Припущення_Assumptions!$H$43*H14*$E$16))/H9/1000","v":1071.3109591889781},{"$f":"((I22*(I25+I51+I52+I57)*Припущення_Assumptions!$H$44*I14*$E$15)+(I21*(I25+I51+I52+I57)*Припущення_Assumptions!$H$43*I14*$E$16))/I9/1000","v":1071.3109591889781},{"$f":"((J22*(J25+J51+J52+J57)*Припущення_Assumptions!$H$44*J14*$E$15)+(J21*(J25+J51+J52+J57)*Припущення_Assumptions!$H$43*J14*$E$16))/J9/1000","v":1051.7595341837796},{"$f":"((K22*(K25+K51+K52+K57)*Припущення_Assumptions!$H$44*K14*$E$15)+(K21*(K25+K51+K52+K57)*Припущення_Assumptions!$H$43*K14*$E$16))/K9/1000","v":1032.5649226849257},{"$f":"((L22*(L25+L51+L52+L57)*Припущення_Assumptions!$H$44*L14*$E$15)+(L21*(L25+L51+L52+L57)*Припущення_Assumptions!$H$43*L14*$E$16))/L9/1000","v":1013.7206128459256},{"$f":"((M22*(M25+M51+M52+M57)*Припущення_Assumptions!$H$44*M14*$E$15)+(M21*(M25+M51+M52+M57)*Припущення_Assumptions!$H$43*M14*$E$16))/M9/1000","v":995.22021166148761},{"$f":"((N22*(N25+N51+N52+N57)*Припущення_Assumptions!$H$44*N14*$E$15)+(N21*(N25+N51+N52+N57)*Припущення_Assumptions!$H$43*N14*$E$16))/N9/1000","v":977.05744279866542},{"$f":"((O22*(O25+O51+O52+O57)*Припущення_Assumptions!$H$44*O14*$E$15)+(O21*(O25+O51+O52+O57)*Припущення_Assumptions!$H$43*O14*$E$16))/O9/1000","v":959.22614446758985},{"$f":"((P22*(P25+P51+P52+P57)*Припущення_Assumptions!$H$44*P14*$E$15)+(P21*(P25+P51+P52+P57)*Припущення_Assumptions!$H$43*P14*$E$16))/P9/1000","v":941.72026733105622},{"$f":"((Q22*(Q25+Q51+Q52+Q57)*Припущення_Assumptions!$H$44*Q14*$E$15)+(Q21*(Q25+Q51+Q52+Q57)*Припущення_Assumptions!$H$43*Q14*$E$16))/Q9/1000","v":924.5338724522644},{"$f":"((R22*(R25+R51+R52+R57)*Припущення_Assumptions!$H$44*R14*$E$15)+(R21*(R25+R51+R52+R57)*Припущення_Assumptions!$H$43*R14*$E$16))/R9/1000","v":907.66112928001075},{"$f":"((S22*(S25+S51+S52+S57)*Припущення_Assumptions!$H$44*S14*$E$15)+(S21*(S25+S51+S52+S57)*Припущення_Assumptions!$H$43*S14*$E$16))/S9/1000","v":891.09631367065049},{"$f":"((T22*(T25+T51+T52+T57)*Припущення_Assumptions!$H$44*T14*$E$15)+(T21*(T25+T51+T52+T57)*Припущення_Assumptions!$H$43*T14*$E$16))/T9/1000","v":874.83380594616096},{"$f":"((U22*(U25+U51+U52+U57)*Припущення_Assumptions!$H$44*U14*$E$15)+(U21*(U25+U51+U52+U57)*Припущення_Assumptions!$H$43*U14*$E$16))/U9/1000","v":858.86808898764343},{"$f":"((V22*(V25+V51+V52+V57)*Припущення_Assumptions!$H$44*V14*$E$15)+(V21*(V25+V51+V52+V57)*Припущення_Assumptions!$H$43*V14*$E$16))/V9/1000","v":843.19374636361908},{"$f":"((W22*(W25+W51+W52+W57)*Припущення_Assumptions!$H$44*W14*$E$15)+(W21*(W25+W51+W52+W57)*Припущення_Assumptions!$H$43*W14*$E$16))/W9/1000","v":827.80546049248312}]
[null,null,"Загальна ефективність від аРВЧ",null,"The total efficiency of aFRR",null,"тис.долл./ths.USA",{"$f":"H26+H27","v":692.6579477514947},{"$f":"I26+I27","v":692.6579477514947},680.01694020502987,667.60663104628816,655.42281002969344,643.46134374665155,631.71817422327513,620.18931754370033,608.87086249852791,597.75896925792961,586.84986806897234,576.13985797671364,565.62530556863851,555.3026437420109,545.16837049371941,535.21904773220888]
[null,null,"Тривалість готовності до надання послуг аРВЧ",null,"The time of readiness for anciliary services (aFRR)",null,"год./рік",{"$f":"Припущення_Assumptions!G43","v":2737.5},{"$f":"H25","v":2737.5},{"$f":"I25*(1-Припущення_Assumptions!$G$32)","v":2687.5406250000001},{"$f":"J25*(1-Припущення_Assumptions!$G$32)","v":2638.4930085937503},{"$f":"K25*(1-Припущення_Assumptions!$G$32)","v":2590.3405111869142},{"$f":"L25*(1-Припущення_Assumptions!$G$32)","v":2543.0667968577532},{"$f":"M25*(1-Припущення_Assumptions!$G$32)","v":2496.6558278150992},{"$f":"N25*(1-Припущення_Assumptions!$G$32)","v":2451.0918589574735},{"$f":"O25*(1-Припущення_Assumptions!$G$32)","v":2406.3594325314998},{"$f":"P25*(1-Припущення_Assumptions!$G$32)","v":2362.4433728877998},{"$f":"Q25*(1-Припущення_Assumptions!$G$32)","v":2319.3287813325974},{"$f":"R25*(1-Припущення_Assumptions!$G$32)","v":2277.0010310732773},{"$f":"S25*(1-Припущення_Assumptions!$G$32)","v":2235.4457622561899},{"$f":"T25*(1-Припущення_Assumptions!$G$32)","v":2194.6488770950145},{"$f":"U25*(1-Припущення_Assumptions!$G$32)","v":2154.5965350880306},{"$f":"V25*(1-Припущення_Assumptions!$G$32)","v":2115.2751483226739}]
[null,null,"аРВЧ (розвантаження)",null,"aFRR: automatic Frequency Restoration Reserve (downward)",null,"тис.долл./ths.USA",{"$f":"H22*H25*H11/H9/1000","v":0},{"$f":"I22*I25*I11/I9/1000","v":0},{"$f":"J22*J25*J11/J9/1000","v":0},{"$f":"K22*K25*K11/K9/1000","v":0},{"$f":"L22*L25*L11/L9/1000","v":0},{"$f":"M22*M25*M11/M9/1000","v":0},{"$f":"N22*N25*N11/N9/1000","v":0},{"$f":"O22*O25*O11/O9/1000","v":0},{"$f":"P22*P25*P11/P9/1000","v":0},{"$f":"Q22*Q25*Q11/Q9/1000","v":0},{"$f":"R22*R25*R11/R9/1000","v":0},{"$f":"S22*S25*S11/S9/1000","v":0},{"$f":"T22*T25*T11/T9/1000","v":0},{"$f":"U22*U25*U11/U9/1000","v":0},{"$f":"V22*V25*V11/V9/1000","v":0},{"$f":"W22*W25*W11/W9/1000","v":0}]
[null,null,"аРВЧ (завантаження)",null,"aFRR: automatic Frequency Restoration Reserve (award)",null,"тис.долл./ths.USA",{"$f":"H21*H25*H12/H9/1000","v":692.6579477514947},{"$f":"I21*I25*I12/I9/1000","v":692.6579477514947},{"$f":"J21*J25*J12/J9/1000","v":680.01694020502987},{"$f":"K21*K25*K12/K9/1000","v":667.60663104628816},{"$f":"L21*L25*L12/L9/1000","v":655.42281002969344},{"$f":"M21*M25*M12/M9/1000","v":643.46134374665155},{"$f":"N21*N25*N12/N9/1000","v":631.71817422327513},{"$f":"O21*O25*O12/O9/1000","v":620.18931754370033},{"$f":"P21*P25*P12/P9/1000","v":608.87086249852791},{"$f":"Q21*Q25*Q12/Q9/1000","v":597.75896925792961},{"$f":"R21*R25*R12/R9/1000","v":586.84986806897234},{"$f":"S21*S25*S12/S9/1000","v":576.13985797671364},{"$f":"T21*T25*T12/T9/1000","v":565.62530556863851},{"$f":"U21*U25*U12/U9/1000","v":555.3026437420109},{"$f":"V21*V25*V12/V9/1000","v":545.16837049371941},{"$f":"W21*W25*W12/W9/1000","v":535.21904773220888}]
[null,"Економічний ефект Energy storage 10МВт (активація на Балансуючому Ринку)",null,null,"Economic effect of the Energy Storage 10MW (activation on the Balancing market)"]
[null,1,"Об'єм завантаження на БР, зима",null,"Volumes of activation for award on the Balancing market",null,"МВт*год/MWh",{"$f":"H30*H21","v":18250},{"$f":"I30*I21","v":18250},17916.9375,17589.953390625,{"$f":"L30*L21","v":17268.936741246092},{"$f":"M30*M21","v":16953.778645718354},16644.372185433993,{"$f":"O30*O21","v":16340.612393049823},{"$f":"P30*P21","v":16042.396216876663},15749.622485918664,{"$f":"R30*R21","v":15462.19187555065},{"$f":"S30*S21","v":15180.006873821851},14902.971748374603,{"$f":"U30*U21","v":14630.992513966767},{"$f":"V30*V21","v":14363.976900586875},14101.834322151164]
[null,null,"Кількість годин на завантаження, зима",null,"Activation hours for award ",null,"год./Hours",{"$f":"Припущення_Assumptions!G17*Припущення_Assumptions!G37*Припущення_Assumptions!G38","v":1825},{"$f":"H30","v":1825},{"$f":"I30*(1-Припущення_Assumptions!$G$32)","v":1791.6937499999999},{"$f":"J30*(1-Припущення_Assumptions!$G$32)","v":1758.9953390624999},{"$f":"K30*(1-Припущення_Assumptions!$G$32)","v":1726.8936741246093},{"$f":"L30*(1-Припущення_Assumptions!$G$32)","v":1695.3778645718353},{"$f":"M30*(1-Припущення_Assumptions!$G$32)","v":1664.4372185433992},{"$f":"N30*(1-Припущення_Assumptions!$G$32)","v":1634.0612393049823},{"$f":"O30*(1-Припущення_Assumptions!$G$32)","v":1604.2396216876664},{"$f":"P30*(1-Припущення_Assumptions!$G$32)","v":1574.9622485918665},{"$f":"Q30*(1-Припущення_Assumptions!$G$32)","v":1546.219187555065},{"$f":"R30*(1-Припущення_Assumptions!$G$32)","v":1518.0006873821851},{"$f":"S30*(1-Припущення_Assumptions!$G$32)","v":1490.2971748374603},{"$f":"T30*(1-Припущення_Assumptions!$G$32)","v":1463.0992513966767},{"$f":"U30*(1-Припущення_Assumptions!$G$32)","v":1436.3976900586874},{"$f":"V30*(1-Припущення_Assumptions!$G$32)","v":1410.1834322151165}]
[null,null,"Вартість послуги на завантаження, зима",null,"The cost of award service",null,"тис.долл./ths.USA",{"$f":"H29*Припущення_Assumptions!$G$52/1000/CFO!H9","v":2846.3737977644919},{"$f":"I29*Припущення_Assumptions!$G$52/1000/CFO!I9","v":2846.3737977644919},{"$f":"J29*Припущення_Assumptions!$G$52/1000/CFO!J9","v":2794.42747595529},{"$f":"K29*Припущення_Assumptions!$G$52/1000/CFO!K9","v":2743.4291745191058},{"$f":"L29*Припущення_Assumptions!$G$52/1000/CFO!L9","v":2693.3615920841321},{"$f":"M29*Припущення_Assumptions!$G$52/1000/CFO!M9","v":2644.2077430285972},{"$f":"N29*Припущення_Assumptions!$G$52/1000/CFO!N9","v":2595.9509517183251},{"$f":"O29*Припущення_Assumptions!$G$52/1000/CFO!O9","v":2548.5748468494658},{"$f":"P29*Припущення_Assumptions!$G$52/1000/CFO!P9","v":2502.0633558944628},{"$f":"Q29*Припущення_Assumptions!$G$52/1000/CFO!Q9","v":2456.4006996493886},{"$f":"R29*Припущення_Assumptions!$G$52/1000/CFO!R9","v":2411.5713868807879},{"$f":"S29*Припущення_Assumptions!$G$52/1000/CFO!S9","v":2367.5602090702132},{"$f":"T29*Припущення_Assumptions!$G$52/1000/CFO!T9","v":2324.3522352546825},{"$f":"U29*Припущення_Assumptions!$G$52/1000/CFO!U9","v":2281.9328069612839},{"$f":"V29*Припущення_Assumptions!$G$52/1000/CFO!V9","v":2240.287533234241},{"$f":"W29*Припущення_Assumptions!$G$52/1000/CFO!W9","v":2199.4022857527161}]
[null,null,"Об'єм завантаження на БР, літо",null,"Volumes of activation for award on the Balancing market, summer",null,"МВт*год/MWh",{"$f":"H33*H21","v":9125},{"$f":"I33*I21","v":9125},{"$f":"J33*J21","v":8958.46875},8794.9766953124999,{"$f":"L33*L21","v":8634.4683706230462},{"$f":"M33*M21","v":8476.8893228591769},8322.1860927169964,{"$f":"O33*O21","v":8170.3061965249117},{"$f":"P33*P21","v":8021.1981084383315},7874.811242959332,{"$f":"R33*R21","v":7731.0959377753252},{"$f":"S33*S21","v":7590.0034369109253},7451.4858741873013,{"$f":"U33*U21","v":7315.4962569833833},{"$f":"V33*V21","v":7181.9884502934374},7050.917161075582]
[null,null,"Кількість годин на завантаження, літо",null,"Activation hours for award, summer",null,"год./Hours",{"$f":"Припущення_Assumptions!G23*Припущення_Assumptions!G37*Припущення_Assumptions!G39","v":912.5},{"$f":"H33","v":912.5},{"$f":"I33*(1-Припущення_Assumptions!$G$32)","v":895.84687499999995},{"$f":"J33*(1-Припущення_Assumptions!$G$32)","v":879.49766953124993},{"$f":"K33*(1-Припущення_Assumptions!$G$32)","v":863.44683706230467},{"$f":"L33*(1-Припущення_Assumptions!$G$32)","v":847.68893228591764},{"$f":"M33*(1-Припущення_Assumptions!$G$32)","v":832.21860927169962},{"$f":"N33*(1-Припущення_Assumptions!$G$32)","v":817.03061965249117},{"$f":"O33*(1-Припущення_Assumptions!$G$32)","v":802.11981084383319},{"$f":"P33*(1-Припущення_Assumptions!$G$32)","v":787.48112429593323},{"$f":"Q33*(1-Припущення_Assumptions!$G$32)","v":773.1095937775325},{"$f":"R33*(1-Припущення_Assumptions!$G$32)","v":759.00034369109255},{"$f":"S33*(1-Припущення_Assumptions!$G$32)","v":745.14858741873013},{"$f":"T33*(1-Припущення_Assumptions!$G$32)","v":731.54962569833833},{"$f":"U33*(1-Припущення_Assumptions!$G$32)","v":718.19884502934372},{"$f":"V33*(1-Припущення_Assumptions!$G$32)","v":705.09171610755823}]
[null,null,"Вартість послуги на завантаження, літо",null,"The cost of award service, summer",null,"тис.долл./ths.USA",{"$f":"H32*Припущення_Assumptions!$G$50/1000/CFO!H9","v":1245.2885365219652},{"$f":"I32*Припущення_Assumptions!$G$50/1000/CFO!I9","v":1245.2885365219652},{"$f":"J32*Припущення_Assumptions!$G$50/1000/CFO!J9","v":1222.5620207304394},{"$f":"K32*Припущення_Assumptions!$G$50/1000/CFO!K9","v":1200.2502638521089},{"$f":"L32*Припущення_Assumptions!$G$50/1000/CFO!L9","v":1178.3456965368077},{"$f":"M32*Припущення_Assumptions!$G$50/1000/CFO!M9","v":1156.8408875750113},{"$f":"N32*Припущення_Assumptions!$G$50/1000/CFO!N9","v":1135.7285413767672},{"$f":"O32*Припущення_Assumptions!$G$50/1000/CFO!O9","v":1115.0014954966412},{"$f":"P32*Припущення_Assumptions!$G$50/1000/CFO!P9","v":1094.6527182038274},{"$f":"Q32*Припущення_Assumptions!$G$50/1000/CFO!Q9","v":1074.6753060966075},{"$f":"R32*Припущення_Assumptions!$G$50/1000/CFO!R9","v":1055.0624817603446},{"$f":"S32*Припущення_Assumptions!$G$50/1000/CFO!S9","v":1035.8075914682183},{"$f":"T32*Припущення_Assumptions!$G$50/1000/CFO!T9","v":1016.9041029239233},{"$f":"U32*Припущення_Assumptions!$G$50/1000/CFO!U9","v":998.34560304556203},{"$f":"V32*Припущення_Assumptions!$G$50/1000/CFO!V9","v":980.12579578998043},{"$f":"W32*Припущення_Assumptions!$G$50/1000/CFO!W9","v":962.2385000168133}]
[null,2,"Об'єм розвантаження на БР, зима",null,"Volumes of activation for downward on the Balancing market, winter",null,"МВт*год/MWh",{"$f":"H36*H22","v":0},{"$f":"I36*I22","v":0},{"$f":"J36*J22","v":0},0,0,0,0,0,0,0,0,0,0,0,0,0]
[null,null,"Кількість годин на розвантаження, зима",null,"Activation hours for downward, winter",null,"год./Hours",{"$f":"Припущення_Assumptions!G18*Припущення_Assumptions!G37*Припущення_Assumptions!G38","v":0},{"$f":"H36","v":0},{"$f":"I36*(1-Припущення_Assumptions!$G$32)","v":0},{"$f":"J36*(1-Припущення_Assumptions!$G$32)","v":0},{"$f":"K36*(1-Припущення_Assumptions!$G$32)","v":0},{"$f":"L36*(1-Припущення_Assumptions!$G$32)","v":0},{"$f":"M36*(1-Припущення_Assumptions!$G$32)","v":0},{"$f":"N36*(1-Припущення_Assumptions!$G$32)","v":0},{"$f":"O36*(1-Припущення_Assumptions!$G$32)","v":0},{"$f":"P36*(1-Припущення_Assumptions!$G$32)","v":0},{"$f":"Q36*(1-Припущення_Assumptions!$G$32)","v":0},{"$f":"R36*(1-Припущення_Assumptions!$G$32)","v":0},{"$f":"S36*(1-Припущення_Assumptions!$G$32)","v":0},{"$f":"T36*(1-Припущення_Assumptions!$G$32)","v":0},{"$f":"U36*(1-Припущення_Assumptions!$G$32)","v":0},{"$f":"V36*(1-Припущення_Assumptions!$G$32)","v":0}]
[null,null,"Вартість послуги на розвантаження, зима",null,"The cost of downward service, winter",null,"тис.долл./ths.USA",{"$f":"H35*Припущення_Assumptions!$G$53/1000/CFO!H9","v":0},{"$f":"I35*Припущення_Assumptions!$G$53/1000/CFO!I9","v":0},{"$f":"J35*Припущення_Assumptions!$G$53/1000/CFO!J9","v":0},{"$f":"K35*Припущення_Assumptions!$G$53/1000/CFO!K9","v":0},{"$f":"L35*Припущення_Assumptions!$G$53/1000/CFO!L9","v":0},{"$f":"M35*Припущення_Assumptions!$G$53/1000/CFO!M9","v":0},{"$f":"N35*Припущення_Assumptions!$G$53/1000/CFO!N9","v":0},{"$f":"O35*Припущення_Assumptions!$G$53/1000/CFO!O9","v":0},{"$f":"P35*Припущення_Assumptions!$G$53/1000/CFO!P9","v":0},{"$f":"Q35*Припущення_Assumptions!$G$53/1000/CFO!Q9","v":0},{"$f":"R35*Припущення_Assumptions!$G$53/1000/CFO!R9","v":0},{"$f":"S35*Припущення_Assumptions!$G$53/1000/CFO!S9","v":0},{"$f":"T35*Припущення_Assumptions!$G$53/1000/CFO!T9","v":0},{"$f":"U35*Припущення_Assumptions!$G$53/1000/CFO!U9","v":0},{"$f":"V35*Припущення_Assumptions!$G$53/1000/CFO!V9","v":0},{"$f":"W35*Припущення_Assumptions!$G$53/1000/CFO!W9","v":0}]
[null,null,"Об'єм розвантаження на БР, літо",null,"Volumes of activation for downward on the Balancing market, summer",null,"МВт*год/MWh",{"$f":"H39*H22","v":0},{"$f":"I39*I22","v":0},0,0,0,0,0,0,0,0,0,0,0,0,0,0]
[null,null,"Кількість годин на розвантаження, літо",null,"Activation hours for downward, summer",null,"год./Hours",{"$f":"Припущення_Assumptions!G24*Припущення_Assumptions!G37*Припущення_Assumptions!G39","v":0},{"$f":"H39","v":0},{"$f":"I39*(1-Припущення_Assumptions!$G$32)","v":0},{"$f":"J39*(1-Припущення_Assumptions!$G$32)","v":0},{"$f":"K39*(1-Припущення_Assumptions!$G$32)","v":0},{"$f":"L39*(1-Припущення_Assumptions!$G$32)","v":0},{"$f":"M39*(1-Припущення_Assumptions!$G$32)","v":0},{"$f":"N39*(1-Припущення_Assumptions!$G$32)","v":0},{"$f":"O39*(1-Припущення_Assumptions!$G$32)","v":0},{"$f":"P39*(1-Припущення_Assumptions!$G$32)","v":0},{"$f":"Q39*(1-Припущення_Assumptions!$G$32)","v":0},{"$f":"R39*(1-Припущення_Assumptions!$G$32)","v":0},{"$f":"S39*(1-Припущення_Assumptions!$G$32)","v":0},{"$f":"T39*(1-Припущення_Assumptions!$G$32)","v":0},{"$f":"U39*(1-Припущення_Assumptions!$G$32)","v":0},{"$f":"V39*(1-Припущення_Assumptions!$G$32)","v":0}]
[null,null,"Вартість послуги на розвантаження, літо",null,"The cost of downward service, summer",null,"тис.долл./ths.USA",{"$f":"H38*Припущення_Assumptions!$G$51/1000/CFO!H9","v":0},{"$f":"I38*Припущення_Assumptions!$G$51/1000/CFO!I9","v":0},{"$f":"J38*Припущення_Assumptions!$G$51/1000/CFO!J9","v":0},{"$f":"K38*Припущення_Assumptions!$G$51/1000/CFO!K9","v":0},{"$f":"L38*Припущення_Assumptions!$G$51/1000/CFO!L9","v":0},{"$f":"M38*Припущення_Assumptions!$G$51/1000/CFO!M9","v":0},{"$f":"N38*Припущення_Assumptions!$G$51/1000/CFO!N9","v":0},{"$f":"O38*Припущення_Assumptions!$G$51/1000/CFO!O9","v":0},{"$f":"P38*Припущення_Assumptions!$G$51/1000/CFO!P9","v":0},{"$f":"Q38*Припущення_Assumptions!$G$51/1000/CFO!Q9","v":0},{"$f":"R38*Припущення_Assumptions!$G$51/1000/CFO!R9","v":0},{"$f":"S38*Припущення_Assumptions!$G$51/1000/CFO!S9","v":0},{"$f":"T38*Припущення_Assumptions!$G$51/1000/CFO!T9","v":0},{"$f":"U38*Припущення_Assumptions!$G$51/1000/CFO!U9","v":0},{"$f":"V38*Припущення_Assumptions!$G$51/1000/CFO!V9","v":0},{"$f":"W38*Припущення_Assumptions!$G$51/1000/CFO!W9","v":0}]
[null,null,"Згальна ефективність від діяльності на БР",null,"The total efficiency of the work on the Balancing market",null,"тис.долл./ths.USA",{"$f":"H31+H34+H37+H40","v":4091.6623342864568},{"$f":"I31+I34+I37+I40","v":4091.6623342864568},{"$f":"J31+J34+J37+J40","v":4016.9894966857291},3943.6794383712149,3871.7072886209398,3801.0486306036082,3731.6794930950923,3663.5763423461067,3596.7160740982899,3531.0760057459961,3466.6338686411327,3403.3678005384318,3341.2563381786058,3280.2784100068457,3220.4133290242216,3161.6407857695294]
[null,null,"Величина втрат електроенергії",null,"The amount of electricity losses",null,"МВт*год/MWh",{"$f":"(H29+H32)*Припущення_Assumptions!$G$30","v":4106.25},{"$f":"(I29+I32)*Припущення_Assumptions!$G$30","v":4106.25},{"$f":"(J29+J32)*Припущення_Assumptions!$G$30","v":4031.3109374999999},{"$f":"(K29+K32)*Припущення_Assumptions!$G$30","v":3957.7395128906246},{"$f":"(L29+L32)*Припущення_Assumptions!$G$30","v":3885.5107667803704},{"$f":"(M29+M32)*Припущення_Assumptions!$G$30","v":3814.6001952866295},{"$f":"(N29+N32)*Припущення_Assumptions!$G$30","v":3744.9837417226481},{"$f":"(O29+O32)*Припущення_Assumptions!$G$30","v":3676.6377884362105},{"$f":"(P29+P32)*Припущення_Assumptions!$G$30","v":3609.5391487972493},{"$f":"(Q29+Q32)*Припущення_Assumptions!$G$30","v":3543.6650593316995},{"$f":"(R29+R32)*Припущення_Assumptions!$G$30","v":3478.9931719988963},{"$f":"(S29+S32)*Припущення_Assumptions!$G$30","v":3415.5015466099162},{"$f":"(T29+T32)*Припущення_Assumptions!$G$30","v":3353.1686433842851},{"$f":"(U29+U32)*Припущення_Assumptions!$G$30","v":3291.9733156425223},{"$f":"(V29+V32)*Припущення_Assumptions!$G$30","v":3231.8948026320468},{"$f":"(W29+W32)*Припущення_Assumptions!$G$30","v":3172.9127224840122}]
[null,null,"Вартість  втрат електроенергії (плата за тариф)",null,"The cost of electricity losses (tariff fee)",null,"тис.долл./ths.USA",{"$f":"(H42*#REF!+H42*#REF!)/H9/1000","v":{"$error":"#REF!"}},{"$f":"(I42*#REF!+I42*#REF!)/I9/1000","v":{"$error":"#REF!"}},{"$f":"(J42*#REF!+J42*#REF!)/J9/1000","v":{"$error":"#REF!"}},{"$f":"(K42*#REF!+K42*#REF!)/K9/1000","v":{"$error":"#REF!"}},{"$f":"(L42*#REF!+L42*#REF!)/L9/1000","v":{"$error":"#REF!"}},{"$f":"(M42*#REF!+M42*#REF!)/M9/1000","v":{"$error":"#REF!"}},{"$f":"(N42*#REF!+N42*#REF!)/N9/1000","v":{"$error":"#REF!"}},{"$f":"(O42*#REF!+O42*#REF!)/O9/1000","v":{"$error":"#REF!"}},{"$f":"(P42*#REF!+P42*#REF!)/P9/1000","v":{"$error":"#REF!"}},{"$f":"(Q42*#REF!+Q42*#REF!)/Q9/1000","v":{"$error":"#REF!"}},{"$f":"(R42*#REF!+R42*#REF!)/R9/1000","v":{"$error":"#REF!"}},{"$f":"(S42*#REF!+S42*#REF!)/S9/1000","v":{"$error":"#REF!"}},{"$f":"(T42*#REF!+T42*#REF!)/T9/1000","v":{"$error":"#REF!"}},{"$f":"(U42*#REF!+U42*#REF!)/U9/1000","v":{"$error":"#REF!"}},{"$f":"(V42*#REF!+V42*#REF!)/V9/1000","v":{"$error":"#REF!"}},{"$f":"(W42*#REF!+W42*#REF!)/W9/1000","v":{"$error":"#REF!"}}]
[null,null,"Витрати на зарядку після активації, зима",null,"Expenses for charging after activation, winter",null,"тис.долл./ths.USA",{"$f":"(H29*(1+Припущення_Assumptions!$G$30)-H35)*Припущення_Assumptions!$G$53/1000/H9","v":818.33246685729137},{"$f":"(I29*(1+Припущення_Assumptions!$G$30)-I35)*Припущення_Assumptions!$G$53/1000/I9","v":818.33246685729137},{"$f":"(J29*(1+Припущення_Assumptions!$G$30)-J35)*Припущення_Assumptions!$G$53/1000/J9","v":803.39789933714576},{"$f":"(K29*(1+Припущення_Assumptions!$G$30)-K35)*Припущення_Assumptions!$G$53/1000/K9","v":788.7358876742428},{"$f":"(L29*(1+Припущення_Assumptions!$G$30)-L35)*Припущення_Assumptions!$G$53/1000/L9","v":774.34145772418776},{"$f":"(M29*(1+Припущення_Assumptions!$G$30)-M35)*Припущення_Assumptions!$G$53/1000/M9","v":760.2097261207216},{"$f":"(N29*(1+Припущення_Assumptions!$G$30)-N35)*Припущення_Assumptions!$G$53/1000/N9","v":746.33589861901851},{"$f":"(O29*(1+Припущення_Assumptions!$G$30)-O35)*Припущення_Assumptions!$G$53/1000/O9","v":732.7152684692212},{"$f":"(P29*(1+Припущення_Assumptions!$G$30)-P35)*Припущення_Assumptions!$G$53/1000/P9","v":719.34321481965799},{"$f":"(Q29*(1+Припущення_Assumptions!$G$30)-Q35)*Припущення_Assumptions!$G$53/1000/Q9","v":706.21520114919917},{"$f":"(R29*(1+Припущення_Assumptions!$G$30)-R35)*Припущення_Assumptions!$G$53/1000/R9","v":693.32677372822639},{"$f":"(S29*(1+Припущення_Assumptions!$G$30)-S35)*Припущення_Assumptions!$G$53/1000/S9","v":680.67356010768628},{"$f":"(T29*(1+Припущення_Assumptions!$G$30)-T35)*Припущення_Assumptions!$G$53/1000/T9","v":668.25126763572098},{"$f":"(U29*(1+Припущення_Assumptions!$G$30)-U35)*Припущення_Assumptions!$G$53/1000/U9","v":656.05568200136918},{"$f":"(V29*(1+Припущення_Assumptions!$G$30)-V35)*Припущення_Assumptions!$G$53/1000/V9","v":644.08266580484428},{"$f":"(W29*(1+Припущення_Assumptions!$G$30)-W35)*Припущення_Assumptions!$G$53/1000/W9","v":632.32815715390575}]
[null,null,"Витрати на зарядку після активації, літо",null,"Expenses for charging after activation, summer",null,"тис.долл./ths.USA",{"$f":"(H32*(1+Припущення_Assumptions!$G$30)-H38)*Припущення_Assumptions!$G$51/1000/H9","v":204.58311671432284},{"$f":"(I32*(1+Припущення_Assumptions!$G$30)-I38)*Припущення_Assumptions!$G$51/1000/I9","v":204.58311671432284},{"$f":"(J32*(1+Припущення_Assumptions!$G$30)-J38)*Припущення_Assumptions!$G$51/1000/J9","v":200.84947483428644},{"$f":"(K32*(1+Припущення_Assumptions!$G$30)-K38)*Припущення_Assumptions!$G$51/1000/K9","v":197.1839719185607},{"$f":"(L32*(1+Припущення_Assumptions!$G$30)-L38)*Припущення_Assumptions!$G$51/1000/L9","v":193.58536443104694},{"$f":"(M32*(1+Припущення_Assumptions!$G$30)-M38)*Припущення_Assumptions!$G$51/1000/M9","v":190.0524315301804},{"$f":"(N32*(1+Припущення_Assumptions!$G$30)-N38)*Припущення_Assumptions!$G$51/1000/N9","v":186.58397465475463},{"$f":"(O32*(1+Припущення_Assumptions!$G$30)-O38)*Припущення_Assumptions!$G$51/1000/O9","v":183.1788171173053},{"$f":"(P32*(1+Припущення_Assumptions!$G$30)-P38)*Припущення_Assumptions!$G$51/1000/P9","v":179.8358037049145},{"$f":"(Q32*(1+Припущення_Assumptions!$G$30)-Q38)*Припущення_Assumptions!$G$51/1000/Q9","v":176.55380028729979},{"$f":"(R32*(1+Припущення_Assumptions!$G$30)-R38)*Припущення_Assumptions!$G$51/1000/R9","v":173.3316934320566},{"$f":"(S32*(1+Припущення_Assumptions!$G$30)-S38)*Припущення_Assumptions!$G$51/1000/S9","v":170.16839002692157},{"$f":"(T32*(1+Припущення_Assumptions!$G$30)-T38)*Припущення_Assumptions!$G$51/1000/T9","v":167.06281690893024},{"$f":"(U32*(1+Припущення_Assumptions!$G$30)-U38)*Припущення_Assumptions!$G$51/1000/U9","v":164.01392050034229},{"$f":"(V32*(1+Припущення_Assumptions!$G$30)-V38)*Припущення_Assumptions!$G$51/1000/V9","v":161.02066645121107},{"$f":"(W32*(1+Припущення_Assumptions!$G$30)-W38)*Припущення_Assumptions!$G$51/1000/W9","v":158.08203928847644}]
[null,null,"Витрати на зарядку",null,"Expenses for charging",null,"тис.долл./ths.USA",{"$f":"H44+H45","v":1022.9155835716142},{"$f":"I44+I45","v":1022.9155835716142},1004.2473741714322,985.9198595928035,967.92682215523473,950.26215765090205,932.91987327377319,915.89408558652644,899.17901852457248,882.76900143649891,866.65846716028295,850.84195013460783,835.31408454465122,820.06960250171142,805.10333225605541,790.41019644238213]
[null,"Економічний ефект Energy storage 10МВт (РПЧ - резерв підтримки частоти)"]
[null,null,"Потужність стораджей",null,"Energy storage capacity",null,"МВт/MW",{"$f":"H20","v":10},10,10,10,10,10,10,10,10,10,10,10,10,10,10,10]
[null,null,"Робоча потужність РПЧ на завантаження",null,"Working capacity of FCR for award",null,"МВт/MW",{"$f":"H48/2","v":5},{"$f":"I48/2","v":5},5,5,5,5,5,5,5,5,5,5,5,5,5,5]
[null,null,"Робоча потужність РПЧ на розвантаження",null,"Working capacity of FCR for downward",null,"МВт/MW",{"$f":"H48/2","v":5},{"$f":"I48/2","v":5},5,5,5,5,5,5,5,5,5,5,5,5,5,5]
[null,null,"Тривалість  готовності до надання послуг РПЧ",null,"The time of readiness for FCR, winter",null,"год./Hours",{"$f":"Припущення_Assumptions!$G$42*Припущення_Assumptions!$G$47*Припущення_Assumptions!$G$29","v":5518.7999999999993},{"$f":"H51","v":5518.7999999999993},{"$f":"I51*(1-Припущення_Assumptions!$G$32)","v":5418.0818999999992},{"$f":"J51*(1-Припущення_Assumptions!$G$32)","v":5319.2019053249996},{"$f":"K51*(1-Припущення_Assumptions!$G$32)","v":5222.1264705528183},{"$f":"L51*(1-Припущення_Assumptions!$G$32)","v":5126.8226624652298},{"$f":"M51*(1-Припущення_Assumptions!$G$32)","v":5033.2581488752394},{"$f":"N51*(1-Припущення_Assumptions!$G$32)","v":4941.4011876582663},{"$f":"O51*(1-Припущення_Assumptions!$G$32)","v":4851.2206159835032},{"$f":"P51*(1-Припущення_Assumptions!$G$32)","v":4762.6858397418046},{"$f":"Q51*(1-Припущення_Assumptions!$G$32)","v":4675.7668231665166},{"$f":"R51*(1-Припущення_Assumptions!$G$32)","v":4590.4340786437278},{"$f":"S51*(1-Припущення_Assumptions!$G$32)","v":4506.6586567084796},{"$f":"T51*(1-Припущення_Assumptions!$G$32)","v":4424.4121362235501},{"$f":"U51*(1-Припущення_Assumptions!$G$32)","v":4343.6666147374699},{"$f":"V51*(1-Припущення_Assumptions!$G$32)","v":4264.3946990185113}]
[null,null,"Тривалість  готовності до надання послуг РПЧ, літо",null,"The time of readiness for FCR, summer",null,"год./Hours",{"$f":"Припущення_Assumptions!G25*Припущення_Assumptions!G37*Припущення_Assumptions!G39","v":2555},{"$f":"H52","v":2555},{"$f":"I52*(1-Припущення_Assumptions!$G$32)","v":2508.3712500000001},{"$f":"J52*(1-Припущення_Assumptions!$G$32)","v":2462.5934746875},{"$f":"K52*(1-Припущення_Assumptions!$G$32)","v":2417.651143774453},{"$f":"L52*(1-Припущення_Assumptions!$G$32)","v":2373.5290104005694},{"$f":"M52*(1-Припущення_Assumptions!$G$32)","v":2330.2121059607589},{"$f":"N52*(1-Припущення_Assumptions!$G$32)","v":2287.6857350269752},{"$f":"O52*(1-Припущення_Assumptions!$G$32)","v":2245.9354703627328},{"$f":"P52*(1-Припущення_Assumptions!$G$32)","v":2204.9471480286129},{"$f":"Q52*(1-Припущення_Assumptions!$G$32)","v":2164.7068625770908},{"$f":"R52*(1-Припущення_Assumptions!$G$32)","v":2125.2009623350591},{"$f":"S52*(1-Припущення_Assumptions!$G$32)","v":2086.4160447724444},{"$f":"T52*(1-Припущення_Assumptions!$G$32)","v":2048.3389519553471},{"$f":"U52*(1-Припущення_Assumptions!$G$32)","v":2010.9567660821619},{"$f":"V52*(1-Припущення_Assumptions!$G$32)","v":1974.2568051011626}]
[null,null,"Дохід за надання РПЧ",null,"Efficiency of FCR, USD",null,"тис.долл./ths.USA",{"$f":"H51*Припущення_Assumptions!$G$46*H48/1000","v":1922.0687850272934},{"$f":"I51*Припущення_Assumptions!$G$46*I48/1000","v":1922.0687850272934},{"$f":"J51*Припущення_Assumptions!$G$46*J48/1000","v":1886.9910297005456},{"$f":"K51*Припущення_Assumptions!$G$46*K48/1000","v":1852.5534434085107},{"$f":"L51*Припущення_Assumptions!$G$46*L48/1000","v":1818.7443430663054},{"$f":"M51*Припущення_Assumptions!$G$46*M48/1000","v":1785.5522588053452},{"$f":"N51*Припущення_Assumptions!$G$46*N48/1000","v":1752.9659300821479},{"$f":"O51*Припущення_Assumptions!$G$46*O48/1000","v":1720.9743018581485},{"$f":"P51*Припущення_Assumptions!$G$46*P48/1000","v":1689.5665208492376},{"$f":"Q51*Припущення_Assumptions!$G$46*Q48/1000","v":1658.7319318437389},{"$f":"R51*Припущення_Assumptions!$G$46*R48/1000","v":1628.460074087591},{"$f":"S51*Припущення_Assumptions!$G$46*S48/1000","v":1598.7406777354925},{"$f":"T51*Припущення_Assumptions!$G$46*T48/1000","v":1569.5636603668195},{"$f":"U51*Припущення_Assumptions!$G$46*U48/1000","v":1540.9191235651251},{"$f":"V51*Припущення_Assumptions!$G$46*V48/1000","v":1512.7973495600615},{"$f":"W51*Припущення_Assumptions!$G$46*W48/1000","v":1485.1887979305907}]
[null,null,"Обсяг е/е, необхідний для роботи на РПЧ ",null,"The amount of electricity for providing FCR",null,"МВт*год/MWh",{"$f":"H48/2*Припущення_Assumptions!$G$12","v":30},{"$f":"I48/2*Припущення_Assumptions!$G$12","v":30},{"$f":"J48/2*Припущення_Assumptions!$G$12*(1-Припущення_Assumptions!$G$32)","v":29.452500000000001},{"$f":"K48/2*Припущення_Assumptions!$G$12*(1-Припущення_Assumptions!$G$32)^2","v":28.914991874999998},{"$f":"L48/2*Припущення_Assumptions!$G$12*(1-Припущення_Assumptions!$G$32)^3","v":28.387293273281252},{"$f":"M48/2*Припущення_Assumptions!$G$12*(1-Припущення_Assumptions!$G$32)^4","v":27.869225171043869},{"$f":"N48/2*Припущення_Assumptions!$G$12*(1-Припущення_Assumptions!$G$32)^5","v":27.360611811672317},{"$f":"O48/2*Припущення_Assumptions!$G$12*(1-Припущення_Assumptions!$G$32)^6","v":26.861280646109297},{"$f":"P48/2*Припущення_Assumptions!$G$12*(1-Припущення_Assumptions!$G$32)^7","v":26.371062274317804},{"$f":"Q48/2*Припущення_Assumptions!$G$12*(1-Припущення_Assumptions!$G$32)^8","v":25.889790387811505},{"$f":"R48/2*Припущення_Assumptions!$G$12*(1-Припущення_Assumptions!$G$32)^9","v":25.417301713233947},{"$f":"S48/2*Припущення_Assumptions!$G$12*(1-Припущення_Assumptions!$G$32)^10","v":24.953435956967425},{"$f":"T48/2*Припущення_Assumptions!$G$12*(1-Припущення_Assumptions!$G$32)^11","v":24.49803575075277},{"$f":"U48/2*Припущення_Assumptions!$G$12*(1-Припущення_Assumptions!$G$32)^12","v":24.050946598301536},{"$f":"V48/2*Припущення_Assumptions!$G$12*(1-Припущення_Assumptions!$G$32)^13","v":23.612016822882531},{"$f":"W48/2*Припущення_Assumptions!$G$12*(1-Припущення_Assumptions!$G$32)^14","v":23.181097515864924}]
[null,null,"Обсяг е/е, необхідний для дозарядки після надання ДП",null,"The amount of electricity for recharging after FCR",null,"МВт*год/MWh",{"$f":"H54*Припущення_Assumptions!$G$47*Припущення_Assumptions!$G$48","v":324},{"$f":"I54*Припущення_Assumptions!$G$47*Припущення_Assumptions!$G$48","v":324},{"$f":"J54*Припущення_Assumptions!$G$47*Припущення_Assumptions!$G$48","v":318.08700000000005},{"$f":"K54*Припущення_Assumptions!$G$47*Припущення_Assumptions!$G$48","v":312.28191225},{"$f":"L54*Припущення_Assumptions!$G$47*Припущення_Assumptions!$G$48","v":306.5827673514375},{"$f":"M54*Припущення_Assumptions!$G$47*Припущення_Assumptions!$G$48","v":300.9876318472738},{"$f":"N54*Припущення_Assumptions!$G$47*Припущення_Assumptions!$G$48","v":295.49460756606106},{"$f":"O54*Припущення_Assumptions!$G$47*Припущення_Assumptions!$G$48","v":290.1018309779804},{"$f":"P54*Припущення_Assumptions!$G$47*Припущення_Assumptions!$G$48","v":284.80747256263231},{"$f":"Q54*Припущення_Assumptions!$G$47*Припущення_Assumptions!$G$48","v":279.60973618836425},{"$f":"R54*Припущення_Assumptions!$G$47*Припущення_Assumptions!$G$48","v":274.50685850292666},{"$f":"S54*Припущення_Assumptions!$G$47*Припущення_Assumptions!$G$48","v":269.49710833524819},{"$f":"T54*Припущення_Assumptions!$G$47*Припущення_Assumptions!$G$48","v":264.57878610812992},{"$f":"U54*Припущення_Assumptions!$G$47*Припущення_Assumptions!$G$48","v":259.75022326165663},{"$f":"V54*Припущення_Assumptions!$G$47*Припущення_Assumptions!$G$48","v":255.00978168713132},{"$f":"W54*Припущення_Assumptions!$G$47*Припущення_Assumptions!$G$48","v":250.35585317134121}]
[null,null,"Витрати на зарядку, долл.",null,"The cost og charging, USD",null,"тис.долл./ths.USA",{"$f":"((H54*(H51/(H51+H52))*(1+Припущення_Assumptions!$G$30)*Припущення_Assumptions!$G$53)+(H54*(H52/(H51+H52))*(1+Припущення_Assumptions!$G$30)*Припущення_Assumptions!$G$51)+(H55*(H51/(H51+H52))*(1+Припущення_Assumptions!$G$30)*Припущення_Assumptions!$G$53)+(H55*(H52/(H51+H52))*(1+Припущення_Assumptions!$G$30)*Припущення_Assumptions!$G$51))/1000/H9","v":13.361792684090512},{"$f":"((I54*(I51/(I51+I52))*(1+Припущення_Assumptions!$G$30)*Припущення_Assumptions!$G$53)+(I54*(I52/(I51+I52))*(1+Припущення_Assumptions!$G$30)*Припущення_Assumptions!$G$51)+(I55*(I51/(I51+I52))*(1+Припущення_Assumptions!$G$30)*Припущення_Assumptions!$G$53)+(I55*(I52/(I51+I52))*(1+Припущення_Assumptions!$G$30)*Припущення_Assumptions!$G$51))/1000/I9","v":13.361792684090512},{"$f":"((J54*(J51/(J51+J52))*(1+Припущення_Assumptions!$G$30)*Припущення_Assumptions!$G$53)+(J54*(J52/(J51+J52))*(1+Припущення_Assumptions!$G$30)*Припущення_Assumptions!$G$51)+(J55*(J51/(J51+J52))*(1+Припущення_Assumptions!$G$30)*Припущення_Assumptions!$G$53)+(J55*(J52/(J51+J52))*(1+Припущення_Assumptions!$G$30)*Припущення_Assumptions!$G$51))/1000/J9","v":13.117939967605862},{"$f":"((K54*(K51/(K51+K52))*(1+Припущення_Assumptions!$G$30)*Припущення_Assumptions!$G$53)+(K54*(K52/(K51+K52))*(1+Припущення_Assumptions!$G$30)*Припущення_Assumptions!$G$51)+(K55*(K51/(K51+K52))*(1+Припущення_Assumptions!$G$30)*Припущення_Assumptions!$G$53)+(K55*(K52/(K51+K52))*(1+Припущення_Assumptions!$G$30)*Припущення_Assumptions!$G$51))/1000/K9","v":12.878537563197053},{"$f":"((L54*(L51/(L51+L52))*(1+Припущення_Assumptions!$G$30)*Припущення_Assumptions!$G$53)+(L54*(L52/(L51+L52))*(1+Припущення_Assumptions!$G$30)*Припущення_Assumptions!$G$51)+(L55*(L51/(L51+L52))*(1+Припущення_Assumptions!$G$30)*Припущення_Assumptions!$G$53)+(L55*(L52/(L51+L52))*(1+Припущення_Assumptions!$G$30)*Припущення_Assumptions!$G$51))/1000/L9","v":12.643504252668707},{"$f":"((M54*(M51/(M51+M52))*(1+Припущення_Assumptions!$G$30)*Припущення_Assumptions!$G$53)+(M54*(M52/(M51+M52))*(1+Припущення_Assumptions!$G$30)*Припущення_Assumptions!$G$51)+(M55*(M51/(M51+M52))*(1+Припущення_Assumptions!$G$30)*Припущення_Assumptions!$G$53)+(M55*(M52/(M51+M52))*(1+Припущення_Assumptions!$G$30)*Припущення_Assumptions!$G$51))/1000/M9","v":12.412760300057505},{"$f":"((N54*(N51/(N51+N52))*(1+Припущення_Assumptions!$G$30)*Припущення_Assumptions!$G$53)+(N54*(N52/(N51+N52))*(1+Припущення_Assumptions!$G$30)*Припущення_Assumptions!$G$51)+(N55*(N51/(N51+N52))*(1+Припущення_Assumptions!$G$30)*Припущення_Assumptions!$G$53)+(N55*(N52/(N51+N52))*(1+Припущення_Assumptions!$G$30)*Припущення_Assumptions!$G$51))/1000/N9","v":12.186227424581453},{"$f":"((O54*(O51/(O51+O52))*(1+Припущення_Assumptions!$G$30)*Припущення_Assumptions!$G$53)+(O54*(O52/(O51+O52))*(1+Припущення_Assumptions!$G$30)*Припущення_Assumptions!$G$51)+(O55*(O51/(O51+O52))*(1+Припущення_Assumptions!$G$30)*Припущення_Assumptions!$G$53)+(O55*(O52/(O51+O52))*(1+Припущення_Assumptions!$G$30)*Припущення_Assumptions!$G$51))/1000/O9","v":11.963828774082844},{"$f":"((P54*(P51/(P51+P52))*(1+Припущення_Assumptions!$G$30)*Припущення_Assumptions!$G$53)+(P54*(P52/(P51+P52))*(1+Припущення_Assumptions!$G$30)*Припущення_Assumptions!$G$51)+(P55*(P51/(P51+P52))*(1+Припущення_Assumptions!$G$30)*Припущення_Assumptions!$G$53)+(P55*(P52/(P51+P52))*(1+Припущення_Assumptions!$G$30)*Припущення_Assumptions!$G$51))/1000/P9","v":11.745488898955831},{"$f":"((Q54*(Q51/(Q51+Q52))*(1+Припущення_Assumptions!$G$30)*Припущення_Assumptions!$G$53)+(Q54*(Q52/(Q51+Q52))*(1+Припущення_Assumptions!$G$30)*Припущення_Assumptions!$G$51)+(Q55*(Q51/(Q51+Q52))*(1+Припущення_Assumptions!$G$30)*Припущення_Assumptions!$G$53)+(Q55*(Q52/(Q51+Q52))*(1+Припущення_Assumptions!$G$30)*Припущення_Assumptions!$G$51))/1000/Q9","v":11.531133726549886},{"$f":"((R54*(R51/(R51+R52))*(1+Припущення_Assumptions!$G$30)*Припущення_Assumptions!$G$53)+(R54*(R52/(R51+R52))*(1+Припущення_Assumptions!$G$30)*Припущення_Assumptions!$G$51)+(R55*(R51/(R51+R52))*(1+Припущення_Assumptions!$G$30)*Припущення_Assumptions!$G$53)+(R55*(R52/(R51+R52))*(1+Припущення_Assumptions!$G$30)*Припущення_Assumptions!$G$51))/1000/R9","v":11.320690536040354},{"$f":"((S54*(S51/(S51+S52))*(1+Припущення_Assumptions!$G$30)*Припущення_Assumptions!$G$53)+(S54*(S52/(S51+S52))*(1+Припущення_Assumptions!$G$30)*Припущення_Assumptions!$G$51)+(S55*(S51/(S51+S52))*(1+Припущення_Assumptions!$G$30)*Припущення_Assumptions!$G$53)+(S55*(S52/(S51+S52))*(1+Припущення_Assumptions!$G$30)*Припущення_Assumptions!$G$51))/1000/S9","v":11.114087933757617},{"$f":"((T54*(T51/(T51+T52))*(1+Припущення_Assumptions!$G$30)*Припущення_Assumptions!$G$53)+(T54*(T52/(T51+T52))*(1+Припущення_Assumptions!$G$30)*Припущення_Assumptions!$G$51)+(T55*(T51/(T51+T52))*(1+Припущення_Assumptions!$G$30)*Припущення_Assumptions!$G$53)+(T55*(T52/(T51+T52))*(1+Припущення_Assumptions!$G$30)*Припущення_Assumptions!$G$51))/1000/T9","v":10.911255828966539},{"$f":"((U54*(U51/(U51+U52))*(1+Припущення_Assumptions!$G$30)*Припущення_Assumptions!$G$53)+(U54*(U52/(U51+U52))*(1+Припущення_Assumptions!$G$30)*Припущення_Assumptions!$G$51)+(U55*(U51/(U51+U52))*(1+Припущення_Assumptions!$G$30)*Припущення_Assumptions!$G$53)+(U55*(U52/(U51+U52))*(1+Припущення_Assumptions!$G$30)*Припущення_Assumptions!$G$51))/1000/U9","v":10.712125410087905},{"$f":"((V54*(V51/(V51+V52))*(1+Припущення_Assumptions!$G$30)*Припущення_Assumptions!$G$53)+(V54*(V52/(V51+V52))*(1+Припущення_Assumptions!$G$30)*Припущення_Assumptions!$G$51)+(V55*(V51/(V51+V52))*(1+Припущення_Assumptions!$G$30)*Припущення_Assumptions!$G$53)+(V55*(V52/(V51+V52))*(1+Припущення_Assumptions!$G$30)*Припущення_Assumptions!$G$51))/1000/V9","v":10.516629121353798},{"$f":"((W54*(W51/(W51+W52))*(1+Припущення_Assumptions!$G$30)*Припущення_Assumptions!$G$53)+(W54*(W52/(W51+W52))*(1+Припущення_Assumptions!$G$30)*Припущення_Assumptions!$G$51)+(W55*(W51/(W51+W52))*(1+Припущення_Assumptions!$G$30)*Припущення_Assumptions!$G$53)+(W55*(W52/(W51+W52))*(1+Припущення_Assumptions!$G$30)*Припущення_Assumptions!$G$51))/1000/W9","v":10.324700639889091}]
[null,null,"Тривалість зарядки з урахув. Деградації",null,null,null,"год./рік",{"$f":"Припущення_Assumptions!G44","v":2737.5},{"$f":"H57","v":2737.5},{"$f":"I57*(1-Припущення_Assumptions!$G$32)","v":2687.5406250000001},{"$f":"J57*(1-Припущення_Assumptions!$G$32)","v":2638.4930085937503},{"$f":"K57*(1-Припущення_Assumptions!$G$32)","v":2590.3405111869142},{"$f":"L57*(1-Припущення_Assumptions!$G$32)","v":2543.0667968577532},{"$f":"M57*(1-Припущення_Assumptions!$G$32)","v":2496.6558278150992},{"$f":"N57*(1-Припущення_Assumptions!$G$32)","v":2451.0918589574735},{"$f":"O57*(1-Припущення_Assumptions!$G$32)","v":2406.3594325314998},{"$f":"P57*(1-Припущення_Assumptions!$G$32)","v":2362.4433728877998},{"$f":"Q57*(1-Припущення_Assumptions!$G$32)","v":2319.3287813325974},{"$f":"R57*(1-Припущення_Assumptions!$G$32)","v":2277.0010310732773},{"$f":"S57*(1-Припущення_Assumptions!$G$32)","v":2235.4457622561899},{"$f":"T57*(1-Припущення_Assumptions!$G$32)","v":2194.6488770950145},{"$f":"U57*(1-Припущення_Assumptions!$G$32)","v":2154.5965350880306},{"$f":"V57*(1-Припущення_Assumptions!$G$32)","v":2115.2751483226739}]
[null,null,"Постійні витрати",null,null,null,"тис.долл./ths.USA",{"$f":"Припущення_Assumptions!G9","v":16.78},{"$f":"H58*Припущення_Assumptions!$G$49","v":16.78},{"$f":"I58*Припущення_Assumptions!$G$49","v":16.78},{"$f":"J58*Припущення_Assumptions!$G$49","v":16.78},{"$f":"K58*Припущення_Assumptions!$G$49","v":16.78},{"$f":"L58*Припущення_Assumptions!$G$49","v":16.78},{"$f":"M58*Припущення_Assumptions!$G$49","v":16.78},{"$f":"N58*Припущення_Assumptions!$G$49","v":16.78},{"$f":"O58*Припущення_Assumptions!$G$49","v":16.78},{"$f":"P58*Припущення_Assumptions!$G$49","v":16.78},{"$f":"Q58*Припущення_Assumptions!$G$49","v":16.78},{"$f":"R58*Припущення_Assumptions!$G$49","v":16.78},{"$f":"S58*Припущення_Assumptions!$G$49","v":16.78},{"$f":"T58*Припущення_Assumptions!$G$49","v":16.78},{"$f":"U58*Припущення_Assumptions!$G$49","v":16.78},{"$f":"V58*Припущення_Assumptions!$G$49","v":16.78}]
[]
[]
[]
[]
[]
[]
[null,"ПІДКАЗКА/ TIP"]
[]
[null,"Можливі факотри отримання техніко-економічного ефекту        ",null,null,null,null,null,null,"Possible factors of technical and economic effect"]
[]
[null,null,"1.","Додатні грошові потоки",null,null,null,null,null,"1.","Positive cash flows"]
[null,null,null,"Приросні операційні доходи/Додатковий прибуток, отриманий від: ",null,null,null,null,null,null,"Incremental operating income / Additional income received from:"]
[null,null,"+","збільшення корисного відпуску електроенергії",null,null,null,null,null,"+","increase in useful electricity supply"]
[null,null,"+","зменшення втрат в мережі навантаження ",null,null,null,null,null,"+","reduction of network load losses"]
[null,null,"+","плати за приєднання",null,null,null,null,null,"+","connection fees"]
[null,null,"+","сдачі старого обладнання на металолом ",null,null,null,null,null,"+","delivery of old equipment on scrap metal  / Recycle"]
[null,null,"+","реалізації старого обладнання",null,null,null,null,null,"+","sale of old equipment"]
[null,null,"+","зменшення кількості ремонтів та техобслуговування",null,null,null,null,null,"+","reducing the number of repairs and maintenance"]
[null,null,"+","зменшення кількості працюючих на підстанції",null,null,null,null,null,"+","reducing the number of workers at the substation"]
[null,null,"+","попередження санкцій за недотримання природоохоронного законодавства",null,null,null,null,null,"+","prevention of sanctions for non-compliance with environmental legislation"]
[null,null,"+","енергозберігання",null,null,null,null,null,"+","energy saving"]
[null,null,"+","збільшення тарифного доходу",null,null,null,null,null,"+","increase in tariff income"]
[]
[null,null,"2.","Від'ємні грошові потоки",null,null,null,null,null,"2.","Negative Cash flows"]
[null,null,"2.1.","Операційні витрати/втрати на реалізацію проєкту ",null,null,null,null,null,"2.1.","Operating costs / losses for project implementation"]
[null,null,"-","проведення науково-дослідних робіт",null,null,null,null,null,"-","conducting research work"]
[null,null,"-","закупка, доставка, митне оформлення",null,null,null,null,null,"-","purchase, delivery, customs clearance"]
[null,null,"-","будівельно-монтажні роботи",null,null,null,null,null,"-","construction and installation work"]
[null,null,"-","зупинка роботи, яка була викликана необхідністю  монтажну додаткового обладнання ",null,null,null,null,null,"-","stoppage of work, which was caused by the need to install additional equipment"]
[null,null,"-","сертифікація обладнання оформлення необхідних дозволів",null,null,null,null,null,"-","certification of equipment for the issuance of necessary permits"]
[null,null,"-","навчання персоналу",null,null,null,null,null,"-","staff training"]
[]
[null,null,"2.2.","Пиросні операційні витрати ",null,null,null,null,null,"2.2.","Increasing operating costs"]
[null,null,"-","скророчення виробітку  іншого обладнання при роботі встановленого",null,null,null,null,null,"-","reduction of production of other equipment at work of the established"]
[null,null,"-","основні матеріали та енергоресурси, необхідні для роботи обладнання",null,null,null,null,null,"-","basic materials and energy resources required for the operation of the equipment"]
[null,null,"-","додатковий персонал",null,null,null,null,null,"-","additional staff"]
[null,null,"-","утилізація відходів",null,null,null,null,null,"-","waste disposal"]
[null,null,"-","підтримка роботи та оновлення програмного забезпечення",null,null,null,null,null,"-","support and software updates"]
[null,null,"-","ТО",null,null,null,null,null,"-","Technical inspection"]

{"sheet":"CFF","index":8,"n_rows":54,"n_cols":87,"rows_kept":54,"cut":false,"hidden":false,"merged":[[1,19,1,25],[3,14,3,15],[7,21,7,22],[7,14,7,15],[9,20,9,22],[11,14,11,15],[11,21,11,22],[13,14,13,15],[13,20,13,22],[15,14,15,15],[15,20,15,22],[17,14,17,15],[17,21,17,22],[19,14,19,15],[19,21,19,22],[21,14,21,15],[21,20,21,22],[33,16,33,17],[33,14,33,15],[33,84,33,85],[33,82,33,83],[33,80,33,81],[33,78,33,79],[33,76,33,77],[33,74,33,75],[33,72,33,73],[33,12,33,13],[33,10,33,11],[33,58,33,59],[33,56,33,57],[33,38,33,39],[33,36,33,37],[33,34,33,35],[33,32,33,33],[33,30,33,31],[33,28,33,29],[33,26,33,27],[33,20,33,21],[33,18,33,19],[24,80,24,81],[33,46,33,47],[33,44,33,45],[33,42,33,43],[33,40,33,41],[1,5,1,11],[19,7,19,8],[17,7,17,8],[15,6,15,8],[13,6,13,8],[11,7,11,8],[33,24,33,25],[33,22,33,23],[33,4,33,5],[9,6,9,8],[7,7,7,8],[33,54,33,55],[33,52,33,53],[33,50,33,51],[33,48,33,49],[33,70,33,71],[33,68,33,69],[33,66,33,67],[33,64,33,65],[24,82,24,83],[24,84,24,85],[24,70,24,71],[24,72,24,73],[24,74,24,75],[24,76,24,77],[24,4,24,5],[24,62,24,63],[24,42,24,43],[24,44,24,45],[24,46,24,47],[24,48,24,49],[24,50,24,51],[24,52,24,53],[24,54,24,55],[24,56,24,57],[24,14,24,15],[24,16,24,17],[24,18,24,19],[24,20,24,21],[24,22,24,23],[24,60,24,61],[24,24,24,25],[24,26,24,27],[33,6,33,7],[34,4,34,5],[24,78,24,79],[30,1,30,3],[24,6,24,7],[24,36,24,37],[24,38,24,39],[24,40,24,41],[24,8,24,9],[26,1,26,3],[24,10,24,11],[24,12,24,13],[24,64,24,65],[24,66,24,67],[24,68,24,69],[25,1,25,2],[24,28,24,29],[24,30,24,31],[24,32,24,33],[24,34,24,35],[24,58,24,59],[33,62,33,63],[33,60,33,61],[34,24,34,25],[47,1,47,3],[48,1,48,3],[49,1,49,2],[50,1,50,2],[46,1,46,3],[21,0,21,1],[3,0,3,1],[13,0,13,1],[7,0,7,1],[11,0,11,1],[15,0,15,1],[17,0,17,1],[19,0,19,1],[32,1,32,3],[27,1,27,3],[28,1,28,3],[29,1,29,3],[31,1,31,3],[24,1,24,2],[34,1,34,3],[36,1,36,3],[34,26,34,27],[34,28,34,29],[34,30,34,31],[34,32,34,33],[34,34,34,35],[34,36,34,37],[34,38,34,39],[34,6,34,7],[34,8,34,9],[34,10,34,11],[34,12,34,13],[34,14,34,15],[34,16,34,17],[34,18,34,19],[34,20,34,21],[34,40,34,41],[34,42,34,43],[34,44,34,45],[34,46,34,47],[34,48,34,49],[34,50,34,51],[34,52,34,53],[34,54,34,55],[34,74,34,75],[34,76,34,77],[34,78,34,79],[34,80,34,81],[34,82,34,83],[34,84,34,85],[34,56,34,57],[34,58,34,59],[34,60,34,61],[34,62,34,63],[34,64,34,65],[34,66,34,67],[34,68,34,69],[34,70,34,71],[34,72,34,73],[42,24,42,25],[42,26,42,27],[37,1,37,2],[38,1,38,3],[39,1,39,3],[40,1,40,3],[42,1,42,3],[42,4,42,5],[42,6,42,7],[42,8,42,9],[42,60,42,61],[42,62,42,63],[42,28,42,29],[42,30,42,31],[42,32,42,33],[42,34,42,35],[42,36,42,37],[42,38,42,39],[42,40,42,41],[42,42,42,43],[42,44,42,45],[42,84,42,85],[43,1,43,3],[41,1,41,3],[5,0,5,1],[5,6,5,8],[5,14,5,15],[5,20,5,22],[9,0,9,1],[42,64,42,65],[42,66,42,67],[42,68,42,69],[42,70,42,71],[42,72,42,73],[42,74,42,75],[42,78,42,79],[42,80,42,81],[42,82,42,83],[42,46,42,47],[42,48,42,49],[42,50,42,51],[42,52,42,53],[42,54,42,55],[42,56,42,57],[42,58,42,59],[3,6,3,8],[9,14,9,15],[3,21,3,22],[44,1,44,2],[44,4,44,5],[44,6,44,7],[44,8,44,9],[44,10,44,11],[44,12,44,13],[44,14,44,15],[44,16,44,17],[44,18,44,19],[44,20,44,21],[44,22,44,23],[42,10,42,11],[42,12,42,13],[42,14,42,15],[42,16,42,17],[42,18,42,19],[42,20,42,21],[42,22,42,23],[34,22,34,23],[21,6,21,8],[33,8,33,9],[44,24,44,25],[44,26,44,27],[44,28,44,29],[44,30,44,31],[44,32,44,33],[44,34,44,35],[44,36,44,37],[44,38,44,39],[44,40,44,41],[44,42,44,43],[44,44,44,45],[44,46,44,47],[44,48,44,49],[44,50,44,51],[44,52,44,53],[44,54,44,55],[44,56,44,57],[44,58,44,59],[44,78,44,79],[44,80,44,81],[44,82,44,83],[44,84,44,85],[44,60,44,61],[44,62,44,63],[44,64,44,65],[44,66,44,67],[44,68,44,69],[44,70,44,71],[44,72,44,73],[44,74,44,75],[44,76,44,77],[35,4,35,5],[35,6,35,7],[35,8,35,9],[35,10,35,11],[35,12,35,13],[35,14,35,15],[35,16,35,17],[35,18,35,19],[35,20,35,21],[35,56,35,57],[35,22,35,23],[35,24,35,25],[35,26,35,27],[35,28,35,29],[35,30,35,31],[35,32,35,33],[35,34,35,35],[35,36,35,37],[35,38,35,39],[35,76,35,77],[35,78,35,79],[35,80,35,81],[35,82,35,83],[35,84,35,85],[35,1,35,3],[33,1,33,3],[35,58,35,59],[35,60,35,61],[35,62,35,63],[35,64,35,65],[35,66,35,67],[35,68,35,69],[35,70,35,71],[35,72,35,73],[35,74,35,75],[35,40,35,41],[35,42,35,43],[35,44,35,45],[35,46,35,47],[35,48,35,49],[35,50,35,51],[35,52,35,53],[35,54,35,55],[36,4,36,5],[36,6,36,7],[36,8,36,9],[36,10,36,11],[36,12,36,13],[36,14,36,15],[36,16,36,17],[36,18,36,19],[36,20,36,21],[36,22,36,23],[36,24,36,25],[36,26,36,27],[36,28,36,29],[36,30,36,31],[36,32,36,33],[36,34,36,35],[36,36,36,37],[36,38,36,39],[36,40,36,41],[36,42,36,43],[36,44,36,45],[36,46,36,47],[36,48,36,49],[36,50,36,51],[36,52,36,53],[36,54,36,55],[36,56,36,57],[36,76,36,77],[36,78,36,79],[36,80,36,81],[36,82,36,83],[36,84,36,85],[36,58,36,59],[36,60,36,61],[36,62,36,63],[36,64,36,65],[36,66,36,67],[36,68,36,69],[36,70,36,71],[36,72,36,73],[36,74,36,75]]}
[null,"УКР",null,null,null,null,null,null,null,null,null,null,null,null,"ENG"]
["РОЗРАХУНОК  ВИПЛАТИ КРЕДИТУ",null,null,null,null,{"$f":"Головна_Summary!A2","v":"Energy storage system 10МВт"},null,null,null,null,null,null,null,null,"CALCULATION OF LOAN PAYMENT",null,null,null,null,{"$f":"Головна_Summary!K2","v":"Energy storage system 10 MW"}]
[null,null,null,null,"рік",null,null,null,null,null,null,null,null,null,null,null,null,null,"years"]
["Дата надання кредиту ",null,"ІІ півріччя",null,2024,null,"Ставка відсотків для власних коштів",null,null,0,null,null,null,null,"Date of loan",null,{"$f":"IF(C4=B53,C53,C54)","v":"II half a year"},null,{"$f":"E4","v":2024},null,null,"Interest rate for own funds",null,{"$f":"J4","v":0}]
[]
["Доля кредитних коштів",null,1,null,null,null,"Ставка дисконтування",null,null,0.155,null,null,null,null,"The share of Loan amount",null,{"$f":"C6","v":1},null,null,null,"Discount rate",null,null,{"$f":"J6","v":0.155}]
[]
["Сума кредиту",null,{"$f":"C6*'Фінансування_Financing (CFI)'!J15","v":9000},null,{"$f":"Головна_Summary!AD5","v":"тис.US$/ ths.US$"},null,null,"Всього",null,{"$f":"J16+J14+J12+J10+J18","v":7725},{"$f":"Головна_Summary!AD5","v":"тис.US$/ ths.US$"},null,null,null,"Loan amount",null,{"$f":"C8","v":9000},null,{"$f":"E8","v":"тис.US$/ ths.US$"},null,null,"Total",null,{"$f":"X16+X14+X12+X10+X18","v":7725},{"$f":"K8","v":"тис.US$/ ths.US$"}]
[]
["Сума власних коштів",null,{"$f":"IF(Головна_Summary!H13=\"Кредитні кошти\",('Фінансування_Financing (CFI)'!J15:K15)*0,IF(Головна_Summary!H13=\"Власні кошти\",'Фінансування_Financing (CFI)'!J15:K15*1,'Фінансування_Financing (CFI)'!J15:K15*(1-CFF!C6)))","v":0},0,{"$f":"E8","v":"тис.US$/ ths.US$"},null,"Всього відсотків банку",null,null,{"$f":"SUM(E31:CH31)","v":1725},{"$f":"Головна_Summary!AD5","v":"тис.US$/ ths.US$"},null,null,null,"Own funds",null,{"$f":"C10","v":0},null,{"$f":"S8","v":"тис.US$/ ths.US$"},null,"Total bank interest",null,null,{"$f":"SUM(E31:CH31)","v":1725},{"$f":"K10","v":"тис.US$/ ths.US$"}]
[]
["Термін надання кредиту",null,5,null,"роки",null,null,"Всього комісія за зобов'язання ",null,{"$f":"SUM(E32:CH32)","v":0},{"$f":"Головна_Summary!AD5","v":"тис.US$/ ths.US$"},null,null,null,"Loan term",null,{"$f":"C12","v":5},null,"years",null,null,"Total obligations fee",null,{"$f":"SUM(S32:CV32)","v":0},{"$f":"K12","v":"тис.US$/ ths.US$"}]
[]
["Пільговий період",null,0,null,"роки",null,"Всього маржа МФУ",null,null,{"$f":"SUM(E33:CH33)","v":0},{"$f":"Головна_Summary!AD5","v":"тис.US$/ ths.US$"},null,null,null,"Privilege period",null,{"$f":"C14","v":0},null,"years",null,"Total state guarantee fee",null,null,{"$f":"SUM(E33:CH33)","v":0},{"$f":"K14","v":"тис.US$/ ths.US$"}]
[]
["Ставка відсотків",null,0.1,null,"річних",null,"Всього використання коштів",null,null,{"$f":"SUM(E30:CH30)","v":6000},{"$f":"Головна_Summary!AD5","v":"тис.US$/ ths.US$"},null,null,null,"Interest rate",null,{"$f":"C16","v":0.1},null,"annual",null,"Total use of funds",null,null,{"$f":"SUM(E30:CH30)","v":6000},{"$f":"K16","v":"тис.US$/ ths.US$"}]
[]
["Ставка одноразової комісії",null,0,null,"річних",null,null,"Одноразова комісія",null,{"$f":"SUM(E29:CH29)","v":0},null,null,null,null,"One-time fee rate",null,{"$f":"C18","v":0},null,"annual",null,null,"One-time fee",null,{"$f":"SUM(S29:CV29)","v":0}]
[]
["Ставка комісійних відсотків",null,0,null,"річних",null,null,"Кількість періодів",null,{"$f":"(C12-C14)*2","v":10},null,null,null,null,"Commission interest rate",null,{"$f":"C20","v":0},null,"annual",null,null,"Period ",null,{"$f":"(Q12-Q14)*2","v":10}]
[null,null,null,null,null,null,null,null,null,"кредит","власні","загальна",null,null,null,null,null,null,null,null,null,null,null,"Loan","Own funds","Total"]
["Ставка плати за надання державної гарантії ",null,0,null,"річних",null,"Ефективна ставка",null,null,{"$f":"IFERROR(MODE(F51:CG51),\"-\")","v":-6.619888197129542E-2},{"$f":"IFERROR((SUM(E44:CH44)-SUM(E39:CH39))/SUM(E39:CH39),\"Н/Д\")","v":"Н/Д"},{"$f":"IFERROR(J22*C6+(1-C6)*K22,\"-\")","v":"-"},null,null,"The interest rate  for the state guarantee",null,{"$f":"C22","v":0},null,"annual",null,"Effective rate ",null,null,{"$f":"J22","v":-6.619888197129542E-2},{"$f":"K22","v":"Н/Д"},{"$f":"L22","v":"-"}]
[null,null,null,null,{"$f":"CONCATENATE(E26,E25)","v":"02024"},{"$f":"CONCATENATE(F26,E25)","v":"II півріччя/ half a year2024"},{"$f":"CONCATENATE(G26,G25)","v":"I півріччя/ half a year2025"},{"$f":"CONCATENATE(H26,G25)","v":"II півріччя/ half a year2025"},{"$f":"CONCATENATE(I26,I25)","v":"I півріччя/ half a year2026"},{"$f":"CONCATENATE(J26,I25)","v":"II півріччя/ half a year2026"},{"$f":"CONCATENATE(K26,K25)","v":"I півріччя/ half a year2027"},{"$f":"CONCATENATE(L26,K25)","v":"II півріччя/ half a year2027"},{"$f":"CONCATENATE(M26,M25)","v":"I півріччя/ half a year2028"},{"$f":"CONCATENATE(N26,M25)","v":"II півріччя/ half a year2028"},{"$f":"CONCATENATE(O26,O25)","v":"I півріччя/ half a year2029"},{"$f":"CONCATENATE(P26,O25)","v":"II півріччя/ half a year2029"},{"$f":"CONCATENATE(Q26,Q25)","v":"I півріччя/ half a year0"},{"$f":"CONCATENATE(R26,Q25)","v":"II півріччя/ half a year0"},{"$f":"CONCATENATE(S26,S25)","v":"I півріччя/ half a year0"},{"$f":"CONCATENATE(T26,S25)","v":"II півріччя/ half a year0"},{"$f":"CONCATENATE(U26,U25)","v":"I півріччя/ half a year0"},{"$f":"CONCATENATE(V26,U25)","v":"II півріччя/ half a year0"},{"$f":"CONCATENATE(W26,W25)","v":"I півріччя/ half a year0"},{"$f":"CONCATENATE(X26,W25)","v":"II півріччя/ half a year0"},{"$f":"CONCATENATE(Y26,Y25)","v":"I півріччя/ half a year0"},{"$f":"CONCATENATE(Z26,Y25)","v":"II півріччя/ half a year0"},"I півріччя/ half a year","II півріччя/ half a year","I півріччя/ half a year","II півріччя/ half a year0","I півріччя/ half a year0","II півріччя/ half a year0","I півріччя/ half a year","II півріччя/ half a year","I півріччя/ half a year","II півріччя/ half a year0","I півріччя/ half a year0","II півріччя/ half a year0","I півріччя/ half a year","II півріччя/ half a year","I півріччя/ half a year","II півріччя/ half a year0","I півріччя/ half a year0","II півріччя/ half a year0","I півріччя/ half a year","II півріччя/ half a year","I півріччя/ half a year","II півріччя/ half a year0","I півріччя/ half a year0","II півріччя/ half a year0","I півріччя/ half a year","II півріччя/ half a year","I півріччя/ half a year","II півріччя/ half a year0","I півріччя/ half a year0","II півріччя/ half a year0","I півріччя/ half a year","II півріччя/ half a year","I півріччя/ half a year","II півріччя/ half a year0","I півріччя/ half a year0","II півріччя/ half a year0","I півріччя/ half a year","II півріччя/ half a year","I півріччя/ half a year","II півріччя/ half a year0","I півріччя/ half a year0","II півріччя/ half a year0","I півріччя/ half a year","II півріччя/ half a year","I півріччя/ half a year","II півріччя/ half a year0","I півріччя/ half a year0","II півріччя/ half a year0","I півріччя/ half a year","II півріччя/ half a year","I півріччя/ half a year","II півріччя/ half a year0","I півріччя/ half a year0","II півріччя/ half a year0","I півріччя/ half a year","II півріччя/ half a year","I півріччя/ half a year","II півріччя/ half a year0","I півріччя/ half a year0","II півріччя/ half a year0"]
[null,null,null,null,0,{"$f":"IF(SUM($E$24:E24)=0,IF((COUNTA($E$26:E26)-COUNTIF($E$26:E26,0))<$C$14*2,0,$J$20),IF(COUNTIF($E$24:E24,\">0\")<$J$20,E24-1,0))","v":10},{"$f":"IF(SUM($E$24:F24)=0,IF((COUNTA($E$26:F26)-COUNTIF($E$26:F26,0))<$C$14*2,0,$J$20),IF(COUNTIF($E$24:F24,\">0\")<$J$20,F24-1,0))","v":9},{"$f":"IF(SUM($E$24:G24)=0,IF((COUNTA($E$26:G26)-COUNTIF($E$26:G26,0))<$C$14*2,0,$J$20),IF(COUNTIF($E$24:G24,\">0\")<$J$20,G24-1,0))","v":8},{"$f":"IF(SUM($E$24:H24)=0,IF((COUNTA($E$26:H26)-COUNTIF($E$26:H26,0))<$C$14*2,0,$J$20),IF(COUNTIF($E$24:H24,\">0\")<$J$20,H24-1,0))","v":7},{"$f":"IF(SUM($E$24:I24)=0,IF((COUNTA($E$26:I26)-COUNTIF($E$26:I26,0))<$C$14*2,0,$J$20),IF(COUNTIF($E$24:I24,\">0\")<$J$20,I24-1,0))","v":6},{"$f":"IF(SUM($E$24:J24)=0,IF((COUNTA($E$26:J26)-COUNTIF($E$26:J26,0))<$C$14*2,0,$J$20),IF(COUNTIF($E$24:J24,\">0\")<$J$20,J24-1,0))","v":5},{"$f":"IF(SUM($E$24:K24)=0,IF((COUNTA($E$26:K26)-COUNTIF($E$26:K26,0))<$C$14*2,0,$J$20),IF(COUNTIF($E$24:K24,\">0\")<$J$20,K24-1,0))","v":4},{"$f":"IF(SUM($E$24:L24)=0,IF((COUNTA($E$26:L26)-COUNTIF($E$26:L26,0))<$C$14*2,0,$J$20),IF(COUNTIF($E$24:L24,\">0\")<$J$20,L24-1,0))","v":3},{"$f":"IF(SUM($E$24:M24)=0,IF((COUNTA($E$26:M26)-COUNTIF($E$26:M26,0))<$C$14*2,0,$J$20),IF(COUNTIF($E$24:M24,\">0\")<$J$20,M24-1,0))","v":2},{"$f":"IF(SUM($E$24:N24)=0,IF((COUNTA($E$26:N26)-COUNTIF($E$26:N26,0))<$C$14*2,0,$J$20),IF(COUNTIF($E$24:N24,\">0\")<$J$20,N24-1,0))","v":1},{"$f":"IF(SUM($E$24:O24)=0,IF((COUNTA($E$26:O26)-COUNTIF($E$26:O26,0))<$C$14*2,0,$J$20),IF(COUNTIF($E$24:O24,\">0\")<$J$20,O24-1,0))","v":0},{"$f":"IF(SUM($E$24:P24)=0,IF((COUNTA($E$26:P26)-COUNTIF($E$26:P26,0))<$C$14*2,0,$J$20),IF(COUNTIF($E$24:P24,\">0\")<$J$20,P24-1,0))","v":0},{"$f":"IF(SUM($E$24:Q24)=0,IF((COUNTA($E$26:Q26)-COUNTIF($E$26:Q26,0))<$C$14*2,0,$J$20),IF(COUNTIF($E$24:Q24,\">0\")<$J$20,Q24-1,0))","v":0},{"$f":"IF(SUM($E$24:R24)=0,IF((COUNTA($E$26:R26)-COUNTIF($E$26:R26,0))<$C$14*2,0,$J$20),IF(COUNTIF($E$24:R24,\">0\")<$J$20,R24-1,0))","v":0},{"$f":"IF(SUM($E$24:S24)=0,IF((COUNTA($E$26:S26)-COUNTIF($E$26:S26,0))<$C$14*2,0,$J$20),IF(COUNTIF($E$24:S24,\">0\")<$J$20,S24-1,0))","v":0},{"$f":"IF(SUM($E$24:T24)=0,IF((COUNTA($E$26:T26)-COUNTIF($E$26:T26,0))<$C$14*2,0,$J$20),IF(COUNTIF($E$24:T24,\">0\")<$J$20,T24-1,0))","v":0},{"$f":"IF(SUM($E$24:U24)=0,IF((COUNTA($E$26:U26)-COUNTIF($E$26:U26,0))<$C$14*2,0,$J$20),IF(COUNTIF($E$24:U24,\">0\")<$J$20,U24-1,0))","v":0},{"$f":"IF(SUM($E$24:V24)=0,IF((COUNTA($E$26:V26)-COUNTIF($E$26:V26,0))<$C$14*2,0,$J$20),IF(COUNTIF($E$24:V24,\">0\")<$J$20,V24-1,0))","v":0},{"$f":"IF(SUM($E$24:W24)=0,IF((COUNTA($E$26:W26)-COUNTIF($E$26:W26,0))<$C$14*2,0,$J$20),IF(COUNTIF($E$24:W24,\">0\")<$J$20,W24-1,0))","v":0},{"$f":"IF(SUM($E$24:X24)=0,IF((COUNTA($E$26:X26)-COUNTIF($E$26:X26,0))<$C$14*2,0,$J$20),IF(COUNTIF($E$24:X24,\">0\")<$J$20,X24-1,0))","v":0},{"$f":"IF(SUM($E$24:Y24)=0,IF((COUNTA($E$26:Y26)-COUNTIF($E$26:Y26,0))<$C$14*2,0,$J$20),IF(COUNTIF($E$24:Y24,\">0\")<$J$20,Y24-1,0))","v":0},{"$f":"IF(SUM($E$24:Z24)=0,IF((COUNTA($E$26:Z26)-COUNTIF($E$26:Z26,0))<$C$14*2,0,$J$20),IF(COUNTIF($E$24:Z24,\">0\")<$J$20,Z24-1,0))","v":0},{"$f":"IF(SUM($E$24:AA24)=0,IF((COUNTA($E$26:AA26)-COUNTIF($E$26:AA26,0))<$C$14*2,0,$J$20),IF(COUNTIF($E$24:AA24,\">0\")<$J$20,AA24-1,0))","v":0},{"$f":"IF(SUM($E$24:AB24)=0,IF((COUNTA($E$26:AB26)-COUNTIF($E$26:AB26,0))<$C$14*2,0,$J$20),IF(COUNTIF($E$24:AB24,\">0\")<$J$20,AB24-1,0))","v":0},{"$f":"IF(SUM($E$24:AC24)=0,IF((COUNTA($E$26:AC26)-COUNTIF($E$26:AC26,0))<$C$14*2,0,$J$20),IF(COUNTIF($E$24:AC24,\">0\")<$J$20,AC24-1,0))","v":0},{"$f":"IF(SUM($E$24:AD24)=0,IF((COUNTA($E$26:AD26)-COUNTIF($E$26:AD26,0))<$C$14*2,0,$J$20),IF(COUNTIF($E$24:AD24,\">0\")<$J$20,AD24-1,0))","v":0},{"$f":"IF(SUM($E$24:AE24)=0,IF((COUNTA($E$26:AE26)-COUNTIF($E$26:AE26,0))<$C$14*2,0,$J$20),IF(COUNTIF($E$24:AE24,\">0\")<$J$20,AE24-1,0))","v":0},{"$f":"IF(SUM($E$24:AF24)=0,IF((COUNTA($E$26:AF26)-COUNTIF($E$26:AF26,0))<$C$14*2,0,$J$20),IF(COUNTIF($E$24:AF24,\">0\")<$J$20,AF24-1,0))","v":0},{"$f":"IF(SUM($E$24:AG24)=0,IF((COUNTA($E$26:AG26)-COUNTIF($E$26:AG26,0))<$C$14*2,0,$J$20),IF(COUNTIF($E$24:AG24,\">0\")<$J$20,AG24-1,0))","v":0},{"$f":"IF(SUM($E$24:AH24)=0,IF((COUNTA($E$26:AH26)-COUNTIF($E$26:AH26,0))<$C$14*2,0,$J$20),IF(COUNTIF($E$24:AH24,\">0\")<$J$20,AH24-1,0))","v":0},{"$f":"IF(SUM($E$24:AI24)=0,IF((COUNTA($E$26:AI26)-COUNTIF($E$26:AI26,0))<$C$14*2,0,$J$20),IF(COUNTIF($E$24:AI24,\">0\")<$J$20,AI24-1,0))","v":0},{"$f":"IF(SUM($E$24:AJ24)=0,IF((COUNTA($E$26:AJ26)-COUNTIF($E$26:AJ26,0))<$C$14*2,0,$J$20),IF(COUNTIF($E$24:AJ24,\">0\")<$J$20,AJ24-1,0))","v":0},{"$f":"IF(SUM($E$24:AK24)=0,IF((COUNTA($E$26:AK26)-COUNTIF($E$26:AK26,0))<$C$14*2,0,$J$20),IF(COUNTIF($E$24:AK24,\">0\")<$J$20,AK24-1,0))","v":0},{"$f":"IF(SUM($E$24:AL24)=0,IF((COUNTA($E$26:AL26)-COUNTIF($E$26:AL26,0))<$C$14*2,0,$J$20),IF(COUNTIF($E$24:AL24,\">0\")<$J$20,AL24-1,0))","v":0},{"$f":"IF(SUM($E$24:AM24)=0,IF((COUNTA($E$26:AM26)-COUNTIF($E$26:AM26,0))<$C$14*2,0,$J$20),IF(COUNTIF($E$24:AM24,\">0\")<$J$20,AM24-1,0))","v":0},{"$f":"IF(SUM($E$24:AN24)=0,IF((COUNTA($E$26:AN26)-COUNTIF($E$26:AN26,0))<$C$14*2,0,$J$20),IF(COUNTIF($E$24:AN24,\">0\")<$J$20,AN24-1,0))","v":0},{"$f":"IF(SUM($E$24:AO24)=0,IF((COUNTA($E$26:AO26)-COUNTIF($E$26:AO26,0))<$C$14*2,0,$J$20),IF(COUNTIF($E$24:AO24,\">0\")<$J$20,AO24-1,0))","v":0},{"$f":"IF(SUM($E$24:AP24)=0,IF((COUNTA($E$26:AP26)-COUNTIF($E$26:AP26,0))<$C$14*2,0,$J$20),IF(COUNTIF($E$24:AP24,\">0\")<$J$20,AP24-1,0))","v":0},{"$f":"IF(SUM($E$24:AQ24)=0,IF((COUNTA($E$26:AQ26)-COUNTIF($E$26:AQ26,0))<$C$14*2,0,$J$20),IF(COUNTIF($E$24:AQ24,\">0\")<$J$20,AQ24-1,0))","v":0},{"$f":"IF(SUM($E$24:AR24)=0,IF((COUNTA($E$26:AR26)-COUNTIF($E$26:AR26,0))<$C$14*2,0,$J$20),IF(COUNTIF($E$24:AR24,\">0\")<$J$20,AR24-1,0))","v":0},{"$f":"IF(SUM($E$24:AS24)=0,IF((COUNTA($E$26:AS26)-COUNTIF($E$26:AS26,0))<$C$14*2,0,$J$20),IF(COUNTIF($E$24:AS24,\">0\")<$J$20,AS24-1,0))","v":0},{"$f":"IF(SUM($E$24:AT24)=0,IF((COUNTA($E$26:AT26)-COUNTIF($E$26:AT26,0))<$C$14*2,0,$J$20),IF(COUNTIF($E$24:AT24,\">0\")<$J$20,AT24-1,0))","v":0},{"$f":"IF(SUM($E$24:AU24)=0,IF((COUNTA($E$26:AU26)-COUNTIF($E$26:AU26,0))<$C$14*2,0,$J$20),IF(COUNTIF($E$24:AU24,\">0\")<$J$20,AU24-1,0))","v":0},{"$f":"IF(SUM($E$24:AV24)=0,IF((COUNTA($E$26:AV26)-COUNTIF($E$26:AV26,0))<$C$14*2,0,$J$20),IF(COUNTIF($E$24:AV24,\">0\")<$J$20,AV24-1,0))","v":0},{"$f":"IF(SUM($E$24:AW24)=0,IF((COUNTA($E$26:AW26)-COUNTIF($E$26:AW26,0))<$C$14*2,0,$J$20),IF(COUNTIF($E$24:AW24,\">0\")<$J$20,AW24-1,0))","v":0},{"$f":"IF(SUM($E$24:AX24)=0,IF((COUNTA($E$26:AX26)-COUNTIF($E$26:AX26,0))<$C$14*2,0,$J$20),IF(COUNTIF($E$24:AX24,\">0\")<$J$20,AX24-1,0))","v":0},{"$f":"IF(SUM($E$24:AY24)=0,IF((COUNTA($E$26:AY26)-COUNTIF($E$26:AY26,0))<$C$14*2,0,$J$20),IF(COUNTIF($E$24:AY24,\">0\")<$J$20,AY24-1,0))","v":0},{"$f":"IF(SUM($E$24:AZ24)=0,IF((COUNTA($E$26:AZ26)-COUNTIF($E$26:AZ26,0))<$C$14*2,0,$J$20),IF(COUNTIF($E$24:AZ24,\">0\")<$J$20,AZ24-1,0))","v":0},{"$f":"IF(SUM($E$24:BA24)=0,IF((COUNTA($E$26:BA26)-COUNTIF($E$26:BA26,0))<$C$14*2,0,$J$20),IF(COUNTIF($E$24:BA24,\">0\")<$J$20,BA24-1,0))","v":0},{"$f":"IF(SUM($E$24:BB24)=0,IF((COUNTA($E$26:BB26)-COUNTIF($E$26:BB26,0))<$C$14*2,0,$J$20),IF(COUNTIF($E$24:BB24,\">0\")<$J$20,BB24-1,0))","v":0},{"$f":"IF(SUM($E$24:BC24)=0,IF((COUNTA($E$26:BC26)-COUNTIF($E$26:BC26,0))<$C$14*2,0,$J$20),IF(COUNTIF($E$24:BC24,\">0\")<$J$20,BC24-1,0))","v":0},{"$f":"IF(SUM($E$24:BD24)=0,IF((COUNTA($E$26:BD26)-COUNTIF($E$26:BD26,0))<$C$14*2,0,$J$20),IF(COUNTIF($E$24:BD24,\">0\")<$J$20,BD24-1,0))","v":0},{"$f":"IF(SUM($E$24:BE24)=0,IF((COUNTA($E$26:BE26)-COUNTIF($E$26:BE26,0))<$C$14*2,0,$J$20),IF(COUNTIF($E$24:BE24,\">0\")<$J$20,BE24-1,0))","v":0},{"$f":"IF(SUM($E$24:BF24)=0,IF((COUNTA($E$26:BF26)-COUNTIF($E$26:BF26,0))<$C$14*2,0,$J$20),IF(COUNTIF($E$24:BF24,\">0\")<$J$20,BF24-1,0))","v":0},{"$f":"IF(SUM($E$24:BG24)=0,IF((COUNTA($E$26:BG26)-COUNTIF($E$26:BG26,0))<$C$14*2,0,$J$20),IF(COUNTIF($E$24:BG24,\">0\")<$J$20,BG24-1,0))","v":0},{"$f":"IF(SUM($E$24:BH24)=0,IF((COUNTA($E$26:BH26)-COUNTIF($E$26:BH26,0))<$C$14*2,0,$J$20),IF(COUNTIF($E$24:BH24,\">0\")<$J$20,BH24-1,0))","v":0},{"$f":"IF(SUM($E$24:BI24)=0,IF((COUNTA($E$26:BI26)-COUNTIF($E$26:BI26,0))<$C$14*2,0,$J$20),IF(COUNTIF($E$24:BI24,\">0\")<$J$20,BI24-1,0))","v":0},{"$f":"IF(SUM($E$24:BJ24)=0,IF((COUNTA($E$26:BJ26)-COUNTIF($E$26:BJ26,0))<$C$14*2,0,$J$20),IF(COUNTIF($E$24:BJ24,\">0\")<$J$20,BJ24-1,0))","v":0},{"$f":"IF(SUM($E$24:BK24)=0,IF((COUNTA($E$26:BK26)-COUNTIF($E$26:BK26,0))<$C$14*2,0,$J$20),IF(COUNTIF($E$24:BK24,\">0\")<$J$20,BK24-1,0))","v":0},{"$f":"IF(SUM($E$24:BL24)=0,IF((COUNTA($E$26:BL26)-COUNTIF($E$26:BL26,0))<$C$14*2,0,$J$20),IF(COUNTIF($E$24:BL24,\">0\")<$J$20,BL24-1,0))","v":0},{"$f":"IF(SUM($E$24:BM24)=0,IF((COUNTA($E$26:BM26)-COUNTIF($E$26:BM26,0))<$C$14*2,0,$J$20),IF(COUNTIF($E$24:BM24,\">0\")<$J$20,BM24-1,0))","v":0},{"$f":"IF(SUM($E$24:BN24)=0,IF((COUNTA($E$26:BN26)-COUNTIF($E$26:BN26,0))<$C$14*2,0,$J$20),IF(COUNTIF($E$24:BN24,\">0\")<$J$20,BN24-1,0))","v":0},{"$f":"IF(SUM($E$24:BO24)=0,IF((COUNTA($E$26:BO26)-COUNTIF($E$26:BO26,0))<$C$14*2,0,$J$20),IF(COUNTIF($E$24:BO24,\">0\")<$J$20,BO24-1,0))","v":0},{"$f":"IF(SUM($E$24:BP24)=0,IF((COUNTA($E$26:BP26)-COUNTIF($E$26:BP26,0))<$C$14*2,0,$J$20),IF(COUNTIF($E$24:BP24,\">0\")<$J$20,BP24-1,0))","v":0},{"$f":"IF(SUM($E$24:BQ24)=0,IF((COUNTA($E$26:BQ26)-COUNTIF($E$26:BQ26,0))<$C$14*2,0,$J$20),IF(COUNTIF($E$24:BQ24,\">0\")<$J$20,BQ24-1,0))","v":0},{"$f":"IF(SUM($E$24:BR24)=0,IF((COUNTA($E$26:BR26)-COUNTIF($E$26:BR26,0))<$C$14*2,0,$J$20),IF(COUNTIF($E$24:BR24,\">0\")<$J$20,BR24-1,0))","v":0},{"$f":"IF(SUM($E$24:BS24)=0,IF((COUNTA($E$26:BS26)-COUNTIF($E$26:BS26,0))<$C$14*2,0,$J$20),IF(COUNTIF($E$24:BS24,\">0\")<$J$20,BS24-1,0))","v":0},{"$f":"IF(SUM($E$24:BT24)=0,IF((COUNTA($E$26:BT26)-COUNTIF($E$26:BT26,0))<$C$14*2,0,$J$20),IF(COUNTIF($E$24:BT24,\">0\")<$J$20,BT24-1,0))","v":0},{"$f":"IF(SUM($E$24:BU24)=0,IF((COUNTA($E$26:BU26)-COUNTIF($E$26:BU26,0))<$C$14*2,0,$J$20),IF(COUNTIF($E$24:BU24,\">0\")<$J$20,BU24-1,0))","v":0},{"$f":"IF(SUM($E$24:BV24)=0,IF((COUNTA($E$26:BV26)-COUNTIF($E$26:BV26,0))<$C$14*2,0,$J$20),IF(COUNTIF($E$24:BV24,\">0\")<$J$20,BV24-1,0))","v":0},{"$f":"IF(SUM($E$24:BW24)=0,IF((COUNTA($E$26:BW26)-COUNTIF($E$26:BW26,0))<$C$14*2,0,$J$20),IF(COUNTIF($E$24:BW24,\">0\")<$J$20,BW24-1,0))","v":0},{"$f":"IF(SUM($E$24:BX24)=0,IF((COUNTA($E$26:BX26)-COUNTIF($E$26:BX26,0))<$C$14*2,0,$J$20),IF(COUNTIF($E$24:BX24,\">0\")<$J$20,BX24-1,0))","v":0},{"$f":"IF(SUM($E$24:BY24)=0,IF((COUNTA($E$26:BY26)-COUNTIF($E$26:BY26,0))<$C$14*2,0,$J$20),IF(COUNTIF($E$24:BY24,\">0\")<$J$20,BY24-1,0))","v":0},{"$f":"IF(SUM($E$24:BZ24)=0,IF((COUNTA($E$26:BZ26)-COUNTIF($E$26:BZ26,0))<$C$14*2,0,$J$20),IF(COUNTIF($E$24:BZ24,\">0\")<$J$20,BZ24-1,0))","v":0},{"$f":"IF(SUM($E$24:CA24)=0,IF((COUNTA($E$26:CA26)-COUNTIF($E$26:CA26,0))<$C$14*2,0,$J$20),IF(COUNTIF($E$24:CA24,\">0\")<$J$20,CA24-1,0))","v":0},{"$f":"IF(SUM($E$24:CB24)=0,IF((COUNTA($E$26:CB26)-COUNTIF($E$26:CB26,0))<$C$14*2,0,$J$20),IF(COUNTIF($E$24:CB24,\">0\")<$J$20,CB24-1,0))","v":0},{"$f":"IF(SUM($E$24:CC24)=0,IF((COUNTA($E$26:CC26)-COUNTIF($E$26:CC26,0))<$C$14*2,0,$J$20),IF(COUNTIF($E$24:CC24,\">0\")<$J$20,CC24-1,0))","v":0},{"$f":"IF(SUM($E$24:CD24)=0,IF((COUNTA($E$26:CD26)-COUNTIF($E$26:CD26,0))<$C$14*2,0,$J$20),IF(COUNTIF($E$24:CD24,\">0\")<$J$20,CD24-1,0))","v":0},{"$f":"IF(SUM($E$24:CE24)=0,IF((COUNTA($E$26:CE26)-COUNTIF($E$26:CE26,0))<$C$14*2,0,$J$20),IF(COUNTIF($E$24:CE24,\">0\")<$J$20,CE24-1,0))","v":0},{"$f":"IF(SUM($E$24:CF24)=0,IF((COUNTA($E$26:CF26)-COUNTIF($E$26:CF26,0))<$C$14*2,0,$J$20),IF(COUNTIF($E$24:CF24,\">0\")<$J$20,CF24-1,0))","v":0},{"$f":"IF(SUM($E$24:CG24)=0,IF((COUNTA($E$26:CG26)-COUNTIF($E$26:CG26,0))<$C$14*2,0,$J$20),IF(COUNTIF($E$24:CG24,\">0\")<$J$20,CG24-1,0))","v":0}]
[null,null,null,null,{"$f":"E4","v":2024},null,{"$f":"IF(E25=0,0,IF(($E$4+$C$12+1)>E25+1,E25+1,0))","v":2025},null,{"$f":"IF(G25=0,0,IF(($E$4+$C$12+1)>G25+1,G25+1,0))","v":2026},null,{"$f":"IF(I25=0,0,IF(($E$4+$C$12+1)>I25+1,I25+1,0))","v":2027},null,{"$f":"IF(K25=0,0,IF(($E$4+$C$12+1)>K25+1,K25+1,0))","v":2028},null,{"$f":"IF(M25=0,0,IF(($E$4+$C$12+1)>M25+1,M25+1,0))","v":2029},null,{"$f":"IF(O25=0,0,IF(($E$4+$C$12+1)>O25+1,O25+1,0))","v":0},null,{"$f":"IF(Q25=0,0,IF(($E$4+$C$12+1)>Q25+1,Q25+1,0))","v":0},null,{"$f":"IF(S25=0,0,IF(($E$4+$C$12+1)>S25+1,S25+1,0))","v":0},null,{"$f":"IF(U25=0,0,IF(($E$4+$C$12+1)>U25+1,U25+1,0))","v":0},null,{"$f":"IF(W25=0,0,IF(($E$4+$C$12+1)>W25+1,W25+1,0))","v":0},null,{"$f":"IF(Y25=0,0,IF(($E$4+$C$12+1)>Y25+1,Y25+1,0))","v":0},null,{"$f":"IF(AA25=0,0,IF(($E$4+$C$12+1)>AA25+1,AA25+1,0))","v":0},null,{"$f":"IF(AC25=0,0,IF(($E$4+$C$12+1)>AC25+1,AC25+1,0))","v":0},null,{"$f":"IF(AE25=0,0,IF(($E$4+$C$12+1)>AE25+1,AE25+1,0))","v":0},null,{"$f":"IF(AG25=0,0,IF(($E$4+$C$12+1)>AG25+1,AG25+1,0))","v":0},null,{"$f":"IF(AI25=0,0,IF(($E$4+$C$12+1)>AI25+1,AI25+1,0))","v":0},null,{"$f":"IF(AK25=0,0,IF(($E$4+$C$12+1)>AK25+1,AK25+1,0))","v":0},null,{"$f":"IF(AM25=0,0,IF(($E$4+$C$12+1)>AM25+1,AM25+1,0))","v":0},null,{"$f":"IF(AO25=0,0,IF(($E$4+$C$12+1)>AO25+1,AO25+1,0))","v":0},null,{"$f":"IF(AQ25=0,0,IF(($E$4+$C$12+1)>AQ25+1,AQ25+1,0))","v":0},null,{"$f":"IF(AS25=0,0,IF(($E$4+$C$12+1)>AS25+1,AS25+1,0))","v":0},null,{"$f":"IF(AU25=0,0,IF(($E$4+$C$12+1)>AU25+1,AU25+1,0))","v":0},null,{"$f":"IF(AW25=0,0,IF(($E$4+$C$12+1)>AW25+1,AW25+1,0))","v":0},null,{"$f":"IF(AY25=0,0,IF(($E$4+$C$12+1)>AY25+1,AY25+1,0))","v":0},null,{"$f":"IF(BA25=0,0,IF(($E$4+$C$12+1)>BA25+1,BA25+1,0))","v":0},null,{"$f":"IF(BC25=0,0,IF(($E$4+$C$12+1)>BC25+1,BC25+1,0))","v":0},null,{"$f":"IF(BE25=0,0,IF(($E$4+$C$12+1)>BE25+1,BE25+1,0))","v":0},null,{"$f":"IF(BG25=0,0,IF(($E$4+$C$12+1)>BG25+1,BG25+1,0))","v":0},null,{"$f":"IF(BI25=0,0,IF(($E$4+$C$12+1)>BI25+1,BI25+1,0))","v":0},null,{"$f":"IF(BK25=0,0,IF(($E$4+$C$12+1)>BK25+1,BK25+1,0))","v":0},null,{"$f":"IF(BM25=0,0,IF(($E$4+$C$12+1)>BM25+1,BM25+1,0))","v":0},null,{"$f":"IF(BO25=0,0,IF(($E$4+$C$12+1)>BO25+1,BO25+1,0))","v":0},null,{"$f":"IF(BQ25=0,0,IF(($E$4+$C$12+1)>BQ25+1,BQ25+1,0))","v":0},null,{"$f":"IF(BS25=0,0,IF(($E$4+$C$12+1)>BS25+1,BS25+1,0))","v":0},null,{"$f":"IF(BU25=0,0,IF(($E$4+$C$12+1)>BU25+1,BU25+1,0))","v":0},null,{"$f":"IF(BW25=0,0,IF(($E$4+$C$12+1)>BW25+1,BW25+1,0))","v":0},null,{"$f":"IF(BY25=0,0,IF(($E$4+$C$12+1)>BY25+1,BY25+1,0))","v":0},null,{"$f":"IF(CA25=0,0,IF(($E$4+$C$12+1)>CA25+1,CA25+1,0))","v":0},null,{"$f":"IF(CC25=0,0,IF(($E$4+$C$12+1)>CC25+1,CC25+1,0))","v":0},null,{"$f":"IF(CE25=0,0,IF(($E$4+$C$12+1)>CE25+1,CE25+1,0))","v":0}]
[null,"Кредитні кошти",null,null,{"$f":"IF(C4=\"I півріччя\", \"I півріччя/ half a year\", \"0\")","v":"0"},{"$f":"IF(C4=\"I півріччя\", \"II півріччя/ half a year\", \"II півріччя/ half a year\")","v":"II півріччя/ half a year"},"I півріччя/ half a year",{"$f":"IF(E4=\"I півріччя/ half a year\", \"II півріччя/ half a year\", \"II півріччя/ half a year\")","v":"II півріччя/ half a year"},"I півріччя/ half a year",{"$f":"IF(G4=\"I півріччя/ half a year\", \"II півріччя/ half a year\", \"II півріччя/ half a year\")","v":"II півріччя/ half a year"},"I півріччя/ half a year",{"$f":"IF(I8=\"I півріччя/ half a year\", \"II півріччя/ half a year\", \"II півріччя/ half a year\")","v":"II півріччя/ half a year"},"I півріччя/ half a year",{"$f":"IF(K8=\"I півріччя/ half a year\", \"II півріччя/ half a year\", \"II півріччя/ half a year\")","v":"II півріччя/ half a year"},"I півріччя/ half a year",{"$f":"IF(M4=\"I півріччя/ half a year\", \"II півріччя/ half a year\", \"II півріччя/ half a year\")","v":"II півріччя/ half a year"},"I півріччя/ half a year",{"$f":"IF(O4=\"I півріччя/ half a year\", \"II півріччя/ half a year\", \"II півріччя/ half a year\")","v":"II півріччя/ half a year"},"I півріччя/ half a year",{"$f":"IF(Q4=\"I півріччя/ half a year\", \"II півріччя/ half a year\", \"II півріччя/ half a year\")","v":"II півріччя/ half a year"},"I півріччя/ half a year",{"$f":"IF(S4=\"I півріччя/ half a year\", \"II півріччя/ half a year\", \"II півріччя/ half a year\")","v":"II півріччя/ half a year"},"I півріччя/ half a year",{"$f":"IF(U4=\"I півріччя/ half a year\", \"II півріччя/ half a year\", \"II півріччя/ half a year\")","v":"II півріччя/ half a year"},"I півріччя/ half a year",{"$f":"IF(W8=\"I півріччя/ half a year\", \"II півріччя/ half a year\", \"II півріччя/ half a year\")","v":"II півріччя/ half a year"},"I півріччя/ half a year",{"$f":"IF(Y8=\"I півріччя/ half a year\", \"II півріччя/ half a year\", \"II півріччя/ half a year\")","v":"II півріччя/ half a year"},"I півріччя/ half a year",{"$f":"IF(AA4=\"I півріччя/ half a year\", \"II півріччя/ half a year\", \"II півріччя/ half a year\")","v":"II півріччя/ half a year"},"I півріччя/ half a year",{"$f":"IF(AC4=\"I півріччя/ half a year\", \"II півріччя/ half a year\", \"II півріччя/ half a year\")","v":"II півріччя/ half a year"},"I півріччя/ half a year",{"$f":"IF(AE4=\"I півріччя/ half a year\", \"II півріччя/ half a year\", \"II півріччя/ half a year\")","v":"II півріччя/ half a year"},"I півріччя/ half a year",{"$f":"IF(AG4=\"I півріччя/ half a year\", \"II півріччя/ half a year\", \"II півріччя/ half a year\")","v":"II півріччя/ half a year"},"I півріччя/ half a year",{"$f":"IF(AI4=\"I півріччя/ half a year\", \"II півріччя/ half a year\", \"II півріччя/ half a year\")","v":"II півріччя/ half a year"},"I півріччя/ half a year",{"$f":"IF(AK4=\"I півріччя/ half a year\", \"II півріччя/ half a year\", \"II півріччя/ half a year\")","v":"II півріччя/ half a year"},"I півріччя/ half a year",{"$f":"IF(AM4=\"I півріччя/ half a year\", \"II півріччя/ half a year\", \"II півріччя/ half a year\")","v":"II півріччя/ half a year"},"I півріччя/ half a year",{"$f":"IF(AO4=\"I півріччя/ half a year\", \"II півріччя/ half a year\", \"II півріччя/ half a year\")","v":"II півріччя/ half a year"},"I півріччя/ half a year",{"$f":"IF(AQ4=\"I півріччя/ half a year\", \"II півріччя/ half a year\", \"II півріччя/ half a year\")","v":"II півріччя/ half a year"},"I півріччя/ half a year",{"$f":"IF(AS4=\"I півріччя/ half a year\", \"II півріччя/ half a year\", \"II півріччя/ half a year\")","v":"II півріччя/ half a year"},"I півріччя/ half a year",{"$f":"IF(AU4=\"I півріччя/ half a year\", \"II півріччя/ half a year\", \"II півріччя/ half a year\")","v":"II півріччя/ half a year"},"I півріччя/ half a year",{"$f":"IF(AW4=\"I півріччя/ half a year\", \"II півріччя/ half a year\", \"II півріччя/ half a year\")","v":"II півріччя/ half a year"},"I півріччя/ half a year",{"$f":"IF(AY4=\"I півріччя/ half a year\", \"II півріччя/ half a year\", \"II півріччя/ half a year\")","v":"II півріччя/ half a year"},"I півріччя/ half a year",{"$f":"IF(BA4=\"I півріччя/ half a year\", \"II півріччя/ half a year\", \"II півріччя/ half a year\")","v":"II півріччя/ half a year"},"I півріччя/ half a year",{"$f":"IF(BC4=\"I півріччя/ half a year\", \"II півріччя/ half a year\", \"II півріччя/ half a year\")","v":"II півріччя/ half a year"},"I півріччя/ half a year",{"$f":"IF(BE4=\"I півріччя/ half a year\", \"II півріччя/ half a year\", \"II півріччя/ half a year\")","v":"II півріччя/ half a year"},"I півріччя/ half a year",{"$f":"IF(BG4=\"I півріччя/ half a year\", \"II півріччя/ half a year\", \"II півріччя/ half a year\")","v":"II півріччя/ half a year"},"I півріччя/ half a year",{"$f":"IF(BI4=\"I півріччя/ half a year\", \"II півріччя/ half a year\", \"II півріччя/ half a year\")","v":"II півріччя/ half a year"},"I півріччя/ half a year",{"$f":"IF(BK4=\"I півріччя/ half a year\", \"II півріччя/ half a year\", \"II півріччя/ half a year\")","v":"II півріччя/ half a year"},"I півріччя/ half a year",{"$f":"IF(BM4=\"I півріччя/ half a year\", \"II півріччя/ half a year\", \"II півріччя/ half a year\")","v":"II півріччя/ half a year"},"I півріччя/ half a year",{"$f":"IF(BO4=\"I півріччя/ half a year\", \"II півріччя/ half a year\", \"II півріччя/ half a year\")","v":"II півріччя/ half a year"},"I півріччя/ half a year",{"$f":"IF(BQ4=\"I півріччя/ half a year\", \"II півріччя/ half a year\", \"II півріччя/ half a year\")","v":"II півріччя/ half a year"},"I півріччя/ half a year",{"$f":"IF(BS4=\"I півріччя/ half a year\", \"II півріччя/ half a year\", \"II півріччя/ half a year\")","v":"II півріччя/ half a year"},"I півріччя/ half a year",{"$f":"IF(BU4=\"I півріччя/ half a year\", \"II півріччя/ half a year\", \"II півріччя/ half a year\")","v":"II півріччя/ half a year"},"I півріччя/ half a year",{"$f":"IF(BW4=\"I півріччя/ half a year\", \"II півріччя/ half a year\", \"II півріччя/ half a year\")","v":"II півріччя/ half a year"},"I півріччя/ half a year",{"$f":"IF(BY4=\"I півріччя/ half a year\", \"II півріччя/ half a year\", \"II півріччя/ half a year\")","v":"II півріччя/ half a year"},"I півріччя/ half a year",{"$f":"IF(CA4=\"I півріччя/ half a year\", \"II півріччя/ half a year\", \"II півріччя/ half a year\")","v":"II півріччя/ half a year"},"I півріччя/ half a year",{"$f":"IF(CC4=\"I півріччя/ half a year\", \"II півріччя/ half a year\", \"II півріччя/ half a year\")","v":"II півріччя/ half a year"},"I півріччя/ half a year",{"$f":"IF(CE4=\"I півріччя/ half a year\", \"II півріччя/ half a year\", \"II півріччя/ half a year\")","v":"II півріччя/ half a year"}]
[null,"Погашення / Repayment",null,null,0,0,{"$f":"IF(G24=0,0,(SUM($E$30:F30)-SUM($E$27:F27))/G24)","v":333.33333333333331},{"$f":"IF(H24=0,0,(SUM($E$30:G30)-SUM($E$27:G27))/H24)","v":708.33333333333337},{"$f":"IF(I24=0,0,(SUM($E$30:H30)-SUM($E$27:H27))/I24)","v":708.33333333333326},{"$f":"IF(J24=0,0,(SUM($E$30:I30)-SUM($E$27:I27))/J24)","v":708.33333333333337},{"$f":"IF(K24=0,0,(SUM($E$30:J30)-SUM($E$27:J27))/K24)","v":708.33333333333326},{"$f":"IF(L24=0,0,(SUM($E$30:K30)-SUM($E$27:K27))/L24)","v":708.33333333333326},{"$f":"IF(M24=0,0,(SUM($E$30:L30)-SUM($E$27:L27))/M24)","v":708.33333333333337},{"$f":"IF(N24=0,0,(SUM($E$30:M30)-SUM($E$27:M27))/N24)","v":708.33333333333348},{"$f":"IF(O24=0,0,(SUM($E$30:N30)-SUM($E$27:N27))/O24)","v":708.33333333333394},{"$f":"IF(P24=0,0,(SUM($E$30:O30)-SUM($E$27:O27))/P24)","v":0},{"$f":"IF(Q24=0,0,(SUM($E$30:P30)-SUM($E$27:P27))/Q24)","v":0},{"$f":"IF(R24=0,0,(SUM($E$30:Q30)-SUM($E$27:Q27))/R24)","v":0},{"$f":"IF(S24=0,0,(SUM($E$30:R30)-SUM($E$27:R27))/S24)","v":0},{"$f":"IF(T24=0,0,(SUM($E$30:S30)-SUM($E$27:S27))/T24)","v":0},{"$f":"IF(U24=0,0,(SUM($E$30:T30)-SUM($E$27:T27))/U24)","v":0},{"$f":"IF(V24=0,0,(SUM($E$30:U30)-SUM($E$27:U27))/V24)","v":0},{"$f":"IF(W24=0,0,(SUM($E$30:V30)-SUM($E$27:V27))/W24)","v":0},{"$f":"IF(X24=0,0,(SUM($E$30:W30)-SUM($E$27:W27))/X24)","v":0},{"$f":"IF(Y24=0,0,(SUM($E$30:X30)-SUM($E$27:X27))/Y24)","v":0},{"$f":"IF(Z24=0,0,(SUM($E$30:Y30)-SUM($E$27:Y27))/Z24)","v":0},{"$f":"IF(AA24=0,0,(SUM($E$30:Z30)-SUM($E$27:Z27))/AA24)","v":0},{"$f":"IF(AB24=0,0,(SUM($E$30:AA30)-SUM($E$27:AA27))/AB24)","v":0},{"$f":"IF(AC24=0,0,(SUM($E$30:AB30)-SUM($E$27:AB27))/AC24)","v":0},{"$f":"IF(AD24=0,0,(SUM($E$30:AC30)-SUM($E$27:AC27))/AD24)","v":0},{"$f":"IF(AE24=0,0,(SUM($E$30:AD30)-SUM($E$27:AD27))/AE24)","v":0},{"$f":"IF(AF24=0,0,(SUM($E$30:AE30)-SUM($E$27:AE27))/AF24)","v":0},{"$f":"IF(AG24=0,0,(SUM($E$30:AF30)-SUM($E$27:AF27))/AG24)","v":0},{"$f":"IF(AH24=0,0,(SUM($E$30:AG30)-SUM($E$27:AG27))/AH24)","v":0},{"$f":"IF(AI24=0,0,(SUM($E$30:AH30)-SUM($E$27:AH27))/AI24)","v":0},{"$f":"IF(AJ24=0,0,(SUM($E$30:AI30)-SUM($E$27:AI27))/AJ24)","v":0},{"$f":"IF(AK24=0,0,(SUM($E$30:AJ30)-SUM($E$27:AJ27))/AK24)","v":0},{"$f":"IF(AL24=0,0,(SUM($E$30:AK30)-SUM($E$27:AK27))/AL24)","v":0},{"$f":"IF(AM24=0,0,(SUM($E$30:AL30)-SUM($E$27:AL27))/AM24)","v":0},{"$f":"IF(AN24=0,0,(SUM($E$30:AM30)-SUM($E$27:AM27))/AN24)","v":0},{"$f":"IF(AO24=0,0,(SUM($E$30:AN30)-SUM($E$27:AN27))/AO24)","v":0},{"$f":"IF(AP24=0,0,(SUM($E$30:AO30)-SUM($E$27:AO27))/AP24)","v":0},{"$f":"IF(AQ24=0,0,(SUM($E$30:AP30)-SUM($E$27:AP27))/AQ24)","v":0},{"$f":"IF(AR24=0,0,(SUM($E$30:AQ30)-SUM($E$27:AQ27))/AR24)","v":0},{"$f":"IF(AS24=0,0,(SUM($E$30:AR30)-SUM($E$27:AR27))/AS24)","v":0},{"$f":"IF(AT24=0,0,(SUM($E$30:AS30)-SUM($E$27:AS27))/AT24)","v":0},{"$f":"IF(AU24=0,0,(SUM($E$30:AT30)-SUM($E$27:AT27))/AU24)","v":0},{"$f":"IF(AV24=0,0,(SUM($E$30:AU30)-SUM($E$27:AU27))/AV24)","v":0},{"$f":"IF(AW24=0,0,(SUM($E$30:AV30)-SUM($E$27:AV27))/AW24)","v":0},{"$f":"IF(AX24=0,0,(SUM($E$30:AW30)-SUM($E$27:AW27))/AX24)","v":0},{"$f":"IF(AY24=0,0,(SUM($E$30:AX30)-SUM($E$27:AX27))/AY24)","v":0},{"$f":"IF(AZ24=0,0,(SUM($E$30:AY30)-SUM($E$27:AY27))/AZ24)","v":0},{"$f":"IF(BA24=0,0,(SUM($E$30:AZ30)-SUM($E$27:AZ27))/BA24)","v":0},{"$f":"IF(BB24=0,0,(SUM($E$30:BA30)-SUM($E$27:BA27))/BB24)","v":0},{"$f":"IF(BC24=0,0,(SUM($E$30:BB30)-SUM($E$27:BB27))/BC24)","v":0},{"$f":"IF(BD24=0,0,(SUM($E$30:BC30)-SUM($E$27:BC27))/BD24)","v":0},{"$f":"IF(BE24=0,0,(SUM($E$30:BD30)-SUM($E$27:BD27))/BE24)","v":0},{"$f":"IF(BF24=0,0,(SUM($E$30:BE30)-SUM($E$27:BE27))/BF24)","v":0},{"$f":"IF(BG24=0,0,(SUM($E$30:BF30)-SUM($E$27:BF27))/BG24)","v":0},{"$f":"IF(BH24=0,0,(SUM($E$30:BG30)-SUM($E$27:BG27))/BH24)","v":0},{"$f":"IF(BI24=0,0,(SUM($E$30:BH30)-SUM($E$27:BH27))/BI24)","v":0},{"$f":"IF(BJ24=0,0,(SUM($E$30:BI30)-SUM($E$27:BI27))/BJ24)","v":0},{"$f":"IF(BK24=0,0,(SUM($E$30:BJ30)-SUM($E$27:BJ27))/BK24)","v":0},{"$f":"IF(BL24=0,0,(SUM($E$30:BK30)-SUM($E$27:BK27))/BL24)","v":0},{"$f":"IF(BM24=0,0,(SUM($E$30:BL30)-SUM($E$27:BL27))/BM24)","v":0},{"$f":"IF(BN24=0,0,(SUM($E$30:BM30)-SUM($E$27:BM27))/BN24)","v":0},{"$f":"IF(BO24=0,0,(SUM($E$30:BN30)-SUM($E$27:BN27))/BO24)","v":0},{"$f":"IF(BP24=0,0,(SUM($E$30:BO30)-SUM($E$27:BO27))/BP24)","v":0},{"$f":"IF(BQ24=0,0,(SUM($E$30:BP30)-SUM($E$27:BP27))/BQ24)","v":0},{"$f":"IF(BR24=0,0,(SUM($E$30:BQ30)-SUM($E$27:BQ27))/BR24)","v":0},{"$f":"IF(BS24=0,0,(SUM($E$30:BR30)-SUM($E$27:BR27))/BS24)","v":0},{"$f":"IF(BT24=0,0,(SUM($E$30:BS30)-SUM($E$27:BS27))/BT24)","v":0},{"$f":"IF(BU24=0,0,(SUM($E$30:BT30)-SUM($E$27:BT27))/BU24)","v":0},{"$f":"IF(BV24=0,0,(SUM($E$30:BU30)-SUM($E$27:BU27))/BV24)","v":0},{"$f":"IF(BW24=0,0,(SUM($E$30:BV30)-SUM($E$27:BV27))/BW24)","v":0},{"$f":"IF(BX24=0,0,(SUM($E$30:BW30)-SUM($E$27:BW27))/BX24)","v":0},{"$f":"IF(BY24=0,0,(SUM($E$30:BX30)-SUM($E$27:BX27))/BY24)","v":0},{"$f":"IF(BZ24=0,0,(SUM($E$30:BY30)-SUM($E$27:BY27))/BZ24)","v":0},{"$f":"IF(CA24=0,0,(SUM($E$30:BZ30)-SUM($E$27:BZ27))/CA24)","v":0},{"$f":"IF(CB24=0,0,(SUM($E$30:CA30)-SUM($E$27:CA27))/CB24)","v":0},{"$f":"IF(CC24=0,0,(SUM($E$30:CB30)-SUM($E$27:CB27))/CC24)","v":0},{"$f":"IF(CD24=0,0,(SUM($E$30:CC30)-SUM($E$27:CC27))/CD24)","v":0},{"$f":"IF(CE24=0,0,(SUM($E$30:CD30)-SUM($E$27:CD27))/CE24)","v":0},{"$f":"IF(CF24=0,0,(SUM($E$30:CE30)-SUM($E$27:CE27))/CF24)","v":0},{"$f":"IF(CG24=0,0,(SUM($E$30:CF30)-SUM($E$27:CF27))/CG24)","v":0},{"$f":"IF(CH24=0,0,(SUM($E$30:CG30)-SUM($E$27:CG27))/CH24)","v":0}]
[null,"Основна сума заборгованості / The main amount of debt",null,null,{"$f":"IF(AND(C4=\"I півріччя\",(E4+C12)>E25),C8,0)","v":0},{"$f":"IF((E4+C12)>=E25,C8,0)","v":9000},{"$f":"IF((E4+C12)>G25,F28-F27,0)","v":9000},{"$f":"IF(($E$4+$C$12)>G25,G28-G27,0)","v":8666.6666666666661},{"$f":"IF(($E$4+$C$12)>I25,H28-H27,0)","v":7958.333333333333},{"$f":"IF(($E$4+$C$12)>I25,I28-I27,0)","v":7250},{"$f":"IF(($E$4+$C$12)>K25,J28-J27,0)","v":6541.666666666667},{"$f":"IF(($E$4+$C$12)>K25,K28-K27,0)","v":5833.3333333333339},{"$f":"IF(($E$4+$C$12)>M25,L28-L27,0)","v":5125.0000000000009},{"$f":"IF(($E$4+$C$12)>M25,M28-M27,0)","v":4416.6666666666679},{"$f":"IF(($E$4+$C$12)>O25,N28-N27,0)","v":0},{"$f":"IF(($E$4+$C$12)>O25,O28-O27,0)","v":0},{"$f":"IF(($E$4+$C$12)>Q25,P28-P27,0)","v":0},{"$f":"IF(($E$4+$C$12)>Q25,Q28-Q27,0)","v":0},{"$f":"IF(($E$4+$C$12)>S25,R28-R27,0)","v":0},{"$f":"IF(($E$4+$C$12)>S25,S28-S27,0)","v":0},{"$f":"IF(($E$4+$C$12)>U25,T28-T27,0)","v":0},{"$f":"IF(($E$4+$C$12)>U25,U28-U27,0)","v":0},{"$f":"IF(($E$4+$C$12)>W25,V28-V27,0)","v":0},{"$f":"IF(($E$4+$C$12)>W25,W28-W27,0)","v":0},{"$f":"IF(($E$4+$C$12)>=Y25,X28-X27,0)","v":0},{"$f":"IF(($E$4+$C$12)>Y25,Y28-Y27,0)","v":0},{"$f":"IF(($E$4+$C$12)>AA25,Z28-Z27,0)","v":0},{"$f":"IF(($E$4+$C$12)>AA25,AA28-AA27,0)","v":0},{"$f":"IF(($E$4+$C$12)>AC25,AB28-AB27,0)","v":0},{"$f":"IF(($E$4+$C$12)>AC25,AC28-AC27,0)","v":0},{"$f":"IF(($E$4+$C$12)>AE25,AD28-AD27,0)","v":0},{"$f":"IF(($E$4+$C$12)>AE25,AE28-AE27,0)","v":0},{"$f":"IF(($E$4+$C$12)>AG25,AF28-AF27,0)","v":0},{"$f":"IF(($E$4+$C$12)>AG25,AG28-AG27,0)","v":0},{"$f":"IF(($E$4+$C$12)>AI25,AH28-AH27,0)","v":0},{"$f":"IF(($E$4+$C$12)>AI25,AI28-AI27,0)","v":0},{"$f":"IF(($E$4+$C$12)>AK25,AJ28-AJ27,0)","v":0},{"$f":"IF(($E$4+$C$12)>AK25,AK28-AK27,0)","v":0},{"$f":"IF(($E$4+$C$12)>AM25,AL28-AL27,0)","v":0},{"$f":"IF(($E$4+$C$12)>AM25,AM28-AM27,0)","v":0},{"$f":"IF(($E$4+$C$12)>AO25,AN28-AN27,0)","v":0},{"$f":"IF(($E$4+$C$12)>AO25,AO28-AO27,0)","v":0},{"$f":"IF(($E$4+$C$12)>AQ25,AP28-AP27,0)","v":0},{"$f":"IF(($E$4+$C$12)>AQ25,AQ28-AQ27,0)","v":0},{"$f":"IF(($E$4+$C$12)>AS25,AR28-AR27,0)","v":0},{"$f":"IF(($E$4+$C$12)>AS25,AS28-AS27,0)","v":0},{"$f":"IF(($E$4+$C$12)>AU25,AT28-AT27,0)","v":0},{"$f":"IF(($E$4+$C$12)>AU25,AU28-AU27,0)","v":0},{"$f":"IF(($E$4+$C$12)>AW25,AV28-AV27,0)","v":0},{"$f":"IF(($E$4+$C$12)>AW25,AW28-AW27,0)","v":0},{"$f":"IF(($E$4+$C$12)>AY25,AX28-AX27,0)","v":0},{"$f":"IF(($E$4+$C$12)>AY25,AY28-AY27,0)","v":0},{"$f":"IF(($E$4+$C$12)>BA25,AZ28-AZ27,0)","v":0},{"$f":"IF(($E$4+$C$12)>BA25,BA28-BA27,0)","v":0},{"$f":"IF(($E$4+$C$12)>BC25,BB28-BB27,0)","v":0},{"$f":"IF(($E$4+$C$12)>BC25,BC28-BC27,0)","v":0},{"$f":"IF(($E$4+$C$12)>BE25,BD28-BD27,0)","v":0},{"$f":"IF(($E$4+$C$12)>BE25,BE28-BE27,0)","v":0},{"$f":"IF(($E$4+$C$12)>BG25,BF28-BF27,0)","v":0},{"$f":"IF(($E$4+$C$12)>BG25,BG28-BG27,0)","v":0},{"$f":"IF(($E$4+$C$12)>BI25,BH28-BH27,0)","v":0},{"$f":"IF(($E$4+$C$12)>BI25,BI28-BI27,0)","v":0},{"$f":"IF(($E$4+$C$12)>BK25,BJ28-BJ27,0)","v":0},{"$f":"IF(($E$4+$C$12)>BK25,BK28-BK27,0)","v":0},{"$f":"IF(($E$4+$C$12)>BM25,BL28-BL27,0)","v":0},{"$f":"IF(($E$4+$C$12)>BM25,BM28-BM27,0)","v":0},{"$f":"IF(($E$4+$C$12)>BO25,BN28-BN27,0)","v":0},{"$f":"IF(($E$4+$C$12)>BO25,BO28-BO27,0)","v":0},{"$f":"IF(($E$4+$C$12)>BQ25,BP28-BP27,0)","v":0},{"$f":"IF(($E$4+$C$12)>BQ25,BQ28-BQ27,0)","v":0},{"$f":"IF(($E$4+$C$12)>BS25,BR28-BR27,0)","v":0},{"$f":"IF(($E$4+$C$12)>BS25,BS28-BS27,0)","v":0},{"$f":"IF(($E$4+$C$12)>BU25,BT28-BT27,0)","v":0},{"$f":"IF(($E$4+$C$12)>BU25,BU28-BU27,0)","v":0},{"$f":"IF(($E$4+$C$12)>BW25,BV28-BV27,0)","v":0},{"$f":"IF(($E$4+$C$12)>BW25,BW28-BW27,0)","v":0},{"$f":"IF(($E$4+$C$12)>BY25,BX28-BX27,0)","v":0},{"$f":"IF(($E$4+$C$12)>BY25,BY28-BY27,0)","v":0},{"$f":"IF(($E$4+$C$12)>CA25,BZ28-BZ27,0)","v":0},{"$f":"IF(($E$4+$C$12)>CA25,CA28-CA27,0)","v":0},{"$f":"IF(($E$4+$C$12)>CC25,CB28-CB27,0)","v":0},{"$f":"IF(($E$4+$C$12)>CC25,CC28-CC27,0)","v":0},{"$f":"IF(($E$4+$C$12)>CE25,CD28-CD27,0)","v":0},{"$f":"IF(($E$4+$C$12)>CE25,CE28-CE27,0)","v":0},{"$f":"IF(($E$4+$C$12)>CG25,CF28-CF27,0)","v":0},{"$f":"IF(($E$4+$C$12)>CG25,CG28-CG27,0)","v":0}]
[null,"Одноразова комісія / One-time fee",null,null,{"$f":"C18*C8","v":0},0,0,0,0,0,0,0,0,0,0,0,0,0,0,0,0,0,0,0,0,0,0,0,0,0,0,0,0,0,0,0,0,0,0,0,0,0,0,0,0,0,0,0,0,0,0,0,0,0,0,0,0,0,0,0,0,0,0,0,0,0,0,0,0,0,0,0,0,0,0,0,0,0,0,0,0,0,0,0,0,0]
[null,"Використання коштів / Use of funds",null,null,{"$f":"IFERROR(HLOOKUP(E23,'План фінансування_Funding plan'!$B$47:$BH$48,2,0),0)","v":0},{"$f":"IFERROR(HLOOKUP(F23,'План фінансування_Funding plan'!$B$47:$BH$48,2,0),0)","v":3000},{"$f":"IFERROR(HLOOKUP(G23,'План фінансування_Funding plan'!$B$47:$BH$48,2,0),0)","v":3000},{"$f":"IFERROR(HLOOKUP(H23,'План фінансування_Funding plan'!$B$47:$BH$48,2,0),0)","v":0},{"$f":"IFERROR(HLOOKUP(I23,'План фінансування_Funding plan'!$B$47:$BH$48,2,0),0)","v":0},{"$f":"IFERROR(HLOOKUP(J23,'План фінансування_Funding plan'!$B$47:$BH$48,2,0),0)","v":0},{"$f":"IFERROR(HLOOKUP(K23,'План фінансування_Funding plan'!$B$47:$BH$48,2,0),0)","v":0},{"$f":"IFERROR(HLOOKUP(L23,'План фінансування_Funding plan'!$B$47:$BH$48,2,0),0)","v":0},{"$f":"IFERROR(HLOOKUP(M23,'План фінансування_Funding plan'!$B$47:$BH$48,2,0),0)","v":0},{"$f":"IFERROR(HLOOKUP(N23,'План фінансування_Funding plan'!$B$47:$BH$48,2,0),0)","v":0},{"$f":"IFERROR(HLOOKUP(O23,'План фінансування_Funding plan'!$B$47:$BH$48,2,0),0)","v":0},{"$f":"IFERROR(HLOOKUP(P23,'План фінансування_Funding plan'!$B$47:$BH$48,2,0),0)","v":0},{"$f":"IFERROR(HLOOKUP(Q23,'План фінансування_Funding plan'!$B$47:$BH$48,2,0),0)","v":0},{"$f":"IFERROR(HLOOKUP(R23,'План фінансування_Funding plan'!$B$47:$BH$48,2,0),0)","v":0},{"$f":"IFERROR(HLOOKUP(S23,'План фінансування_Funding plan'!$B$47:$BH$48,2,0),0)","v":0},{"$f":"IFERROR(HLOOKUP(T23,'План фінансування_Funding plan'!$B$47:$BH$48,2,0),0)","v":0},{"$f":"IFERROR(HLOOKUP(U23,'План фінансування_Funding plan'!$B$47:$BH$48,2,0),0)","v":0},{"$f":"IFERROR(HLOOKUP(V23,'План фінансування_Funding plan'!$B$47:$BH$48,2,0),0)","v":0},{"$f":"IFERROR(HLOOKUP(W23,'План фінансування_Funding plan'!$B$47:$BH$48,2,0),0)","v":0},{"$f":"IFERROR(HLOOKUP(X23,'План фінансування_Funding plan'!$B$47:$BH$48,2,0),0)","v":0},{"$f":"IFERROR(HLOOKUP(Y23,'План фінансування_Funding plan'!$B$47:$BH$48,2,0),0)","v":0},{"$f":"IFERROR(HLOOKUP(Z23,'План фінансування_Funding plan'!$B$47:$BH$48,2,0),0)","v":0},{"$f":"IFERROR(HLOOKUP(AA23,'План фінансування_Funding plan'!$B$47:$BH$48,2,0),0)","v":0},{"$f":"IFERROR(HLOOKUP(AB23,'План фінансування_Funding plan'!$B$47:$BH$48,2,0),0)","v":0},{"$f":"IFERROR(HLOOKUP(AC23,'План фінансування_Funding plan'!$B$47:$BH$48,2,0),0)","v":0},{"$f":"IFERROR(HLOOKUP(AD23,'План фінансування_Funding plan'!$B$47:$BH$48,2,0),0)","v":0},{"$f":"IFERROR(HLOOKUP(AE23,'План фінансування_Funding plan'!$B$47:$BH$48,2,0),0)","v":0},{"$f":"IFERROR(HLOOKUP(AF23,'План фінансування_Funding plan'!$B$47:$BH$48,2,0),0)","v":0},{"$f":"IFERROR(HLOOKUP(AG23,'План фінансування_Funding plan'!$B$47:$BH$48,2,0),0)","v":0},{"$f":"IFERROR(HLOOKUP(AH23,'План фінансування_Funding plan'!$B$47:$BH$48,2,0),0)","v":0},{"$f":"IFERROR(HLOOKUP(AI23,'План фінансування_Funding plan'!$B$47:$BH$48,2,0),0)","v":0},{"$f":"IFERROR(HLOOKUP(AJ23,'План фінансування_Funding plan'!$B$47:$BH$48,2,0),0)","v":0},{"$f":"IFERROR(HLOOKUP(AK23,'План фінансування_Funding plan'!$B$47:$BH$48,2,0),0)","v":0},{"$f":"IFERROR(HLOOKUP(AL23,'План фінансування_Funding plan'!$B$47:$BH$48,2,0),0)","v":0},{"$f":"IFERROR(HLOOKUP(AM23,'План фінансування_Funding plan'!$B$47:$BH$48,2,0),0)","v":0},{"$f":"IFERROR(HLOOKUP(AN23,'План фінансування_Funding plan'!$B$47:$BH$48,2,0),0)","v":0},{"$f":"IFERROR(HLOOKUP(AO23,'План фінансування_Funding plan'!$B$47:$BH$48,2,0),0)","v":0},{"$f":"IFERROR(HLOOKUP(AP23,'План фінансування_Funding plan'!$B$47:$BH$48,2,0),0)","v":0},{"$f":"IFERROR(HLOOKUP(AQ23,'План фінансування_Funding plan'!$B$47:$BH$48,2,0),0)","v":0},{"$f":"IFERROR(HLOOKUP(AR23,'План фінансування_Funding plan'!$B$47:$BH$48,2,0),0)","v":0},{"$f":"IFERROR(HLOOKUP(AS23,'План фінансування_Funding plan'!$B$47:$BH$48,2,0),0)","v":0},{"$f":"IFERROR(HLOOKUP(AT23,'План фінансування_Funding plan'!$B$47:$BH$48,2,0),0)","v":0},{"$f":"IFERROR(HLOOKUP(AU23,'План фінансування_Funding plan'!$B$47:$BH$48,2,0),0)","v":0},{"$f":"IFERROR(HLOOKUP(AV23,'План фінансування_Funding plan'!$B$47:$BH$48,2,0),0)","v":0},{"$f":"IFERROR(HLOOKUP(AW23,'План фінансування_Funding plan'!$B$47:$BH$48,2,0),0)","v":0},{"$f":"IFERROR(HLOOKUP(AX23,'План фінансування_Funding plan'!$B$47:$BH$48,2,0),0)","v":0},{"$f":"IFERROR(HLOOKUP(AY23,'План фінансування_Funding plan'!$B$47:$BH$48,2,0),0)","v":0},{"$f":"IFERROR(HLOOKUP(AZ23,'План фінансування_Funding plan'!$B$47:$BH$48,2,0),0)","v":0},{"$f":"IFERROR(HLOOKUP(BA23,'План фінансування_Funding plan'!$B$47:$BH$48,2,0),0)","v":0},{"$f":"IFERROR(HLOOKUP(BB23,'План фінансування_Funding plan'!$B$47:$BH$48,2,0),0)","v":0},{"$f":"IFERROR(HLOOKUP(BC23,'План фінансування_Funding plan'!$B$47:$BH$48,2,0),0)","v":0},{"$f":"IFERROR(HLOOKUP(BD23,'План фінансування_Funding plan'!$B$47:$BH$48,2,0),0)","v":0},{"$f":"IFERROR(HLOOKUP(BE23,'План фінансування_Funding plan'!$B$47:$BH$48,2,0),0)","v":0},{"$f":"IFERROR(HLOOKUP(BF23,'План фінансування_Funding plan'!$B$47:$BH$48,2,0),0)","v":0},{"$f":"IFERROR(HLOOKUP(BG23,'План фінансування_Funding plan'!$B$47:$BH$48,2,0),0)","v":0},{"$f":"IFERROR(HLOOKUP(BH23,'План фінансування_Funding plan'!$B$47:$BH$48,2,0),0)","v":0},{"$f":"IFERROR(HLOOKUP(BI23,'План фінансування_Funding plan'!$B$47:$BH$48,2,0),0)","v":0},{"$f":"IFERROR(HLOOKUP(BJ23,'План фінансування_Funding plan'!$B$47:$BH$48,2,0),0)","v":0},{"$f":"IFERROR(HLOOKUP(BK23,'План фінансування_Funding plan'!$B$47:$BH$48,2,0),0)","v":0},{"$f":"IFERROR(HLOOKUP(BL23,'План фінансування_Funding plan'!$B$47:$BH$48,2,0),0)","v":0},{"$f":"IFERROR(HLOOKUP(BM23,'План фінансування_Funding plan'!$B$47:$BH$48,2,0),0)","v":0},{"$f":"IFERROR(HLOOKUP(BN23,'План фінансування_Funding plan'!$B$47:$BH$48,2,0),0)","v":0},{"$f":"IFERROR(HLOOKUP(BO23,'План фінансування_Funding plan'!$B$47:$BH$48,2,0),0)","v":0},{"$f":"IFERROR(HLOOKUP(BP23,'План фінансування_Funding plan'!$B$47:$BH$48,2,0),0)","v":0},{"$f":"IFERROR(HLOOKUP(BQ23,'План фінансування_Funding plan'!$B$47:$BH$48,2,0),0)","v":0},{"$f":"IFERROR(HLOOKUP(BR23,'План фінансування_Funding plan'!$B$47:$BH$48,2,0),0)","v":0},{"$f":"IFERROR(HLOOKUP(BS23,'План фінансування_Funding plan'!$B$47:$BH$48,2,0),0)","v":0},{"$f":"IFERROR(HLOOKUP(BT23,'План фінансування_Funding plan'!$B$47:$BH$48,2,0),0)","v":0},{"$f":"IFERROR(HLOOKUP(BU23,'План фінансування_Funding plan'!$B$47:$BH$48,2,0),0)","v":0},{"$f":"IFERROR(HLOOKUP(BV23,'План фінансування_Funding plan'!$B$47:$BH$48,2,0),0)","v":0},{"$f":"IFERROR(HLOOKUP(BW23,'План фінансування_Funding plan'!$B$47:$BH$48,2,0),0)","v":0},{"$f":"IFERROR(HLOOKUP(BX23,'План фінансування_Funding plan'!$B$47:$BH$48,2,0),0)","v":0},{"$f":"IFERROR(HLOOKUP(BY23,'План фінансування_Funding plan'!$B$47:$BH$48,2,0),0)","v":0},{"$f":"IFERROR(HLOOKUP(BZ23,'План фінансування_Funding plan'!$B$47:$BH$48,2,0),0)","v":0},{"$f":"IFERROR(HLOOKUP(CA23,'План фінансування_Funding plan'!$B$47:$BH$48,2,0),0)","v":0},{"$f":"IFERROR(HLOOKUP(CB23,'План фінансування_Funding plan'!$B$47:$BH$48,2,0),0)","v":0},{"$f":"IFERROR(HLOOKUP(CC23,'План фінансування_Funding plan'!$B$47:$BH$48,2,0),0)","v":0},{"$f":"IFERROR(HLOOKUP(CD23,'План фінансування_Funding plan'!$B$47:$BH$48,2,0),0)","v":0},{"$f":"IFERROR(HLOOKUP(CE23,'План фінансування_Funding plan'!$B$47:$BH$48,2,0),0)","v":0},{"$f":"IFERROR(HLOOKUP(CF23,'План фінансування_Funding plan'!$B$47:$BH$48,2,0),0)","v":0},{"$f":"IFERROR(HLOOKUP(CG23,'План фінансування_Funding plan'!$B$47:$BH$48,2,0),0)","v":0},{"$f":"IFERROR(HLOOKUP(CH23,'План фінансування_Funding plan'!$B$47:$BH$48,2,0),0)","v":0}]
[null,"Відсотки банку / Bank interest",null,null,{"$f":"(E30)*C16/2","v":0},{"$f":"IF(COUNTA($E$24:E24)<=($C$12*2),(SUM($E$30:F30)-SUM($E$27:E27))*($C$16/2),0)","v":150},{"$f":"IF(COUNTA($E$24:F24)<=($C$12*2),(SUM($E$30:G30)-SUM($E$27:F27))*($C$16/2),0)","v":300},{"$f":"IF(COUNTA($E$24:G24)<=($C$12*2),(SUM($E$30:H30)-SUM($E$27:G27))*($C$16/2),0)","v":283.33333333333337},{"$f":"IF(COUNTA($E$24:H24)<=($C$12*2),(SUM($E$30:I30)-SUM($E$27:H27))*($C$16/2),0)","v":247.91666666666666},{"$f":"IF(COUNTA($E$24:I24)<=($C$12*2),(SUM($E$30:J30)-SUM($E$27:I27))*($C$16/2),0)","v":212.5},{"$f":"IF(COUNTA($E$24:J24)<=($C$12*2),(SUM($E$30:K30)-SUM($E$27:J27))*($C$16/2),0)","v":177.08333333333334},{"$f":"IF(COUNTA($E$24:K24)<=($C$12*2),(SUM($E$30:L30)-SUM($E$27:K27))*($C$16/2),0)","v":141.66666666666666},{"$f":"IF(COUNTA($E$24:L24)<=($C$12*2),(SUM($E$30:M30)-SUM($E$27:L27))*($C$16/2),0)","v":106.25},{"$f":"IF(COUNTA($E$24:M24)<=($C$12*2),(SUM($E$30:N30)-SUM($E$27:M27))*($C$16/2),0)","v":70.833333333333357},{"$f":"IF(COUNTA($E$24:N24)<=($C$12*2),(SUM($E$30:O30)-SUM($E$27:N27))*($C$16/2),0)","v":35.4166666666667},{"$f":"IF(COUNTA($E$24:O24)<=($C$12*2),(SUM($E$30:P30)-SUM($E$27:O27))*($C$16/2),0)","v":0},{"$f":"IF(COUNTA($E$24:P24)<=($C$12*2),(SUM($E$30:Q30)-SUM($E$27:P27))*($C$16/2),0)","v":0},{"$f":"IF(COUNTA($E$24:Q24)<=($C$12*2),(SUM($E$30:R30)-SUM($E$27:Q27))*($C$16/2),0)","v":0},{"$f":"IF(COUNTA($E$24:R24)<=($C$12*2),(SUM($E$30:S30)-SUM($E$27:R27))*($C$16/2),0)","v":0},{"$f":"IF(COUNTA($E$24:S24)<=($C$12*2),(SUM($E$30:T30)-SUM($E$27:S27))*($C$16/2),0)","v":0},{"$f":"IF(COUNTA($E$24:T24)<=($C$12*2),(SUM($E$30:U30)-SUM($E$27:T27))*($C$16/2),0)","v":0},{"$f":"IF(COUNTA($E$24:U24)<=($C$12*2),(SUM($E$30:V30)-SUM($E$27:U27))*($C$16/2),0)","v":0},{"$f":"IF(COUNTA($E$24:V24)<=($C$12*2),(SUM($E$30:W30)-SUM($E$27:V27))*($C$16/2),0)","v":0},{"$f":"IF(COUNTA($E$24:W24)<=($C$12*2),(SUM($E$30:X30)-SUM($E$27:W27))*($C$16/2),0)","v":0},{"$f":"IF(COUNTA($E$24:X24)<=($C$12*2),(SUM($E$30:Y30)-SUM($E$27:X27))*($C$16/2),0)","v":0},{"$f":"IF(COUNTA($E$24:Y24)<=($C$12*2),(SUM($E$30:Z30)-SUM($E$27:Y27))*($C$16/2),0)","v":0},{"$f":"IF(COUNTA($E$24:Z24)<=($C$12*2),(SUM($E$30:AA30)-SUM($E$27:Z27))*($C$16/2),0)","v":0},{"$f":"IF(COUNTA($E$24:AA24)<=($C$12*2),(SUM($E$30:AB30)-SUM($E$27:AA27))*($C$16/2),0)","v":0},{"$f":"IF(COUNTA($E$24:AB24)<=($C$12*2),(SUM($E$30:AC30)-SUM($E$27:AB27))*($C$16/2),0)","v":0},{"$f":"IF(COUNTA($E$24:AC24)<=($C$12*2),(SUM($E$30:AD30)-SUM($E$27:AC27))*($C$16/2),0)","v":0},{"$f":"IF(COUNTA($E$24:AD24)<=($C$12*2),(SUM($E$30:AE30)-SUM($E$27:AD27))*($C$16/2),0)","v":0},{"$f":"IF(COUNTA($E$24:AE24)<=($C$12*2),(SUM($E$30:AF30)-SUM($E$27:AE27))*($C$16/2),0)","v":0},{"$f":"IF(COUNTA($E$24:AF24)<=($C$12*2),(SUM($E$30:AG30)-SUM($E$27:AF27))*($C$16/2),0)","v":0},{"$f":"IF(COUNTA($E$24:AG24)<=($C$12*2),(SUM($E$30:AH30)-SUM($E$27:AG27))*($C$16/2),0)","v":0},{"$f":"IF(COUNTA($E$24:AH24)<=($C$12*2),(SUM($E$30:AI30)-SUM($E$27:AH27))*($C$16/2),0)","v":0},{"$f":"IF(COUNTA($E$24:AI24)<=($C$12*2),(SUM($E$30:AJ30)-SUM($E$27:AI27))*($C$16/2),0)","v":0},{"$f":"IF(COUNTA($E$24:AJ24)<=($C$12*2),(SUM($E$30:AK30)-SUM($E$27:AJ27))*($C$16/2),0)","v":0},{"$f":"IF(COUNTA($E$24:AK24)<=($C$12*2),(SUM($E$30:AL30)-SUM($E$27:AK27))*($C$16/2),0)","v":0},{"$f":"IF(COUNTA($E$24:AL24)<=($C$12*2),(SUM($E$30:AM30)-SUM($E$27:AL27))*($C$16/2),0)","v":0},{"$f":"IF(COUNTA($E$24:AM24)<=($C$12*2),(SUM($E$30:AN30)-SUM($E$27:AM27))*($C$16/2),0)","v":0},{"$f":"IF(COUNTA($E$24:AN24)<=($C$12*2),(SUM($E$30:AO30)-SUM($E$27:AN27))*($C$16/2),0)","v":0},{"$f":"IF(COUNTA($E$24:AO24)<=($C$12*2),(SUM($E$30:AP30)-SUM($E$27:AO27))*($C$16/2),0)","v":0},{"$f":"IF(COUNTA($E$24:AP24)<=($C$12*2),(SUM($E$30:AQ30)-SUM($E$27:AP27))*($C$16/2),0)","v":0},{"$f":"IF(COUNTA($E$24:AQ24)<=($C$12*2),(SUM($E$30:AR30)-SUM($E$27:AQ27))*($C$16/2),0)","v":0},{"$f":"IF(COUNTA($E$24:AR24)<=($C$12*2),(SUM($E$30:AS30)-SUM($E$27:AR27))*($C$16/2),0)","v":0},{"$f":"IF(COUNTA($E$24:AS24)<=($C$12*2),(SUM($E$30:AT30)-SUM($E$27:AS27))*($C$16/2),0)","v":0},{"$f":"IF(COUNTA($E$24:AT24)<=($C$12*2),(SUM($E$30:AU30)-SUM($E$27:AT27))*($C$16/2),0)","v":0},{"$f":"IF(COUNTA($E$24:AU24)<=($C$12*2),(SUM($E$30:AV30)-SUM($E$27:AU27))*($C$16/2),0)","v":0},{"$f":"IF(COUNTA($E$24:AV24)<=($C$12*2),(SUM($E$30:AW30)-SUM($E$27:AV27))*($C$16/2),0)","v":0},{"$f":"IF(COUNTA($E$24:AW24)<=($C$12*2),(SUM($E$30:AX30)-SUM($E$27:AW27))*($C$16/2),0)","v":0},{"$f":"IF(COUNTA($E$24:AX24)<=($C$12*2),(SUM($E$30:AY30)-SUM($E$27:AX27))*($C$16/2),0)","v":0},{"$f":"IF(COUNTA($E$24:AY24)<=($C$12*2),(SUM($E$30:AZ30)-SUM($E$27:AY27))*($C$16/2),0)","v":0},{"$f":"IF(COUNTA($E$24:AZ24)<=($C$12*2),(SUM($E$30:BA30)-SUM($E$27:AZ27))*($C$16/2),0)","v":0},{"$f":"IF(COUNTA($E$24:BA24)<=($C$12*2),(SUM($E$30:BB30)-SUM($E$27:BA27))*($C$16/2),0)","v":0},{"$f":"IF(COUNTA($E$24:BB24)<=($C$12*2),(SUM($E$30:BC30)-SUM($E$27:BB27))*($C$16/2),0)","v":0},{"$f":"IF(COUNTA($E$24:BC24)<=($C$12*2),(SUM($E$30:BD30)-SUM($E$27:BC27))*($C$16/2),0)","v":0},{"$f":"IF(COUNTA($E$24:BD24)<=($C$12*2),(SUM($E$30:BE30)-SUM($E$27:BD27))*($C$16/2),0)","v":0},{"$f":"IF(COUNTA($E$24:BE24)<=($C$12*2),(SUM($E$30:BF30)-SUM($E$27:BE27))*($C$16/2),0)","v":0},{"$f":"IF(COUNTA($E$24:BF24)<=($C$12*2),(SUM($E$30:BG30)-SUM($E$27:BF27))*($C$16/2),0)","v":0},{"$f":"IF(COUNTA($E$24:BG24)<=($C$12*2),(SUM($E$30:BH30)-SUM($E$27:BG27))*($C$16/2),0)","v":0},{"$f":"IF(COUNTA($E$24:BH24)<=($C$12*2),(SUM($E$30:BI30)-SUM($E$27:BH27))*($C$16/2),0)","v":0},{"$f":"IF(COUNTA($E$24:BI24)<=($C$12*2),(SUM($E$30:BJ30)-SUM($E$27:BI27))*($C$16/2),0)","v":0},{"$f":"IF(COUNTA($E$24:BJ24)<=($C$12*2),(SUM($E$30:BK30)-SUM($E$27:BJ27))*($C$16/2),0)","v":0},{"$f":"IF(COUNTA($E$24:BK24)<=($C$12*2),(SUM($E$30:BL30)-SUM($E$27:BK27))*($C$16/2),0)","v":0},{"$f":"IF(COUNTA($E$24:BL24)<=($C$12*2),(SUM($E$30:BM30)-SUM($E$27:BL27))*($C$16/2),0)","v":0},{"$f":"IF(COUNTA($E$24:BM24)<=($C$12*2),(SUM($E$30:BN30)-SUM($E$27:BM27))*($C$16/2),0)","v":0},{"$f":"IF(COUNTA($E$24:BN24)<=($C$12*2),(SUM($E$30:BO30)-SUM($E$27:BN27))*($C$16/2),0)","v":0},{"$f":"IF(COUNTA($E$24:BO24)<=($C$12*2),(SUM($E$30:BP30)-SUM($E$27:BO27))*($C$16/2),0)","v":0},{"$f":"IF(COUNTA($E$24:BP24)<=($C$12*2),(SUM($E$30:BQ30)-SUM($E$27:BP27))*($C$16/2),0)","v":0},{"$f":"IF(COUNTA($E$24:BQ24)<=($C$12*2),(SUM($E$30:BR30)-SUM($E$27:BQ27))*($C$16/2),0)","v":0},{"$f":"IF(COUNTA($E$24:BR24)<=($C$12*2),(SUM($E$30:BS30)-SUM($E$27:BR27))*($C$16/2),0)","v":0},{"$f":"IF(COUNTA($E$24:BS24)<=($C$12*2),(SUM($E$30:BT30)-SUM($E$27:BS27))*($C$16/2),0)","v":0},{"$f":"IF(COUNTA($E$24:BT24)<=($C$12*2),(SUM($E$30:BU30)-SUM($E$27:BT27))*($C$16/2),0)","v":0},{"$f":"IF(COUNTA($E$24:BU24)<=($C$12*2),(SUM($E$30:BV30)-SUM($E$27:BU27))*($C$16/2),0)","v":0},{"$f":"IF(COUNTA($E$24:BV24)<=($C$12*2),(SUM($E$30:BW30)-SUM($E$27:BV27))*($C$16/2),0)","v":0},{"$f":"IF(COUNTA($E$24:BW24)<=($C$12*2),(SUM($E$30:BX30)-SUM($E$27:BW27))*($C$16/2),0)","v":0},{"$f":"IF(COUNTA($E$24:BX24)<=($C$12*2),(SUM($E$30:BY30)-SUM($E$27:BX27))*($C$16/2),0)","v":0},{"$f":"IF(COUNTA($E$24:BY24)<=($C$12*2),(SUM($E$30:BZ30)-SUM($E$27:BY27))*($C$16/2),0)","v":0},{"$f":"IF(COUNTA($E$24:BZ24)<=($C$12*2),(SUM($E$30:CA30)-SUM($E$27:BZ27))*($C$16/2),0)","v":0},{"$f":"IF(COUNTA($E$24:CA24)<=($C$12*2),(SUM($E$30:CB30)-SUM($E$27:CA27))*($C$16/2),0)","v":0},{"$f":"IF(COUNTA($E$24:CB24)<=($C$12*2),(SUM($E$30:CC30)-SUM($E$27:CB27))*($C$16/2),0)","v":0},{"$f":"IF(COUNTA($E$24:CC24)<=($C$12*2),(SUM($E$30:CD30)-SUM($E$27:CC27))*($C$16/2),0)","v":0},{"$f":"IF(COUNTA($E$24:CD24)<=($C$12*2),(SUM($E$30:CE30)-SUM($E$27:CD27))*($C$16/2),0)","v":0},{"$f":"IF(COUNTA($E$24:CE24)<=($C$12*2),(SUM($E$30:CF30)-SUM($E$27:CE27))*($C$16/2),0)","v":0},{"$f":"IF(COUNTA($E$24:CF24)<=($C$12*2),(SUM($E$30:CG30)-SUM($E$27:CF27))*($C$16/2),0)","v":0},{"$f":"IF(COUNTA($E$24:CG24)<=($C$12*2),(SUM($E$30:CH30)-SUM($E$27:CG27))*($C$16/2),0)","v":0}]
[null,"Комісія за зобов'язання / Commitment fee",null,null,{"$f":"IF(COUNTA(D$24:$E24)<=($C$12*2),($C$8-SUM($E$30:E30))*$C$20/2,0)","v":0},{"$f":"IF(COUNTA($E$24:E24)<=($C$12*2),($C$8-SUM($E$30:F30))*$C$20/2,0)","v":0},{"$f":"IF(COUNTA($E$24:F24)<=($C$12*2),($C$8-SUM($E$30:G30))*$C$20/2,0)","v":0},{"$f":"IF(COUNTA($E$24:G24)<=($C$12*2),($C$8-SUM($E$30:H30))*$C$20/2,0)","v":0},{"$f":"IF(COUNTA($E$24:H24)<=($C$12*2),($C$8-SUM($E$30:I30))*$C$20/2,0)","v":0},{"$f":"IF(COUNTA($E$24:I24)<=($C$12*2),($C$8-SUM($E$30:J30))*$C$20/2,0)","v":0},{"$f":"IF(COUNTA($E$24:J24)<=($C$12*2),($C$8-SUM($E$30:K30))*$C$20/2,0)","v":0},{"$f":"IF(COUNTA($E$24:K24)<=($C$12*2),($C$8-SUM($E$30:L30))*$C$20/2,0)","v":0},{"$f":"IF(COUNTA($E$24:L24)<=($C$12*2),($C$8-SUM($E$30:M30))*$C$20/2,0)","v":0},{"$f":"IF(COUNTA($E$24:M24)<=($C$12*2),($C$8-SUM($E$30:N30))*$C$20/2,0)","v":0},{"$f":"IF(COUNTA($E$24:N24)<=($C$12*2),($C$8-SUM($E$30:O30))*$C$20/2,0)","v":0},{"$f":"IF(COUNTA($E$24:O24)<=($C$12*2),($C$8-SUM($E$30:P30))*$C$20/2,0)","v":0},{"$f":"IF(COUNTA($E$24:P24)<=($C$12*2),($C$8-SUM($E$30:Q30))*$C$20/2,0)","v":0},{"$f":"IF(COUNTA($E$24:Q24)<=($C$12*2),($C$8-SUM($E$30:R30))*$C$20/2,0)","v":0},{"$f":"IF(COUNTA($E$24:R24)<=($C$12*2),($C$8-SUM($E$30:S30))*$C$20/2,0)","v":0},{"$f":"IF(COUNTA($E$24:S24)<=($C$12*2),($C$8-SUM($E$30:T30))*$C$20/2,0)","v":0},{"$f":"IF(COUNTA($E$24:T24)<=($C$12*2),($C$8-SUM($E$30:U30))*$C$20/2,0)","v":0},{"$f":"IF(COUNTA($E$24:U24)<=($C$12*2),($C$8-SUM($E$30:V30))*$C$20/2,0)","v":0},{"$f":"IF(COUNTA($E$24:V24)<=($C$12*2),($C$8-SUM($E$30:W30))*$C$20/2,0)","v":0},{"$f":"IF(COUNTA($E$24:W24)<=($C$12*2),($C$8-SUM($E$30:X30))*$C$20/2,0)","v":0},{"$f":"IF(COUNTA($E$24:X24)<=($C$12*2),($C$8-SUM($E$30:Y30))*$C$20/2,0)","v":0},{"$f":"IF(COUNTA($E$24:Y24)<=($C$12*2),($C$8-SUM($E$30:Z30))*$C$20/2,0)","v":0},{"$f":"IF(COUNTA($E$24:Z24)<=($C$12*2),($C$8-SUM($E$30:AA30))*$C$20/2,0)","v":0},{"$f":"IF(COUNTA($E$24:AA24)<=($C$12*2),($C$8-SUM($E$30:AB30))*$C$20/2,0)","v":0},{"$f":"IF(COUNTA($E$24:AB24)<=($C$12*2),($C$8-SUM($E$30:AC30))*$C$20/2,0)","v":0},{"$f":"IF(COUNTA($E$24:AC24)<=($C$12*2),($C$8-SUM($E$30:AD30))*$C$20/2,0)","v":0},{"$f":"IF(COUNTA($E$24:AD24)<=($C$12*2),($C$8-SUM($E$30:AE30))*$C$20/2,0)","v":0},{"$f":"IF(COUNTA($E$24:AE24)<=($C$12*2),($C$8-SUM($E$30:AF30))*$C$20/2,0)","v":0},{"$f":"IF(COUNTA($E$24:AF24)<=($C$12*2),($C$8-SUM($E$30:AG30))*$C$20/2,0)","v":0},{"$f":"IF(COUNTA($E$24:AG24)<=($C$12*2),($C$8-SUM($E$30:AH30))*$C$20/2,0)","v":0},{"$f":"IF(COUNTA($E$24:AH24)<=($C$12*2),($C$8-SUM($E$30:AI30))*$C$20/2,0)","v":0},{"$f":"IF(COUNTA($E$24:AI24)<=($C$12*2),($C$8-SUM($E$30:AJ30))*$C$20/2,0)","v":0},{"$f":"IF(COUNTA($E$24:AJ24)<=($C$12*2),($C$8-SUM($E$30:AK30))*$C$20/2,0)","v":0},{"$f":"IF(COUNTA($E$24:AK24)<=($C$12*2),($C$8-SUM($E$30:AL30))*$C$20/2,0)","v":0},{"$f":"IF(COUNTA($E$24:AL24)<=($C$12*2),($C$8-SUM($E$30:AM30))*$C$20/2,0)","v":0},{"$f":"IF(COUNTA($E$24:AM24)<=($C$12*2),($C$8-SUM($E$30:AN30))*$C$20/2,0)","v":0},{"$f":"IF(COUNTA($E$24:AN24)<=($C$12*2),($C$8-SUM($E$30:AO30))*$C$20/2,0)","v":0},{"$f":"IF(COUNTA($E$24:AO24)<=($C$12*2),($C$8-SUM($E$30:AP30))*$C$20/2,0)","v":0},{"$f":"IF(COUNTA($E$24:AP24)<=($C$12*2),($C$8-SUM($E$30:AQ30))*$C$20/2,0)","v":0},{"$f":"IF(COUNTA($E$24:AQ24)<=($C$12*2),($C$8-SUM($E$30:AR30))*$C$20/2,0)","v":0},{"$f":"IF(COUNTA($E$24:AR24)<=($C$12*2),($C$8-SUM($E$30:AS30))*$C$20/2,0)","v":0},{"$f":"IF(COUNTA($E$24:AS24)<=($C$12*2),($C$8-SUM($E$30:AT30))*$C$20/2,0)","v":0},{"$f":"IF(COUNTA($E$24:AT24)<=($C$12*2),($C$8-SUM($E$30:AU30))*$C$20/2,0)","v":0},{"$f":"IF(COUNTA($E$24:AU24)<=($C$12*2),($C$8-SUM($E$30:AV30))*$C$20/2,0)","v":0},{"$f":"IF(COUNTA($E$24:AV24)<=($C$12*2),($C$8-SUM($E$30:AW30))*$C$20/2,0)","v":0},{"$f":"IF(COUNTA($E$24:AW24)<=($C$12*2),($C$8-SUM($E$30:AX30))*$C$20/2,0)","v":0},{"$f":"IF(COUNTA($E$24:AX24)<=($C$12*2),($C$8-SUM($E$30:AY30))*$C$20/2,0)","v":0},{"$f":"IF(COUNTA($E$24:AY24)<=($C$12*2),($C$8-SUM($E$30:AZ30))*$C$20/2,0)","v":0},{"$f":"IF(COUNTA($E$24:AZ24)<=($C$12*2),($C$8-SUM($E$30:BA30))*$C$20/2,0)","v":0},{"$f":"IF(COUNTA($E$24:BA24)<=($C$12*2),($C$8-SUM($E$30:BB30))*$C$20/2,0)","v":0},{"$f":"IF(COUNTA($E$24:BB24)<=($C$12*2),($C$8-SUM($E$30:BC30))*$C$20/2,0)","v":0},{"$f":"IF(COUNTA($E$24:BC24)<=($C$12*2),($C$8-SUM($E$30:BD30))*$C$20/2,0)","v":0},{"$f":"IF(COUNTA($E$24:BD24)<=($C$12*2),($C$8-SUM($E$30:BE30))*$C$20/2,0)","v":0},{"$f":"IF(COUNTA($E$24:BE24)<=($C$12*2),($C$8-SUM($E$30:BF30))*$C$20/2,0)","v":0},{"$f":"IF(COUNTA($E$24:BF24)<=($C$12*2),($C$8-SUM($E$30:BG30))*$C$20/2,0)","v":0},{"$f":"IF(COUNTA($E$24:BG24)<=($C$12*2),($C$8-SUM($E$30:BH30))*$C$20/2,0)","v":0},{"$f":"IF(COUNTA($E$24:BH24)<=($C$12*2),($C$8-SUM($E$30:BI30))*$C$20/2,0)","v":0},{"$f":"IF(COUNTA($E$24:BI24)<=($C$12*2),($C$8-SUM($E$30:BJ30))*$C$20/2,0)","v":0},{"$f":"IF(COUNTA($E$24:BJ24)<=($C$12*2),($C$8-SUM($E$30:BK30))*$C$20/2,0)","v":0},{"$f":"IF(COUNTA($E$24:BK24)<=($C$12*2),($C$8-SUM($E$30:BL30))*$C$20/2,0)","v":0},{"$f":"IF(COUNTA($E$24:BL24)<=($C$12*2),($C$8-SUM($E$30:BM30))*$C$20/2,0)","v":0},{"$f":"IF(COUNTA($E$24:BM24)<=($C$12*2),($C$8-SUM($E$30:BN30))*$C$20/2,0)","v":0},{"$f":"IF(COUNTA($E$24:BN24)<=($C$12*2),($C$8-SUM($E$30:BO30))*$C$20/2,0)","v":0},{"$f":"IF(COUNTA($E$24:BO24)<=($C$12*2),($C$8-SUM($E$30:BP30))*$C$20/2,0)","v":0},{"$f":"IF(COUNTA($E$24:BP24)<=($C$12*2),($C$8-SUM($E$30:BQ30))*$C$20/2,0)","v":0},{"$f":"IF(COUNTA($E$24:BQ24)<=($C$12*2),($C$8-SUM($E$30:BR30))*$C$20/2,0)","v":0},{"$f":"IF(COUNTA($E$24:BR24)<=($C$12*2),($C$8-SUM($E$30:BS30))*$C$20/2,0)","v":0},{"$f":"IF(COUNTA($E$24:BS24)<=($C$12*2),($C$8-SUM($E$30:BT30))*$C$20/2,0)","v":0},{"$f":"IF(COUNTA($E$24:BT24)<=($C$12*2),($C$8-SUM($E$30:BU30))*$C$20/2,0)","v":0},{"$f":"IF(COUNTA($E$24:BU24)<=($C$12*2),($C$8-SUM($E$30:BV30))*$C$20/2,0)","v":0},{"$f":"IF(COUNTA($E$24:BV24)<=($C$12*2),($C$8-SUM($E$30:BW30))*$C$20/2,0)","v":0},{"$f":"IF(COUNTA($E$24:BW24)<=($C$12*2),($C$8-SUM($E$30:BX30))*$C$20/2,0)","v":0},{"$f":"IF(COUNTA($E$24:BX24)<=($C$12*2),($C$8-SUM($E$30:BY30))*$C$20/2,0)","v":0},{"$f":"IF(COUNTA($E$24:BY24)<=($C$12*2),($C$8-SUM($E$30:BZ30))*$C$20/2,0)","v":0},{"$f":"IF(COUNTA($E$24:BZ24)<=($C$12*2),($C$8-SUM($E$30:CA30))*$C$20/2,0)","v":0},{"$f":"IF(COUNTA($E$24:CA24)<=($C$12*2),($C$8-SUM($E$30:CB30))*$C$20/2,0)","v":0},{"$f":"IF(COUNTA($E$24:CB24)<=($C$12*2),($C$8-SUM($E$30:CC30))*$C$20/2,0)","v":0},{"$f":"IF(COUNTA($E$24:CC24)<=($C$12*2),($C$8-SUM($E$30:CD30))*$C$20/2,0)","v":0},{"$f":"IF(COUNTA($E$24:CD24)<=($C$12*2),($C$8-SUM($E$30:CE30))*$C$20/2,0)","v":0},{"$f":"IF(COUNTA($E$24:CE24)<=($C$12*2),($C$8-SUM($E$30:CF30))*$C$20/2,0)","v":0},{"$f":"IF(COUNTA($E$24:CF24)<=($C$12*2),($C$8-SUM($E$30:CG30))*$C$20/2,0)","v":0},{"$f":"IF(COUNTA($E$24:CG24)<=($C$12*2),($C$8-SUM($E$30:CH30))*$C$20/2,0)","v":0},{"$f":"IF(COUNTA($E$24:CH24)<=($C$12*2),($C$8-SUM($E$30:CI30))*$C$20/2,0)","v":0}]
[null,"Плата МФУ за надання державної гарантії / State guarantee fee ",null,null,{"$f":"(E30)*C22/2","v":0},{"$f":"IF(COUNTA($E$24:E24)<=($C$12*2),((SUM($E$30:F30)-E27))*$C$22/2,0)","v":0},{"$f":"IF(COUNTA($E$24:F24)<=($C$12*2),(SUM($E$30:G30)-SUM($E$27:F27))*$C$22/2,0)","v":0},{"$f":"IF(COUNTA($E$24:G24)<=($C$12*2),(SUM($E$30:H30)-SUM($E$27:G27))*$C$22/2,0)","v":0},{"$f":"IF(COUNTA($E$24:H24)<=($C$12*2),(SUM($E$30:I30)-SUM($E$27:H27))*$C$22/2,0)","v":0},{"$f":"IF(COUNTA($E$24:I24)<=($C$12*2),(SUM($E$30:J30)-SUM($E$27:I27))*$C$22/2,0)","v":0},{"$f":"IF(COUNTA($E$24:J24)<=($C$12*2),(SUM($E$30:K30)-SUM($E$27:J27))*$C$22/2,0)","v":0},{"$f":"IF(COUNTA($E$24:K24)<=($C$12*2),(SUM($E$30:L30)-SUM($E$27:K27))*$C$22/2,0)","v":0},{"$f":"IF(COUNTA($E$24:L24)<=($C$12*2),(SUM($E$30:M30)-SUM($E$27:L27))*$C$22/2,0)","v":0},{"$f":"IF(COUNTA($E$24:M24)<=($C$12*2),(SUM($E$30:N30)-SUM($E$27:M27))*$C$22/2,0)","v":0},{"$f":"IF(COUNTA($E$24:N24)<=($C$12*2),(SUM($E$30:O30)-SUM($E$27:N27))*$C$22/2,0)","v":0},{"$f":"IF(COUNTA($E$24:O24)<=($C$12*2),(SUM($E$30:P30)-SUM($E$27:O27))*$C$22/2,0)","v":0},{"$f":"IF(COUNTA($E$24:P24)<=($C$12*2),(SUM($E$30:Q30)-SUM($E$27:P27))*$C$22/2,0)","v":0},{"$f":"IF(COUNTA($E$24:Q24)<=($C$12*2),(SUM($E$30:R30)-SUM($E$27:Q27))*$C$22/2,0)","v":0},{"$f":"IF(COUNTA($E$24:R24)<=($C$12*2),(SUM($E$30:S30)-SUM($E$27:R27))*$C$22/2,0)","v":0},{"$f":"IF(COUNTA($E$24:S24)<=($C$12*2),(SUM($E$30:T30)-SUM($E$27:S27))*$C$22/2,0)","v":0},{"$f":"IF(COUNTA($E$24:T24)<=($C$12*2),(SUM($E$30:U30)-SUM($E$27:T27))*$C$22/2,0)","v":0},{"$f":"IF(COUNTA($E$24:U24)<=($C$12*2),(SUM($E$30:V30)-SUM($E$27:U27))*$C$22/2,0)","v":0},{"$f":"IF(COUNTA($E$24:V24)<=($C$12*2),(SUM($E$30:W30)-SUM($E$27:V27))*$C$22/2,0)","v":0},{"$f":"IF(COUNTA($E$24:W24)<=($C$12*2),(SUM($E$30:X30)-SUM($E$27:W27))*$C$22/2,0)","v":0},{"$f":"IF(COUNTA($E$24:X24)<=($C$12*2),(SUM($E$30:Y30)-SUM($E$27:X27))*$C$22/2,0)","v":0},{"$f":"IF(COUNTA($E$24:Y24)<=($C$12*2),(SUM($E$30:Z30)-SUM($E$27:Y27))*$C$22/2,0)","v":0},{"$f":"IF(COUNTA($E$24:Z24)<=($C$12*2),(SUM($E$30:AA30)-SUM($E$27:Z27))*$C$22/2,0)","v":0},{"$f":"IF(COUNTA($E$24:AA24)<=($C$12*2),(SUM($E$30:AB30)-SUM($E$27:AA27))*$C$22/2,0)","v":0},{"$f":"IF(COUNTA($E$24:AB24)<=($C$12*2),(SUM($E$30:AC30)-SUM($E$27:AB27))*$C$22/2,0)","v":0},{"$f":"IF(COUNTA($E$24:AC24)<=($C$12*2),(SUM($E$30:AD30)-SUM($E$27:AC27))*$C$22/2,0)","v":0},{"$f":"IF(COUNTA($E$24:AD24)<=($C$12*2),(SUM($E$30:AE30)-SUM($E$27:AD27))*$C$22/2,0)","v":0},{"$f":"IF(COUNTA($E$24:AE24)<=($C$12*2),(SUM($E$30:AF30)-SUM($E$27:AE27))*$C$22/2,0)","v":0},{"$f":"IF(COUNTA($E$24:AF24)<=($C$12*2),(SUM($E$30:AG30)-SUM($E$27:AF27))*$C$22/2,0)","v":0},{"$f":"IF(COUNTA($E$24:AG24)<=($C$12*2),(SUM($E$30:AH30)-SUM($E$27:AG27))*$C$22/2,0)","v":0},{"$f":"IF(COUNTA($E$24:AH24)<=($C$12*2),(SUM($E$30:AI30)-SUM($E$27:AH27))*$C$22/2,0)","v":0},{"$f":"IF(COUNTA($E$24:AI24)<=($C$12*2),(SUM($E$30:AJ30)-SUM($E$27:AI27))*$C$22/2,0)","v":0},{"$f":"IF(COUNTA($E$24:AJ24)<=($C$12*2),(SUM($E$30:AK30)-SUM($E$27:AJ27))*$C$22/2,0)","v":0},{"$f":"IF(COUNTA($E$24:AK24)<=($C$12*2),(SUM($E$30:AL30)-SUM($E$27:AK27))*$C$22/2,0)","v":0},{"$f":"IF(COUNTA($E$24:AL24)<=($C$12*2),(SUM($E$30:AM30)-SUM($E$27:AL27))*$C$22/2,0)","v":0},{"$f":"IF(COUNTA($E$24:AM24)<=($C$12*2),(SUM($E$30:AN30)-SUM($E$27:AM27))*$C$22/2,0)","v":0},{"$f":"IF(COUNTA($E$24:AN24)<=($C$12*2),(SUM($E$30:AO30)-SUM($E$27:AN27))*$C$22/2,0)","v":0},{"$f":"IF(COUNTA($E$24:AO24)<=($C$12*2),(SUM($E$30:AP30)-SUM($E$27:AO27))*$C$22/2,0)","v":0},{"$f":"IF(COUNTA($E$24:AP24)<=($C$12*2),(SUM($E$30:AQ30)-SUM($E$27:AP27))*$C$22/2,0)","v":0},{"$f":"IF(COUNTA($E$24:AQ24)<=($C$12*2),(SUM($E$30:AR30)-SUM($E$27:AQ27))*$C$22/2,0)","v":0},{"$f":"IF(COUNTA($E$24:AR24)<=($C$12*2),(SUM($E$30:AS30)-SUM($E$27:AR27))*$C$22/2,0)","v":0},{"$f":"IF(COUNTA($E$24:AS24)<=($C$12*2),(SUM($E$30:AT30)-SUM($E$27:AS27))*$C$22/2,0)","v":0},{"$f":"IF(COUNTA($E$24:AT24)<=($C$12*2),(SUM($E$30:AU30)-SUM($E$27:AT27))*$C$22/2,0)","v":0},{"$f":"IF(COUNTA($E$24:AU24)<=($C$12*2),(SUM($E$30:AV30)-SUM($E$27:AU27))*$C$22/2,0)","v":0},{"$f":"IF(COUNTA($E$24:AV24)<=($C$12*2),(SUM($E$30:AW30)-SUM($E$27:AV27))*$C$22/2,0)","v":0},{"$f":"IF(COUNTA($E$24:AW24)<=($C$12*2),(SUM($E$30:AX30)-SUM($E$27:AW27))*$C$22/2,0)","v":0},{"$f":"IF(COUNTA($E$24:AX24)<=($C$12*2),(SUM($E$30:AY30)-SUM($E$27:AX27))*$C$22/2,0)","v":0},{"$f":"IF(COUNTA($E$24:AY24)<=($C$12*2),(SUM($E$30:AZ30)-SUM($E$27:AY27))*$C$22/2,0)","v":0},{"$f":"IF(COUNTA($E$24:AZ24)<=($C$12*2),(SUM($E$30:BA30)-SUM($E$27:AZ27))*$C$22/2,0)","v":0},{"$f":"IF(COUNTA($E$24:BA24)<=($C$12*2),(SUM($E$30:BB30)-SUM($E$27:BA27))*$C$22/2,0)","v":0},{"$f":"IF(COUNTA($E$24:BB24)<=($C$12*2),(SUM($E$30:BC30)-SUM($E$27:BB27))*$C$22/2,0)","v":0},{"$f":"IF(COUNTA($E$24:BC24)<=($C$12*2),(SUM($E$30:BD30)-SUM($E$27:BC27))*$C$22/2,0)","v":0},{"$f":"IF(COUNTA($E$24:BD24)<=($C$12*2),(SUM($E$30:BE30)-SUM($E$27:BD27))*$C$22/2,0)","v":0},{"$f":"IF(COUNTA($E$24:BE24)<=($C$12*2),(SUM($E$30:BF30)-SUM($E$27:BE27))*$C$22/2,0)","v":0},{"$f":"IF(COUNTA($E$24:BF24)<=($C$12*2),(SUM($E$30:BG30)-SUM($E$27:BF27))*$C$22/2,0)","v":0},{"$f":"IF(COUNTA($E$24:BG24)<=($C$12*2),(SUM($E$30:BH30)-SUM($E$27:BG27))*$C$22/2,0)","v":0},{"$f":"IF(COUNTA($E$24:BH24)<=($C$12*2),(SUM($E$30:BI30)-SUM($E$27:BH27))*$C$22/2,0)","v":0},{"$f":"IF(COUNTA($E$24:BI24)<=($C$12*2),(SUM($E$30:BJ30)-SUM($E$27:BI27))*$C$22/2,0)","v":0},{"$f":"IF(COUNTA($E$24:BJ24)<=($C$12*2),(SUM($E$30:BK30)-SUM($E$27:BJ27))*$C$22/2,0)","v":0},{"$f":"IF(COUNTA($E$24:BK24)<=($C$12*2),(SUM($E$30:BL30)-SUM($E$27:BK27))*$C$22/2,0)","v":0},{"$f":"IF(COUNTA($E$24:BL24)<=($C$12*2),(SUM($E$30:BM30)-SUM($E$27:BL27))*$C$22/2,0)","v":0},{"$f":"IF(COUNTA($E$24:BM24)<=($C$12*2),(SUM($E$30:BN30)-SUM($E$27:BM27))*$C$22/2,0)","v":0},{"$f":"IF(COUNTA($E$24:BN24)<=($C$12*2),(SUM($E$30:BO30)-SUM($E$27:BN27))*$C$22/2,0)","v":0},{"$f":"IF(COUNTA($E$24:BO24)<=($C$12*2),(SUM($E$30:BP30)-SUM($E$27:BO27))*$C$22/2,0)","v":0},{"$f":"IF(COUNTA($E$24:BP24)<=($C$12*2),(SUM($E$30:BQ30)-SUM($E$27:BP27))*$C$22/2,0)","v":0},{"$f":"IF(COUNTA($E$24:BQ24)<=($C$12*2),(SUM($E$30:BR30)-SUM($E$27:BQ27))*$C$22/2,0)","v":0},{"$f":"IF(COUNTA($E$24:BR24)<=($C$12*2),(SUM($E$30:BS30)-SUM($E$27:BR27))*$C$22/2,0)","v":0},{"$f":"IF(COUNTA($E$24:BS24)<=($C$12*2),(SUM($E$30:BT30)-SUM($E$27:BS27))*$C$22/2,0)","v":0},{"$f":"IF(COUNTA($E$24:BT24)<=($C$12*2),(SUM($E$30:BU30)-SUM($E$27:BT27))*$C$22/2,0)","v":0},{"$f":"IF(COUNTA($E$24:BU24)<=($C$12*2),(SUM($E$30:BV30)-SUM($E$27:BU27))*$C$22/2,0)","v":0},{"$f":"IF(COUNTA($E$24:BV24)<=($C$12*2),(SUM($E$30:BW30)-SUM($E$27:BV27))*$C$22/2,0)","v":0},{"$f":"IF(COUNTA($E$24:BW24)<=($C$12*2),(SUM($E$30:BX30)-SUM($E$27:BW27))*$C$22/2,0)","v":0},{"$f":"IF(COUNTA($E$24:BX24)<=($C$12*2),(SUM($E$30:BY30)-SUM($E$27:BX27))*$C$22/2,0)","v":0},{"$f":"IF(COUNTA($E$24:BY24)<=($C$12*2),(SUM($E$30:BZ30)-SUM($E$27:BY27))*$C$22/2,0)","v":0},{"$f":"IF(COUNTA($E$24:BZ24)<=($C$12*2),(SUM($E$30:CA30)-SUM($E$27:BZ27))*$C$22/2,0)","v":0},{"$f":"IF(COUNTA($E$24:CA24)<=($C$12*2),(SUM($E$30:CB30)-SUM($E$27:CA27))*$C$22/2,0)","v":0},{"$f":"IF(COUNTA($E$24:CB24)<=($C$12*2),(SUM($E$30:CC30)-SUM($E$27:CB27))*$C$22/2,0)","v":0},{"$f":"IF(COUNTA($E$24:CC24)<=($C$12*2),(SUM($E$30:CD30)-SUM($E$27:CC27))*$C$22/2,0)","v":0},{"$f":"IF(COUNTA($E$24:CD24)<=($C$12*2),(SUM($E$30:CE30)-SUM($E$27:CD27))*$C$22/2,0)","v":0},{"$f":"IF(COUNTA($E$24:CE24)<=($C$12*2),(SUM($E$30:CF30)-SUM($E$27:CE27))*$C$22/2,0)","v":0},{"$f":"IF(COUNTA($E$24:CF24)<=($C$12*2),(SUM($E$30:CG30)-SUM($E$27:CF27))*$C$22/2,0)","v":0},{"$f":"IF(COUNTA($E$24:CG24)<=($C$12*2),(SUM($E$30:CH30)-SUM($E$27:CG27))*$C$22/2,0)","v":0}]
[null,"Витрати за кредитом /Costs on the loan",null,null,{"$f":"E31+F31+E32+F32+E33+F33","v":150},null,{"$f":"G31+H31+G32+H32+G33+H33","v":583.33333333333337},null,{"$f":"I29+J29+I31+J31+I32+J32+I33+J33","v":460.41666666666663},null,{"$f":"K29+L29+K31+L31+K32+L32+K33+L33","v":318.75},null,{"$f":"M29+N29+M31+N31+M32+N32+M33+N33","v":177.08333333333337},null,{"$f":"O29+P29+O31+P31+O32+P32+O33+P33","v":35.4166666666667},null,{"$f":"Q29+R29+Q31+R31+Q32+R32+Q33+R33","v":0},null,{"$f":"S29+T29+S31+T31+S32+T32+S33+T33","v":0},null,{"$f":"U29+V29+U31+V31+U32+V32+U33+V33","v":0},null,{"$f":"W29+X29+W31+X31+W32+X32+W33+X33","v":0},null,{"$f":"Y29+Z29+Y31+Z31+Y32+Z32+Y33+Z33","v":0},null,{"$f":"AA29+AB29+AA31+AB31+AA32+AB32+AA33+AB33","v":0},null,{"$f":"AC29+AD29+AC31+AD31+AC32+AD32+AC33+AD33","v":0},null,{"$f":"AE29+AF29+AE31+AF31+AE32+AF32+AE33+AF33","v":0},null,{"$f":"AG29+AH29+AG31+AH31+AG32+AH32+AG33+AH33","v":0},null,{"$f":"AI29+AJ29+AI31+AJ31+AI32+AJ32+AI33+AJ33","v":0},null,{"$f":"AK29+AL29+AK31+AL31+AK32+AL32+AK33+AL33","v":0},null,{"$f":"AM29+AN29+AM31+AN31+AM32+AN32+AM33+AN33","v":0},null,{"$f":"AO29+AP29+AO31+AP31+AO32+AP32+AO33+AP33","v":0},null,{"$f":"AQ29+AR29+AQ31+AR31+AQ32+AR32+AQ33+AR33","v":0},null,{"$f":"AS29+AT29+AS31+AT31+AS32+AT32+AS33+AT33","v":0},null,{"$f":"AU29+AV29+AU31+AV31+AU32+AV32+AU33+AV33","v":0},null,{"$f":"AW29+AX29+AW31+AX31+AW32+AX32+AW33+AX33","v":0},null,{"$f":"AY29+AZ29+AY31+AZ31+AY32+AZ32+AY33+AZ33","v":0},null,{"$f":"BA29+BB29+BA31+BB31+BA32+BB32+BA33+BB33","v":0},null,{"$f":"BC29+BD29+BC31+BD31+BC32+BD32+BC33+BD33","v":0},null,{"$f":"BE29+BF29+BE31+BF31+BE32+BF32+BE33+BF33","v":0},null,{"$f":"BG29+BH29+BG31+BH31+BG32+BH32+BG33+BH33","v":0},null,{"$f":"BI29+BJ29+BI31+BJ31+BI32+BJ32+BI33+BJ33","v":0},null,{"$f":"BK29+BL29+BK31+BL31+BK32+BL32+BK33+BL33","v":0},null,{"$f":"BM29+BN29+BM31+BN31+BM32+BN32+BM33+BN33","v":0},null,{"$f":"BO29+BP29+BO31+BP31+BO32+BP32+BO33+BP33","v":0},null,{"$f":"BQ29+BR29+BQ31+BR31+BQ32+BR32+BQ33+BR33","v":0},null,{"$f":"BS29+BT29+BS31+BT31+BS32+BT32+BS33+BT33","v":0},null,{"$f":"BU29+BV29+BU31+BV31+BU32+BV32+BU33+BV33","v":0},null,{"$f":"BW29+BX29+BW31+BX31+BW32+BX32+BW33+BX33","v":0},null,{"$f":"BY29+BZ29+BY31+BZ31+BY32+BZ32+BY33+BZ33","v":0},null,{"$f":"CA29+CB29+CA31+CB31+CA32+CB32+CA33+CB33","v":0},null,{"$f":"CC29+CD29+CC31+CD31+CC32+CD32+CC33+CD33","v":0},null,{"$f":"CE29+CF29+CE31+CF31+CE32+CF32+CE33+CF33","v":0},null,{"$f":"CG29+CH29+CG31+CH31+CG32+CH32+CG33+CH33","v":0}]
[null,"Погашення за рік/ Repayment per year",null,null,{"$f":"E27+F27","v":0},null,{"$f":"G27+H27","v":1041.6666666666667},null,{"$f":"I27+J27","v":1416.6666666666665},null,{"$f":"K27+L27","v":1416.6666666666665},null,{"$f":"M27+N27","v":1416.666666666667},null,{"$f":"O27+P27","v":708.33333333333394},null,{"$f":"Q27+R27","v":0},null,{"$f":"S27+T27","v":0},null,{"$f":"U27+V27","v":0},null,{"$f":"W27+X27","v":0},null,{"$f":"Y27+Z27","v":0},null,{"$f":"AA27+AB27","v":0},null,{"$f":"AC27+AD27","v":0},null,{"$f":"AE27+AF27","v":0},null,{"$f":"AG27+AH27","v":0},null,{"$f":"AI27+AJ27","v":0},null,{"$f":"AK27+AL27","v":0},null,{"$f":"AM27+AN27","v":0},null,{"$f":"AO27+AP27","v":0},null,{"$f":"AQ27+AR27","v":0},null,{"$f":"AS27+AT27","v":0},null,{"$f":"AU27+AV27","v":0},null,{"$f":"AW27+AX27","v":0},null,{"$f":"AY27+AZ27","v":0},null,{"$f":"BA27+BB27","v":0},null,{"$f":"BC27+BD27","v":0},null,{"$f":"BE27+BF27","v":0},null,{"$f":"BG27+BH27","v":0},null,{"$f":"BI27+BJ27","v":0},null,{"$f":"BK27+BL27","v":0},null,{"$f":"BM27+BN27","v":0},null,{"$f":"BO27+BP27","v":0},null,{"$f":"BQ27+BR27","v":0},null,{"$f":"BS27+BT27","v":0},null,{"$f":"BU27+BV27","v":0},null,{"$f":"BW27+BX27","v":0},null,{"$f":"BY27+BZ27","v":0},null,{"$f":"CA27+CB27","v":0},null,{"$f":"CC27+CD27","v":0},null,{"$f":"CE27+CF27","v":0},null,{"$f":"CG27+CH27","v":0}]
[null,"Використання коштів за рік/ Use of funds per year",null,null,{"$f":"E30+F30","v":3000},null,{"$f":"G30+H30","v":3000},null,{"$f":"I30+J30","v":0},null,{"$f":"K30+L30","v":0},null,{"$f":"M30+N30","v":0},null,{"$f":"O30+P30","v":0},null,{"$f":"Q30+R30","v":0},null,{"$f":"S30+T30","v":0},null,{"$f":"U30+V30","v":0},null,{"$f":"W30+X30","v":0},null,{"$f":"Y30+Z30","v":0},null,{"$f":"AA30+AB30","v":0},null,{"$f":"AC30+AD30","v":0},null,{"$f":"AE30+AF30","v":0},null,{"$f":"AG30+AH30","v":0},null,{"$f":"AI30+AJ30","v":0},null,{"$f":"AK30+AL30","v":0},null,{"$f":"AM30+AN30","v":0},null,{"$f":"AO30+AP30","v":0},null,{"$f":"AQ30+AR30","v":0},null,{"$f":"AS30+AT30","v":0},null,{"$f":"AU30+AV30","v":0},null,{"$f":"AW30+AX30","v":0},null,{"$f":"AY30+AZ30","v":0},null,{"$f":"BA30+BB30","v":0},null,{"$f":"BC30+BD30","v":0},null,{"$f":"BE30+BF30","v":0},null,{"$f":"BG30+BH30","v":0},null,{"$f":"BI30+BJ30","v":0},null,{"$f":"BK30+BL30","v":0},null,{"$f":"BM30+BN30","v":0},null,{"$f":"BO30+BP30","v":0},null,{"$f":"BQ30+BR30","v":0},null,{"$f":"BS30+BT30","v":0},null,{"$f":"BU30+BV30","v":0},null,{"$f":"BW30+BX30","v":0},null,{"$f":"BY30+BZ30","v":0},null,{"$f":"CA30+CB30","v":0},null,{"$f":"CC30+CD30","v":0},null,{"$f":"CE30+CF30","v":0},null,{"$f":"CG30+CH30","v":0}]
[null,"Одноразова комісія за рік/ One-time fee per year",null,null,{"$f":"E29+F29","v":0},null,{"$f":"G29+H29","v":0},null,{"$f":"I29+J29","v":0},null,{"$f":"K29+L29","v":0},null,{"$f":"M29+N29","v":0},null,{"$f":"O29+P29","v":0},null,{"$f":"Q29+R29","v":0},null,{"$f":"S29+T29","v":0},null,{"$f":"U29+V29","v":0},null,{"$f":"W29+X29","v":0},null,{"$f":"Y29+Z29","v":0},null,{"$f":"AA29+AB29","v":0},null,{"$f":"AC29+AD29","v":0},null,{"$f":"AE29+AF29","v":0},null,{"$f":"AG29+AH29","v":0},null,{"$f":"AI29+AJ29","v":0},null,{"$f":"AK29+AL29","v":0},null,{"$f":"AM29+AN29","v":0},null,{"$f":"AO29+AP29","v":0},null,{"$f":"AQ29+AR29","v":0},null,{"$f":"AS29+AT29","v":0},null,{"$f":"AU29+AV29","v":0},null,{"$f":"AW29+AX29","v":0},null,{"$f":"AY29+AZ29","v":0},null,{"$f":"BA29+BB29","v":0},null,{"$f":"BC29+BD29","v":0},null,{"$f":"BE29+BF29","v":0},null,{"$f":"BG29+BH29","v":0},null,{"$f":"BI29+BJ29","v":0},null,{"$f":"BK29+BL29","v":0},null,{"$f":"BM29+BN29","v":0},null,{"$f":"BO29+BP29","v":0},null,{"$f":"BQ29+BR29","v":0},null,{"$f":"BS29+BT29","v":0},null,{"$f":"BU29+BV29","v":0},null,{"$f":"BW29+BX29","v":0},null,{"$f":"BY29+BZ29","v":0},null,{"$f":"CA29+CB29","v":0},null,{"$f":"CC29+CD29","v":0},null,{"$f":"CE29+CF29","v":0},null,{"$f":"CG29+CH29","v":0}]
[null,"Власні кошти"]
[null,"Погашення / Repayment",null,null,0,0,{"$f":"IF(G24=0,0,(SUM($E$41:F41)-SUM($E$39:F39))/G24)","v":0},{"$f":"IF(H24=0,0,(SUM($E$41:G41)-SUM($E$39:G39))/H24)","v":0},{"$f":"IF(I24=0,0,(SUM($E$41:H41)-SUM($E$39:H39))/I24)","v":0},{"$f":"IF(J24=0,0,(SUM($E$41:I41)-SUM($E$39:I39))/J24)","v":0},{"$f":"IF(K24=0,0,(SUM($E$41:J41)-SUM($E$39:J39))/K24)","v":0},{"$f":"IF(L24=0,0,(SUM($E$41:K41)-SUM($E$39:K39))/L24)","v":0},{"$f":"IF(M24=0,0,(SUM($E$41:L41)-SUM($E$39:L39))/M24)","v":0},{"$f":"IF(N24=0,0,(SUM($E$41:M41)-SUM($E$39:M39))/N24)","v":0},{"$f":"IF(O24=0,0,(SUM($E$41:N41)-SUM($E$39:N39))/O24)","v":0},{"$f":"IF(P24=0,0,(SUM($E$41:O41)-SUM($E$39:O39))/P24)","v":0},{"$f":"IF(Q24=0,0,(SUM($E$41:P41)-SUM($E$39:P39))/Q24)","v":0},{"$f":"IF(R24=0,0,(SUM($E$41:Q41)-SUM($E$39:Q39))/R24)","v":0},{"$f":"IF(S24=0,0,(SUM($E$41:R41)-SUM($E$39:R39))/S24)","v":0},{"$f":"IF(T24=0,0,(SUM($E$41:S41)-SUM($E$39:S39))/T24)","v":0},{"$f":"IF(U24=0,0,(SUM($E$41:T41)-SUM($E$39:T39))/U24)","v":0},{"$f":"IF(V24=0,0,(SUM($E$41:U41)-SUM($E$39:U39))/V24)","v":0},{"$f":"IF(W24=0,0,(SUM($E$41:V41)-SUM($E$39:V39))/W24)","v":0},{"$f":"IF(X24=0,0,(SUM($E$41:W41)-SUM($E$39:W39))/X24)","v":0},{"$f":"IF(Y24=0,0,(SUM($E$41:X41)-SUM($E$39:X39))/Y24)","v":0},{"$f":"IF(Z24=0,0,(SUM($E$41:Y41)-SUM($E$39:Y39))/Z24)","v":0},{"$f":"IF(AA24=0,0,(SUM($E$41:Z41)-SUM($E$39:Z39))/AA24)","v":0},{"$f":"IF(AB24=0,0,(SUM($E$41:AA41)-SUM($E$39:AA39))/AB24)","v":0},{"$f":"IF(AC24=0,0,(SUM($E$41:AB41)-SUM($E$39:AB39))/AC24)","v":0},{"$f":"IF(AD24=0,0,(SUM($E$41:AC41)-SUM($E$39:AC39))/AD24)","v":0},{"$f":"IF(AE24=0,0,(SUM($E$41:AD41)-SUM($E$39:AD39))/AE24)","v":0},{"$f":"IF(AF24=0,0,(SUM($E$41:AE41)-SUM($E$39:AE39))/AF24)","v":0},{"$f":"IF(AG24=0,0,(SUM($E$41:AF41)-SUM($E$39:AF39))/AG24)","v":0},{"$f":"IF(AH24=0,0,(SUM($E$41:AG41)-SUM($E$39:AG39))/AH24)","v":0},{"$f":"IF(AI24=0,0,(SUM($E$41:AH41)-SUM($E$39:AH39))/AI24)","v":0},{"$f":"IF(AJ24=0,0,(SUM($E$41:AI41)-SUM($E$39:AI39))/AJ24)","v":0},{"$f":"IF(AK24=0,0,(SUM($E$41:AJ41)-SUM($E$39:AJ39))/AK24)","v":0},{"$f":"IF(AL24=0,0,(SUM($E$41:AK41)-SUM($E$39:AK39))/AL24)","v":0},{"$f":"IF(AM24=0,0,(SUM($E$41:AL41)-SUM($E$39:AL39))/AM24)","v":0},{"$f":"IF(AN24=0,0,(SUM($E$41:AM41)-SUM($E$39:AM39))/AN24)","v":0},{"$f":"IF(AO24=0,0,(SUM($E$41:AN41)-SUM($E$39:AN39))/AO24)","v":0},{"$f":"IF(AP24=0,0,(SUM($E$41:AO41)-SUM($E$39:AO39))/AP24)","v":0},{"$f":"IF(AQ24=0,0,(SUM($E$41:AP41)-SUM($E$39:AP39))/AQ24)","v":0},{"$f":"IF(AR24=0,0,(SUM($E$41:AQ41)-SUM($E$39:AQ39))/AR24)","v":0},{"$f":"IF(AS24=0,0,(SUM($E$41:AR41)-SUM($E$39:AR39))/AS24)","v":0},{"$f":"IF(AT24=0,0,(SUM($E$41:AS41)-SUM($E$39:AS39))/AT24)","v":0},{"$f":"IF(AU24=0,0,(SUM($E$41:AT41)-SUM($E$39:AT39))/AU24)","v":0},{"$f":"IF(AV24=0,0,(SUM($E$41:AU41)-SUM($E$39:AU39))/AV24)","v":0},{"$f":"IF(AW24=0,0,(SUM($E$41:AV41)-SUM($E$39:AV39))/AW24)","v":0},{"$f":"IF(AX24=0,0,(SUM($E$41:AW41)-SUM($E$39:AW39))/AX24)","v":0},{"$f":"IF(AY24=0,0,(SUM($E$41:AX41)-SUM($E$39:AX39))/AY24)","v":0},{"$f":"IF(AZ24=0,0,(SUM($E$41:AY41)-SUM($E$39:AY39))/AZ24)","v":0},{"$f":"IF(BA24=0,0,(SUM($E$41:AZ41)-SUM($E$39:AZ39))/BA24)","v":0},{"$f":"IF(BB24=0,0,(SUM($E$41:BA41)-SUM($E$39:BA39))/BB24)","v":0},{"$f":"IF(BC24=0,0,(SUM($E$41:BB41)-SUM($E$39:BB39))/BC24)","v":0},{"$f":"IF(BD24=0,0,(SUM($E$41:BC41)-SUM($E$39:BC39))/BD24)","v":0},{"$f":"IF(BE24=0,0,(SUM($E$41:BD41)-SUM($E$39:BD39))/BE24)","v":0},{"$f":"IF(BF24=0,0,(SUM($E$41:BE41)-SUM($E$39:BE39))/BF24)","v":0},{"$f":"IF(BG24=0,0,(SUM($E$41:BF41)-SUM($E$39:BF39))/BG24)","v":0},{"$f":"IF(BH24=0,0,(SUM($E$41:BG41)-SUM($E$39:BG39))/BH24)","v":0},{"$f":"IF(BI24=0,0,(SUM($E$41:BH41)-SUM($E$39:BH39))/BI24)","v":0},{"$f":"IF(BJ24=0,0,(SUM($E$41:BI41)-SUM($E$39:BI39))/BJ24)","v":0},{"$f":"IF(BK24=0,0,(SUM($E$41:BJ41)-SUM($E$39:BJ39))/BK24)","v":0},{"$f":"IF(BL24=0,0,(SUM($E$41:BK41)-SUM($E$39:BK39))/BL24)","v":0},{"$f":"IF(BM24=0,0,(SUM($E$41:BL41)-SUM($E$39:BL39))/BM24)","v":0},{"$f":"IF(BN24=0,0,(SUM($E$41:BM41)-SUM($E$39:BM39))/BN24)","v":0},{"$f":"IF(BO24=0,0,(SUM($E$41:BN41)-SUM($E$39:BN39))/BO24)","v":0},{"$f":"IF(BP24=0,0,(SUM($E$41:BO41)-SUM($E$39:BO39))/BP24)","v":0},{"$f":"IF(BQ24=0,0,(SUM($E$41:BP41)-SUM($E$39:BP39))/BQ24)","v":0},{"$f":"IF(BR24=0,0,(SUM($E$41:BQ41)-SUM($E$39:BQ39))/BR24)","v":0},{"$f":"IF(BS24=0,0,(SUM($E$41:BR41)-SUM($E$39:BR39))/BS24)","v":0},{"$f":"IF(BT24=0,0,(SUM($E$41:BS41)-SUM($E$39:BS39))/BT24)","v":0},{"$f":"IF(BU24=0,0,(SUM($E$41:BT41)-SUM($E$39:BT39))/BU24)","v":0},{"$f":"IF(BV24=0,0,(SUM($E$41:BU41)-SUM($E$39:BU39))/BV24)","v":0},{"$f":"IF(BW24=0,0,(SUM($E$41:BV41)-SUM($E$39:BV39))/BW24)","v":0},{"$f":"IF(BX24=0,0,(SUM($E$41:BW41)-SUM($E$39:BW39))/BX24)","v":0},{"$f":"IF(BY24=0,0,(SUM($E$41:BX41)-SUM($E$39:BX39))/BY24)","v":0},{"$f":"IF(BZ24=0,0,(SUM($E$41:BY41)-SUM($E$39:BY39))/BZ24)","v":0},{"$f":"IF(CA24=0,0,(SUM($E$41:BZ41)-SUM($E$39:BZ39))/CA24)","v":0},{"$f":"IF(CB24=0,0,(SUM($E$41:CA41)-SUM($E$39:CA39))/CB24)","v":0},{"$f":"IF(CC24=0,0,(SUM($E$41:CB41)-SUM($E$39:CB39))/CC24)","v":0},{"$f":"IF(CD24=0,0,(SUM($E$41:CC41)-SUM($E$39:CC39))/CD24)","v":0},{"$f":"IF(CE24=0,0,(SUM($E$41:CD41)-SUM($E$39:CD39))/CE24)","v":0},{"$f":"IF(CF24=0,0,(SUM($E$41:CE41)-SUM($E$39:CE39))/CF24)","v":0},{"$f":"IF(CG24=0,0,(SUM($E$41:CF41)-SUM($E$39:CF39))/CG24)","v":0},{"$f":"IF(CH24=0,0,(SUM($E$41:CG41)-SUM($E$39:CG39))/CH24)","v":0}]
[null,"Основна сума заборгованості / The main amount of debt",null,null,{"$f":"IF(AND($C$4=\"I півріччя\",($E$4+$C$12)>E25),$C$10,0)","v":0},{"$f":"IF(($E$4+$C$12)>=E25,$C$10,0)","v":0},{"$f":"IF(($E$4+$C$12)>G25,$F$40-$F$39,0)","v":0},{"$f":"IF(($E$4+$C$12)>G25,G40-G39,0)","v":0},{"$f":"IF(($E$4+$C$12)>I25,$H$40-$H$39,0)","v":0},{"$f":"IF(($E$4+$C$12)>I25,I40-I39,0)","v":0},{"$f":"IF(($E$4+$C$12)>K25,J$40-J$39,0)","v":0},{"$f":"IF(($E$4+$C$12)>K25,K40-K39,0)","v":0},{"$f":"IF(($E$4+$C$12)>M25,L$40-L$39,0)","v":0},{"$f":"IF(($E$4+$C$12)>M25,M40-M39,0)","v":0},{"$f":"IF(($E$4+$C$12)>O25,N$40-N$39,0)","v":0},{"$f":"IF(($E$4+$C$12)>O25,O40-O39,0)","v":0},{"$f":"IF(($E$4+$C$12)>Q25,P$40-P$39,0)","v":0},{"$f":"IF(($E$4+$C$12)>Q25,Q40-Q39,0)","v":0},{"$f":"IF(($E$4+$C$12)>S25,R$40-R$39,0)","v":0},{"$f":"IF(($E$4+$C$12)>S25,S40-S39,0)","v":0},{"$f":"IF(($E$4+$C$12)>U25,T$40-T$39,0)","v":0},{"$f":"IF(($E$4+$C$12)>U25,U40-U39,0)","v":0},{"$f":"IF(($E$4+$C$12)>W25,V$40-V$39,0)","v":0},{"$f":"IF(($E$4+$C$12)>W25,W40-W39,0)","v":0},{"$f":"IF(($E$4+$C$12)>Y25,X$40-X$39,0)","v":0},{"$f":"IF(($E$4+$C$12)>Y25,Y40-Y39,0)","v":0},{"$f":"IF(($E$4+$C$12)>AA25,Z$40-Z$39,0)","v":0},{"$f":"IF(($E$4+$C$12)>AA25,AA40-AA39,0)","v":0},{"$f":"IF(($E$4+$C$12)>AC25,AB$40-AB$39,0)","v":0},{"$f":"IF(($E$4+$C$12)>AC25,AC40-AC39,0)","v":0},{"$f":"IF(($E$4+$C$12)>AE25,AD$40-AD$39,0)","v":0},{"$f":"IF(($E$4+$C$12)>AE25,AE40-AE39,0)","v":0},{"$f":"IF(($E$4+$C$12)>AG25,AF$40-AF$39,0)","v":0},{"$f":"IF(($E$4+$C$12)>AG25,AG40-AG39,0)","v":0},{"$f":"IF(($E$4+$C$12)>AI25,AH$40-AH$39,0)","v":0},{"$f":"IF(($E$4+$C$12)>AI25,AI40-AI39,0)","v":0},{"$f":"IF(($E$4+$C$12)>AK25,AJ$40-AJ$39,0)","v":0},{"$f":"IF(($E$4+$C$12)>AK25,AK40-AK39,0)","v":0},{"$f":"IF(($E$4+$C$12)>AM25,AL$40-AL$39,0)","v":0},{"$f":"IF(($E$4+$C$12)>AM25,AM40-AM39,0)","v":0},{"$f":"IF(($E$4+$C$12)>AO25,AN$40-AN$39,0)","v":0},{"$f":"IF(($E$4+$C$12)>AO25,AO40-AO39,0)","v":0},{"$f":"IF(($E$4+$C$12)>AQ25,AP$40-AP$39,0)","v":0},{"$f":"IF(($E$4+$C$12)>AQ25,AQ40-AQ39,0)","v":0},{"$f":"IF(($E$4+$C$12)>AS25,AR$40-AR$39,0)","v":0},{"$f":"IF(($E$4+$C$12)>AS25,AS40-AS39,0)","v":0},{"$f":"IF(($E$4+$C$12)>AU25,AT$40-AT$39,0)","v":0},{"$f":"IF(($E$4+$C$12)>AU25,AU40-AU39,0)","v":0},{"$f":"IF(($E$4+$C$12)>AW25,AV$40-AV$39,0)","v":0},{"$f":"IF(($E$4+$C$12)>AW25,AW40-AW39,0)","v":0},{"$f":"IF(($E$4+$C$12)>AY25,AX$40-AX$39,0)","v":0},{"$f":"IF(($E$4+$C$12)>AY25,AY40-AY39,0)","v":0},{"$f":"IF(($E$4+$C$12)>BA25,AZ$40-AZ$39,0)","v":0},{"$f":"IF(($E$4+$C$12)>BA25,BA40-BA39,0)","v":0},{"$f":"IF(($E$4+$C$12)>BC25,BB$40-BB$39,0)","v":0},{"$f":"IF(($E$4+$C$12)>BC25,BC40-BC39,0)","v":0},{"$f":"IF(($E$4+$C$12)>BE25,BD$40-BD$39,0)","v":0},{"$f":"IF(($E$4+$C$12)>BE25,BE40-BE39,0)","v":0},{"$f":"IF(($E$4+$C$12)>BG25,BF$40-BF$39,0)","v":0},{"$f":"IF(($E$4+$C$12)>BG25,BG40-BG39,0)","v":0},{"$f":"IF(($E$4+$C$12)>BI25,BH$40-BH$39,0)","v":0},{"$f":"IF(($E$4+$C$12)>BI25,BI40-BI39,0)","v":0},{"$f":"IF(($E$4+$C$12)>BK25,BJ$40-BJ$39,0)","v":0},{"$f":"IF(($E$4+$C$12)>BK25,BK40-BK39,0)","v":0},{"$f":"IF(($E$4+$C$12)>BM25,BL$40-BL$39,0)","v":0},{"$f":"IF(($E$4+$C$12)>BM25,BM40-BM39,0)","v":0},{"$f":"IF(($E$4+$C$12)>BO25,BN$40-BN$39,0)","v":0},{"$f":"IF(($E$4+$C$12)>BO25,BO40-BO39,0)","v":0},{"$f":"IF(($E$4+$C$12)>BQ25,BP$40-BP$39,0)","v":0},{"$f":"IF(($E$4+$C$12)>BQ25,BQ40-BQ39,0)","v":0},{"$f":"IF(($E$4+$C$12)>BS25,BR$40-BR$39,0)","v":0},{"$f":"IF(($E$4+$C$12)>BS25,BS40-BS39,0)","v":0},{"$f":"IF(($E$4+$C$12)>BU25,BT$40-BT$39,0)","v":0},{"$f":"IF(($E$4+$C$12)>BU25,BU40-BU39,0)","v":0},{"$f":"IF(($E$4+$C$12)>BW25,BV$40-BV$39,0)","v":0},{"$f":"IF(($E$4+$C$12)>BW25,BW40-BW39,0)","v":0},{"$f":"IF(($E$4+$C$12)>BY25,BX$40-BX$39,0)","v":0},{"$f":"IF(($E$4+$C$12)>BY25,BY40-BY39,0)","v":0},{"$f":"IF(($E$4+$C$12)>CA25,BZ$40-BZ$39,0)","v":0},{"$f":"IF(($E$4+$C$12)>CA25,CA40-CA39,0)","v":0},{"$f":"IF(($E$4+$C$12)>CC25,CB$40-CB$39,0)","v":0},{"$f":"IF(($E$4+$C$12)>CC25,CC40-CC39,0)","v":0},{"$f":"IF(($E$4+$C$12)>CE25,CD$40-CD$39,0)","v":0},{"$f":"IF(($E$4+$C$12)>CE25,CE40-CE39,0)","v":0},{"$f":"IF(($E$4+$C$12)>CG25,CF$40-CF$39,0)","v":0},{"$f":"IF(($E$4+$C$12)>CG25,CG40-CG39,0)","v":0}]
[null,"Використання коштів / Use of funds",null,null,0,0,0]
[null,"Відсотки банку / Bank interest ",null,null,{"$f":"(E41-E39)*J4/2","v":0},0,{"$f":"IF(COUNTA($E$24:F24)<=($C$12*2),(SUM($E$41:G41)-SUM($E$39:F39))*($J$4/2),0)","v":0},{"$f":"IF(COUNTA($E$24:G24)<=($C$12*2),(SUM($E$41:H41)-SUM($E$39:G39))*($J$4/2),0)","v":0},{"$f":"IF(COUNTA($E$24:H24)<=($C$12*2),(SUM($E$41:I41)-SUM($E$39:H39))*($J$4/2),0)","v":0},{"$f":"IF(COUNTA($E$24:I24)<=($C$12*2),(SUM($E$41:J41)-SUM($E$39:I39))*($J$4/2),0)","v":0},{"$f":"IF(COUNTA($E$24:J24)<=($C$12*2),(SUM($E$41:K41)-SUM($E$39:J39))*($J$4/2),0)","v":0},{"$f":"IF(COUNTA($E$24:K24)<=($C$12*2),(SUM($E$41:L41)-SUM($E$39:K39))*($J$4/2),0)","v":0},{"$f":"IF(COUNTA($E$24:L24)<=($C$12*2),(SUM($E$41:M41)-SUM($E$39:L39))*($J$4/2),0)","v":0},{"$f":"IF(COUNTA($E$24:M24)<=($C$12*2),(SUM($E$41:N41)-SUM($E$39:M39))*($J$4/2),0)","v":0},{"$f":"IF(COUNTA($E$24:N24)<=($C$12*2),(SUM($E$41:O41)-SUM($E$39:N39))*($J$4/2),0)","v":0},{"$f":"IF(COUNTA($E$24:O24)<=($C$12*2),(SUM($E$41:P41)-SUM($E$39:O39))*($J$4/2),0)","v":0},{"$f":"IF(COUNTA($E$24:P24)<=($C$12*2),(SUM($E$41:Q41)-SUM($E$39:P39))*($J$4/2),0)","v":0},{"$f":"IF(COUNTA($E$24:Q24)<=($C$12*2),(SUM($E$41:R41)-SUM($E$39:Q39))*($J$4/2),0)","v":0},{"$f":"IF(COUNTA($E$24:R24)<=($C$12*2),(SUM($E$41:S41)-SUM($E$39:R39))*($J$4/2),0)","v":0},{"$f":"IF(COUNTA($E$24:S24)<=($C$12*2),(SUM($E$41:T41)-SUM($E$39:S39))*($J$4/2),0)","v":0},{"$f":"IF(COUNTA($E$24:T24)<=($C$12*2),(SUM($E$41:U41)-SUM($E$39:T39))*($J$4/2),0)","v":0},{"$f":"IF(COUNTA($E$24:U24)<=($C$12*2),(SUM($E$41:V41)-SUM($E$39:U39))*($J$4/2),0)","v":0},{"$f":"IF(COUNTA($E$24:V24)<=($C$12*2),(SUM($E$41:W41)-SUM($E$39:V39))*($J$4/2),0)","v":0},{"$f":"IF(COUNTA($E$24:W24)<=($C$12*2),(SUM($E$41:X41)-SUM($E$39:W39))*($J$4/2),0)","v":0},{"$f":"IF(COUNTA($E$24:X24)<=($C$12*2),(SUM($E$41:Y41)-SUM($E$39:X39))*($J$4/2),0)","v":0},{"$f":"IF(COUNTA($E$24:Y24)<=($C$12*2),(SUM($E$41:Z41)-SUM($E$39:Y39))*($J$4/2),0)","v":0},{"$f":"IF(COUNTA($E$24:Z24)<=($C$12*2),(SUM($E$41:AA41)-SUM($E$39:Z39))*($J$4/2),0)","v":0},{"$f":"IF(COUNTA($E$24:AA24)<=($C$12*2),(SUM($E$41:AB41)-SUM($E$39:AA39))*($J$4/2),0)","v":0},{"$f":"IF(COUNTA($E$24:AB24)<=($C$12*2),(SUM($E$41:AC41)-SUM($E$39:AB39))*($J$4/2),0)","v":0},{"$f":"IF(COUNTA($E$24:AC24)<=($C$12*2),(SUM($E$41:AD41)-SUM($E$39:AC39))*($J$4/2),0)","v":0},{"$f":"IF(COUNTA($E$24:AD24)<=($C$12*2),(SUM($E$41:AE41)-SUM($E$39:AD39))*($J$4/2),0)","v":0},{"$f":"IF(COUNTA($E$24:AE24)<=($C$12*2),(SUM($E$41:AF41)-SUM($E$39:AE39))*($J$4/2),0)","v":0},{"$f":"IF(COUNTA($E$24:AF24)<=($C$12*2),(SUM($E$41:AG41)-SUM($E$39:AF39))*($J$4/2),0)","v":0},{"$f":"IF(COUNTA($E$24:AG24)<=($C$12*2),(SUM($E$41:AH41)-SUM($E$39:AG39))*($J$4/2),0)","v":0},{"$f":"IF(COUNTA($E$24:AH24)<=($C$12*2),(SUM($E$41:AI41)-SUM($E$39:AH39))*($J$4/2),0)","v":0},{"$f":"IF(COUNTA($E$24:AI24)<=($C$12*2),(SUM($E$41:AJ41)-SUM($E$39:AI39))*($J$4/2),0)","v":0},{"$f":"IF(COUNTA($E$24:AJ24)<=($C$12*2),(SUM($E$41:AK41)-SUM($E$39:AJ39))*($J$4/2),0)","v":0},{"$f":"IF(COUNTA($E$24:AK24)<=($C$12*2),(SUM($E$41:AL41)-SUM($E$39:AK39))*($J$4/2),0)","v":0},{"$f":"IF(COUNTA($E$24:AL24)<=($C$12*2),(SUM($E$41:AM41)-SUM($E$39:AL39))*($J$4/2),0)","v":0},{"$f":"IF(COUNTA($E$24:AM24)<=($C$12*2),(SUM($E$41:AN41)-SUM($E$39:AM39))*($J$4/2),0)","v":0},{"$f":"IF(COUNTA($E$24:AN24)<=($C$12*2),(SUM($E$41:AO41)-SUM($E$39:AN39))*($J$4/2),0)","v":0},{"$f":"IF(COUNTA($E$24:AO24)<=($C$12*2),(SUM($E$41:AP41)-SUM($E$39:AO39))*($J$4/2),0)","v":0},{"$f":"IF(COUNTA($E$24:AP24)<=($C$12*2),(SUM($E$41:AQ41)-SUM($E$39:AP39))*($J$4/2),0)","v":0},{"$f":"IF(COUNTA($E$24:AQ24)<=($C$12*2),(SUM($E$41:AR41)-SUM($E$39:AQ39))*($J$4/2),0)","v":0},{"$f":"IF(COUNTA($E$24:AR24)<=($C$12*2),(SUM($E$41:AS41)-SUM($E$39:AR39))*($J$4/2),0)","v":0},{"$f":"IF(COUNTA($E$24:AS24)<=($C$12*2),(SUM($E$41:AT41)-SUM($E$39:AS39))*($J$4/2),0)","v":0},{"$f":"IF(COUNTA($E$24:AT24)<=($C$12*2),(SUM($E$41:AU41)-SUM($E$39:AT39))*($J$4/2),0)","v":0},{"$f":"IF(COUNTA($E$24:AU24)<=($C$12*2),(SUM($E$41:AV41)-SUM($E$39:AU39))*($J$4/2),0)","v":0},{"$f":"IF(COUNTA($E$24:AV24)<=($C$12*2),(SUM($E$41:AW41)-SUM($E$39:AV39))*($J$4/2),0)","v":0},{"$f":"IF(COUNTA($E$24:AW24)<=($C$12*2),(SUM($E$41:AX41)-SUM($E$39:AW39))*($J$4/2),0)","v":0},{"$f":"IF(COUNTA($E$24:AX24)<=($C$12*2),(SUM($E$41:AY41)-SUM($E$39:AX39))*($J$4/2),0)","v":0},{"$f":"IF(COUNTA($E$24:AY24)<=($C$12*2),(SUM($E$41:AZ41)-SUM($E$39:AY39))*($J$4/2),0)","v":0},{"$f":"IF(COUNTA($E$24:AZ24)<=($C$12*2),(SUM($E$41:BA41)-SUM($E$39:AZ39))*($J$4/2),0)","v":0},{"$f":"IF(COUNTA($E$24:BA24)<=($C$12*2),(SUM($E$41:BB41)-SUM($E$39:BA39))*($J$4/2),0)","v":0},{"$f":"IF(COUNTA($E$24:BB24)<=($C$12*2),(SUM($E$41:BC41)-SUM($E$39:BB39))*($J$4/2),0)","v":0},{"$f":"IF(COUNTA($E$24:BC24)<=($C$12*2),(SUM($E$41:BD41)-SUM($E$39:BC39))*($J$4/2),0)","v":0},{"$f":"IF(COUNTA($E$24:BD24)<=($C$12*2),(SUM($E$41:BE41)-SUM($E$39:BD39))*($J$4/2),0)","v":0},{"$f":"IF(COUNTA($E$24:BE24)<=($C$12*2),(SUM($E$41:BF41)-SUM($E$39:BE39))*($J$4/2),0)","v":0},{"$f":"IF(COUNTA($E$24:BF24)<=($C$12*2),(SUM($E$41:BG41)-SUM($E$39:BF39))*($J$4/2),0)","v":0},{"$f":"IF(COUNTA($E$24:BG24)<=($C$12*2),(SUM($E$41:BH41)-SUM($E$39:BG39))*($J$4/2),0)","v":0},{"$f":"IF(COUNTA($E$24:BH24)<=($C$12*2),(SUM($E$41:BI41)-SUM($E$39:BH39))*($J$4/2),0)","v":0},{"$f":"IF(COUNTA($E$24:BI24)<=($C$12*2),(SUM($E$41:BJ41)-SUM($E$39:BI39))*($J$4/2),0)","v":0},{"$f":"IF(COUNTA($E$24:BJ24)<=($C$12*2),(SUM($E$41:BK41)-SUM($E$39:BJ39))*($J$4/2),0)","v":0},{"$f":"IF(COUNTA($E$24:BK24)<=($C$12*2),(SUM($E$41:BL41)-SUM($E$39:BK39))*($J$4/2),0)","v":0},{"$f":"IF(COUNTA($E$24:BL24)<=($C$12*2),(SUM($E$41:BM41)-SUM($E$39:BL39))*($J$4/2),0)","v":0},{"$f":"IF(COUNTA($E$24:BM24)<=($C$12*2),(SUM($E$41:BN41)-SUM($E$39:BM39))*($J$4/2),0)","v":0},{"$f":"IF(COUNTA($E$24:BN24)<=($C$12*2),(SUM($E$41:BO41)-SUM($E$39:BN39))*($J$4/2),0)","v":0},{"$f":"IF(COUNTA($E$24:BO24)<=($C$12*2),(SUM($E$41:BP41)-SUM($E$39:BO39))*($J$4/2),0)","v":0},{"$f":"IF(COUNTA($E$24:BP24)<=($C$12*2),(SUM($E$41:BQ41)-SUM($E$39:BP39))*($J$4/2),0)","v":0},{"$f":"IF(COUNTA($E$24:BQ24)<=($C$12*2),(SUM($E$41:BR41)-SUM($E$39:BQ39))*($J$4/2),0)","v":0},{"$f":"IF(COUNTA($E$24:BR24)<=($C$12*2),(SUM($E$41:BS41)-SUM($E$39:BR39))*($J$4/2),0)","v":0},{"$f":"IF(COUNTA($E$24:BS24)<=($C$12*2),(SUM($E$41:BT41)-SUM($E$39:BS39))*($J$4/2),0)","v":0},{"$f":"IF(COUNTA($E$24:BT24)<=($C$12*2),(SUM($E$41:BU41)-SUM($E$39:BT39))*($J$4/2),0)","v":0},{"$f":"IF(COUNTA($E$24:BU24)<=($C$12*2),(SUM($E$41:BV41)-SUM($E$39:BU39))*($J$4/2),0)","v":0},{"$f":"IF(COUNTA($E$24:BV24)<=($C$12*2),(SUM($E$41:BW41)-SUM($E$39:BV39))*($J$4/2),0)","v":0},{"$f":"IF(COUNTA($E$24:BW24)<=($C$12*2),(SUM($E$41:BX41)-SUM($E$39:BW39))*($J$4/2),0)","v":0},{"$f":"IF(COUNTA($E$24:BX24)<=($C$12*2),(SUM($E$41:BY41)-SUM($E$39:BX39))*($J$4/2),0)","v":0},{"$f":"IF(COUNTA($E$24:BY24)<=($C$12*2),(SUM($E$41:BZ41)-SUM($E$39:BY39))*($J$4/2),0)","v":0},{"$f":"IF(COUNTA($E$24:BZ24)<=($C$12*2),(SUM($E$41:CA41)-SUM($E$39:BZ39))*($J$4/2),0)","v":0},{"$f":"IF(COUNTA($E$24:CA24)<=($C$12*2),(SUM($E$41:CB41)-SUM($E$39:CA39))*($J$4/2),0)","v":0},{"$f":"IF(COUNTA($E$24:CB24)<=($C$12*2),(SUM($E$41:CC41)-SUM($E$39:CB39))*($J$4/2),0)","v":0},{"$f":"IF(COUNTA($E$24:CC24)<=($C$12*2),(SUM($E$41:CD41)-SUM($E$39:CC39))*($J$4/2),0)","v":0},{"$f":"IF(COUNTA($E$24:CD24)<=($C$12*2),(SUM($E$41:CE41)-SUM($E$39:CD39))*($J$4/2),0)","v":0},{"$f":"IF(COUNTA($E$24:CE24)<=($C$12*2),(SUM($E$41:CF41)-SUM($E$39:CE39))*($J$4/2),0)","v":0},{"$f":"IF(COUNTA($E$24:CF24)<=($C$12*2),(SUM($E$41:CG41)-SUM($E$39:CF39))*($J$4/2),0)","v":0},{"$f":"IF(COUNTA($E$24:CG24)<=($C$12*2),(SUM($E$41:CH41)-SUM($E$39:CG39))*($J$4/2),0)","v":0}]
[null,"Ставка дисконтування/Discount rate",null,null,{"$f":"1/((1+$J$6)^(1/12))^0","v":1},null,{"$f":"E43/(1+$J$6)","v":0.86580086580086579},null,{"$f":"G43/(1+$J$6)","v":0.74961113922152878},null,{"$f":"I43/(1+$J$6)","v":0.64901397335197297},null,{"$f":"K43/(1+$J$6)","v":0.56191686004499819},null,{"$f":"M43/(1+$J$6)","v":0.48650810393506333},null,{"$f":"O43/(1+$J$6)","v":0.4212191376061154},null,{"$f":"Q43/(1+$J$6)","v":0.36469189403126873},null,{"$f":"S43/(1+$J$6)","v":0.31575055760283005},null,{"$f":"U43/(1+$J$6)","v":0.2733771061496364},null,{"$f":"W43/(1+$J$6)","v":0.23669013519449039},null,{"$f":"Y43/(1+$J$6)","v":0.20492652397791375},null,{"$f":"AA43/(1+$J$6)","v":0.1774255618856396},null,{"$f":"AC43/(1+$J$6)","v":0.15361520509579185},null,{"$f":"AE43/(1+$J$6)","v":0.13300017757211416},null,{"$f":"AG43/(1+$J$6)","v":0.11515166889360533},null,{"$f":"AI43/(1+$J$6)","v":9.9698414626498116E-2},null,{"$f":"AK43/(1+$J$6)","v":8.6318973702595767E-2},null,{"$f":"AM43/(1+$J$6)","v":7.4735042166749574E-2},null,{"$f":"AO43/(1+$J$6)","v":6.4705664213635994E-2},null,{"$f":"AQ43/(1+$J$6)","v":5.6022220098386144E-2},null,{"$f":"AS43/(1+$J$6)","v":4.850408666526939E-2},null,{"$f":"AU43/(1+$J$6)","v":4.1994880229670468E-2},null,{"$f":"AW43/(1+$J$6)","v":3.635920366205235E-2},null,{"$f":"AY43/(1+$J$6)","v":3.1479830010434931E-2},null,{"$f":"BA43/(1+$J$6)","v":2.725526407829864E-2},null,{"$f":"BC43/(1+$J$6)","v":2.3597631236622198E-2},null,{"$f":"BE43/(1+$J$6)","v":2.0430849555517053E-2},null,{"$f":"BG43/(1+$J$6)","v":1.7689047234213898E-2},null,{"$f":"BI43/(1+$J$6)","v":1.5315192410574803E-2},null,{"$f":"BK43/(1+$J$6)","v":1.3259906848982513E-2},null,{"$f":"BM43/(1+$J$6)","v":1.148043883028789E-2},null,{"$f":"BO43/(1+$J$6)","v":9.9397738790371337E-3},null,{"$f":"BQ43/(1+$J$6)","v":8.6058648303351803E-3},null,{"$f":"BS43/(1+$J$6)","v":7.4509652210694201E-3},null,{"$f":"BU43/(1+$J$6)","v":6.4510521394540435E-3},null,{"$f":"BW43/(1+$J$6)","v":5.5853265276658379E-3},null,{"$f":"BY43/(1+$J$6)","v":4.8357805434336258E-3},null,{"$f":"CA43/(1+$J$6)","v":4.1868229813278148E-3},null,{"$f":"CC43/(1+$J$6)","v":3.6249549621885841E-3},null,{"$f":"CE43/(1+$J$6)","v":3.1384891447520206E-3}]
[null,"Дискантоване погашення/Discounted repayment",null,null,{"$f":"(E39+E42)/E43","v":0},{"$f":"(F39+F42)/E43","v":0},{"$f":"(G39+G42)/G43","v":0},{"$f":"(H39+H42)/G43","v":0},{"$f":"(I39+I42)/I43","v":0},{"$f":"(J39+J42)/I43","v":0},{"$f":"(K39+K42)/K43","v":0},{"$f":"(L39+L42)/K43","v":0},{"$f":"(M39+M42)/M43","v":0},{"$f":"(N39+N42)/M43","v":0},{"$f":"(O39+O42)/O43","v":0},{"$f":"(P39+P42)/O43","v":0},{"$f":"(Q39+Q42)/Q43","v":0},{"$f":"(R39+R42)/Q43","v":0},{"$f":"(S39+S42)/S43","v":0},{"$f":"(T39+T42)/S43","v":0},{"$f":"(U39+U42)/U43","v":0},{"$f":"(V39+V42)/U43","v":0},{"$f":"(W39+W42)/W43","v":0},{"$f":"(X39+X42)/W43","v":0},{"$f":"(Y39+Y42)/Y43","v":0},{"$f":"(Z39+Z42)/Y43","v":0},{"$f":"(AA39+AA42)/AA43","v":0},{"$f":"(AB39+AB42)/AA43","v":0},{"$f":"(AC39+AC42)/AC43","v":0},{"$f":"(AD39+AD42)/AC43","v":0},{"$f":"(AE39+AE42)/AE43","v":0},{"$f":"(AF39+AF42)/AE43","v":0},{"$f":"(AG39+AG42)/AG43","v":0},{"$f":"(AH39+AH42)/AG43","v":0},{"$f":"(AI39+AI42)/AI43","v":0},{"$f":"(AJ39+AJ42)/AI43","v":0},{"$f":"(AK39+AK42)/AK43","v":0},{"$f":"(AL39+AL42)/AK43","v":0},{"$f":"(AM39+AM42)/AM43","v":0},{"$f":"(AN39+AN42)/AM43","v":0},{"$f":"(AO39+AO42)/AO43","v":0},{"$f":"(AP39+AP42)/AO43","v":0},{"$f":"(AQ39+AQ42)/AQ43","v":0},{"$f":"(AR39+AR42)/AQ43","v":0},{"$f":"(AS39+AS42)/AS43","v":0},{"$f":"(AT39+AT42)/AS43","v":0},{"$f":"(AU39+AU42)/AU43","v":0},{"$f":"(AV39+AV42)/AU43","v":0},{"$f":"(AW39+AW42)/AW43","v":0},{"$f":"(AX39+AX42)/AW43","v":0},{"$f":"(AY39+AY42)/AY43","v":0},{"$f":"(AZ39+AZ42)/AY43","v":0},{"$f":"(BA39+BA42)/BA43","v":0},{"$f":"(BB39+BB42)/BA43","v":0},{"$f":"(BC39+BC42)/BC43","v":0},{"$f":"(BD39+BD42)/BC43","v":0},{"$f":"(BE39+BE42)/BE43","v":0},{"$f":"(BF39+BF42)/BE43","v":0},{"$f":"(BG39+BG42)/BG43","v":0},{"$f":"(BH39+BH42)/BG43","v":0},{"$f":"(BI39+BI42)/BI43","v":0},{"$f":"(BJ39+BJ42)/BI43","v":0},{"$f":"(BK39+BK42)/BK43","v":0},{"$f":"(BL39+BL42)/BK43","v":0},{"$f":"(BM39+BM42)/BM43","v":0},{"$f":"(BN39+BN42)/BM43","v":0},{"$f":"(BO39+BO42)/BO43","v":0},{"$f":"(BP39+BP42)/BO43","v":0},{"$f":"(BQ39+BQ42)/BQ43","v":0},{"$f":"(BR39+BR42)/BQ43","v":0},{"$f":"(BS39+BS42)/BS43","v":0},{"$f":"(BT39+BT42)/BS43","v":0},{"$f":"(BU39+BU42)/BU43","v":0},{"$f":"(BV39+BV42)/BU43","v":0},{"$f":"(BW39+BW42)/BW43","v":0},{"$f":"(BX39+BX42)/BW43","v":0},{"$f":"(BY39+BY42)/BY43","v":0},{"$f":"(BZ39+BZ42)/BY43","v":0},{"$f":"(CA39+CA42)/CA43","v":0},{"$f":"(CB39+CB42)/CA43","v":0},{"$f":"(CC39+CC42)/CC43","v":0},{"$f":"(CD39+CD42)/CC43","v":0},{"$f":"(CE39+CE42)/CE43","v":0},{"$f":"(CF39+CF42)/CE43","v":0},{"$f":"(CG39+CG42)/CG43","v":0},{"$f":"(CH39+CH42)/CG43","v":0}]
[null,"Погашення / Repayment",null,null,{"$f":"E41+F41","v":0},null,{"$f":"G41+H41","v":0},null,{"$f":"I41+J41","v":0},null,{"$f":"K41+L41","v":0},null,{"$f":"M41+N41","v":0},null,{"$f":"O41+P41","v":0},null,{"$f":"Q41+R41","v":0},null,{"$f":"S41+T41","v":0},null,{"$f":"U41+V41","v":0},null,{"$f":"W41+X41","v":0},null,{"$f":"Y41+Z41","v":0},null,{"$f":"AA41+AB41","v":0},null,{"$f":"AC41+AD41","v":0},null,{"$f":"AE41+AF41","v":0},null,{"$f":"AG41+AH41","v":0},null,{"$f":"AI41+AJ41","v":0},null,{"$f":"AK41+AL41","v":0},null,{"$f":"AM41+AN41","v":0},null,{"$f":"AO41+AP41","v":0},null,{"$f":"AQ41+AR41","v":0},null,{"$f":"AS41+AT41","v":0},null,{"$f":"AU41+AV41","v":0},null,{"$f":"AW41+AX41","v":0},null,{"$f":"AY41+AZ41","v":0},null,{"$f":"BA41+BB41","v":0},null,{"$f":"BC41+BD41","v":0},null,{"$f":"BE41+BF41","v":0},null,{"$f":"BG41+BH41","v":0},null,{"$f":"BI41+BJ41","v":0},null,{"$f":"BK41+BL41","v":0},null,{"$f":"BM41+BN41","v":0},null,{"$f":"BO41+BP41","v":0},null,{"$f":"BQ41+BR41","v":0},null,{"$f":"BS41+BT41","v":0},null,{"$f":"BU41+BV41","v":0},null,{"$f":"BW41+BX41","v":0},null,{"$f":"BY41+BZ41","v":0},null,{"$f":"CA41+CB41","v":0},null,{"$f":"CC41+CD41","v":0},null,{"$f":"CE41+CF41","v":0},null,{"$f":"CG41+CH41","v":0}]
[]
[null,"Період",null,null,{"$f":"IF(E48=0,\"\",0)","v":""},{"$f":"COUNT(E47)","v":0},{"$f":"COUNT($E47:F$47)","v":1},{"$f":"COUNT($E47:G$47)","v":2},{"$f":"COUNT($E47:H$47)","v":3},{"$f":"COUNT($E47:I$47)","v":4},{"$f":"COUNT($E47:J$47)","v":5},{"$f":"COUNT($E47:K$47)","v":6},{"$f":"COUNT($E47:L$47)","v":7},{"$f":"COUNT($E47:M$47)","v":8},{"$f":"COUNT($E47:N$47)","v":9},{"$f":"COUNT($E47:O$47)","v":10},{"$f":"COUNT($E47:P$47)","v":11},{"$f":"COUNT($E47:Q$47)","v":12},{"$f":"COUNT($E47:R$47)","v":13},{"$f":"COUNT($E47:S$47)","v":14},{"$f":"COUNT($E47:T$47)","v":15},{"$f":"COUNT($E47:U$47)","v":16},{"$f":"COUNT($E47:V$47)","v":17},{"$f":"COUNT($E47:W$47)","v":18},{"$f":"COUNT($E47:X$47)","v":19},{"$f":"COUNT($E47:Y$47)","v":20},{"$f":"COUNT($E47:Z$47)","v":21},{"$f":"COUNT($E47:AA$47)","v":22},{"$f":"COUNT($E47:AB$47)","v":23},{"$f":"COUNT($E47:AC$47)","v":24},{"$f":"COUNT($E47:AD$47)","v":25},{"$f":"COUNT($E47:AE$47)","v":26},{"$f":"COUNT($E47:AF$47)","v":27},{"$f":"COUNT($E47:AG$47)","v":28},{"$f":"COUNT($E47:AH$47)","v":29},{"$f":"COUNT($E47:AI$47)","v":30},{"$f":"COUNT($E47:AJ$47)","v":31},{"$f":"COUNT($E47:AK$47)","v":32},{"$f":"COUNT($E47:AL$47)","v":33},{"$f":"COUNT($E47:AM$47)","v":34},{"$f":"COUNT($E47:AN$47)","v":35},{"$f":"COUNT($E47:AO$47)","v":36},{"$f":"COUNT($E47:AP$47)","v":37},{"$f":"COUNT($E47:AQ$47)","v":38},{"$f":"COUNT($E47:AR$47)","v":39},{"$f":"COUNT($E47:AS$47)","v":40},{"$f":"COUNT($E47:AT$47)","v":41},{"$f":"COUNT($E47:AU$47)","v":42},{"$f":"COUNT($E47:AV$47)","v":43},{"$f":"COUNT($E47:AW$47)","v":44},{"$f":"COUNT($E47:AX$47)","v":45},{"$f":"COUNT($E47:AY$47)","v":46},{"$f":"COUNT($E47:AZ$47)","v":47},{"$f":"COUNT($E47:BA$47)","v":48},{"$f":"COUNT($E47:BB$47)","v":49},{"$f":"COUNT($E47:BC$47)","v":50},{"$f":"COUNT($E47:BD$47)","v":51},{"$f":"COUNT($E47:BE$47)","v":52},{"$f":"COUNT($E47:BF$47)","v":53},{"$f":"COUNT($E47:BG$47)","v":54},{"$f":"COUNT($E47:BH$47)","v":55},{"$f":"COUNT($E47:BI$47)","v":56},{"$f":"COUNT($E47:BJ$47)","v":57},{"$f":"COUNT($E47:BK$47)","v":58},{"$f":"COUNT($E47:BL$47)","v":59},{"$f":"COUNT($E47:BM$47)","v":60},{"$f":"COUNT($E47:BN$47)","v":61},{"$f":"COUNT($E47:BO$47)","v":62},{"$f":"COUNT($E47:BP$47)","v":63},{"$f":"COUNT($E47:BQ$47)","v":64},{"$f":"COUNT($E47:BR$47)","v":65},{"$f":"COUNT($E47:BS$47)","v":66},{"$f":"COUNT($E47:BT$47)","v":67},{"$f":"COUNT($E47:BU$47)","v":68},{"$f":"COUNT($E47:BV$47)","v":69},{"$f":"COUNT($E47:BW$47)","v":70},{"$f":"COUNT($E47:BX$47)","v":71},{"$f":"COUNT($E47:BY$47)","v":72},{"$f":"COUNT($E47:BZ$47)","v":73},{"$f":"COUNT($E47:CA$47)","v":74},{"$f":"COUNT($E47:CB$47)","v":75},{"$f":"COUNT($E47:CC$47)","v":76},{"$f":"COUNT($E47:CD$47)","v":77},{"$f":"COUNT($E47:CE$47)","v":78},{"$f":"COUNT($E47:CF$47)","v":79},{"$f":"COUNT($E47:CG$47)","v":80}]
[null,"F(x)",null,null,{"$f":"IF(E28=0,0,-$C$8+$J$18)","v":0},{"$f":"IF(E28>0,F27+F31+F32+F33,-C8+J18)","v":-9000},{"$f":"G27+G31+G32+G33","v":633.33333333333326},991.66666666666674,956.24999999999989,920.83333333333337,885.41666666666663,849.99999999999989,814.58333333333337,779.16666666666686,743.75000000000068,0,0,0,0,0,0,0,0,0,0,0,0,0,0,0,0,0,0,0,0,0,0,0,{"$f":"AM27+AM31+AM32+AM33","v":0},0,0,0,0,0,0,0,0,0,0,0,0,0,0,0,0,0,0,0,0,0,0,0,0,0,0,0,0,0,0,0,{"$f":"BS27+BS31+BS32+BS33","v":0},0,0,0,0,0,0,0,0,0,0,0,0,0,0,0]
[null,"F(x')",null,null,{"$f":"F47*F48","v":0},{"$f":"G47*G48","v":633.33333333333326},{"$f":"H47*H48","v":1983.3333333333335},2868.7499999999995,3683.3333333333335,4427.083333333333,5099.9999999999991,5702.0833333333339,6233.3333333333348,6693.7500000000064,0,0,0,0,0,0,0,0,0,0,0,0,0,0,0,0,0,0,0,0,0,0,0,0,0,0,0,0,0,0,0,0,0,0,0,0,0,0,0,0,0,0,0,0,0,0,0,0,0,0,0,0,0,0,0,0,{"$f":"BT47*BT48","v":0},0,0,0,0,0,0,0,0,0,0,0,0,0,0]
[null,"X(k)",null,null,{"$f":"IF(E48<0,1,0)","v":0},{"$f":"IF(E50=0,1,E50-SERIESSUM(E50,0,1,E48:CH48)/SERIESSUM(E50,0,1,E49:CG49))","v":1},{"$f":"IF(F50=0,1,F50-SERIESSUM(F50,0,1,$E$48:$CI$48)/SERIESSUM(F50,0,1,$E$49:$CH$49))","v":1.0381781647689217},{"$f":"IF(G50=0,1,G50-SERIESSUM(G50,0,1,$E$48:$CI$48)/SERIESSUM(G50,0,1,$E$49:$CH$49))","v":1.0348676644890944},1.0348390440438386,1.034839041928185,1.034839041928185,1.034839041928185,1.034839041928185,1.034839041928185,1.034839041928185,1.034839041928185,1.034839041928185,1.034839041928185,1.034839041928185,1.034839041928185,1.034839041928185,1.034839041928185,1.034839041928185,1.034839041928185,1.034839041928185,1.034839041928185,1.034839041928185,1.034839041928185,1.034839041928185,1.034839041928185,1.034839041928185,1.034839041928185,1.034839041928185,1.034839041928185,1.034839041928185,1.034839041928185,1.034839041928185,1.034839041928185,1.034839041928185,1.034839041928185,1.034839041928185,1.034839041928185,1.034839041928185,1.034839041928185,1.034839041928185,1.034839041928185,1.034839041928185,1.034839041928185,1.034839041928185,1.034839041928185,1.034839041928185,1.034839041928185,1.034839041928185,1.034839041928185,1.034839041928185,1.034839041928185,1.034839041928185,1.034839041928185,1.034839041928185,1.034839041928185,1.034839041928185,1.034839041928185,1.034839041928185,1.034839041928185,1.034839041928185,1.034839041928185,1.034839041928185,1.034839041928185,1.034839041928185,1.034839041928185,1.034839041928185,{"$f":"IF(BS50=0,1,BS50-SERIESSUM(BS50,0,1,$E$48:$CI$48)/SERIESSUM(BS50,0,1,$E$49:$CH$49))","v":1.034839041928185},1.034839041928185,1.034839041928185,1.034839041928185,1.034839041928185,1.034839041928185,1.034839041928185,1.034839041928185,1.034839041928185,1.034839041928185,1.034839041928185,1.034839041928185,1.034839041928185,1.034839041928185]
[null,"i",null,null,0,{"$f":"IF(E50=0,0,POWER(F50,-2)-1)","v":0},{"$f":"POWER(G50,-2)-1","v":-7.2196045785639984E-2},-6.6250535744380112E-2,-6.6198885789473305E-2,-6.619888197129542E-2,-6.619888197129542E-2,-6.619888197129542E-2,-6.619888197129542E-2,-6.619888197129542E-2,-6.619888197129542E-2,-6.619888197129542E-2,-6.619888197129542E-2,-6.619888197129542E-2,-6.619888197129542E-2,-6.619888197129542E-2,-6.619888197129542E-2,-6.619888197129542E-2,-6.619888197129542E-2,-6.619888197129542E-2,-6.619888197129542E-2,-6.619888197129542E-2,-6.619888197129542E-2,-6.619888197129542E-2,-6.619888197129542E-2,-6.619888197129542E-2,-6.619888197129542E-2,-6.619888197129542E-2,-6.619888197129542E-2,-6.619888197129542E-2,-6.619888197129542E-2,-6.619888197129542E-2,-6.619888197129542E-2,-6.619888197129542E-2,-6.619888197129542E-2,-6.619888197129542E-2,-6.619888197129542E-2,-6.619888197129542E-2,-6.619888197129542E-2,-6.619888197129542E-2,-6.619888197129542E-2,-6.619888197129542E-2,-6.619888197129542E-2,-6.619888197129542E-2,-6.619888197129542E-2,-6.619888197129542E-2,-6.619888197129542E-2,-6.619888197129542E-2,-6.619888197129542E-2,-6.619888197129542E-2,-6.619888197129542E-2,-6.619888197129542E-2,-6.619888197129542E-2,-6.619888197129542E-2,-6.619888197129542E-2,-6.619888197129542E-2,-6.619888197129542E-2,-6.619888197129542E-2,-6.619888197129542E-2,-6.619888197129542E-2,-6.619888197129542E-2,-6.619888197129542E-2,-6.619888197129542E-2,-6.619888197129542E-2,-6.619888197129542E-2,-6.619888197129542E-2,{"$f":"POWER(BS50,-2)-1","v":-6.619888197129542E-2},-6.619888197129542E-2,-6.619888197129542E-2,-6.619888197129542E-2,-6.619888197129542E-2,-6.619888197129542E-2,-6.619888197129542E-2,-6.619888197129542E-2,-6.619888197129542E-2,-6.619888197129542E-2,-6.619888197129542E-2,-6.619888197129542E-2,-6.619888197129542E-2,-6.619888197129542E-2,-6.619888197129542E-2]
[]
[null,"I півріччя","I half a year"]
[null,"ІІ півріччя","II half a year"]

{"sheet":"Амортизація_Depreciation","index":9,"n_rows":153,"n_cols":36,"rows_kept":153,"cut":false,"hidden":false,"merged":[[1,0,2,1],[1,3,1,22]]}
[]
["РОЗРАХУНОК АМОРТИЗАЦІЇ ОСНОВНИХ ЗАСОБІВ / CALCULATION OF DEPRECIATION OF FIXED ASSETS",null,null,{"$f":"CONCATENATE(Головна_Summary!A2,\"/ \",Головна_Summary!K2)","v":"Energy storage system 10МВт/ Energy storage system 10 MW"},null,null,null,null,null,null,null,null,null,null,null,null,null,null,null,null,null,null,null,null,null,null,null,null,null,null,null,null,null,null,null,{"$f":"Головна_Summary!AD5","v":"тис.US$/ ths.US$"}]
[]
[null,"Група основних засобів / Group of fixed assets","Мін. термін користування","Термін корисного використання / Useful life","Доля в проекті / Project share",{"$f":"CFO!H4","v":2024},{"$f":"CFO!I4","v":2025},{"$f":"CFO!J4","v":2026},{"$f":"CFO!K4","v":2027},{"$f":"CFO!L4","v":2028},{"$f":"CFO!M4","v":2029},{"$f":"CFO!N4","v":2030},{"$f":"CFO!O4","v":2031},{"$f":"CFO!P4","v":2032},{"$f":"CFO!Q4","v":2033},{"$f":"CFO!R4","v":2034},{"$f":"CFO!S4","v":2035},{"$f":"CFO!T4","v":2036},{"$f":"CFO!U4","v":2037},{"$f":"CFO!V4","v":2038},{"$f":"CFO!W4","v":2039},{"$f":"CFO!X4","v":0},{"$f":"CFO!Y4","v":0},{"$f":"CFO!Z4","v":0},{"$f":"CFO!AA4","v":0},{"$f":"CFO!AB4","v":0},{"$f":"CFO!AC4","v":0},{"$f":"CFO!AD4","v":0},{"$f":"CFO!AE4","v":0},{"$f":"CFO!AF4","v":0},{"$f":"CFO!AG4","v":0},{"$f":"CFO!AH4","v":0},{"$f":"CFO!AI4","v":0},{"$f":"CFO!AJ4","v":0},{"$f":"CFO!AK4","v":0},{"$f":"'Грошові потоки _ Cash flows'!AM22","v":"Разом / Total"}]
[null,"Первісна вартість (введення об'єкта в експлуатацію) / Initial cost",null,null,{"$f":"E6+E19","v":1},{"$f":"F6+F19","v":0},9000,0,0,0,0,0,0,0,0,0,0,0,0,0,0,0,0,0,0,0,0,0,0,0,0,0,0,0,0,{"$f":"SUM(F5:AI5)","v":9000}]
[null,"Основні засоби: / fixed assets :",null,null,{"$f":"SUM(E7:E18)","v":1},{"$f":"SUM(F7:F18)","v":0},9000,0,0,0,0,0,0,0,0,0,0,0,0,0,0,0,0,0,0,0,0,0,0,0,0,0,0,0,0,9000]
[null,"Група 1 – земельні ділянки / Group 1 -ground sections","—",{"$f":"IF('Грошові потоки _ Cash flows'!E15>Амортизація_Depreciation!C7,'Грошові потоки _ Cash flows'!E15,Амортизація_Depreciation!C7)","v":"—"},null,{"$f":"'Фінансування_Financing (CFI)'!AD$32*Амортизація_Depreciation!$E7","v":0},{"$f":"'Фінансування_Financing (CFI)'!AE$32*Амортизація_Depreciation!$E7","v":0},{"$f":"'Фінансування_Financing (CFI)'!AF$32*Амортизація_Depreciation!$E7","v":0},{"$f":"'Фінансування_Financing (CFI)'!AG$32*Амортизація_Depreciation!$E7","v":0},{"$f":"'Фінансування_Financing (CFI)'!AH$32*Амортизація_Depreciation!$E7","v":0},{"$f":"'Фінансування_Financing (CFI)'!AI$32*Амортизація_Depreciation!$E7","v":0},{"$f":"'Фінансування_Financing (CFI)'!AJ$32*Амортизація_Depreciation!$E7","v":0},{"$f":"'Фінансування_Financing (CFI)'!AK$32*Амортизація_Depreciation!$E7","v":0},{"$f":"'Фінансування_Financing (CFI)'!AL$32*Амортизація_Depreciation!$E7","v":0},{"$f":"'Фінансування_Financing (CFI)'!AM$32*Амортизація_Depreciation!$E7","v":0},{"$f":"'Фінансування_Financing (CFI)'!AN$32*Амортизація_Depreciation!$E7","v":0},{"$f":"'Фінансування_Financing (CFI)'!AO$32*Амортизація_Depreciation!$E7","v":0},{"$f":"'Фінансування_Financing (CFI)'!AP$32*Амортизація_Depreciation!$E7","v":0},{"$f":"'Фінансування_Financing (CFI)'!AQ$32*Амортизація_Depreciation!$E7","v":0},{"$f":"'Фінансування_Financing (CFI)'!AR$32*Амортизація_Depreciation!$E7","v":0},{"$f":"'Фінансування_Financing (CFI)'!AS$32*Амортизація_Depreciation!$E7","v":0},{"$f":"'Фінансування_Financing (CFI)'!AT$32*Амортизація_Depreciation!$E7","v":0},{"$f":"'Фінансування_Financing (CFI)'!AU$32*Амортизація_Depreciation!$E7","v":0},{"$f":"'Фінансування_Financing (CFI)'!AV$32*Амортизація_Depreciation!$E7","v":0},{"$f":"'Фінансування_Financing (CFI)'!AW$32*Амортизація_Depreciation!$E7","v":0},{"$f":"'Фінансування_Financing (CFI)'!AX$32*Амортизація_Depreciation!$E7","v":0},{"$f":"'Фінансування_Financing (CFI)'!AY$32*Амортизація_Depreciation!$E7","v":0},{"$f":"'Фінансування_Financing (CFI)'!AZ$32*Амортизація_Depreciation!$E7","v":0},{"$f":"'Фінансування_Financing (CFI)'!BA$32*Амортизація_Depreciation!$E7","v":0},{"$f":"'Фінансування_Financing (CFI)'!BB$32*Амортизація_Depreciation!$E7","v":0},{"$f":"'Фінансування_Financing (CFI)'!BC$32*Амортизація_Depreciation!$E7","v":0},{"$f":"'Фінансування_Financing (CFI)'!BD$32*Амортизація_Depreciation!$E7","v":0},{"$f":"'Фінансування_Financing (CFI)'!BE$32*Амортизація_Depreciation!$E7","v":0},{"$f":"'Фінансування_Financing (CFI)'!BF$32*Амортизація_Depreciation!$E7","v":0},{"$f":"'Фінансування_Financing (CFI)'!BG$32*Амортизація_Depreciation!$E7","v":0},0]
[null,"Група 2 – капітальні витрати на поліпшення землі, не пов'язані з будівництвом / CAPEX on ground improvement not related to construction",15,{"$f":"IF('Грошові потоки _ Cash flows'!$E$15>Амортизація_Depreciation!C8, 'Грошові потоки _ Cash flows'!$E$15,Амортизація_Depreciation!C8)","v":16},null,{"$f":"'Фінансування_Financing (CFI)'!AD$32*Амортизація_Depreciation!$E8","v":0},{"$f":"'Фінансування_Financing (CFI)'!AE$32*Амортизація_Depreciation!$E8","v":0},{"$f":"'Фінансування_Financing (CFI)'!AF$32*Амортизація_Depreciation!$E8","v":0},{"$f":"'Фінансування_Financing (CFI)'!AG$32*Амортизація_Depreciation!$E8","v":0},{"$f":"'Фінансування_Financing (CFI)'!AH$32*Амортизація_Depreciation!$E8","v":0},{"$f":"'Фінансування_Financing (CFI)'!AI$32*Амортизація_Depreciation!$E8","v":0},{"$f":"'Фінансування_Financing (CFI)'!AJ$32*Амортизація_Depreciation!$E8","v":0},{"$f":"'Фінансування_Financing (CFI)'!AK$32*Амортизація_Depreciation!$E8","v":0},{"$f":"'Фінансування_Financing (CFI)'!AL$32*Амортизація_Depreciation!$E8","v":0},{"$f":"'Фінансування_Financing (CFI)'!AM$32*Амортизація_Depreciation!$E8","v":0},{"$f":"'Фінансування_Financing (CFI)'!AN$32*Амортизація_Depreciation!$E8","v":0},{"$f":"'Фінансування_Financing (CFI)'!AO$32*Амортизація_Depreciation!$E8","v":0},{"$f":"'Фінансування_Financing (CFI)'!AP$32*Амортизація_Depreciation!$E8","v":0},{"$f":"'Фінансування_Financing (CFI)'!AQ$32*Амортизація_Depreciation!$E8","v":0},{"$f":"'Фінансування_Financing (CFI)'!AR$32*Амортизація_Depreciation!$E8","v":0},{"$f":"'Фінансування_Financing (CFI)'!AS$32*Амортизація_Depreciation!$E8","v":0},{"$f":"'Фінансування_Financing (CFI)'!AT$32*Амортизація_Depreciation!$E8","v":0},{"$f":"'Фінансування_Financing (CFI)'!AU$32*Амортизація_Depreciation!$E8","v":0},{"$f":"'Фінансування_Financing (CFI)'!AV$32*Амортизація_Depreciation!$E8","v":0},{"$f":"'Фінансування_Financing (CFI)'!AW$32*Амортизація_Depreciation!$E8","v":0},{"$f":"'Фінансування_Financing (CFI)'!AX$32*Амортизація_Depreciation!$E8","v":0},{"$f":"'Фінансування_Financing (CFI)'!AY$32*Амортизація_Depreciation!$E8","v":0},{"$f":"'Фінансування_Financing (CFI)'!AZ$32*Амортизація_Depreciation!$E8","v":0},{"$f":"'Фінансування_Financing (CFI)'!BA$32*Амортизація_Depreciation!$E8","v":0},{"$f":"'Фінансування_Financing (CFI)'!BB$32*Амортизація_Depreciation!$E8","v":0},{"$f":"'Фінансування_Financing (CFI)'!BC$32*Амортизація_Depreciation!$E8","v":0},{"$f":"'Фінансування_Financing (CFI)'!BD$32*Амортизація_Depreciation!$E8","v":0},{"$f":"'Фінансування_Financing (CFI)'!BE$32*Амортизація_Depreciation!$E8","v":0},{"$f":"'Фінансування_Financing (CFI)'!BF$32*Амортизація_Depreciation!$E8","v":0},{"$f":"'Фінансування_Financing (CFI)'!BG$32*Амортизація_Depreciation!$E8","v":0},0]
[null,"Група 3 –  будівлі / buildings",20,{"$f":"IF('Грошові потоки _ Cash flows'!$E$15>Амортизація_Depreciation!C9, 'Грошові потоки _ Cash flows'!$E$15,Амортизація_Depreciation!C9)","v":20},null,{"$f":"'Фінансування_Financing (CFI)'!AD$32*Амортизація_Depreciation!$E9","v":0},{"$f":"'Фінансування_Financing (CFI)'!AE$32*Амортизація_Depreciation!$E9","v":0},{"$f":"'Фінансування_Financing (CFI)'!AF$32*Амортизація_Depreciation!$E9","v":0},{"$f":"'Фінансування_Financing (CFI)'!AG$32*Амортизація_Depreciation!$E9","v":0},{"$f":"'Фінансування_Financing (CFI)'!AH$32*Амортизація_Depreciation!$E9","v":0},{"$f":"'Фінансування_Financing (CFI)'!AI$32*Амортизація_Depreciation!$E9","v":0},{"$f":"'Фінансування_Financing (CFI)'!AJ$32*Амортизація_Depreciation!$E9","v":0},{"$f":"'Фінансування_Financing (CFI)'!AK$32*Амортизація_Depreciation!$E9","v":0},{"$f":"'Фінансування_Financing (CFI)'!AL$32*Амортизація_Depreciation!$E9","v":0},{"$f":"'Фінансування_Financing (CFI)'!AM$32*Амортизація_Depreciation!$E9","v":0},{"$f":"'Фінансування_Financing (CFI)'!AN$32*Амортизація_Depreciation!$E9","v":0},{"$f":"'Фінансування_Financing (CFI)'!AO$32*Амортизація_Depreciation!$E9","v":0},{"$f":"'Фінансування_Financing (CFI)'!AP$32*Амортизація_Depreciation!$E9","v":0},{"$f":"'Фінансування_Financing (CFI)'!AQ$32*Амортизація_Depreciation!$E9","v":0},{"$f":"'Фінансування_Financing (CFI)'!AR$32*Амортизація_Depreciation!$E9","v":0},{"$f":"'Фінансування_Financing (CFI)'!AS$32*Амортизація_Depreciation!$E9","v":0},{"$f":"'Фінансування_Financing (CFI)'!AT$32*Амортизація_Depreciation!$E9","v":0},{"$f":"'Фінансування_Financing (CFI)'!AU$32*Амортизація_Depreciation!$E9","v":0},{"$f":"'Фінансування_Financing (CFI)'!AV$32*Амортизація_Depreciation!$E9","v":0},{"$f":"'Фінансування_Financing (CFI)'!AW$32*Амортизація_Depreciation!$E9","v":0},{"$f":"'Фінансування_Financing (CFI)'!AX$32*Амортизація_Depreciation!$E9","v":0},{"$f":"'Фінансування_Financing (CFI)'!AY$32*Амортизація_Depreciation!$E9","v":0},{"$f":"'Фінансування_Financing (CFI)'!AZ$32*Амортизація_Depreciation!$E9","v":0},{"$f":"'Фінансування_Financing (CFI)'!BA$32*Амортизація_Depreciation!$E9","v":0},{"$f":"'Фінансування_Financing (CFI)'!BB$32*Амортизація_Depreciation!$E9","v":0},{"$f":"'Фінансування_Financing (CFI)'!BC$32*Амортизація_Depreciation!$E9","v":0},{"$f":"'Фінансування_Financing (CFI)'!BD$32*Амортизація_Depreciation!$E9","v":0},{"$f":"'Фінансування_Financing (CFI)'!BE$32*Амортизація_Depreciation!$E9","v":0},{"$f":"'Фінансування_Financing (CFI)'!BF$32*Амортизація_Depreciation!$E9","v":0},{"$f":"'Фінансування_Financing (CFI)'!BG$32*Амортизація_Depreciation!$E9","v":0},0]
[null,"споруди / constructions",15,{"$f":"IF('Грошові потоки _ Cash flows'!$E$15>Амортизація_Depreciation!C10, 'Грошові потоки _ Cash flows'!$E$15,Амортизація_Depreciation!C10)","v":16},null,{"$f":"'Фінансування_Financing (CFI)'!AD$32*Амортизація_Depreciation!$E10","v":0},{"$f":"'Фінансування_Financing (CFI)'!AE$32*Амортизація_Depreciation!$E10","v":0},{"$f":"'Фінансування_Financing (CFI)'!AF$32*Амортизація_Depreciation!$E10","v":0},{"$f":"'Фінансування_Financing (CFI)'!AG$32*Амортизація_Depreciation!$E10","v":0},{"$f":"'Фінансування_Financing (CFI)'!AH$32*Амортизація_Depreciation!$E10","v":0},{"$f":"'Фінансування_Financing (CFI)'!AI$32*Амортизація_Depreciation!$E10","v":0},{"$f":"'Фінансування_Financing (CFI)'!AJ$32*Амортизація_Depreciation!$E10","v":0},{"$f":"'Фінансування_Financing (CFI)'!AK$32*Амортизація_Depreciation!$E10","v":0},{"$f":"'Фінансування_Financing (CFI)'!AL$32*Амортизація_Depreciation!$E10","v":0},{"$f":"'Фінансування_Financing (CFI)'!AM$32*Амортизація_Depreciation!$E10","v":0},{"$f":"'Фінансування_Financing (CFI)'!AN$32*Амортизація_Depreciation!$E10","v":0},{"$f":"'Фінансування_Financing (CFI)'!AO$32*Амортизація_Depreciation!$E10","v":0},{"$f":"'Фінансування_Financing (CFI)'!AP$32*Амортизація_Depreciation!$E10","v":0},{"$f":"'Фінансування_Financing (CFI)'!AQ$32*Амортизація_Depreciation!$E10","v":0},{"$f":"'Фінансування_Financing (CFI)'!AR$32*Амортизація_Depreciation!$E10","v":0},{"$f":"'Фінансування_Financing (CFI)'!AS$32*Амортизація_Depreciation!$E10","v":0},{"$f":"'Фінансування_Financing (CFI)'!AT$32*Амортизація_Depreciation!$E10","v":0},{"$f":"'Фінансування_Financing (CFI)'!AU$32*Амортизація_Depreciation!$E10","v":0},{"$f":"'Фінансування_Financing (CFI)'!AV$32*Амортизація_Depreciation!$E10","v":0},{"$f":"'Фінансування_Financing (CFI)'!AW$32*Амортизація_Depreciation!$E10","v":0},{"$f":"'Фінансування_Financing (CFI)'!AX$32*Амортизація_Depreciation!$E10","v":0},{"$f":"'Фінансування_Financing (CFI)'!AY$32*Амортизація_Depreciation!$E10","v":0},{"$f":"'Фінансування_Financing (CFI)'!AZ$32*Амортизація_Depreciation!$E10","v":0},{"$f":"'Фінансування_Financing (CFI)'!BA$32*Амортизація_Depreciation!$E10","v":0},{"$f":"'Фінансування_Financing (CFI)'!BB$32*Амортизація_Depreciation!$E10","v":0},{"$f":"'Фінансування_Financing (CFI)'!BC$32*Амортизація_Depreciation!$E10","v":0},{"$f":"'Фінансування_Financing (CFI)'!BD$32*Амортизація_Depreciation!$E10","v":0},{"$f":"'Фінансування_Financing (CFI)'!BE$32*Амортизація_Depreciation!$E10","v":0},{"$f":"'Фінансування_Financing (CFI)'!BF$32*Амортизація_Depreciation!$E10","v":0},{"$f":"'Фінансування_Financing (CFI)'!BG$32*Амортизація_Depreciation!$E10","v":0},0]
[null,"передавальні пристрої / transmitting devices",10,{"$f":"IF('Грошові потоки _ Cash flows'!$E$15>Амортизація_Depreciation!C11, 'Грошові потоки _ Cash flows'!$E$15,Амортизація_Depreciation!C11)","v":16},null,{"$f":"'Фінансування_Financing (CFI)'!AD$32*Амортизація_Depreciation!$E11","v":0},{"$f":"'Фінансування_Financing (CFI)'!AE$32*Амортизація_Depreciation!$E11","v":0},{"$f":"'Фінансування_Financing (CFI)'!AF$32*Амортизація_Depreciation!$E11","v":0},{"$f":"'Фінансування_Financing (CFI)'!AG$32*Амортизація_Depreciation!$E11","v":0},{"$f":"'Фінансування_Financing (CFI)'!AH$32*Амортизація_Depreciation!$E11","v":0},{"$f":"'Фінансування_Financing (CFI)'!AI$32*Амортизація_Depreciation!$E11","v":0},{"$f":"'Фінансування_Financing (CFI)'!AJ$32*Амортизація_Depreciation!$E11","v":0},{"$f":"'Фінансування_Financing (CFI)'!AK$32*Амортизація_Depreciation!$E11","v":0},{"$f":"'Фінансування_Financing (CFI)'!AL$32*Амортизація_Depreciation!$E11","v":0},{"$f":"'Фінансування_Financing (CFI)'!AM$32*Амортизація_Depreciation!$E11","v":0},{"$f":"'Фінансування_Financing (CFI)'!AN$32*Амортизація_Depreciation!$E11","v":0},{"$f":"'Фінансування_Financing (CFI)'!AO$32*Амортизація_Depreciation!$E11","v":0},{"$f":"'Фінансування_Financing (CFI)'!AP$32*Амортизація_Depreciation!$E11","v":0},{"$f":"'Фінансування_Financing (CFI)'!AQ$32*Амортизація_Depreciation!$E11","v":0},{"$f":"'Фінансування_Financing (CFI)'!AR$32*Амортизація_Depreciation!$E11","v":0},{"$f":"'Фінансування_Financing (CFI)'!AS$32*Амортизація_Depreciation!$E11","v":0},{"$f":"'Фінансування_Financing (CFI)'!AT$32*Амортизація_Depreciation!$E11","v":0},{"$f":"'Фінансування_Financing (CFI)'!AU$32*Амортизація_Depreciation!$E11","v":0},{"$f":"'Фінансування_Financing (CFI)'!AV$32*Амортизація_Depreciation!$E11","v":0},{"$f":"'Фінансування_Financing (CFI)'!AW$32*Амортизація_Depreciation!$E11","v":0},{"$f":"'Фінансування_Financing (CFI)'!AX$32*Амортизація_Depreciation!$E11","v":0},{"$f":"'Фінансування_Financing (CFI)'!AY$32*Амортизація_Depreciation!$E11","v":0},{"$f":"'Фінансування_Financing (CFI)'!AZ$32*Амортизація_Depreciation!$E11","v":0},{"$f":"'Фінансування_Financing (CFI)'!BA$32*Амортизація_Depreciation!$E11","v":0},{"$f":"'Фінансування_Financing (CFI)'!BB$32*Амортизація_Depreciation!$E11","v":0},{"$f":"'Фінансування_Financing (CFI)'!BC$32*Амортизація_Depreciation!$E11","v":0},{"$f":"'Фінансування_Financing (CFI)'!BD$32*Амортизація_Depreciation!$E11","v":0},{"$f":"'Фінансування_Financing (CFI)'!BE$32*Амортизація_Depreciation!$E11","v":0},{"$f":"'Фінансування_Financing (CFI)'!BF$32*Амортизація_Depreciation!$E11","v":0},{"$f":"'Фінансування_Financing (CFI)'!BG$32*Амортизація_Depreciation!$E11","v":0},0]
[null,"Група 4 –  машини та обладнання / Machines and equipment",5,{"$f":"IF('Грошові потоки _ Cash flows'!$E$15>Амортизація_Depreciation!C12, 'Грошові потоки _ Cash flows'!$E$15,Амортизація_Depreciation!C12)","v":16},1,{"$f":"'Фінансування_Financing (CFI)'!AD$32*Амортизація_Depreciation!$E12","v":0},{"$f":"'Фінансування_Financing (CFI)'!AE$32*Амортизація_Depreciation!$E12","v":9000},{"$f":"'Фінансування_Financing (CFI)'!AF$32*Амортизація_Depreciation!$E12","v":0},{"$f":"'Фінансування_Financing (CFI)'!AG$32*Амортизація_Depreciation!$E12","v":0},{"$f":"'Фінансування_Financing (CFI)'!AH$32*Амортизація_Depreciation!$E12","v":0},{"$f":"'Фінансування_Financing (CFI)'!AI$32*Амортизація_Depreciation!$E12","v":0},{"$f":"'Фінансування_Financing (CFI)'!AJ$32*Амортизація_Depreciation!$E12","v":0},{"$f":"'Фінансування_Financing (CFI)'!AK$32*Амортизація_Depreciation!$E12","v":0},{"$f":"'Фінансування_Financing (CFI)'!AL$32*Амортизація_Depreciation!$E12","v":0},{"$f":"'Фінансування_Financing (CFI)'!AM$32*Амортизація_Depreciation!$E12","v":0},{"$f":"'Фінансування_Financing (CFI)'!AN$32*Амортизація_Depreciation!$E12","v":0},{"$f":"'Фінансування_Financing (CFI)'!AO$32*Амортизація_Depreciation!$E12","v":0},{"$f":"'Фінансування_Financing (CFI)'!AP$32*Амортизація_Depreciation!$E12","v":0},{"$f":"'Фінансування_Financing (CFI)'!AQ$32*Амортизація_Depreciation!$E12","v":0},{"$f":"'Фінансування_Financing (CFI)'!AR$32*Амортизація_Depreciation!$E12","v":0},{"$f":"'Фінансування_Financing (CFI)'!AS$32*Амортизація_Depreciation!$E12","v":0},{"$f":"'Фінансування_Financing (CFI)'!AT$32*Амортизація_Depreciation!$E12","v":0},{"$f":"'Фінансування_Financing (CFI)'!AU$32*Амортизація_Depreciation!$E12","v":0},{"$f":"'Фінансування_Financing (CFI)'!AV$32*Амортизація_Depreciation!$E12","v":0},{"$f":"'Фінансування_Financing (CFI)'!AW$32*Амортизація_Depreciation!$E12","v":0},{"$f":"'Фінансування_Financing (CFI)'!AX$32*Амортизація_Depreciation!$E12","v":0},{"$f":"'Фінансування_Financing (CFI)'!AY$32*Амортизація_Depreciation!$E12","v":0},{"$f":"'Фінансування_Financing (CFI)'!AZ$32*Амортизація_Depreciation!$E12","v":0},{"$f":"'Фінансування_Financing (CFI)'!BA$32*Амортизація_Depreciation!$E12","v":0},{"$f":"'Фінансування_Financing (CFI)'!BB$32*Амортизація_Depreciation!$E12","v":0},{"$f":"'Фінансування_Financing (CFI)'!BC$32*Амортизація_Depreciation!$E12","v":0},{"$f":"'Фінансування_Financing (CFI)'!BD$32*Амортизація_Depreciation!$E12","v":0},{"$f":"'Фінансування_Financing (CFI)'!BE$32*Амортизація_Depreciation!$E12","v":0},{"$f":"'Фінансування_Financing (CFI)'!BF$32*Амортизація_Depreciation!$E12","v":0},{"$f":"'Фінансування_Financing (CFI)'!BG$32*Амортизація_Depreciation!$E12","v":0},9000]
[null,"Електронно-обчислювальні машини, інші машини для автоматичного оброблення інформації, пов'язані з ними засоби зчитування або друку інформації, пов'язані з ними комп'ютерні програми (крім програм, витрати на придбання яких визнаються роялті, та / або програм, які визнаються нематеріальним активів) , інші інформаційні системи, комутатори, маршрутизатори, модулі, модеми, джерела безперебійного живлення та засоби їх підключення до телекомунікаційних мереж, телефони (в тому числі мобільні), мікрофони і рації, вартість яких перевищує 2500 гривень.",2,{"$f":"IF('Грошові потоки _ Cash flows'!$E$15>Амортизація_Depreciation!C13, 'Грошові потоки _ Cash flows'!$E$15,Амортизація_Depreciation!C13)","v":16},null,{"$f":"'Фінансування_Financing (CFI)'!AD$32*Амортизація_Depreciation!$E13","v":0},{"$f":"'Фінансування_Financing (CFI)'!AE$32*Амортизація_Depreciation!$E13","v":0},{"$f":"'Фінансування_Financing (CFI)'!AF$32*Амортизація_Depreciation!$E13","v":0},{"$f":"'Фінансування_Financing (CFI)'!AG$32*Амортизація_Depreciation!$E13","v":0},{"$f":"'Фінансування_Financing (CFI)'!AH$32*Амортизація_Depreciation!$E13","v":0},{"$f":"'Фінансування_Financing (CFI)'!AI$32*Амортизація_Depreciation!$E13","v":0},{"$f":"'Фінансування_Financing (CFI)'!AJ$32*Амортизація_Depreciation!$E13","v":0},{"$f":"'Фінансування_Financing (CFI)'!AK$32*Амортизація_Depreciation!$E13","v":0},{"$f":"'Фінансування_Financing (CFI)'!AL$32*Амортизація_Depreciation!$E13","v":0},{"$f":"'Фінансування_Financing (CFI)'!AM$32*Амортизація_Depreciation!$E13","v":0},{"$f":"'Фінансування_Financing (CFI)'!AN$32*Амортизація_Depreciation!$E13","v":0},{"$f":"'Фінансування_Financing (CFI)'!AO$32*Амортизація_Depreciation!$E13","v":0},{"$f":"'Фінансування_Financing (CFI)'!AP$32*Амортизація_Depreciation!$E13","v":0},{"$f":"'Фінансування_Financing (CFI)'!AQ$32*Амортизація_Depreciation!$E13","v":0},{"$f":"'Фінансування_Financing (CFI)'!AR$32*Амортизація_Depreciation!$E13","v":0},{"$f":"'Фінансування_Financing (CFI)'!AS$32*Амортизація_Depreciation!$E13","v":0},{"$f":"'Фінансування_Financing (CFI)'!AT$32*Амортизація_Depreciation!$E13","v":0},{"$f":"'Фінансування_Financing (CFI)'!AU$32*Амортизація_Depreciation!$E13","v":0},{"$f":"'Фінансування_Financing (CFI)'!AV$32*Амортизація_Depreciation!$E13","v":0},{"$f":"'Фінансування_Financing (CFI)'!AW$32*Амортизація_Depreciation!$E13","v":0},{"$f":"'Фінансування_Financing (CFI)'!AX$32*Амортизація_Depreciation!$E13","v":0},{"$f":"'Фінансування_Financing (CFI)'!AY$32*Амортизація_Depreciation!$E13","v":0},{"$f":"'Фінансування_Financing (CFI)'!AZ$32*Амортизація_Depreciation!$E13","v":0},{"$f":"'Фінансування_Financing (CFI)'!BA$32*Амортизація_Depreciation!$E13","v":0},{"$f":"'Фінансування_Financing (CFI)'!BB$32*Амортизація_Depreciation!$E13","v":0},{"$f":"'Фінансування_Financing (CFI)'!BC$32*Амортизація_Depreciation!$E13","v":0},{"$f":"'Фінансування_Financing (CFI)'!BD$32*Амортизація_Depreciation!$E13","v":0},{"$f":"'Фінансування_Financing (CFI)'!BE$32*Амортизація_Depreciation!$E13","v":0},{"$f":"'Фінансування_Financing (CFI)'!BF$32*Амортизація_Depreciation!$E13","v":0},{"$f":"'Фінансування_Financing (CFI)'!BG$32*Амортизація_Depreciation!$E13","v":0},0]
[null,"Група 5 – транспортні засоби / vehicles",5,{"$f":"IF('Грошові потоки _ Cash flows'!$E$15>Амортизація_Depreciation!C14, 'Грошові потоки _ Cash flows'!$E$15,Амортизація_Depreciation!C14)","v":16},null,{"$f":"'Фінансування_Financing (CFI)'!AD$32*Амортизація_Depreciation!$E14","v":0},{"$f":"'Фінансування_Financing (CFI)'!AE$32*Амортизація_Depreciation!$E14","v":0},{"$f":"'Фінансування_Financing (CFI)'!AF$32*Амортизація_Depreciation!$E14","v":0},{"$f":"'Фінансування_Financing (CFI)'!AG$32*Амортизація_Depreciation!$E14","v":0},{"$f":"'Фінансування_Financing (CFI)'!AH$32*Амортизація_Depreciation!$E14","v":0},{"$f":"'Фінансування_Financing (CFI)'!AI$32*Амортизація_Depreciation!$E14","v":0},{"$f":"'Фінансування_Financing (CFI)'!AJ$32*Амортизація_Depreciation!$E14","v":0},{"$f":"'Фінансування_Financing (CFI)'!AK$32*Амортизація_Depreciation!$E14","v":0},{"$f":"'Фінансування_Financing (CFI)'!AL$32*Амортизація_Depreciation!$E14","v":0},{"$f":"'Фінансування_Financing (CFI)'!AM$32*Амортизація_Depreciation!$E14","v":0},{"$f":"'Фінансування_Financing (CFI)'!AN$32*Амортизація_Depreciation!$E14","v":0},{"$f":"'Фінансування_Financing (CFI)'!AO$32*Амортизація_Depreciation!$E14","v":0},{"$f":"'Фінансування_Financing (CFI)'!AP$32*Амортизація_Depreciation!$E14","v":0},{"$f":"'Фінансування_Financing (CFI)'!AQ$32*Амортизація_Depreciation!$E14","v":0},{"$f":"'Фінансування_Financing (CFI)'!AR$32*Амортизація_Depreciation!$E14","v":0},{"$f":"'Фінансування_Financing (CFI)'!AS$32*Амортизація_Depreciation!$E14","v":0},{"$f":"'Фінансування_Financing (CFI)'!AT$32*Амортизація_Depreciation!$E14","v":0},{"$f":"'Фінансування_Financing (CFI)'!AU$32*Амортизація_Depreciation!$E14","v":0},{"$f":"'Фінансування_Financing (CFI)'!AV$32*Амортизація_Depreciation!$E14","v":0},{"$f":"'Фінансування_Financing (CFI)'!AW$32*Амортизація_Depreciation!$E14","v":0},{"$f":"'Фінансування_Financing (CFI)'!AX$32*Амортизація_Depreciation!$E14","v":0},{"$f":"'Фінансування_Financing (CFI)'!AY$32*Амортизація_Depreciation!$E14","v":0},{"$f":"'Фінансування_Financing (CFI)'!AZ$32*Амортизація_Depreciation!$E14","v":0},{"$f":"'Фінансування_Financing (CFI)'!BA$32*Амортизація_Depreciation!$E14","v":0},{"$f":"'Фінансування_Financing (CFI)'!BB$32*Амортизація_Depreciation!$E14","v":0},{"$f":"'Фінансування_Financing (CFI)'!BC$32*Амортизація_Depreciation!$E14","v":0},{"$f":"'Фінансування_Financing (CFI)'!BD$32*Амортизація_Depreciation!$E14","v":0},{"$f":"'Фінансування_Financing (CFI)'!BE$32*Амортизація_Depreciation!$E14","v":0},{"$f":"'Фінансування_Financing (CFI)'!BF$32*Амортизація_Depreciation!$E14","v":0},{"$f":"'Фінансування_Financing (CFI)'!BG$32*Амортизація_Depreciation!$E14","v":0},0]
[null,"Група 6 – інструменти, прилади, інвентар (меблі) / tools, devices, inventory (furniture)",4,{"$f":"IF('Грошові потоки _ Cash flows'!$E$15>Амортизація_Depreciation!C15, 'Грошові потоки _ Cash flows'!$E$15,Амортизація_Depreciation!C15)","v":16},null,{"$f":"'Фінансування_Financing (CFI)'!AD$32*Амортизація_Depreciation!$E15","v":0},{"$f":"'Фінансування_Financing (CFI)'!AE$32*Амортизація_Depreciation!$E15","v":0},{"$f":"'Фінансування_Financing (CFI)'!AF$32*Амортизація_Depreciation!$E15","v":0},{"$f":"'Фінансування_Financing (CFI)'!AG$32*Амортизація_Depreciation!$E15","v":0},{"$f":"'Фінансування_Financing (CFI)'!AH$32*Амортизація_Depreciation!$E15","v":0},{"$f":"'Фінансування_Financing (CFI)'!AI$32*Амортизація_Depreciation!$E15","v":0},{"$f":"'Фінансування_Financing (CFI)'!AJ$32*Амортизація_Depreciation!$E15","v":0},{"$f":"'Фінансування_Financing (CFI)'!AK$32*Амортизація_Depreciation!$E15","v":0},{"$f":"'Фінансування_Financing (CFI)'!AL$32*Амортизація_Depreciation!$E15","v":0},{"$f":"'Фінансування_Financing (CFI)'!AM$32*Амортизація_Depreciation!$E15","v":0},{"$f":"'Фінансування_Financing (CFI)'!AN$32*Амортизація_Depreciation!$E15","v":0},{"$f":"'Фінансування_Financing (CFI)'!AO$32*Амортизація_Depreciation!$E15","v":0},{"$f":"'Фінансування_Financing (CFI)'!AP$32*Амортизація_Depreciation!$E15","v":0},{"$f":"'Фінансування_Financing (CFI)'!AQ$32*Амортизація_Depreciation!$E15","v":0},{"$f":"'Фінансування_Financing (CFI)'!AR$32*Амортизація_Depreciation!$E15","v":0},{"$f":"'Фінансування_Financing (CFI)'!AS$32*Амортизація_Depreciation!$E15","v":0},{"$f":"'Фінансування_Financing (CFI)'!AT$32*Амортизація_Depreciation!$E15","v":0},{"$f":"'Фінансування_Financing (CFI)'!AU$32*Амортизація_Depreciation!$E15","v":0},{"$f":"'Фінансування_Financing (CFI)'!AV$32*Амортизація_Depreciation!$E15","v":0},{"$f":"'Фінансування_Financing (CFI)'!AW$32*Амортизація_Depreciation!$E15","v":0},{"$f":"'Фінансування_Financing (CFI)'!AX$32*Амортизація_Depreciation!$E15","v":0},{"$f":"'Фінансування_Financing (CFI)'!AY$32*Амортизація_Depreciation!$E15","v":0},{"$f":"'Фінансування_Financing (CFI)'!AZ$32*Амортизація_Depreciation!$E15","v":0},{"$f":"'Фінансування_Financing (CFI)'!BA$32*Амортизація_Depreciation!$E15","v":0},{"$f":"'Фінансування_Financing (CFI)'!BB$32*Амортизація_Depreciation!$E15","v":0},{"$f":"'Фінансування_Financing (CFI)'!BC$32*Амортизація_Depreciation!$E15","v":0},{"$f":"'Фінансування_Financing (CFI)'!BD$32*Амортизація_Depreciation!$E15","v":0},{"$f":"'Фінансування_Financing (CFI)'!BE$32*Амортизація_Depreciation!$E15","v":0},{"$f":"'Фінансування_Financing (CFI)'!BF$32*Амортизація_Depreciation!$E15","v":0},{"$f":"'Фінансування_Financing (CFI)'!BG$32*Амортизація_Depreciation!$E15","v":0},0]
[null,"Група 7 – тварини / animals",6,{"$f":"IF('Грошові потоки _ Cash flows'!$E$15>Амортизація_Depreciation!C16, 'Грошові потоки _ Cash flows'!$E$15,Амортизація_Depreciation!C16)","v":16},null,{"$f":"'Фінансування_Financing (CFI)'!AD$32*Амортизація_Depreciation!$E16","v":0},{"$f":"'Фінансування_Financing (CFI)'!AE$32*Амортизація_Depreciation!$E16","v":0},{"$f":"'Фінансування_Financing (CFI)'!AF$32*Амортизація_Depreciation!$E16","v":0},{"$f":"'Фінансування_Financing (CFI)'!AG$32*Амортизація_Depreciation!$E16","v":0},{"$f":"'Фінансування_Financing (CFI)'!AH$32*Амортизація_Depreciation!$E16","v":0},{"$f":"'Фінансування_Financing (CFI)'!AI$32*Амортизація_Depreciation!$E16","v":0},{"$f":"'Фінансування_Financing (CFI)'!AJ$32*Амортизація_Depreciation!$E16","v":0},{"$f":"'Фінансування_Financing (CFI)'!AK$32*Амортизація_Depreciation!$E16","v":0},{"$f":"'Фінансування_Financing (CFI)'!AL$32*Амортизація_Depreciation!$E16","v":0},{"$f":"'Фінансування_Financing (CFI)'!AM$32*Амортизація_Depreciation!$E16","v":0},{"$f":"'Фінансування_Financing (CFI)'!AN$32*Амортизація_Depreciation!$E16","v":0},{"$f":"'Фінансування_Financing (CFI)'!AO$32*Амортизація_Depreciation!$E16","v":0},{"$f":"'Фінансування_Financing (CFI)'!AP$32*Амортизація_Depreciation!$E16","v":0},{"$f":"'Фінансування_Financing (CFI)'!AQ$32*Амортизація_Depreciation!$E16","v":0},{"$f":"'Фінансування_Financing (CFI)'!AR$32*Амортизація_Depreciation!$E16","v":0},{"$f":"'Фінансування_Financing (CFI)'!AS$32*Амортизація_Depreciation!$E16","v":0},{"$f":"'Фінансування_Financing (CFI)'!AT$32*Амортизація_Depreciation!$E16","v":0},{"$f":"'Фінансування_Financing (CFI)'!AU$32*Амортизація_Depreciation!$E16","v":0},{"$f":"'Фінансування_Financing (CFI)'!AV$32*Амортизація_Depreciation!$E16","v":0},{"$f":"'Фінансування_Financing (CFI)'!AW$32*Амортизація_Depreciation!$E16","v":0},{"$f":"'Фінансування_Financing (CFI)'!AX$32*Амортизація_Depreciation!$E16","v":0},{"$f":"'Фінансування_Financing (CFI)'!AY$32*Амортизація_Depreciation!$E16","v":0},{"$f":"'Фінансування_Financing (CFI)'!AZ$32*Амортизація_Depreciation!$E16","v":0},{"$f":"'Фінансування_Financing (CFI)'!BA$32*Амортизація_Depreciation!$E16","v":0},{"$f":"'Фінансування_Financing (CFI)'!BB$32*Амортизація_Depreciation!$E16","v":0},{"$f":"'Фінансування_Financing (CFI)'!BC$32*Амортизація_Depreciation!$E16","v":0},{"$f":"'Фінансування_Financing (CFI)'!BD$32*Амортизація_Depreciation!$E16","v":0},{"$f":"'Фінансування_Financing (CFI)'!BE$32*Амортизація_Depreciation!$E16","v":0},{"$f":"'Фінансування_Financing (CFI)'!BF$32*Амортизація_Depreciation!$E16","v":0},{"$f":"'Фінансування_Financing (CFI)'!BG$32*Амортизація_Depreciation!$E16","v":0},0]
[null,"Група 8 – багаторічні насадження / perennial plantings",10,{"$f":"IF('Грошові потоки _ Cash flows'!$E$15>Амортизація_Depreciation!C17, 'Грошові потоки _ Cash flows'!$E$15,Амортизація_Depreciation!C17)","v":16},null,{"$f":"'Фінансування_Financing (CFI)'!AD$32*Амортизація_Depreciation!$E17","v":0},{"$f":"'Фінансування_Financing (CFI)'!AE$32*Амортизація_Depreciation!$E17","v":0},{"$f":"'Фінансування_Financing (CFI)'!AF$32*Амортизація_Depreciation!$E17","v":0},{"$f":"'Фінансування_Financing (CFI)'!AG$32*Амортизація_Depreciation!$E17","v":0},{"$f":"'Фінансування_Financing (CFI)'!AH$32*Амортизація_Depreciation!$E17","v":0},{"$f":"'Фінансування_Financing (CFI)'!AI$32*Амортизація_Depreciation!$E17","v":0},{"$f":"'Фінансування_Financing (CFI)'!AJ$32*Амортизація_Depreciation!$E17","v":0},{"$f":"'Фінансування_Financing (CFI)'!AK$32*Амортизація_Depreciation!$E17","v":0},{"$f":"'Фінансування_Financing (CFI)'!AL$32*Амортизація_Depreciation!$E17","v":0},{"$f":"'Фінансування_Financing (CFI)'!AM$32*Амортизація_Depreciation!$E17","v":0},{"$f":"'Фінансування_Financing (CFI)'!AN$32*Амортизація_Depreciation!$E17","v":0},{"$f":"'Фінансування_Financing (CFI)'!AO$32*Амортизація_Depreciation!$E17","v":0},{"$f":"'Фінансування_Financing (CFI)'!AP$32*Амортизація_Depreciation!$E17","v":0},{"$f":"'Фінансування_Financing (CFI)'!AQ$32*Амортизація_Depreciation!$E17","v":0},{"$f":"'Фінансування_Financing (CFI)'!AR$32*Амортизація_Depreciation!$E17","v":0},{"$f":"'Фінансування_Financing (CFI)'!AS$32*Амортизація_Depreciation!$E17","v":0},{"$f":"'Фінансування_Financing (CFI)'!AT$32*Амортизація_Depreciation!$E17","v":0},{"$f":"'Фінансування_Financing (CFI)'!AU$32*Амортизація_Depreciation!$E17","v":0},{"$f":"'Фінансування_Financing (CFI)'!AV$32*Амортизація_Depreciation!$E17","v":0},{"$f":"'Фінансування_Financing (CFI)'!AW$32*Амортизація_Depreciation!$E17","v":0},{"$f":"'Фінансування_Financing (CFI)'!AX$32*Амортизація_Depreciation!$E17","v":0},{"$f":"'Фінансування_Financing (CFI)'!AY$32*Амортизація_Depreciation!$E17","v":0},{"$f":"'Фінансування_Financing (CFI)'!AZ$32*Амортизація_Depreciation!$E17","v":0},{"$f":"'Фінансування_Financing (CFI)'!BA$32*Амортизація_Depreciation!$E17","v":0},{"$f":"'Фінансування_Financing (CFI)'!BB$32*Амортизація_Depreciation!$E17","v":0},{"$f":"'Фінансування_Financing (CFI)'!BC$32*Амортизація_Depreciation!$E17","v":0},{"$f":"'Фінансування_Financing (CFI)'!BD$32*Амортизація_Depreciation!$E17","v":0},{"$f":"'Фінансування_Financing (CFI)'!BE$32*Амортизація_Depreciation!$E17","v":0},{"$f":"'Фінансування_Financing (CFI)'!BF$32*Амортизація_Depreciation!$E17","v":0},{"$f":"'Фінансування_Financing (CFI)'!BG$32*Амортизація_Depreciation!$E17","v":0},0]
[null,"Група 9 – інші основні засоби / other fixed assets",12,{"$f":"IF('Грошові потоки _ Cash flows'!$E$15>Амортизація_Depreciation!C18, 'Грошові потоки _ Cash flows'!$E$15,Амортизація_Depreciation!C18)","v":16},null,{"$f":"'Фінансування_Financing (CFI)'!AD$32*Амортизація_Depreciation!$E18","v":0},{"$f":"'Фінансування_Financing (CFI)'!AE$32*Амортизація_Depreciation!$E18","v":0},{"$f":"'Фінансування_Financing (CFI)'!AF$32*Амортизація_Depreciation!$E18","v":0},{"$f":"'Фінансування_Financing (CFI)'!AG$32*Амортизація_Depreciation!$E18","v":0},{"$f":"'Фінансування_Financing (CFI)'!AH$32*Амортизація_Depreciation!$E18","v":0},{"$f":"'Фінансування_Financing (CFI)'!AI$32*Амортизація_Depreciation!$E18","v":0},{"$f":"'Фінансування_Financing (CFI)'!AJ$32*Амортизація_Depreciation!$E18","v":0},{"$f":"'Фінансування_Financing (CFI)'!AK$32*Амортизація_Depreciation!$E18","v":0},{"$f":"'Фінансування_Financing (CFI)'!AL$32*Амортизація_Depreciation!$E18","v":0},{"$f":"'Фінансування_Financing (CFI)'!AM$32*Амортизація_Depreciation!$E18","v":0},{"$f":"'Фінансування_Financing (CFI)'!AN$32*Амортизація_Depreciation!$E18","v":0},{"$f":"'Фінансування_Financing (CFI)'!AO$32*Амортизація_Depreciation!$E18","v":0},{"$f":"'Фінансування_Financing (CFI)'!AP$32*Амортизація_Depreciation!$E18","v":0},{"$f":"'Фінансування_Financing (CFI)'!AQ$32*Амортизація_Depreciation!$E18","v":0},{"$f":"'Фінансування_Financing (CFI)'!AR$32*Амортизація_Depreciation!$E18","v":0},{"$f":"'Фінансування_Financing (CFI)'!AS$32*Амортизація_Depreciation!$E18","v":0},{"$f":"'Фінансування_Financing (CFI)'!AT$32*Амортизація_Depreciation!$E18","v":0},{"$f":"'Фінансування_Financing (CFI)'!AU$32*Амортизація_Depreciation!$E18","v":0},{"$f":"'Фінансування_Financing (CFI)'!AV$32*Амортизація_Depreciation!$E18","v":0},{"$f":"'Фінансування_Financing (CFI)'!AW$32*Амортизація_Depreciation!$E18","v":0},{"$f":"'Фінансування_Financing (CFI)'!AX$32*Амортизація_Depreciation!$E18","v":0},{"$f":"'Фінансування_Financing (CFI)'!AY$32*Амортизація_Depreciation!$E18","v":0},{"$f":"'Фінансування_Financing (CFI)'!AZ$32*Амортизація_Depreciation!$E18","v":0},{"$f":"'Фінансування_Financing (CFI)'!BA$32*Амортизація_Depreciation!$E18","v":0},{"$f":"'Фінансування_Financing (CFI)'!BB$32*Амортизація_Depreciation!$E18","v":0},{"$f":"'Фінансування_Financing (CFI)'!BC$32*Амортизація_Depreciation!$E18","v":0},{"$f":"'Фінансування_Financing (CFI)'!BD$32*Амортизація_Depreciation!$E18","v":0},{"$f":"'Фінансування_Financing (CFI)'!BE$32*Амортизація_Depreciation!$E18","v":0},{"$f":"'Фінансування_Financing (CFI)'!BF$32*Амортизація_Depreciation!$E18","v":0},{"$f":"'Фінансування_Financing (CFI)'!BG$32*Амортизація_Depreciation!$E18","v":0},0]
[null,"Інші необоротні матеріальні активи: / Other non-current tangible assets:",null,null,{"$f":"SUM(E20:E26)","v":0},{"$f":"SUM(F20:F26)","v":0},0,0,0,0,0,0,0,{"$f":"SUM(N20:N26)","v":0},0,0,0,0,0,0,0,0,0,0,0,0,0,0,0,0,0,0,0,0,{"$f":"SUM(AI20:AI26)","v":0},0]
[null,"Група 10 – бібліотечні фонди /library funds","—",{"$f":"IF('Грошові потоки _ Cash flows'!$E$15>Амортизація_Depreciation!C20, 'Грошові потоки _ Cash flows'!$E$15,Амортизація_Depreciation!C20)","v":"—"},null,{"$f":"$E20*'Фінансування_Financing (CFI)'!AD$32","v":0},{"$f":"$E20*'Фінансування_Financing (CFI)'!AE$32","v":0},{"$f":"$E20*'Фінансування_Financing (CFI)'!AF$32","v":0},{"$f":"$E20*'Фінансування_Financing (CFI)'!AG$32","v":0},{"$f":"$E20*'Фінансування_Financing (CFI)'!AH$32","v":0},{"$f":"$E20*'Фінансування_Financing (CFI)'!AI$32","v":0},{"$f":"$E20*'Фінансування_Financing (CFI)'!AJ$32","v":0},{"$f":"$E20*'Фінансування_Financing (CFI)'!AK$32","v":0},{"$f":"$E20*'Фінансування_Financing (CFI)'!AL$32","v":0},{"$f":"$E20*'Фінансування_Financing (CFI)'!AM$32","v":0},{"$f":"$E20*'Фінансування_Financing (CFI)'!AN$32","v":0},{"$f":"$E20*'Фінансування_Financing (CFI)'!AO$32","v":0},{"$f":"$E20*'Фінансування_Financing (CFI)'!AP$32","v":0},{"$f":"$E20*'Фінансування_Financing (CFI)'!AQ$32","v":0},{"$f":"$E20*'Фінансування_Financing (CFI)'!AR$32","v":0},{"$f":"$E20*'Фінансування_Financing (CFI)'!AS$32","v":0},{"$f":"$E20*'Фінансування_Financing (CFI)'!AT$32","v":0},{"$f":"$E20*'Фінансування_Financing (CFI)'!AU$32","v":0},{"$f":"$E20*'Фінансування_Financing (CFI)'!AV$32","v":0},{"$f":"$E20*'Фінансування_Financing (CFI)'!AW$32","v":0},{"$f":"$E20*'Фінансування_Financing (CFI)'!AX$32","v":0},{"$f":"$E20*'Фінансування_Financing (CFI)'!AY$32","v":0},{"$f":"$E20*'Фінансування_Financing (CFI)'!AZ$32","v":0},{"$f":"$E20*'Фінансування_Financing (CFI)'!BA$32","v":0},{"$f":"$E20*'Фінансування_Financing (CFI)'!BB$32","v":0},{"$f":"$E20*'Фінансування_Financing (CFI)'!BC$32","v":0},{"$f":"$E20*'Фінансування_Financing (CFI)'!BD$32","v":0},{"$f":"$E20*'Фінансування_Financing (CFI)'!BE$32","v":0},{"$f":"$E20*'Фінансування_Financing (CFI)'!BF$32","v":0},{"$f":"$E20*'Фінансування_Financing (CFI)'!BG$32","v":0},0]
[null,"Група 11 – малоцінні необоротні активи / low-value non-current assets","—",{"$f":"IF('Грошові потоки _ Cash flows'!$E$15>Амортизація_Depreciation!C21, 'Грошові потоки _ Cash flows'!$E$15,Амортизація_Depreciation!C21)","v":"—"},null,{"$f":"$E21*'Фінансування_Financing (CFI)'!AD$32","v":0},{"$f":"$E21*'Фінансування_Financing (CFI)'!AE$32","v":0},{"$f":"$E21*'Фінансування_Financing (CFI)'!AF$32","v":0},{"$f":"$E21*'Фінансування_Financing (CFI)'!AG$32","v":0},{"$f":"$E21*'Фінансування_Financing (CFI)'!AH$32","v":0},{"$f":"$E21*'Фінансування_Financing (CFI)'!AI$32","v":0},{"$f":"$E21*'Фінансування_Financing (CFI)'!AJ$32","v":0},{"$f":"$E21*'Фінансування_Financing (CFI)'!AK$32","v":0},{"$f":"$E21*'Фінансування_Financing (CFI)'!AL$32","v":0},{"$f":"$E21*'Фінансування_Financing (CFI)'!AM$32","v":0},{"$f":"$E21*'Фінансування_Financing (CFI)'!AN$32","v":0},{"$f":"$E21*'Фінансування_Financing (CFI)'!AO$32","v":0},{"$f":"$E21*'Фінансування_Financing (CFI)'!AP$32","v":0},{"$f":"$E21*'Фінансування_Financing (CFI)'!AQ$32","v":0},{"$f":"$E21*'Фінансування_Financing (CFI)'!AR$32","v":0},{"$f":"$E21*'Фінансування_Financing (CFI)'!AS$32","v":0},{"$f":"$E21*'Фінансування_Financing (CFI)'!AT$32","v":0},{"$f":"$E21*'Фінансування_Financing (CFI)'!AU$32","v":0},{"$f":"$E21*'Фінансування_Financing (CFI)'!AV$32","v":0},{"$f":"$E21*'Фінансування_Financing (CFI)'!AW$32","v":0},{"$f":"$E21*'Фінансування_Financing (CFI)'!AX$32","v":0},{"$f":"$E21*'Фінансування_Financing (CFI)'!AY$32","v":0},{"$f":"$E21*'Фінансування_Financing (CFI)'!AZ$32","v":0},{"$f":"$E21*'Фінансування_Financing (CFI)'!BA$32","v":0},{"$f":"$E21*'Фінансування_Financing (CFI)'!BB$32","v":0},{"$f":"$E21*'Фінансування_Financing (CFI)'!BC$32","v":0},{"$f":"$E21*'Фінансування_Financing (CFI)'!BD$32","v":0},{"$f":"$E21*'Фінансування_Financing (CFI)'!BE$32","v":0},{"$f":"$E21*'Фінансування_Financing (CFI)'!BF$32","v":0},{"$f":"$E21*'Фінансування_Financing (CFI)'!BG$32","v":0},0]
[null,"Група 12 – тимчасові (нетитульні) споруди / temporary (untitled) buildings",5,{"$f":"IF('Грошові потоки _ Cash flows'!$E$15>Амортизація_Depreciation!C22, 'Грошові потоки _ Cash flows'!$E$15,Амортизація_Depreciation!C22)","v":16},null,{"$f":"$E22*'Фінансування_Financing (CFI)'!AD$32","v":0},{"$f":"$E22*'Фінансування_Financing (CFI)'!AE$32","v":0},{"$f":"$E22*'Фінансування_Financing (CFI)'!AF$32","v":0},{"$f":"$E22*'Фінансування_Financing (CFI)'!AG$32","v":0},{"$f":"$E22*'Фінансування_Financing (CFI)'!AH$32","v":0},{"$f":"$E22*'Фінансування_Financing (CFI)'!AI$32","v":0},{"$f":"$E22*'Фінансування_Financing (CFI)'!AJ$32","v":0},{"$f":"$E22*'Фінансування_Financing (CFI)'!AK$32","v":0},{"$f":"$E22*'Фінансування_Financing (CFI)'!AL$32","v":0},{"$f":"$E22*'Фінансування_Financing (CFI)'!AM$32","v":0},{"$f":"$E22*'Фінансування_Financing (CFI)'!AN$32","v":0},{"$f":"$E22*'Фінансування_Financing (CFI)'!AO$32","v":0},{"$f":"$E22*'Фінансування_Financing (CFI)'!AP$32","v":0},{"$f":"$E22*'Фінансування_Financing (CFI)'!AQ$32","v":0},{"$f":"$E22*'Фінансування_Financing (CFI)'!AR$32","v":0},{"$f":"$E22*'Фінансування_Financing (CFI)'!AS$32","v":0},{"$f":"$E22*'Фінансування_Financing (CFI)'!AT$32","v":0},{"$f":"$E22*'Фінансування_Financing (CFI)'!AU$32","v":0},{"$f":"$E22*'Фінансування_Financing (CFI)'!AV$32","v":0},{"$f":"$E22*'Фінансування_Financing (CFI)'!AW$32","v":0},{"$f":"$E22*'Фінансування_Financing (CFI)'!AX$32","v":0},{"$f":"$E22*'Фінансування_Financing (CFI)'!AY$32","v":0},{"$f":"$E22*'Фінансування_Financing (CFI)'!AZ$32","v":0},{"$f":"$E22*'Фінансування_Financing (CFI)'!BA$32","v":0},{"$f":"$E22*'Фінансування_Financing (CFI)'!BB$32","v":0},{"$f":"$E22*'Фінансування_Financing (CFI)'!BC$32","v":0},{"$f":"$E22*'Фінансування_Financing (CFI)'!BD$32","v":0},{"$f":"$E22*'Фінансування_Financing (CFI)'!BE$32","v":0},{"$f":"$E22*'Фінансування_Financing (CFI)'!BF$32","v":0},{"$f":"$E22*'Фінансування_Financing (CFI)'!BG$32","v":0},0]
[null,"Група 13 – природні ресурси / natural resources","—",{"$f":"IF('Грошові потоки _ Cash flows'!$E$15>Амортизація_Depreciation!C23, 'Грошові потоки _ Cash flows'!$E$15,Амортизація_Depreciation!C23)","v":"—"},null,{"$f":"$E23*'Фінансування_Financing (CFI)'!AD$32","v":0},{"$f":"$E23*'Фінансування_Financing (CFI)'!AE$32","v":0},{"$f":"$E23*'Фінансування_Financing (CFI)'!AF$32","v":0},{"$f":"$E23*'Фінансування_Financing (CFI)'!AG$32","v":0},{"$f":"$E23*'Фінансування_Financing (CFI)'!AH$32","v":0},{"$f":"$E23*'Фінансування_Financing (CFI)'!AI$32","v":0},{"$f":"$E23*'Фінансування_Financing (CFI)'!AJ$32","v":0},{"$f":"$E23*'Фінансування_Financing (CFI)'!AK$32","v":0},{"$f":"$E23*'Фінансування_Financing (CFI)'!AL$32","v":0},{"$f":"$E23*'Фінансування_Financing (CFI)'!AM$32","v":0},{"$f":"$E23*'Фінансування_Financing (CFI)'!AN$32","v":0},{"$f":"$E23*'Фінансування_Financing (CFI)'!AO$32","v":0},{"$f":"$E23*'Фінансування_Financing (CFI)'!AP$32","v":0},{"$f":"$E23*'Фінансування_Financing (CFI)'!AQ$32","v":0},{"$f":"$E23*'Фінансування_Financing (CFI)'!AR$32","v":0},{"$f":"$E23*'Фінансування_Financing (CFI)'!AS$32","v":0},{"$f":"$E23*'Фінансування_Financing (CFI)'!AT$32","v":0},{"$f":"$E23*'Фінансування_Financing (CFI)'!AU$32","v":0},{"$f":"$E23*'Фінансування_Financing (CFI)'!AV$32","v":0},{"$f":"$E23*'Фінансування_Financing (CFI)'!AW$32","v":0},{"$f":"$E23*'Фінансування_Financing (CFI)'!AX$32","v":0},{"$f":"$E23*'Фінансування_Financing (CFI)'!AY$32","v":0},{"$f":"$E23*'Фінансування_Financing (CFI)'!AZ$32","v":0},{"$f":"$E23*'Фінансування_Financing (CFI)'!BA$32","v":0},{"$f":"$E23*'Фінансування_Financing (CFI)'!BB$32","v":0},{"$f":"$E23*'Фінансування_Financing (CFI)'!BC$32","v":0},{"$f":"$E23*'Фінансування_Financing (CFI)'!BD$32","v":0},{"$f":"$E23*'Фінансування_Financing (CFI)'!BE$32","v":0},{"$f":"$E23*'Фінансування_Financing (CFI)'!BF$32","v":0},{"$f":"$E23*'Фінансування_Financing (CFI)'!BG$32","v":0},{"$f":"SUM(F23:AI23)","v":0}]
[null,"Група 14 – інвентарна тара / inventory packaging",6,{"$f":"IF('Грошові потоки _ Cash flows'!$E$15>Амортизація_Depreciation!C24, 'Грошові потоки _ Cash flows'!$E$15,Амортизація_Depreciation!C24)","v":16},null,{"$f":"$E24*'Фінансування_Financing (CFI)'!AD$32","v":0},{"$f":"$E24*'Фінансування_Financing (CFI)'!AE$32","v":0},{"$f":"$E24*'Фінансування_Financing (CFI)'!AF$32","v":0},{"$f":"$E24*'Фінансування_Financing (CFI)'!AG$32","v":0},{"$f":"$E24*'Фінансування_Financing (CFI)'!AH$32","v":0},{"$f":"$E24*'Фінансування_Financing (CFI)'!AI$32","v":0},{"$f":"$E24*'Фінансування_Financing (CFI)'!AJ$32","v":0},{"$f":"$E24*'Фінансування_Financing (CFI)'!AK$32","v":0},{"$f":"$E24*'Фінансування_Financing (CFI)'!AL$32","v":0},{"$f":"$E24*'Фінансування_Financing (CFI)'!AM$32","v":0},{"$f":"$E24*'Фінансування_Financing (CFI)'!AN$32","v":0},{"$f":"$E24*'Фінансування_Financing (CFI)'!AO$32","v":0},{"$f":"$E24*'Фінансування_Financing (CFI)'!AP$32","v":0},{"$f":"$E24*'Фінансування_Financing (CFI)'!AQ$32","v":0},{"$f":"$E24*'Фінансування_Financing (CFI)'!AR$32","v":0},{"$f":"$E24*'Фінансування_Financing (CFI)'!AS$32","v":0},{"$f":"$E24*'Фінансування_Financing (CFI)'!AT$32","v":0},{"$f":"$E24*'Фінансування_Financing (CFI)'!AU$32","v":0},{"$f":"$E24*'Фінансування_Financing (CFI)'!AV$32","v":0},{"$f":"$E24*'Фінансування_Financing (CFI)'!AW$32","v":0},{"$f":"$E24*'Фінансування_Financing (CFI)'!AX$32","v":0},{"$f":"$E24*'Фінансування_Financing (CFI)'!AY$32","v":0},{"$f":"$E24*'Фінансування_Financing (CFI)'!AZ$32","v":0},{"$f":"$E24*'Фінансування_Financing (CFI)'!BA$32","v":0},{"$f":"$E24*'Фінансування_Financing (CFI)'!BB$32","v":0},{"$f":"$E24*'Фінансування_Financing (CFI)'!BC$32","v":0},{"$f":"$E24*'Фінансування_Financing (CFI)'!BD$32","v":0},{"$f":"$E24*'Фінансування_Financing (CFI)'!BE$32","v":0},{"$f":"$E24*'Фінансування_Financing (CFI)'!BF$32","v":0},{"$f":"$E24*'Фінансування_Financing (CFI)'!BG$32","v":0},0]
[null,"Група 15 – предмети прокату / lease items",5,{"$f":"IF('Грошові потоки _ Cash flows'!$E$15>Амортизація_Depreciation!C25, 'Грошові потоки _ Cash flows'!$E$15,Амортизація_Depreciation!C25)","v":16},null,{"$f":"$E25*'Фінансування_Financing (CFI)'!AD$32","v":0},{"$f":"$E25*'Фінансування_Financing (CFI)'!AE$32","v":0},{"$f":"$E25*'Фінансування_Financing (CFI)'!AF$32","v":0},{"$f":"$E25*'Фінансування_Financing (CFI)'!AG$32","v":0},{"$f":"$E25*'Фінансування_Financing (CFI)'!AH$32","v":0},{"$f":"$E25*'Фінансування_Financing (CFI)'!AI$32","v":0},{"$f":"$E25*'Фінансування_Financing (CFI)'!AJ$32","v":0},{"$f":"$E25*'Фінансування_Financing (CFI)'!AK$32","v":0},{"$f":"$E25*'Фінансування_Financing (CFI)'!AL$32","v":0},{"$f":"$E25*'Фінансування_Financing (CFI)'!AM$32","v":0},{"$f":"$E25*'Фінансування_Financing (CFI)'!AN$32","v":0},{"$f":"$E25*'Фінансування_Financing (CFI)'!AO$32","v":0},{"$f":"$E25*'Фінансування_Financing (CFI)'!AP$32","v":0},{"$f":"$E25*'Фінансування_Financing (CFI)'!AQ$32","v":0},{"$f":"$E25*'Фінансування_Financing (CFI)'!AR$32","v":0},{"$f":"$E25*'Фінансування_Financing (CFI)'!AS$32","v":0},{"$f":"$E25*'Фінансування_Financing (CFI)'!AT$32","v":0},{"$f":"$E25*'Фінансування_Financing (CFI)'!AU$32","v":0},{"$f":"$E25*'Фінансування_Financing (CFI)'!AV$32","v":0},{"$f":"$E25*'Фінансування_Financing (CFI)'!AW$32","v":0},{"$f":"$E25*'Фінансування_Financing (CFI)'!AX$32","v":0},{"$f":"$E25*'Фінансування_Financing (CFI)'!AY$32","v":0},{"$f":"$E25*'Фінансування_Financing (CFI)'!AZ$32","v":0},{"$f":"$E25*'Фінансування_Financing (CFI)'!BA$32","v":0},{"$f":"$E25*'Фінансування_Financing (CFI)'!BB$32","v":0},{"$f":"$E25*'Фінансування_Financing (CFI)'!BC$32","v":0},{"$f":"$E25*'Фінансування_Financing (CFI)'!BD$32","v":0},{"$f":"$E25*'Фінансування_Financing (CFI)'!BE$32","v":0},{"$f":"$E25*'Фінансування_Financing (CFI)'!BF$32","v":0},{"$f":"$E25*'Фінансування_Financing (CFI)'!BG$32","v":0},0]
[null,"Група 16 – довгострокові біологічні активи / Long-term biological assets",7,{"$f":"IF('Грошові потоки _ Cash flows'!$E$15>Амортизація_Depreciation!C26, 'Грошові потоки _ Cash flows'!$E$15,Амортизація_Depreciation!C26)","v":16},null,{"$f":"$E26*'Фінансування_Financing (CFI)'!AD$32","v":0},{"$f":"$E26*'Фінансування_Financing (CFI)'!AE$32","v":0},{"$f":"$E26*'Фінансування_Financing (CFI)'!AF$32","v":0},{"$f":"$E26*'Фінансування_Financing (CFI)'!AG$32","v":0},{"$f":"$E26*'Фінансування_Financing (CFI)'!AH$32","v":0},{"$f":"$E26*'Фінансування_Financing (CFI)'!AI$32","v":0},{"$f":"$E26*'Фінансування_Financing (CFI)'!AJ$32","v":0},{"$f":"$E26*'Фінансування_Financing (CFI)'!AK$32","v":0},{"$f":"$E26*'Фінансування_Financing (CFI)'!AL$32","v":0},{"$f":"$E26*'Фінансування_Financing (CFI)'!AM$32","v":0},{"$f":"$E26*'Фінансування_Financing (CFI)'!AN$32","v":0},{"$f":"$E26*'Фінансування_Financing (CFI)'!AO$32","v":0},{"$f":"$E26*'Фінансування_Financing (CFI)'!AP$32","v":0},{"$f":"$E26*'Фінансування_Financing (CFI)'!AQ$32","v":0},{"$f":"$E26*'Фінансування_Financing (CFI)'!AR$32","v":0},{"$f":"$E26*'Фінансування_Financing (CFI)'!AS$32","v":0},{"$f":"$E26*'Фінансування_Financing (CFI)'!AT$32","v":0},{"$f":"$E26*'Фінансування_Financing (CFI)'!AU$32","v":0},{"$f":"$E26*'Фінансування_Financing (CFI)'!AV$32","v":0},{"$f":"$E26*'Фінансування_Financing (CFI)'!AW$32","v":0},{"$f":"$E26*'Фінансування_Financing (CFI)'!AX$32","v":0},{"$f":"$E26*'Фінансування_Financing (CFI)'!AY$32","v":0},{"$f":"$E26*'Фінансування_Financing (CFI)'!AZ$32","v":0},{"$f":"$E26*'Фінансування_Financing (CFI)'!BA$32","v":0},{"$f":"$E26*'Фінансування_Financing (CFI)'!BB$32","v":0},{"$f":"$E26*'Фінансування_Financing (CFI)'!BC$32","v":0},{"$f":"$E26*'Фінансування_Financing (CFI)'!BD$32","v":0},{"$f":"$E26*'Фінансування_Financing (CFI)'!BE$32","v":0},{"$f":"$E26*'Фінансування_Financing (CFI)'!BF$32","v":0},{"$f":"$E26*'Фінансування_Financing (CFI)'!BG$32","v":0},0]
[null,"Капітальні ремонти / Overhauls",null,null,{"$f":"E28+E41","v":0},{"$f":"F28+F41","v":0},0,0,0,0,0,0,0,0,0,0,0,0,0,0,0,0,0,0,0,0,0,0,0,0,0,0,0,0,0,{"$f":"SUM(F27:AI27)","v":0}]
[null,"Основні засоби: / fixed assets :",null,null,{"$f":"SUM(E29:E40)","v":0},{"$f":"SUM(F29:F40)","v":0},0,0,0,0,0,0,0,0,0,0,0,0,0,0,0,0,0,0,0,0,0,0,0,0,0,0,0,0,0,0]
[null,"Група 1 – земельні ділянки / Group 1 -ground sections","—",{"$f":"IF('Грошові потоки _ Cash flows'!$E$15>Амортизація_Depreciation!C29, 'Грошові потоки _ Cash flows'!$E$15,Амортизація_Depreciation!C29)","v":"—"},null,{"$f":"'Фінансування_Financing (CFI)'!AD$35*Амортизація_Depreciation!$E29","v":0},{"$f":"'Фінансування_Financing (CFI)'!AE$35*Амортизація_Depreciation!$E29","v":0},{"$f":"'Фінансування_Financing (CFI)'!AF$35*Амортизація_Depreciation!$E29","v":0},{"$f":"'Фінансування_Financing (CFI)'!AG$35*Амортизація_Depreciation!$E29","v":0},{"$f":"'Фінансування_Financing (CFI)'!AH$35*Амортизація_Depreciation!$E29","v":0},{"$f":"'Фінансування_Financing (CFI)'!AI$35*Амортизація_Depreciation!$E29","v":0},{"$f":"'Фінансування_Financing (CFI)'!AJ$35*Амортизація_Depreciation!$E29","v":0},{"$f":"'Фінансування_Financing (CFI)'!AK$35*Амортизація_Depreciation!$E29","v":0},{"$f":"'Фінансування_Financing (CFI)'!AL$35*Амортизація_Depreciation!$E29","v":0},{"$f":"'Фінансування_Financing (CFI)'!AM$35*Амортизація_Depreciation!$E29","v":0},{"$f":"'Фінансування_Financing (CFI)'!AN$35*Амортизація_Depreciation!$E29","v":0},{"$f":"'Фінансування_Financing (CFI)'!AO$35*Амортизація_Depreciation!$E29","v":0},{"$f":"'Фінансування_Financing (CFI)'!AP$35*Амортизація_Depreciation!$E29","v":0},{"$f":"'Фінансування_Financing (CFI)'!AQ$35*Амортизація_Depreciation!$E29","v":0},{"$f":"'Фінансування_Financing (CFI)'!AR$35*Амортизація_Depreciation!$E29","v":0},{"$f":"'Фінансування_Financing (CFI)'!AS$35*Амортизація_Depreciation!$E29","v":0},{"$f":"'Фінансування_Financing (CFI)'!AT$35*Амортизація_Depreciation!$E29","v":0},{"$f":"'Фінансування_Financing (CFI)'!AU$35*Амортизація_Depreciation!$E29","v":0},{"$f":"'Фінансування_Financing (CFI)'!AV$35*Амортизація_Depreciation!$E29","v":0},{"$f":"'Фінансування_Financing (CFI)'!AW$35*Амортизація_Depreciation!$E29","v":0},{"$f":"'Фінансування_Financing (CFI)'!AX$35*Амортизація_Depreciation!$E29","v":0},{"$f":"'Фінансування_Financing (CFI)'!AY$35*Амортизація_Depreciation!$E29","v":0},{"$f":"'Фінансування_Financing (CFI)'!AZ$35*Амортизація_Depreciation!$E29","v":0},{"$f":"'Фінансування_Financing (CFI)'!BA$35*Амортизація_Depreciation!$E29","v":0},{"$f":"'Фінансування_Financing (CFI)'!BB$35*Амортизація_Depreciation!$E29","v":0},{"$f":"'Фінансування_Financing (CFI)'!BC$35*Амортизація_Depreciation!$E29","v":0},{"$f":"'Фінансування_Financing (CFI)'!BD$35*Амортизація_Depreciation!$E29","v":0},{"$f":"'Фінансування_Financing (CFI)'!BE$35*Амортизація_Depreciation!$E29","v":0},{"$f":"'Фінансування_Financing (CFI)'!BF$35*Амортизація_Depreciation!$E29","v":0},{"$f":"'Фінансування_Financing (CFI)'!BG$35*Амортизація_Depreciation!$E29","v":0},0]
[null,"Група 2 – капітальні витрати на поліпшення землі, не пов'язані з будівництвом / CAPEX on ground improvement not related to construction",15,{"$f":"IF('Грошові потоки _ Cash flows'!$E$15>Амортизація_Depreciation!C30, 'Грошові потоки _ Cash flows'!$E$15,Амортизація_Depreciation!C30)","v":16},null,{"$f":"'Фінансування_Financing (CFI)'!AD$35*Амортизація_Depreciation!$E30","v":0},{"$f":"'Фінансування_Financing (CFI)'!AE$35*Амортизація_Depreciation!$E30","v":0},{"$f":"'Фінансування_Financing (CFI)'!AF$35*Амортизація_Depreciation!$E30","v":0},{"$f":"'Фінансування_Financing (CFI)'!AG$35*Амортизація_Depreciation!$E30","v":0},{"$f":"'Фінансування_Financing (CFI)'!AH$35*Амортизація_Depreciation!$E30","v":0},{"$f":"'Фінансування_Financing (CFI)'!AI$35*Амортизація_Depreciation!$E30","v":0},{"$f":"'Фінансування_Financing (CFI)'!AJ$35*Амортизація_Depreciation!$E30","v":0},{"$f":"'Фінансування_Financing (CFI)'!AK$35*Амортизація_Depreciation!$E30","v":0},{"$f":"'Фінансування_Financing (CFI)'!AL$35*Амортизація_Depreciation!$E30","v":0},{"$f":"'Фінансування_Financing (CFI)'!AM$35*Амортизація_Depreciation!$E30","v":0},{"$f":"'Фінансування_Financing (CFI)'!AN$35*Амортизація_Depreciation!$E30","v":0},{"$f":"'Фінансування_Financing (CFI)'!AO$35*Амортизація_Depreciation!$E30","v":0},{"$f":"'Фінансування_Financing (CFI)'!AP$35*Амортизація_Depreciation!$E30","v":0},{"$f":"'Фінансування_Financing (CFI)'!AQ$35*Амортизація_Depreciation!$E30","v":0},{"$f":"'Фінансування_Financing (CFI)'!AR$35*Амортизація_Depreciation!$E30","v":0},{"$f":"'Фінансування_Financing (CFI)'!AS$35*Амортизація_Depreciation!$E30","v":0},{"$f":"'Фінансування_Financing (CFI)'!AT$35*Амортизація_Depreciation!$E30","v":0},{"$f":"'Фінансування_Financing (CFI)'!AU$35*Амортизація_Depreciation!$E30","v":0},{"$f":"'Фінансування_Financing (CFI)'!AV$35*Амортизація_Depreciation!$E30","v":0},{"$f":"'Фінансування_Financing (CFI)'!AW$35*Амортизація_Depreciation!$E30","v":0},{"$f":"'Фінансування_Financing (CFI)'!AX$35*Амортизація_Depreciation!$E30","v":0},{"$f":"'Фінансування_Financing (CFI)'!AY$35*Амортизація_Depreciation!$E30","v":0},{"$f":"'Фінансування_Financing (CFI)'!AZ$35*Амортизація_Depreciation!$E30","v":0},{"$f":"'Фінансування_Financing (CFI)'!BA$35*Амортизація_Depreciation!$E30","v":0},{"$f":"'Фінансування_Financing (CFI)'!BB$35*Амортизація_Depreciation!$E30","v":0},{"$f":"'Фінансування_Financing (CFI)'!BC$35*Амортизація_Depreciation!$E30","v":0},{"$f":"'Фінансування_Financing (CFI)'!BD$35*Амортизація_Depreciation!$E30","v":0},{"$f":"'Фінансування_Financing (CFI)'!BE$35*Амортизація_Depreciation!$E30","v":0},{"$f":"'Фінансування_Financing (CFI)'!BF$35*Амортизація_Depreciation!$E30","v":0},{"$f":"'Фінансування_Financing (CFI)'!BG$35*Амортизація_Depreciation!$E30","v":0},0]
[null,"Група 3 –  будівлі / buildings",20,{"$f":"IF('Грошові потоки _ Cash flows'!$E$15>Амортизація_Depreciation!C31, 'Грошові потоки _ Cash flows'!$E$15,Амортизація_Depreciation!C31)","v":20},null,{"$f":"'Фінансування_Financing (CFI)'!AD$35*Амортизація_Depreciation!$E31","v":0},{"$f":"'Фінансування_Financing (CFI)'!AE$35*Амортизація_Depreciation!$E31","v":0},{"$f":"'Фінансування_Financing (CFI)'!AF$35*Амортизація_Depreciation!$E31","v":0},{"$f":"'Фінансування_Financing (CFI)'!AG$35*Амортизація_Depreciation!$E31","v":0},{"$f":"'Фінансування_Financing (CFI)'!AH$35*Амортизація_Depreciation!$E31","v":0},{"$f":"'Фінансування_Financing (CFI)'!AI$35*Амортизація_Depreciation!$E31","v":0},{"$f":"'Фінансування_Financing (CFI)'!AJ$35*Амортизація_Depreciation!$E31","v":0},{"$f":"'Фінансування_Financing (CFI)'!AK$35*Амортизація_Depreciation!$E31","v":0},{"$f":"'Фінансування_Financing (CFI)'!AL$35*Амортизація_Depreciation!$E31","v":0},{"$f":"'Фінансування_Financing (CFI)'!AM$35*Амортизація_Depreciation!$E31","v":0},{"$f":"'Фінансування_Financing (CFI)'!AN$35*Амортизація_Depreciation!$E31","v":0},{"$f":"'Фінансування_Financing (CFI)'!AO$35*Амортизація_Depreciation!$E31","v":0},{"$f":"'Фінансування_Financing (CFI)'!AP$35*Амортизація_Depreciation!$E31","v":0},{"$f":"'Фінансування_Financing (CFI)'!AQ$35*Амортизація_Depreciation!$E31","v":0},{"$f":"'Фінансування_Financing (CFI)'!AR$35*Амортизація_Depreciation!$E31","v":0},{"$f":"'Фінансування_Financing (CFI)'!AS$35*Амортизація_Depreciation!$E31","v":0},{"$f":"'Фінансування_Financing (CFI)'!AT$35*Амортизація_Depreciation!$E31","v":0},{"$f":"'Фінансування_Financing (CFI)'!AU$35*Амортизація_Depreciation!$E31","v":0},{"$f":"'Фінансування_Financing (CFI)'!AV$35*Амортизація_Depreciation!$E31","v":0},{"$f":"'Фінансування_Financing (CFI)'!AW$35*Амортизація_Depreciation!$E31","v":0},{"$f":"'Фінансування_Financing (CFI)'!AX$35*Амортизація_Depreciation!$E31","v":0},{"$f":"'Фінансування_Financing (CFI)'!AY$35*Амортизація_Depreciation!$E31","v":0},{"$f":"'Фінансування_Financing (CFI)'!AZ$35*Амортизація_Depreciation!$E31","v":0},{"$f":"'Фінансування_Financing (CFI)'!BA$35*Амортизація_Depreciation!$E31","v":0},{"$f":"'Фінансування_Financing (CFI)'!BB$35*Амортизація_Depreciation!$E31","v":0},{"$f":"'Фінансування_Financing (CFI)'!BC$35*Амортизація_Depreciation!$E31","v":0},{"$f":"'Фінансування_Financing (CFI)'!BD$35*Амортизація_Depreciation!$E31","v":0},{"$f":"'Фінансування_Financing (CFI)'!BE$35*Амортизація_Depreciation!$E31","v":0},{"$f":"'Фінансування_Financing (CFI)'!BF$35*Амортизація_Depreciation!$E31","v":0},{"$f":"'Фінансування_Financing (CFI)'!BG$35*Амортизація_Depreciation!$E31","v":0},0]
[null,"споруди / constructions",15,{"$f":"IF('Грошові потоки _ Cash flows'!$E$15>Амортизація_Depreciation!C32, 'Грошові потоки _ Cash flows'!$E$15,Амортизація_Depreciation!C32)","v":16},null,{"$f":"'Фінансування_Financing (CFI)'!AD$35*Амортизація_Depreciation!$E32","v":0},{"$f":"'Фінансування_Financing (CFI)'!AE$35*Амортизація_Depreciation!$E32","v":0},{"$f":"'Фінансування_Financing (CFI)'!AF$35*Амортизація_Depreciation!$E32","v":0},{"$f":"'Фінансування_Financing (CFI)'!AG$35*Амортизація_Depreciation!$E32","v":0},{"$f":"'Фінансування_Financing (CFI)'!AH$35*Амортизація_Depreciation!$E32","v":0},{"$f":"'Фінансування_Financing (CFI)'!AI$35*Амортизація_Depreciation!$E32","v":0},{"$f":"'Фінансування_Financing (CFI)'!AJ$35*Амортизація_Depreciation!$E32","v":0},{"$f":"'Фінансування_Financing (CFI)'!AK$35*Амортизація_Depreciation!$E32","v":0},{"$f":"'Фінансування_Financing (CFI)'!AL$35*Амортизація_Depreciation!$E32","v":0},{"$f":"'Фінансування_Financing (CFI)'!AM$35*Амортизація_Depreciation!$E32","v":0},{"$f":"'Фінансування_Financing (CFI)'!AN$35*Амортизація_Depreciation!$E32","v":0},{"$f":"'Фінансування_Financing (CFI)'!AO$35*Амортизація_Depreciation!$E32","v":0},{"$f":"'Фінансування_Financing (CFI)'!AP$35*Амортизація_Depreciation!$E32","v":0},{"$f":"'Фінансування_Financing (CFI)'!AQ$35*Амортизація_Depreciation!$E32","v":0},{"$f":"'Фінансування_Financing (CFI)'!AR$35*Амортизація_Depreciation!$E32","v":0},{"$f":"'Фінансування_Financing (CFI)'!AS$35*Амортизація_Depreciation!$E32","v":0},{"$f":"'Фінансування_Financing (CFI)'!AT$35*Амортизація_Depreciation!$E32","v":0},{"$f":"'Фінансування_Financing (CFI)'!AU$35*Амортизація_Depreciation!$E32","v":0},{"$f":"'Фінансування_Financing (CFI)'!AV$35*Амортизація_Depreciation!$E32","v":0},{"$f":"'Фінансування_Financing (CFI)'!AW$35*Амортизація_Depreciation!$E32","v":0},{"$f":"'Фінансування_Financing (CFI)'!AX$35*Амортизація_Depreciation!$E32","v":0},{"$f":"'Фінансування_Financing (CFI)'!AY$35*Амортизація_Depreciation!$E32","v":0},{"$f":"'Фінансування_Financing (CFI)'!AZ$35*Амортизація_Depreciation!$E32","v":0},{"$f":"'Фінансування_Financing (CFI)'!BA$35*Амортизація_Depreciation!$E32","v":0},{"$f":"'Фінансування_Financing (CFI)'!BB$35*Амортизація_Depreciation!$E32","v":0},{"$f":"'Фінансування_Financing (CFI)'!BC$35*Амортизація_Depreciation!$E32","v":0},{"$f":"'Фінансування_Financing (CFI)'!BD$35*Амортизація_Depreciation!$E32","v":0},{"$f":"'Фінансування_Financing (CFI)'!BE$35*Амортизація_Depreciation!$E32","v":0},{"$f":"'Фінансування_Financing (CFI)'!BF$35*Амортизація_Depreciation!$E32","v":0},{"$f":"'Фінансування_Financing (CFI)'!BG$35*Амортизація_Depreciation!$E32","v":0},0]
[null,"передавальні пристрої / transmitting devices",10,{"$f":"IF('Грошові потоки _ Cash flows'!$E$15>Амортизація_Depreciation!C33, 'Грошові потоки _ Cash flows'!$E$15,Амортизація_Depreciation!C33)","v":16},null,{"$f":"'Фінансування_Financing (CFI)'!AD$35*Амортизація_Depreciation!$E33","v":0},{"$f":"'Фінансування_Financing (CFI)'!AE$35*Амортизація_Depreciation!$E33","v":0},{"$f":"'Фінансування_Financing (CFI)'!AF$35*Амортизація_Depreciation!$E33","v":0},{"$f":"'Фінансування_Financing (CFI)'!AG$35*Амортизація_Depreciation!$E33","v":0},{"$f":"'Фінансування_Financing (CFI)'!AH$35*Амортизація_Depreciation!$E33","v":0},{"$f":"'Фінансування_Financing (CFI)'!AI$35*Амортизація_Depreciation!$E33","v":0},{"$f":"'Фінансування_Financing (CFI)'!AJ$35*Амортизація_Depreciation!$E33","v":0},{"$f":"'Фінансування_Financing (CFI)'!AK$35*Амортизація_Depreciation!$E33","v":0},{"$f":"'Фінансування_Financing (CFI)'!AL$35*Амортизація_Depreciation!$E33","v":0},{"$f":"'Фінансування_Financing (CFI)'!AM$35*Амортизація_Depreciation!$E33","v":0},{"$f":"'Фінансування_Financing (CFI)'!AN$35*Амортизація_Depreciation!$E33","v":0},{"$f":"'Фінансування_Financing (CFI)'!AO$35*Амортизація_Depreciation!$E33","v":0},{"$f":"'Фінансування_Financing (CFI)'!AP$35*Амортизація_Depreciation!$E33","v":0},{"$f":"'Фінансування_Financing (CFI)'!AQ$35*Амортизація_Depreciation!$E33","v":0},{"$f":"'Фінансування_Financing (CFI)'!AR$35*Амортизація_Depreciation!$E33","v":0},{"$f":"'Фінансування_Financing (CFI)'!AS$35*Амортизація_Depreciation!$E33","v":0},{"$f":"'Фінансування_Financing (CFI)'!AT$35*Амортизація_Depreciation!$E33","v":0},{"$f":"'Фінансування_Financing (CFI)'!AU$35*Амортизація_Depreciation!$E33","v":0},{"$f":"'Фінансування_Financing (CFI)'!AV$35*Амортизація_Depreciation!$E33","v":0},{"$f":"'Фінансування_Financing (CFI)'!AW$35*Амортизація_Depreciation!$E33","v":0},{"$f":"'Фінансування_Financing (CFI)'!AX$35*Амортизація_Depreciation!$E33","v":0},{"$f":"'Фінансування_Financing (CFI)'!AY$35*Амортизація_Depreciation!$E33","v":0},{"$f":"'Фінансування_Financing (CFI)'!AZ$35*Амортизація_Depreciation!$E33","v":0},{"$f":"'Фінансування_Financing (CFI)'!BA$35*Амортизація_Depreciation!$E33","v":0},{"$f":"'Фінансування_Financing (CFI)'!BB$35*Амортизація_Depreciation!$E33","v":0},{"$f":"'Фінансування_Financing (CFI)'!BC$35*Амортизація_Depreciation!$E33","v":0},{"$f":"'Фінансування_Financing (CFI)'!BD$35*Амортизація_Depreciation!$E33","v":0},{"$f":"'Фінансування_Financing (CFI)'!BE$35*Амортизація_Depreciation!$E33","v":0},{"$f":"'Фінансування_Financing (CFI)'!BF$35*Амортизація_Depreciation!$E33","v":0},{"$f":"'Фінансування_Financing (CFI)'!BG$35*Амортизація_Depreciation!$E33","v":0},0]
[null,"Група 4 –  машини та обладнання / Machines and equipment",5,{"$f":"IF('Грошові потоки _ Cash flows'!$E$15>Амортизація_Depreciation!C34, 'Грошові потоки _ Cash flows'!$E$15,Амортизація_Depreciation!C34)","v":16},null,{"$f":"'Фінансування_Financing (CFI)'!AD$35*Амортизація_Depreciation!$E34","v":0},{"$f":"'Фінансування_Financing (CFI)'!AE$35*Амортизація_Depreciation!$E34","v":0},{"$f":"'Фінансування_Financing (CFI)'!AF$35*Амортизація_Depreciation!$E34","v":0},{"$f":"'Фінансування_Financing (CFI)'!AG$35*Амортизація_Depreciation!$E34","v":0},{"$f":"'Фінансування_Financing (CFI)'!AH$35*Амортизація_Depreciation!$E34","v":0},{"$f":"'Фінансування_Financing (CFI)'!AI$35*Амортизація_Depreciation!$E34","v":0},{"$f":"'Фінансування_Financing (CFI)'!AJ$35*Амортизація_Depreciation!$E34","v":0},{"$f":"'Фінансування_Financing (CFI)'!AK$35*Амортизація_Depreciation!$E34","v":0},{"$f":"'Фінансування_Financing (CFI)'!AL$35*Амортизація_Depreciation!$E34","v":0},{"$f":"'Фінансування_Financing (CFI)'!AM$35*Амортизація_Depreciation!$E34","v":0},{"$f":"'Фінансування_Financing (CFI)'!AN$35*Амортизація_Depreciation!$E34","v":0},{"$f":"'Фінансування_Financing (CFI)'!AO$35*Амортизація_Depreciation!$E34","v":0},{"$f":"'Фінансування_Financing (CFI)'!AP$35*Амортизація_Depreciation!$E34","v":0},{"$f":"'Фінансування_Financing (CFI)'!AQ$35*Амортизація_Depreciation!$E34","v":0},{"$f":"'Фінансування_Financing (CFI)'!AR$35*Амортизація_Depreciation!$E34","v":0},{"$f":"'Фінансування_Financing (CFI)'!AS$35*Амортизація_Depreciation!$E34","v":0},{"$f":"'Фінансування_Financing (CFI)'!AT$35*Амортизація_Depreciation!$E34","v":0},{"$f":"'Фінансування_Financing (CFI)'!AU$35*Амортизація_Depreciation!$E34","v":0},{"$f":"'Фінансування_Financing (CFI)'!AV$35*Амортизація_Depreciation!$E34","v":0},{"$f":"'Фінансування_Financing (CFI)'!AW$35*Амортизація_Depreciation!$E34","v":0},{"$f":"'Фінансування_Financing (CFI)'!AX$35*Амортизація_Depreciation!$E34","v":0},{"$f":"'Фінансування_Financing (CFI)'!AY$35*Амортизація_Depreciation!$E34","v":0},{"$f":"'Фінансування_Financing (CFI)'!AZ$35*Амортизація_Depreciation!$E34","v":0},{"$f":"'Фінансування_Financing (CFI)'!BA$35*Амортизація_Depreciation!$E34","v":0},{"$f":"'Фінансування_Financing (CFI)'!BB$35*Амортизація_Depreciation!$E34","v":0},{"$f":"'Фінансування_Financing (CFI)'!BC$35*Амортизація_Depreciation!$E34","v":0},{"$f":"'Фінансування_Financing (CFI)'!BD$35*Амортизація_Depreciation!$E34","v":0},{"$f":"'Фінансування_Financing (CFI)'!BE$35*Амортизація_Depreciation!$E34","v":0},{"$f":"'Фінансування_Financing (CFI)'!BF$35*Амортизація_Depreciation!$E34","v":0},{"$f":"'Фінансування_Financing (CFI)'!BG$35*Амортизація_Depreciation!$E34","v":0},0]
[null,"Електронно-обчислювальні машини, інші машини для автоматичного оброблення інформації, пов'язані з ними засоби зчитування або друку інформації, пов'язані з ними комп'ютерні програми (крім програм, витрати на придбання яких визнаються роялті, та / або програм, які визнаються нематеріальним активів) , інші інформаційні системи, комутатори, маршрутизатори, модулі, модеми, джерела безперебійного живлення та засоби їх підключення до телекомунікаційних мереж, телефони (в тому числі мобільні), мікрофони і рації, вартість яких перевищує 2500 гривень.",2,{"$f":"IF('Грошові потоки _ Cash flows'!$E$15>Амортизація_Depreciation!C35, 'Грошові потоки _ Cash flows'!$E$15,Амортизація_Depreciation!C35)","v":16},null,{"$f":"'Фінансування_Financing (CFI)'!AD$35*Амортизація_Depreciation!$E35","v":0},{"$f":"'Фінансування_Financing (CFI)'!AE$35*Амортизація_Depreciation!$E35","v":0},{"$f":"'Фінансування_Financing (CFI)'!AF$35*Амортизація_Depreciation!$E35","v":0},{"$f":"'Фінансування_Financing (CFI)'!AG$35*Амортизація_Depreciation!$E35","v":0},{"$f":"'Фінансування_Financing (CFI)'!AH$35*Амортизація_Depreciation!$E35","v":0},{"$f":"'Фінансування_Financing (CFI)'!AI$35*Амортизація_Depreciation!$E35","v":0},{"$f":"'Фінансування_Financing (CFI)'!AJ$35*Амортизація_Depreciation!$E35","v":0},{"$f":"'Фінансування_Financing (CFI)'!AK$35*Амортизація_Depreciation!$E35","v":0},{"$f":"'Фінансування_Financing (CFI)'!AL$35*Амортизація_Depreciation!$E35","v":0},{"$f":"'Фінансування_Financing (CFI)'!AM$35*Амортизація_Depreciation!$E35","v":0},{"$f":"'Фінансування_Financing (CFI)'!AN$35*Амортизація_Depreciation!$E35","v":0},{"$f":"'Фінансування_Financing (CFI)'!AO$35*Амортизація_Depreciation!$E35","v":0},{"$f":"'Фінансування_Financing (CFI)'!AP$35*Амортизація_Depreciation!$E35","v":0},{"$f":"'Фінансування_Financing (CFI)'!AQ$35*Амортизація_Depreciation!$E35","v":0},{"$f":"'Фінансування_Financing (CFI)'!AR$35*Амортизація_Depreciation!$E35","v":0},{"$f":"'Фінансування_Financing (CFI)'!AS$35*Амортизація_Depreciation!$E35","v":0},{"$f":"'Фінансування_Financing (CFI)'!AT$35*Амортизація_Depreciation!$E35","v":0},{"$f":"'Фінансування_Financing (CFI)'!AU$35*Амортизація_Depreciation!$E35","v":0},{"$f":"'Фінансування_Financing (CFI)'!AV$35*Амортизація_Depreciation!$E35","v":0},{"$f":"'Фінансування_Financing (CFI)'!AW$35*Амортизація_Depreciation!$E35","v":0},{"$f":"'Фінансування_Financing (CFI)'!AX$35*Амортизація_Depreciation!$E35","v":0},{"$f":"'Фінансування_Financing (CFI)'!AY$35*Амортизація_Depreciation!$E35","v":0},{"$f":"'Фінансування_Financing (CFI)'!AZ$35*Амортизація_Depreciation!$E35","v":0},{"$f":"'Фінансування_Financing (CFI)'!BA$35*Амортизація_Depreciation!$E35","v":0},{"$f":"'Фінансування_Financing (CFI)'!BB$35*Амортизація_Depreciation!$E35","v":0},{"$f":"'Фінансування_Financing (CFI)'!BC$35*Амортизація_Depreciation!$E35","v":0},{"$f":"'Фінансування_Financing (CFI)'!BD$35*Амортизація_Depreciation!$E35","v":0},{"$f":"'Фінансування_Financing (CFI)'!BE$35*Амортизація_Depreciation!$E35","v":0},{"$f":"'Фінансування_Financing (CFI)'!BF$35*Амортизація_Depreciation!$E35","v":0},{"$f":"'Фінансування_Financing (CFI)'!BG$35*Амортизація_Depreciation!$E35","v":0},0]
[null,"Група 5 – транспортні засоби / vehicles",5,{"$f":"IF('Грошові потоки _ Cash flows'!$E$15>Амортизація_Depreciation!C36, 'Грошові потоки _ Cash flows'!$E$15,Амортизація_Depreciation!C36)","v":16},null,{"$f":"'Фінансування_Financing (CFI)'!AD$35*Амортизація_Depreciation!$E36","v":0},{"$f":"'Фінансування_Financing (CFI)'!AE$35*Амортизація_Depreciation!$E36","v":0},{"$f":"'Фінансування_Financing (CFI)'!AF$35*Амортизація_Depreciation!$E36","v":0},{"$f":"'Фінансування_Financing (CFI)'!AG$35*Амортизація_Depreciation!$E36","v":0},{"$f":"'Фінансування_Financing (CFI)'!AH$35*Амортизація_Depreciation!$E36","v":0},{"$f":"'Фінансування_Financing (CFI)'!AI$35*Амортизація_Depreciation!$E36","v":0},{"$f":"'Фінансування_Financing (CFI)'!AJ$35*Амортизація_Depreciation!$E36","v":0},{"$f":"'Фінансування_Financing (CFI)'!AK$35*Амортизація_Depreciation!$E36","v":0},{"$f":"'Фінансування_Financing (CFI)'!AL$35*Амортизація_Depreciation!$E36","v":0},{"$f":"'Фінансування_Financing (CFI)'!AM$35*Амортизація_Depreciation!$E36","v":0},{"$f":"'Фінансування_Financing (CFI)'!AN$35*Амортизація_Depreciation!$E36","v":0},{"$f":"'Фінансування_Financing (CFI)'!AO$35*Амортизація_Depreciation!$E36","v":0},{"$f":"'Фінансування_Financing (CFI)'!AP$35*Амортизація_Depreciation!$E36","v":0},{"$f":"'Фінансування_Financing (CFI)'!AQ$35*Амортизація_Depreciation!$E36","v":0},{"$f":"'Фінансування_Financing (CFI)'!AR$35*Амортизація_Depreciation!$E36","v":0},{"$f":"'Фінансування_Financing (CFI)'!AS$35*Амортизація_Depreciation!$E36","v":0},{"$f":"'Фінансування_Financing (CFI)'!AT$35*Амортизація_Depreciation!$E36","v":0},{"$f":"'Фінансування_Financing (CFI)'!AU$35*Амортизація_Depreciation!$E36","v":0},{"$f":"'Фінансування_Financing (CFI)'!AV$35*Амортизація_Depreciation!$E36","v":0},{"$f":"'Фінансування_Financing (CFI)'!AW$35*Амортизація_Depreciation!$E36","v":0},{"$f":"'Фінансування_Financing (CFI)'!AX$35*Амортизація_Depreciation!$E36","v":0},{"$f":"'Фінансування_Financing (CFI)'!AY$35*Амортизація_Depreciation!$E36","v":0},{"$f":"'Фінансування_Financing (CFI)'!AZ$35*Амортизація_Depreciation!$E36","v":0},{"$f":"'Фінансування_Financing (CFI)'!BA$35*Амортизація_Depreciation!$E36","v":0},{"$f":"'Фінансування_Financing (CFI)'!BB$35*Амортизація_Depreciation!$E36","v":0},{"$f":"'Фінансування_Financing (CFI)'!BC$35*Амортизація_Depreciation!$E36","v":0},{"$f":"'Фінансування_Financing (CFI)'!BD$35*Амортизація_Depreciation!$E36","v":0},{"$f":"'Фінансування_Financing (CFI)'!BE$35*Амортизація_Depreciation!$E36","v":0},{"$f":"'Фінансування_Financing (CFI)'!BF$35*Амортизація_Depreciation!$E36","v":0},{"$f":"'Фінансування_Financing (CFI)'!BG$35*Амортизація_Depreciation!$E36","v":0},0]
[null,"Група 6 – інструменти, прилади, інвентар (меблі) / tools, devices, inventory (furniture)",4,{"$f":"IF('Грошові потоки _ Cash flows'!$E$15>Амортизація_Depreciation!C37, 'Грошові потоки _ Cash flows'!$E$15,Амортизація_Depreciation!C37)","v":16},null,{"$f":"'Фінансування_Financing (CFI)'!AD$35*Амортизація_Depreciation!$E37","v":0},{"$f":"'Фінансування_Financing (CFI)'!AE$35*Амортизація_Depreciation!$E37","v":0},{"$f":"'Фінансування_Financing (CFI)'!AF$35*Амортизація_Depreciation!$E37","v":0},{"$f":"'Фінансування_Financing (CFI)'!AG$35*Амортизація_Depreciation!$E37","v":0},{"$f":"'Фінансування_Financing (CFI)'!AH$35*Амортизація_Depreciation!$E37","v":0},{"$f":"'Фінансування_Financing (CFI)'!AI$35*Амортизація_Depreciation!$E37","v":0},{"$f":"'Фінансування_Financing (CFI)'!AJ$35*Амортизація_Depreciation!$E37","v":0},{"$f":"'Фінансування_Financing (CFI)'!AK$35*Амортизація_Depreciation!$E37","v":0},{"$f":"'Фінансування_Financing (CFI)'!AL$35*Амортизація_Depreciation!$E37","v":0},{"$f":"'Фінансування_Financing (CFI)'!AM$35*Амортизація_Depreciation!$E37","v":0},{"$f":"'Фінансування_Financing (CFI)'!AN$35*Амортизація_Depreciation!$E37","v":0},{"$f":"'Фінансування_Financing (CFI)'!AO$35*Амортизація_Depreciation!$E37","v":0},{"$f":"'Фінансування_Financing (CFI)'!AP$35*Амортизація_Depreciation!$E37","v":0},{"$f":"'Фінансування_Financing (CFI)'!AQ$35*Амортизація_Depreciation!$E37","v":0},{"$f":"'Фінансування_Financing (CFI)'!AR$35*Амортизація_Depreciation!$E37","v":0},{"$f":"'Фінансування_Financing (CFI)'!AS$35*Амортизація_Depreciation!$E37","v":0},{"$f":"'Фінансування_Financing (CFI)'!AT$35*Амортизація_Depreciation!$E37","v":0},{"$f":"'Фінансування_Financing (CFI)'!AU$35*Амортизація_Depreciation!$E37","v":0},{"$f":"'Фінансування_Financing (CFI)'!AV$35*Амортизація_Depreciation!$E37","v":0},{"$f":"'Фінансування_Financing (CFI)'!AW$35*Амортизація_Depreciation!$E37","v":0},{"$f":"'Фінансування_Financing (CFI)'!AX$35*Амортизація_Depreciation!$E37","v":0},{"$f":"'Фінансування_Financing (CFI)'!AY$35*Амортизація_Depreciation!$E37","v":0},{"$f":"'Фінансування_Financing (CFI)'!AZ$35*Амортизація_Depreciation!$E37","v":0},{"$f":"'Фінансування_Financing (CFI)'!BA$35*Амортизація_Depreciation!$E37","v":0},{"$f":"'Фінансування_Financing (CFI)'!BB$35*Амортизація_Depreciation!$E37","v":0},{"$f":"'Фінансування_Financing (CFI)'!BC$35*Амортизація_Depreciation!$E37","v":0},{"$f":"'Фінансування_Financing (CFI)'!BD$35*Амортизація_Depreciation!$E37","v":0},{"$f":"'Фінансування_Financing (CFI)'!BE$35*Амортизація_Depreciation!$E37","v":0},{"$f":"'Фінансування_Financing (CFI)'!BF$35*Амортизація_Depreciation!$E37","v":0},{"$f":"'Фінансування_Financing (CFI)'!BG$35*Амортизація_Depreciation!$E37","v":0},0]
[null,"Група 7 – тварини / animals",6,{"$f":"IF('Грошові потоки _ Cash flows'!$E$15>Амортизація_Depreciation!C38, 'Грошові потоки _ Cash flows'!$E$15,Амортизація_Depreciation!C38)","v":16},null,{"$f":"'Фінансування_Financing (CFI)'!AD$35*Амортизація_Depreciation!$E38","v":0},{"$f":"'Фінансування_Financing (CFI)'!AE$35*Амортизація_Depreciation!$E38","v":0},{"$f":"'Фінансування_Financing (CFI)'!AF$35*Амортизація_Depreciation!$E38","v":0},{"$f":"'Фінансування_Financing (CFI)'!AG$35*Амортизація_Depreciation!$E38","v":0},{"$f":"'Фінансування_Financing (CFI)'!AH$35*Амортизація_Depreciation!$E38","v":0},{"$f":"'Фінансування_Financing (CFI)'!AI$35*Амортизація_Depreciation!$E38","v":0},{"$f":"'Фінансування_Financing (CFI)'!AJ$35*Амортизація_Depreciation!$E38","v":0},{"$f":"'Фінансування_Financing (CFI)'!AK$35*Амортизація_Depreciation!$E38","v":0},{"$f":"'Фінансування_Financing (CFI)'!AL$35*Амортизація_Depreciation!$E38","v":0},{"$f":"'Фінансування_Financing (CFI)'!AM$35*Амортизація_Depreciation!$E38","v":0},{"$f":"'Фінансування_Financing (CFI)'!AN$35*Амортизація_Depreciation!$E38","v":0},{"$f":"'Фінансування_Financing (CFI)'!AO$35*Амортизація_Depreciation!$E38","v":0},{"$f":"'Фінансування_Financing (CFI)'!AP$35*Амортизація_Depreciation!$E38","v":0},{"$f":"'Фінансування_Financing (CFI)'!AQ$35*Амортизація_Depreciation!$E38","v":0},{"$f":"'Фінансування_Financing (CFI)'!AR$35*Амортизація_Depreciation!$E38","v":0},{"$f":"'Фінансування_Financing (CFI)'!AS$35*Амортизація_Depreciation!$E38","v":0},{"$f":"'Фінансування_Financing (CFI)'!AT$35*Амортизація_Depreciation!$E38","v":0},{"$f":"'Фінансування_Financing (CFI)'!AU$35*Амортизація_Depreciation!$E38","v":0},{"$f":"'Фінансування_Financing (CFI)'!AV$35*Амортизація_Depreciation!$E38","v":0},{"$f":"'Фінансування_Financing (CFI)'!AW$35*Амортизація_Depreciation!$E38","v":0},{"$f":"'Фінансування_Financing (CFI)'!AX$35*Амортизація_Depreciation!$E38","v":0},{"$f":"'Фінансування_Financing (CFI)'!AY$35*Амортизація_Depreciation!$E38","v":0},{"$f":"'Фінансування_Financing (CFI)'!AZ$35*Амортизація_Depreciation!$E38","v":0},{"$f":"'Фінансування_Financing (CFI)'!BA$35*Амортизація_Depreciation!$E38","v":0},{"$f":"'Фінансування_Financing (CFI)'!BB$35*Амортизація_Depreciation!$E38","v":0},{"$f":"'Фінансування_Financing (CFI)'!BC$35*Амортизація_Depreciation!$E38","v":0},{"$f":"'Фінансування_Financing (CFI)'!BD$35*Амортизація_Depreciation!$E38","v":0},{"$f":"'Фінансування_Financing (CFI)'!BE$35*Амортизація_Depreciation!$E38","v":0},{"$f":"'Фінансування_Financing (CFI)'!BF$35*Амортизація_Depreciation!$E38","v":0},{"$f":"'Фінансування_Financing (CFI)'!BG$35*Амортизація_Depreciation!$E38","v":0},0]
[null,"Група 8 – багаторічні насадження / perennial plantings",10,{"$f":"IF('Грошові потоки _ Cash flows'!$E$15>Амортизація_Depreciation!C39, 'Грошові потоки _ Cash flows'!$E$15,Амортизація_Depreciation!C39)","v":16},null,{"$f":"'Фінансування_Financing (CFI)'!AD$35*Амортизація_Depreciation!$E39","v":0},{"$f":"'Фінансування_Financing (CFI)'!AE$35*Амортизація_Depreciation!$E39","v":0},{"$f":"'Фінансування_Financing (CFI)'!AF$35*Амортизація_Depreciation!$E39","v":0},{"$f":"'Фінансування_Financing (CFI)'!AG$35*Амортизація_Depreciation!$E39","v":0},{"$f":"'Фінансування_Financing (CFI)'!AH$35*Амортизація_Depreciation!$E39","v":0},{"$f":"'Фінансування_Financing (CFI)'!AI$35*Амортизація_Depreciation!$E39","v":0},{"$f":"'Фінансування_Financing (CFI)'!AJ$35*Амортизація_Depreciation!$E39","v":0},{"$f":"'Фінансування_Financing (CFI)'!AK$35*Амортизація_Depreciation!$E39","v":0},{"$f":"'Фінансування_Financing (CFI)'!AL$35*Амортизація_Depreciation!$E39","v":0},{"$f":"'Фінансування_Financing (CFI)'!AM$35*Амортизація_Depreciation!$E39","v":0},{"$f":"'Фінансування_Financing (CFI)'!AN$35*Амортизація_Depreciation!$E39","v":0},{"$f":"'Фінансування_Financing (CFI)'!AO$35*Амортизація_Depreciation!$E39","v":0},{"$f":"'Фінансування_Financing (CFI)'!AP$35*Амортизація_Depreciation!$E39","v":0},{"$f":"'Фінансування_Financing (CFI)'!AQ$35*Амортизація_Depreciation!$E39","v":0},{"$f":"'Фінансування_Financing (CFI)'!AR$35*Амортизація_Depreciation!$E39","v":0},{"$f":"'Фінансування_Financing (CFI)'!AS$35*Амортизація_Depreciation!$E39","v":0},{"$f":"'Фінансування_Financing (CFI)'!AT$35*Амортизація_Depreciation!$E39","v":0},{"$f":"'Фінансування_Financing (CFI)'!AU$35*Амортизація_Depreciation!$E39","v":0},{"$f":"'Фінансування_Financing (CFI)'!AV$35*Амортизація_Depreciation!$E39","v":0},{"$f":"'Фінансування_Financing (CFI)'!AW$35*Амортизація_Depreciation!$E39","v":0},{"$f":"'Фінансування_Financing (CFI)'!AX$35*Амортизація_Depreciation!$E39","v":0},{"$f":"'Фінансування_Financing (CFI)'!AY$35*Амортизація_Depreciation!$E39","v":0},{"$f":"'Фінансування_Financing (CFI)'!AZ$35*Амортизація_Depreciation!$E39","v":0},{"$f":"'Фінансування_Financing (CFI)'!BA$35*Амортизація_Depreciation!$E39","v":0},{"$f":"'Фінансування_Financing (CFI)'!BB$35*Амортизація_Depreciation!$E39","v":0},{"$f":"'Фінансування_Financing (CFI)'!BC$35*Амортизація_Depreciation!$E39","v":0},{"$f":"'Фінансування_Financing (CFI)'!BD$35*Амортизація_Depreciation!$E39","v":0},{"$f":"'Фінансування_Financing (CFI)'!BE$35*Амортизація_Depreciation!$E39","v":0},{"$f":"'Фінансування_Financing (CFI)'!BF$35*Амортизація_Depreciation!$E39","v":0},{"$f":"'Фінансування_Financing (CFI)'!BG$35*Амортизація_Depreciation!$E39","v":0},0]
[null,"Група 9 – інші основні засоби / other fixed assets",12,{"$f":"IF('Грошові потоки _ Cash flows'!$E$15>Амортизація_Depreciation!C40, 'Грошові потоки _ Cash flows'!$E$15,Амортизація_Depreciation!C40)","v":16},null,{"$f":"'Фінансування_Financing (CFI)'!AD$35*Амортизація_Depreciation!$E40","v":0},{"$f":"'Фінансування_Financing (CFI)'!AE$35*Амортизація_Depreciation!$E40","v":0},{"$f":"'Фінансування_Financing (CFI)'!AF$35*Амортизація_Depreciation!$E40","v":0},{"$f":"'Фінансування_Financing (CFI)'!AG$35*Амортизація_Depreciation!$E40","v":0},{"$f":"'Фінансування_Financing (CFI)'!AH$35*Амортизація_Depreciation!$E40","v":0},{"$f":"'Фінансування_Financing (CFI)'!AI$35*Амортизація_Depreciation!$E40","v":0},{"$f":"'Фінансування_Financing (CFI)'!AJ$35*Амортизація_Depreciation!$E40","v":0},{"$f":"'Фінансування_Financing (CFI)'!AK$35*Амортизація_Depreciation!$E40","v":0},{"$f":"'Фінансування_Financing (CFI)'!AL$35*Амортизація_Depreciation!$E40","v":0},{"$f":"'Фінансування_Financing (CFI)'!AM$35*Амортизація_Depreciation!$E40","v":0},{"$f":"'Фінансування_Financing (CFI)'!AN$35*Амортизація_Depreciation!$E40","v":0},{"$f":"'Фінансування_Financing (CFI)'!AO$35*Амортизація_Depreciation!$E40","v":0},{"$f":"'Фінансування_Financing (CFI)'!AP$35*Амортизація_Depreciation!$E40","v":0},{"$f":"'Фінансування_Financing (CFI)'!AQ$35*Амортизація_Depreciation!$E40","v":0},{"$f":"'Фінансування_Financing (CFI)'!AR$35*Амортизація_Depreciation!$E40","v":0},{"$f":"'Фінансування_Financing (CFI)'!AS$35*Амортизація_Depreciation!$E40","v":0},{"$f":"'Фінансування_Financing (CFI)'!AT$35*Амортизація_Depreciation!$E40","v":0},{"$f":"'Фінансування_Financing (CFI)'!AU$35*Амортизація_Depreciation!$E40","v":0},{"$f":"'Фінансування_Financing (CFI)'!AV$35*Амортизація_Depreciation!$E40","v":0},{"$f":"'Фінансування_Financing (CFI)'!AW$35*Амортизація_Depreciation!$E40","v":0},{"$f":"'Фінансування_Financing (CFI)'!AX$35*Амортизація_Depreciation!$E40","v":0},{"$f":"'Фінансування_Financing (CFI)'!AY$35*Амортизація_Depreciation!$E40","v":0},{"$f":"'Фінансування_Financing (CFI)'!AZ$35*Амортизація_Depreciation!$E40","v":0},{"$f":"'Фінансування_Financing (CFI)'!BA$35*Амортизація_Depreciation!$E40","v":0},{"$f":"'Фінансування_Financing (CFI)'!BB$35*Амортизація_Depreciation!$E40","v":0},{"$f":"'Фінансування_Financing (CFI)'!BC$35*Амортизація_Depreciation!$E40","v":0},{"$f":"'Фінансування_Financing (CFI)'!BD$35*Амортизація_Depreciation!$E40","v":0},{"$f":"'Фінансування_Financing (CFI)'!BE$35*Амортизація_Depreciation!$E40","v":0},{"$f":"'Фінансування_Financing (CFI)'!BF$35*Амортизація_Depreciation!$E40","v":0},{"$f":"'Фінансування_Financing (CFI)'!BG$35*Амортизація_Depreciation!$E40","v":0},0]
[null,"Інші необоротні матеріальні активи: / Other non-current tangible assets:",null,null,{"$f":"SUM(E42:E48)","v":0},{"$f":"SUM(F42:F48)","v":0},{"$f":"SUM(G42:G48)","v":0},{"$f":"SUM(H42:H48)","v":0},0,0,0,0,0,0,0,0,0,0,0,0,0,0,0,0,0,0,0,0,0,0,0,0,0,0,0,{"$f":"SUM(F41:AI41)","v":0}]
[null,"Група 10 – бібліотечні фонди /library funds","—",{"$f":"IF('Грошові потоки _ Cash flows'!$E$15>Амортизація_Depreciation!C42, 'Грошові потоки _ Cash flows'!$E$15,Амортизація_Depreciation!C42)","v":"—"},null,{"$f":"'Фінансування_Financing (CFI)'!AD$35*Амортизація_Depreciation!$E42","v":0},{"$f":"'Фінансування_Financing (CFI)'!AE$35*Амортизація_Depreciation!$E42","v":0},{"$f":"'Фінансування_Financing (CFI)'!AF$35*Амортизація_Depreciation!$E42","v":0},{"$f":"'Фінансування_Financing (CFI)'!AG$35*Амортизація_Depreciation!$E42","v":0},{"$f":"'Фінансування_Financing (CFI)'!AH$35*Амортизація_Depreciation!$E42","v":0},{"$f":"'Фінансування_Financing (CFI)'!AI$35*Амортизація_Depreciation!$E42","v":0},{"$f":"'Фінансування_Financing (CFI)'!AJ$35*Амортизація_Depreciation!$E42","v":0},{"$f":"'Фінансування_Financing (CFI)'!AK$35*Амортизація_Depreciation!$E42","v":0},{"$f":"'Фінансування_Financing (CFI)'!AL$35*Амортизація_Depreciation!$E42","v":0},{"$f":"'Фінансування_Financing (CFI)'!AM$35*Амортизація_Depreciation!$E42","v":0},{"$f":"'Фінансування_Financing (CFI)'!AN$35*Амортизація_Depreciation!$E42","v":0},{"$f":"'Фінансування_Financing (CFI)'!AO$35*Амортизація_Depreciation!$E42","v":0},{"$f":"'Фінансування_Financing (CFI)'!AP$35*Амортизація_Depreciation!$E42","v":0},{"$f":"'Фінансування_Financing (CFI)'!AQ$35*Амортизація_Depreciation!$E42","v":0},{"$f":"'Фінансування_Financing (CFI)'!AR$35*Амортизація_Depreciation!$E42","v":0},{"$f":"'Фінансування_Financing (CFI)'!AS$35*Амортизація_Depreciation!$E42","v":0},{"$f":"'Фінансування_Financing (CFI)'!AT$35*Амортизація_Depreciation!$E42","v":0},{"$f":"'Фінансування_Financing (CFI)'!AU$35*Амортизація_Depreciation!$E42","v":0},{"$f":"'Фінансування_Financing (CFI)'!AV$35*Амортизація_Depreciation!$E42","v":0},{"$f":"'Фінансування_Financing (CFI)'!AW$35*Амортизація_Depreciation!$E42","v":0},{"$f":"'Фінансування_Financing (CFI)'!AX$35*Амортизація_Depreciation!$E42","v":0},{"$f":"'Фінансування_Financing (CFI)'!AY$35*Амортизація_Depreciation!$E42","v":0},{"$f":"'Фінансування_Financing (CFI)'!AZ$35*Амортизація_Depreciation!$E42","v":0},{"$f":"'Фінансування_Financing (CFI)'!BA$35*Амортизація_Depreciation!$E42","v":0},{"$f":"'Фінансування_Financing (CFI)'!BB$35*Амортизація_Depreciation!$E42","v":0},{"$f":"'Фінансування_Financing (CFI)'!BC$35*Амортизація_Depreciation!$E42","v":0},{"$f":"'Фінансування_Financing (CFI)'!BD$35*Амортизація_Depreciation!$E42","v":0},{"$f":"'Фінансування_Financing (CFI)'!BE$35*Амортизація_Depreciation!$E42","v":0},{"$f":"'Фінансування_Financing (CFI)'!BF$35*Амортизація_Depreciation!$E42","v":0},{"$f":"'Фінансування_Financing (CFI)'!BG$35*Амортизація_Depreciation!$E42","v":0},{"$f":"SUM(F42:AI42)","v":0}]
[null,"Група 11 – малоцінні необоротні активи / low-value non-current assets","—",{"$f":"IF('Грошові потоки _ Cash flows'!$E$15>Амортизація_Depreciation!C43, 'Грошові потоки _ Cash flows'!$E$15,Амортизація_Depreciation!C43)","v":"—"},null,{"$f":"'Фінансування_Financing (CFI)'!AD$35*Амортизація_Depreciation!$E43","v":0},{"$f":"'Фінансування_Financing (CFI)'!AE$35*Амортизація_Depreciation!$E43","v":0},{"$f":"'Фінансування_Financing (CFI)'!AF$35*Амортизація_Depreciation!$E43","v":0},{"$f":"'Фінансування_Financing (CFI)'!AG$35*Амортизація_Depreciation!$E43","v":0},{"$f":"'Фінансування_Financing (CFI)'!AH$35*Амортизація_Depreciation!$E43","v":0},{"$f":"'Фінансування_Financing (CFI)'!AI$35*Амортизація_Depreciation!$E43","v":0},{"$f":"'Фінансування_Financing (CFI)'!AJ$35*Амортизація_Depreciation!$E43","v":0},{"$f":"'Фінансування_Financing (CFI)'!AK$35*Амортизація_Depreciation!$E43","v":0},{"$f":"'Фінансування_Financing (CFI)'!AL$35*Амортизація_Depreciation!$E43","v":0},{"$f":"'Фінансування_Financing (CFI)'!AM$35*Амортизація_Depreciation!$E43","v":0},{"$f":"'Фінансування_Financing (CFI)'!AN$35*Амортизація_Depreciation!$E43","v":0},{"$f":"'Фінансування_Financing (CFI)'!AO$35*Амортизація_Depreciation!$E43","v":0},{"$f":"'Фінансування_Financing (CFI)'!AP$35*Амортизація_Depreciation!$E43","v":0},{"$f":"'Фінансування_Financing (CFI)'!AQ$35*Амортизація_Depreciation!$E43","v":0},{"$f":"'Фінансування_Financing (CFI)'!AR$35*Амортизація_Depreciation!$E43","v":0},{"$f":"'Фінансування_Financing (CFI)'!AS$35*Амортизація_Depreciation!$E43","v":0},{"$f":"'Фінансування_Financing (CFI)'!AT$35*Амортизація_Depreciation!$E43","v":0},{"$f":"'Фінансування_Financing (CFI)'!AU$35*Амортизація_Depreciation!$E43","v":0},{"$f":"'Фінансування_Financing (CFI)'!AV$35*Амортизація_Depreciation!$E43","v":0},{"$f":"'Фінансування_Financing (CFI)'!AW$35*Амортизація_Depreciation!$E43","v":0},{"$f":"'Фінансування_Financing (CFI)'!AX$35*Амортизація_Depreciation!$E43","v":0},{"$f":"'Фінансування_Financing (CFI)'!AY$35*Амортизація_Depreciation!$E43","v":0},{"$f":"'Фінансування_Financing (CFI)'!AZ$35*Амортизація_Depreciation!$E43","v":0},{"$f":"'Фінансування_Financing (CFI)'!BA$35*Амортизація_Depreciation!$E43","v":0},{"$f":"'Фінансування_Financing (CFI)'!BB$35*Амортизація_Depreciation!$E43","v":0},{"$f":"'Фінансування_Financing (CFI)'!BC$35*Амортизація_Depreciation!$E43","v":0},{"$f":"'Фінансування_Financing (CFI)'!BD$35*Амортизація_Depreciation!$E43","v":0},{"$f":"'Фінансування_Financing (CFI)'!BE$35*Амортизація_Depreciation!$E43","v":0},{"$f":"'Фінансування_Financing (CFI)'!BF$35*Амортизація_Depreciation!$E43","v":0},{"$f":"'Фінансування_Financing (CFI)'!BG$35*Амортизація_Depreciation!$E43","v":0},{"$f":"SUM(F43:AI43)","v":0}]
[null,"Група 12 – тимчасові (нетитульні) споруди / temporary (untitled) buildings",5,{"$f":"IF('Грошові потоки _ Cash flows'!$E$15>Амортизація_Depreciation!C44, 'Грошові потоки _ Cash flows'!$E$15,Амортизація_Depreciation!C44)","v":16},null,{"$f":"'Фінансування_Financing (CFI)'!AD$35*Амортизація_Depreciation!$E44","v":0},{"$f":"'Фінансування_Financing (CFI)'!AE$35*Амортизація_Depreciation!$E44","v":0},{"$f":"'Фінансування_Financing (CFI)'!AF$35*Амортизація_Depreciation!$E44","v":0},{"$f":"'Фінансування_Financing (CFI)'!AG$35*Амортизація_Depreciation!$E44","v":0},{"$f":"'Фінансування_Financing (CFI)'!AH$35*Амортизація_Depreciation!$E44","v":0},{"$f":"'Фінансування_Financing (CFI)'!AI$35*Амортизація_Depreciation!$E44","v":0},{"$f":"'Фінансування_Financing (CFI)'!AJ$35*Амортизація_Depreciation!$E44","v":0},{"$f":"'Фінансування_Financing (CFI)'!AK$35*Амортизація_Depreciation!$E44","v":0},{"$f":"'Фінансування_Financing (CFI)'!AL$35*Амортизація_Depreciation!$E44","v":0},{"$f":"'Фінансування_Financing (CFI)'!AM$35*Амортизація_Depreciation!$E44","v":0},{"$f":"'Фінансування_Financing (CFI)'!AN$35*Амортизація_Depreciation!$E44","v":0},{"$f":"'Фінансування_Financing (CFI)'!AO$35*Амортизація_Depreciation!$E44","v":0},{"$f":"'Фінансування_Financing (CFI)'!AP$35*Амортизація_Depreciation!$E44","v":0},{"$f":"'Фінансування_Financing (CFI)'!AQ$35*Амортизація_Depreciation!$E44","v":0},{"$f":"'Фінансування_Financing (CFI)'!AR$35*Амортизація_Depreciation!$E44","v":0},{"$f":"'Фінансування_Financing (CFI)'!AS$35*Амортизація_Depreciation!$E44","v":0},{"$f":"'Фінансування_Financing (CFI)'!AT$35*Амортизація_Depreciation!$E44","v":0},{"$f":"'Фінансування_Financing (CFI)'!AU$35*Амортизація_Depreciation!$E44","v":0},{"$f":"'Фінансування_Financing (CFI)'!AV$35*Амортизація_Depreciation!$E44","v":0},{"$f":"'Фінансування_Financing (CFI)'!AW$35*Амортизація_Depreciation!$E44","v":0},{"$f":"'Фінансування_Financing (CFI)'!AX$35*Амортизація_Depreciation!$E44","v":0},{"$f":"'Фінансування_Financing (CFI)'!AY$35*Амортизація_Depreciation!$E44","v":0},{"$f":"'Фінансування_Financing (CFI)'!AZ$35*Амортизація_Depreciation!$E44","v":0},{"$f":"'Фінансування_Financing (CFI)'!BA$35*Амортизація_Depreciation!$E44","v":0},{"$f":"'Фінансування_Financing (CFI)'!BB$35*Амортизація_Depreciation!$E44","v":0},{"$f":"'Фінансування_Financing (CFI)'!BC$35*Амортизація_Depreciation!$E44","v":0},{"$f":"'Фінансування_Financing (CFI)'!BD$35*Амортизація_Depreciation!$E44","v":0},{"$f":"'Фінансування_Financing (CFI)'!BE$35*Амортизація_Depreciation!$E44","v":0},{"$f":"'Фінансування_Financing (CFI)'!BF$35*Амортизація_Depreciation!$E44","v":0},{"$f":"'Фінансування_Financing (CFI)'!BG$35*Амортизація_Depreciation!$E44","v":0},{"$f":"SUM(F44:AI44)","v":0}]
[null,"Група 13 – природні ресурси / natural resources","—",{"$f":"IF('Грошові потоки _ Cash flows'!$E$15>Амортизація_Depreciation!C45, 'Грошові потоки _ Cash flows'!$E$15,Амортизація_Depreciation!C45)","v":"—"},null,{"$f":"'Фінансування_Financing (CFI)'!AD$35*Амортизація_Depreciation!$E45","v":0},{"$f":"'Фінансування_Financing (CFI)'!AE$35*Амортизація_Depreciation!$E45","v":0},{"$f":"'Фінансування_Financing (CFI)'!AF$35*Амортизація_Depreciation!$E45","v":0},{"$f":"'Фінансування_Financing (CFI)'!AG$35*Амортизація_Depreciation!$E45","v":0},{"$f":"'Фінансування_Financing (CFI)'!AH$35*Амортизація_Depreciation!$E45","v":0},{"$f":"'Фінансування_Financing (CFI)'!AI$35*Амортизація_Depreciation!$E45","v":0},{"$f":"'Фінансування_Financing (CFI)'!AJ$35*Амортизація_Depreciation!$E45","v":0},{"$f":"'Фінансування_Financing (CFI)'!AK$35*Амортизація_Depreciation!$E45","v":0},{"$f":"'Фінансування_Financing (CFI)'!AL$35*Амортизація_Depreciation!$E45","v":0},{"$f":"'Фінансування_Financing (CFI)'!AM$35*Амортизація_Depreciation!$E45","v":0},{"$f":"'Фінансування_Financing (CFI)'!AN$35*Амортизація_Depreciation!$E45","v":0},{"$f":"'Фінансування_Financing (CFI)'!AO$35*Амортизація_Depreciation!$E45","v":0},{"$f":"'Фінансування_Financing (CFI)'!AP$35*Амортизація_Depreciation!$E45","v":0},{"$f":"'Фінансування_Financing (CFI)'!AQ$35*Амортизація_Depreciation!$E45","v":0},{"$f":"'Фінансування_Financing (CFI)'!AR$35*Амортизація_Depreciation!$E45","v":0},{"$f":"'Фінансування_Financing (CFI)'!AS$35*Амортизація_Depreciation!$E45","v":0},{"$f":"'Фінансування_Financing (CFI)'!AT$35*Амортизація_Depreciation!$E45","v":0},{"$f":"'Фінансування_Financing (CFI)'!AU$35*Амортизація_Depreciation!$E45","v":0},{"$f":"'Фінансування_Financing (CFI)'!AV$35*Амортизація_Depreciation!$E45","v":0},{"$f":"'Фінансування_Financing (CFI)'!AW$35*Амортизація_Depreciation!$E45","v":0},{"$f":"'Фінансування_Financing (CFI)'!AX$35*Амортизація_Depreciation!$E45","v":0},{"$f":"'Фінансування_Financing (CFI)'!AY$35*Амортизація_Depreciation!$E45","v":0},{"$f":"'Фінансування_Financing (CFI)'!AZ$35*Амортизація_Depreciation!$E45","v":0},{"$f":"'Фінансування_Financing (CFI)'!BA$35*Амортизація_Depreciation!$E45","v":0},{"$f":"'Фінансування_Financing (CFI)'!BB$35*Амортизація_Depreciation!$E45","v":0},{"$f":"'Фінансування_Financing (CFI)'!BC$35*Амортизація_Depreciation!$E45","v":0},{"$f":"'Фінансування_Financing (CFI)'!BD$35*Амортизація_Depreciation!$E45","v":0},{"$f":"'Фінансування_Financing (CFI)'!BE$35*Амортизація_Depreciation!$E45","v":0},{"$f":"'Фінансування_Financing (CFI)'!BF$35*Амортизація_Depreciation!$E45","v":0},{"$f":"'Фінансування_Financing (CFI)'!BG$35*Амортизація_Depreciation!$E45","v":0},{"$f":"SUM(F45:AI45)","v":0}]
[null,"Група 14 – інвентарна тара / inventory packaging",6,{"$f":"IF('Грошові потоки _ Cash flows'!$E$15>Амортизація_Depreciation!C46, 'Грошові потоки _ Cash flows'!$E$15,Амортизація_Depreciation!C46)","v":16},null,{"$f":"'Фінансування_Financing (CFI)'!AD$35*Амортизація_Depreciation!$E46","v":0},{"$f":"'Фінансування_Financing (CFI)'!AE$35*Амортизація_Depreciation!$E46","v":0},{"$f":"'Фінансування_Financing (CFI)'!AF$35*Амортизація_Depreciation!$E46","v":0},{"$f":"'Фінансування_Financing (CFI)'!AG$35*Амортизація_Depreciation!$E46","v":0},{"$f":"'Фінансування_Financing (CFI)'!AH$35*Амортизація_Depreciation!$E46","v":0},{"$f":"'Фінансування_Financing (CFI)'!AI$35*Амортизація_Depreciation!$E46","v":0},{"$f":"'Фінансування_Financing (CFI)'!AJ$35*Амортизація_Depreciation!$E46","v":0},{"$f":"'Фінансування_Financing (CFI)'!AK$35*Амортизація_Depreciation!$E46","v":0},{"$f":"'Фінансування_Financing (CFI)'!AL$35*Амортизація_Depreciation!$E46","v":0},{"$f":"'Фінансування_Financing (CFI)'!AM$35*Амортизація_Depreciation!$E46","v":0},{"$f":"'Фінансування_Financing (CFI)'!AN$35*Амортизація_Depreciation!$E46","v":0},{"$f":"'Фінансування_Financing (CFI)'!AO$35*Амортизація_Depreciation!$E46","v":0},{"$f":"'Фінансування_Financing (CFI)'!AP$35*Амортизація_Depreciation!$E46","v":0},{"$f":"'Фінансування_Financing (CFI)'!AQ$35*Амортизація_Depreciation!$E46","v":0},{"$f":"'Фінансування_Financing (CFI)'!AR$35*Амортизація_Depreciation!$E46","v":0},{"$f":"'Фінансування_Financing (CFI)'!AS$35*Амортизація_Depreciation!$E46","v":0},{"$f":"'Фінансування_Financing (CFI)'!AT$35*Амортизація_Depreciation!$E46","v":0},{"$f":"'Фінансування_Financing (CFI)'!AU$35*Амортизація_Depreciation!$E46","v":0},{"$f":"'Фінансування_Financing (CFI)'!AV$35*Амортизація_Depreciation!$E46","v":0},{"$f":"'Фінансування_Financing (CFI)'!AW$35*Амортизація_Depreciation!$E46","v":0},{"$f":"'Фінансування_Financing (CFI)'!AX$35*Амортизація_Depreciation!$E46","v":0},{"$f":"'Фінансування_Financing (CFI)'!AY$35*Амортизація_Depreciation!$E46","v":0},{"$f":"'Фінансування_Financing (CFI)'!AZ$35*Амортизація_Depreciation!$E46","v":0},{"$f":"'Фінансування_Financing (CFI)'!BA$35*Амортизація_Depreciation!$E46","v":0},{"$f":"'Фінансування_Financing (CFI)'!BB$35*Амортизація_Depreciation!$E46","v":0},{"$f":"'Фінансування_Financing (CFI)'!BC$35*Амортизація_Depreciation!$E46","v":0},{"$f":"'Фінансування_Financing (CFI)'!BD$35*Амортизація_Depreciation!$E46","v":0},{"$f":"'Фінансування_Financing (CFI)'!BE$35*Амортизація_Depreciation!$E46","v":0},{"$f":"'Фінансування_Financing (CFI)'!BF$35*Амортизація_Depreciation!$E46","v":0},{"$f":"'Фінансування_Financing (CFI)'!BG$35*Амортизація_Depreciation!$E46","v":0},0]
[null,"Група 15 – предмети прокату / lease items",5,{"$f":"IF('Грошові потоки _ Cash flows'!$E$15>Амортизація_Depreciation!C47, 'Грошові потоки _ Cash flows'!$E$15,Амортизація_Depreciation!C47)","v":16},null,{"$f":"'Фінансування_Financing (CFI)'!AD$35*Амортизація_Depreciation!$E47","v":0},{"$f":"'Фінансування_Financing (CFI)'!AE$35*Амортизація_Depreciation!$E47","v":0},{"$f":"'Фінансування_Financing (CFI)'!AF$35*Амортизація_Depreciation!$E47","v":0},{"$f":"'Фінансування_Financing (CFI)'!AG$35*Амортизація_Depreciation!$E47","v":0},{"$f":"'Фінансування_Financing (CFI)'!AH$35*Амортизація_Depreciation!$E47","v":0},{"$f":"'Фінансування_Financing (CFI)'!AI$35*Амортизація_Depreciation!$E47","v":0},{"$f":"'Фінансування_Financing (CFI)'!AJ$35*Амортизація_Depreciation!$E47","v":0},{"$f":"'Фінансування_Financing (CFI)'!AK$35*Амортизація_Depreciation!$E47","v":0},{"$f":"'Фінансування_Financing (CFI)'!AL$35*Амортизація_Depreciation!$E47","v":0},{"$f":"'Фінансування_Financing (CFI)'!AM$35*Амортизація_Depreciation!$E47","v":0},{"$f":"'Фінансування_Financing (CFI)'!AN$35*Амортизація_Depreciation!$E47","v":0},{"$f":"'Фінансування_Financing (CFI)'!AO$35*Амортизація_Depreciation!$E47","v":0},{"$f":"'Фінансування_Financing (CFI)'!AP$35*Амортизація_Depreciation!$E47","v":0},{"$f":"'Фінансування_Financing (CFI)'!AQ$35*Амортизація_Depreciation!$E47","v":0},{"$f":"'Фінансування_Financing (CFI)'!AR$35*Амортизація_Depreciation!$E47","v":0},{"$f":"'Фінансування_Financing (CFI)'!AS$35*Амортизація_Depreciation!$E47","v":0},{"$f":"'Фінансування_Financing (CFI)'!AT$35*Амортизація_Depreciation!$E47","v":0},{"$f":"'Фінансування_Financing (CFI)'!AU$35*Амортизація_Depreciation!$E47","v":0},{"$f":"'Фінансування_Financing (CFI)'!AV$35*Амортизація_Depreciation!$E47","v":0},{"$f":"'Фінансування_Financing (CFI)'!AW$35*Амортизація_Depreciation!$E47","v":0},{"$f":"'Фінансування_Financing (CFI)'!AX$35*Амортизація_Depreciation!$E47","v":0},{"$f":"'Фінансування_Financing (CFI)'!AY$35*Амортизація_Depreciation!$E47","v":0},{"$f":"'Фінансування_Financing (CFI)'!AZ$35*Амортизація_Depreciation!$E47","v":0},{"$f":"'Фінансування_Financing (CFI)'!BA$35*Амортизація_Depreciation!$E47","v":0},{"$f":"'Фінансування_Financing (CFI)'!BB$35*Амортизація_Depreciation!$E47","v":0},{"$f":"'Фінансування_Financing (CFI)'!BC$35*Амортизація_Depreciation!$E47","v":0},{"$f":"'Фінансування_Financing (CFI)'!BD$35*Амортизація_Depreciation!$E47","v":0},{"$f":"'Фінансування_Financing (CFI)'!BE$35*Амортизація_Depreciation!$E47","v":0},{"$f":"'Фінансування_Financing (CFI)'!BF$35*Амортизація_Depreciation!$E47","v":0},{"$f":"'Фінансування_Financing (CFI)'!BG$35*Амортизація_Depreciation!$E47","v":0},0]
[null,"Група 16 – довгострокові біологічні активи / Long-term biological assets",7,{"$f":"IF('Грошові потоки _ Cash flows'!$E$15>Амортизація_Depreciation!C48, 'Грошові потоки _ Cash flows'!$E$15,Амортизація_Depreciation!C48)","v":16},null,{"$f":"'Фінансування_Financing (CFI)'!AD$35*Амортизація_Depreciation!$E48","v":0},{"$f":"'Фінансування_Financing (CFI)'!AE$35*Амортизація_Depreciation!$E48","v":0},{"$f":"'Фінансування_Financing (CFI)'!AF$35*Амортизація_Depreciation!$E48","v":0},{"$f":"'Фінансування_Financing (CFI)'!AG$35*Амортизація_Depreciation!$E48","v":0},{"$f":"'Фінансування_Financing (CFI)'!AH$35*Амортизація_Depreciation!$E48","v":0},{"$f":"'Фінансування_Financing (CFI)'!AI$35*Амортизація_Depreciation!$E48","v":0},{"$f":"'Фінансування_Financing (CFI)'!AJ$35*Амортизація_Depreciation!$E48","v":0},{"$f":"'Фінансування_Financing (CFI)'!AK$35*Амортизація_Depreciation!$E48","v":0},{"$f":"'Фінансування_Financing (CFI)'!AL$35*Амортизація_Depreciation!$E48","v":0},{"$f":"'Фінансування_Financing (CFI)'!AM$35*Амортизація_Depreciation!$E48","v":0},{"$f":"'Фінансування_Financing (CFI)'!AN$35*Амортизація_Depreciation!$E48","v":0},{"$f":"'Фінансування_Financing (CFI)'!AO$35*Амортизація_Depreciation!$E48","v":0},{"$f":"'Фінансування_Financing (CFI)'!AP$35*Амортизація_Depreciation!$E48","v":0},{"$f":"'Фінансування_Financing (CFI)'!AQ$35*Амортизація_Depreciation!$E48","v":0},{"$f":"'Фінансування_Financing (CFI)'!AR$35*Амортизація_Depreciation!$E48","v":0},{"$f":"'Фінансування_Financing (CFI)'!AS$35*Амортизація_Depreciation!$E48","v":0},{"$f":"'Фінансування_Financing (CFI)'!AT$35*Амортизація_Depreciation!$E48","v":0},{"$f":"'Фінансування_Financing (CFI)'!AU$35*Амортизація_Depreciation!$E48","v":0},{"$f":"'Фінансування_Financing (CFI)'!AV$35*Амортизація_Depreciation!$E48","v":0},{"$f":"'Фінансування_Financing (CFI)'!AW$35*Амортизація_Depreciation!$E48","v":0},{"$f":"'Фінансування_Financing (CFI)'!AX$35*Амортизація_Depreciation!$E48","v":0},{"$f":"'Фінансування_Financing (CFI)'!AY$35*Амортизація_Depreciation!$E48","v":0},{"$f":"'Фінансування_Financing (CFI)'!AZ$35*Амортизація_Depreciation!$E48","v":0},{"$f":"'Фінансування_Financing (CFI)'!BA$35*Амортизація_Depreciation!$E48","v":0},{"$f":"'Фінансування_Financing (CFI)'!BB$35*Амортизація_Depreciation!$E48","v":0},{"$f":"'Фінансування_Financing (CFI)'!BC$35*Амортизація_Depreciation!$E48","v":0},{"$f":"'Фінансування_Financing (CFI)'!BD$35*Амортизація_Depreciation!$E48","v":0},{"$f":"'Фінансування_Financing (CFI)'!BE$35*Амортизація_Depreciation!$E48","v":0},{"$f":"'Фінансування_Financing (CFI)'!BF$35*Амортизація_Depreciation!$E48","v":0},{"$f":"'Фінансування_Financing (CFI)'!BG$35*Амортизація_Depreciation!$E48","v":0},0]
[null,"Балансова (залишкова) вартість / residual value",null,null,null,{"$f":"F50+F63","v":0},{"$f":"G50+G63","v":8437.5},{"$f":"H50+H63","v":7875},7312.5,6750,6187.5,5625,5062.5,4500,3937.5,3375,2812.5,2250,1687.5,1125,562.5,0,0,0,0,0,0,0,0,0,0,0,0,0,0,{"$f":"SUM(F49:AI49)","v":67500}]
[null,"Основні засоби: / Fixed assets:",null,null,null,{"$f":"SUM(F51:F62)","v":0},{"$f":"SUM(G51:G62)","v":8437.5},7875,7312.5,6750,6187.5,5625,5062.5,4500,3937.5,3375,2812.5,2250,1687.5,1125,562.5,0,0,0,0,0,0,0,0,0,0,0,0,0,0,67500]
[null,"Група 1 – земельні ділянки / Group 1 -ground sections","—",{"$f":"IF('Грошові потоки _ Cash flows'!$E$15>Амортизація_Depreciation!C51, 'Грошові потоки _ Cash flows'!$E$15,Амортизація_Depreciation!C51)","v":"—"},null,{"$f":"(E51+F7+F29-F73-F95-F118)*IF(F$4>0,1,0)","v":0},0,0,0,0,0,0,0,0,0,0,0,0,0,0,0,0,0,0,0,0,0,0,0,0,0,0,0,0,0,0]
[null,"Група 2 – капітальні витрати на поліпшення землі, не пов'язані з будівництвом / CAPEX on ground improvement not related to construction",15,{"$f":"IF('Грошові потоки _ Cash flows'!$E$15>Амортизація_Depreciation!C52, 'Грошові потоки _ Cash flows'!$E$15,Амортизація_Depreciation!C52)","v":16},null,{"$f":"(E52+F8+F30-F74-F96-F119)*IF(F$4>0,1,0)","v":0},0,0,0,0,0,0,0,0,0,0,0,0,0,0,0,0,0,0,0,0,0,0,0,0,0,0,0,0,0,0]
[null,"Група 3 –  будівлі / buildings",20,{"$f":"IF('Грошові потоки _ Cash flows'!$E$15>Амортизація_Depreciation!C53, 'Грошові потоки _ Cash flows'!$E$15,Амортизація_Depreciation!C53)","v":20},null,{"$f":"(E53+F9+F31-F75-F97-F120)*IF(F$4>0,1,0)","v":0},0,0,0,0,0,0,0,0,0,0,0,0,0,0,0,0,0,0,0,0,0,0,0,0,0,0,0,0,0,0]
[null,"споруди / constructions",15,{"$f":"IF('Грошові потоки _ Cash flows'!$E$15>Амортизація_Depreciation!C54, 'Грошові потоки _ Cash flows'!$E$15,Амортизація_Depreciation!C54)","v":16},null,{"$f":"(E54+F10+F32-F76-F98-F121)*IF(F$4>0,1,0)","v":0},0,0,0,0,0,0,0,0,0,0,0,0,0,0,0,0,0,0,0,0,0,0,0,0,0,0,0,0,0,0]
[null,"передавальні пристрої / transmitting devices",10,{"$f":"IF('Грошові потоки _ Cash flows'!$E$15>Амортизація_Depreciation!C55, 'Грошові потоки _ Cash flows'!$E$15,Амортизація_Depreciation!C55)","v":16},null,{"$f":"(E55+F11+F33-F77-F99-F122)*IF(F$4>0,1,0)","v":0},0,0,0,0,0,0,0,0,0,0,0,0,0,0,0,0,0,0,0,0,0,0,0,0,0,0,0,0,0,0]
[null,"Група 4 –  машини та обладнання / Machines and equipment",5,{"$f":"IF('Грошові потоки _ Cash flows'!$E$15>Амортизація_Depreciation!C56, 'Грошові потоки _ Cash flows'!$E$15,Амортизація_Depreciation!C56)","v":16},null,0,{"$f":"(F56+G12+G34-G78-G100-G123)*IF(G$4>0,1,0)","v":8437.5},7875,7312.5,{"$f":"(I56+J12+J34-J78-J100-J123)*IF(J$4>0,1,0)","v":6750},{"$f":"(J56+K12+K34-K78-K100-K123)*IF(K$4>0,1,0)","v":6187.5},{"$f":"(K56+L12+L34-L78-L100-L123)*IF(L$4>0,1,0)","v":5625},{"$f":"(L56+M12+M34-M78-M100-M123)*IF(M$4>0,1,0)","v":5062.5},{"$f":"(M56+N12+N34-N78-N100-N123)*IF(N$4>0,1,0)","v":4500},{"$f":"(N56+O12+O34-O78-O100-O123)*IF(O$4>0,1,0)","v":3937.5},{"$f":"(O56+P12+P34-P78-P100-P123)*IF(P$4>0,1,0)","v":3375},{"$f":"(P56+Q12+Q34-Q78-Q100-Q123)*IF(Q$4>0,1,0)","v":2812.5},{"$f":"(Q56+R12+R34-R78-R100-R123)*IF(R$4>0,1,0)","v":2250},{"$f":"(R56+S12+S34-S78-S100-S123)*IF(S$4>0,1,0)","v":1687.5},{"$f":"(S56+T12+T34-T78-T100-T123)*IF(T$4>0,1,0)","v":1125},{"$f":"(T56+U12+U34-U78-U100-U123)*IF(U$4>0,1,0)","v":562.5},{"$f":"(U56+V12+V34-V78-V100-V123)*IF(V$4>0,1,0)","v":0},{"$f":"(V56+W12+W34-W78-W100-W123)*IF(W$4>0,1,0)","v":0},{"$f":"(W56+X12+X34-X78-X100-X123)*IF(X$4>0,1,0)","v":0},{"$f":"(X56+Y12+Y34-Y78-Y100-Y123)*IF(Y$4>0,1,0)","v":0},{"$f":"(Y56+Z12+Z34-Z78-Z100-Z123)*IF(Z$4>0,1,0)","v":0},{"$f":"(Z56+AA12+AA34-AA78-AA100-AA123)*IF(AA$4>0,1,0)","v":0},{"$f":"(AA56+AB12+AB34-AB78-AB100-AB123)*IF(AB$4>0,1,0)","v":0},{"$f":"(AB56+AC12+AC34-AC78-AC100-AC123)*IF(AC$4>0,1,0)","v":0},{"$f":"(AC56+AD12+AD34-AD78-AD100-AD123)*IF(AD$4>0,1,0)","v":0},{"$f":"(AD56+AE12+AE34-AE78-AE100-AE123)*IF(AE$4>0,1,0)","v":0},{"$f":"(AE56+AF12+AF34-AF78-AF100-AF123)*IF(AF$4>0,1,0)","v":0},{"$f":"(AF56+AG12+AG34-AG78-AG100-AG123)*IF(AG$4>0,1,0)","v":0},{"$f":"(AG56+AH12+AH34-AH78-AH100-AH123)*IF(AH$4>0,1,0)","v":0},{"$f":"(AH56+AI12+AI34-AI78-AI100-AI123)*IF(AI$4>0,1,0)","v":0},67500]
[null,"Електронно-обчислювальні машини, інші машини для автоматичного оброблення інформації, пов'язані з ними засоби зчитування або друку інформації, пов'язані з ними комп'ютерні програми (крім програм, витрати на придбання яких визнаються роялті, та / або програм, які визнаються нематеріальним активів) , інші інформаційні системи, комутатори, маршрутизатори, модулі, модеми, джерела безперебійного живлення та засоби їх підключення до телекомунікаційних мереж, телефони (в тому числі мобільні), мікрофони і рації, вартість яких перевищує 2500 гривень.",2,{"$f":"IF('Грошові потоки _ Cash flows'!$E$15>Амортизація_Depreciation!C57, 'Грошові потоки _ Cash flows'!$E$15,Амортизація_Depreciation!C57)","v":16},null,{"$f":"(E57+F13+F35-F79-F101-F124)*IF(F$4>0,1,0)","v":0},0,0,0,0,0,0,0,0,0,0,0,0,0,0,0,0,0,0,0,0,0,0,0,0,0,0,0,0,0,0]
[null,"Група 5 – транспортні засоби / vehicles",5,{"$f":"IF('Грошові потоки _ Cash flows'!$E$15>Амортизація_Depreciation!C58, 'Грошові потоки _ Cash flows'!$E$15,Амортизація_Depreciation!C58)","v":16},null,{"$f":"(E58+F14+F36-F80-F102-F125)*IF(F$4>0,1,0)","v":0},0,0,0,0,0,0,0,0,0,0,0,0,0,0,0,0,0,0,0,0,0,0,0,0,0,0,0,0,0,0]
[null,"Група 6 – інструменти, прилади, інвентар (меблі) / tools, devices, inventory (furniture)",4,{"$f":"IF('Грошові потоки _ Cash flows'!$E$15>Амортизація_Depreciation!C59, 'Грошові потоки _ Cash flows'!$E$15,Амортизація_Depreciation!C59)","v":16},null,{"$f":"(E59+F15+F37-F81-F103-F126)*IF(F$4>0,1,0)","v":0},0,0,0,0,0,0,0,0,0,0,0,0,0,0,0,0,0,0,0,0,0,0,0,0,0,0,0,0,0,0]
[null,"Група 7 – тварини / animals",6,{"$f":"IF('Грошові потоки _ Cash flows'!$E$15>Амортизація_Depreciation!C60, 'Грошові потоки _ Cash flows'!$E$15,Амортизація_Depreciation!C60)","v":16},null,{"$f":"(E60+F16+F38-F82-F104-F127)*IF(F$4>0,1,0)","v":0},0,0,0,0,0,0,0,0,0,0,0,0,0,0,0,0,0,0,0,0,0,0,0,0,0,0,0,0,0,0]
[null,"Група 8 – багаторічні насадження / perennial plantings",10,{"$f":"IF('Грошові потоки _ Cash flows'!$E$15>Амортизація_Depreciation!C61, 'Грошові потоки _ Cash flows'!$E$15,Амортизація_Depreciation!C61)","v":16},null,{"$f":"(E61+F17+F39-F83-F105-F128)*IF(F$4>0,1,0)","v":0},0,0,0,0,0,0,0,0,0,0,0,0,0,0,0,0,0,0,0,0,0,0,0,0,0,0,0,0,0,0]
[null,"Група 9 – інші основні засоби / other fixed assets",12,{"$f":"IF('Грошові потоки _ Cash flows'!$E$15>Амортизація_Depreciation!C62, 'Грошові потоки _ Cash flows'!$E$15,Амортизація_Depreciation!C62)","v":16},null,{"$f":"(E62+F18+F40-F84-F106-F129)*IF(F$4>0,1,0)","v":0},0,0,0,0,0,0,0,0,0,0,0,0,0,0,0,0,0,0,0,0,0,0,0,0,0,0,0,0,0,0]
[null,"Інші необоротні матеріальні активи: / Other non-current tangible assets:",null,null,null,{"$f":"SUM(F64:F70)","v":0},{"$f":"SUM(G64:G70)","v":0},0,0,0,0,0,0,0,0,0,0,0,0,0,{"$f":"SUM(U64:U70)","v":0},{"$f":"SUM(V64:V70)","v":0},0,0,0,0,0,0,0,0,0,0,0,0,0,0]
[null,"Група 10 – бібліотечні фонди /library funds","—",{"$f":"IF('Грошові потоки _ Cash flows'!$E$15>Амортизація_Depreciation!C64, 'Грошові потоки _ Cash flows'!$E$15,Амортизація_Depreciation!C64)","v":"—"},null,{"$f":"(E64+F20+F42-F86-F108-F131)*IF(F$4>0,1,0)","v":0},0,0,0,0,0,0,0,0,0,0,0,0,0,0,0,0,0,0,0,0,0,0,0,0,0,0,0,0,0,0]
[null,"Група 11 – малоцінні необоротні активи / low-value non-current assets","—",{"$f":"IF('Грошові потоки _ Cash flows'!$E$15>Амортизація_Depreciation!C65, 'Грошові потоки _ Cash flows'!$E$15,Амортизація_Depreciation!C65)","v":"—"},null,{"$f":"(E65+F21+F43-F87-F109-F132)*IF(F$4>0,1,0)","v":0},0,0,0,0,0,0,0,0,0,0,0,0,0,0,0,0,0,0,0,0,0,0,0,0,0,0,0,0,0,{"$f":"SUM(F65:AI65)","v":0}]
[null,"Група 12 – тимчасові (нетитульні) споруди / temporary (untitled) buildings",5,{"$f":"IF('Грошові потоки _ Cash flows'!$E$15>Амортизація_Depreciation!C66, 'Грошові потоки _ Cash flows'!$E$15,Амортизація_Depreciation!C66)","v":16},null,{"$f":"(E66+F22+F44-F88-F110-F133)*IF(F$4>0,1,0)","v":0},0,0,0,0,0,0,0,0,0,0,0,0,0,0,0,0,0,0,0,0,0,0,0,0,0,0,0,0,0,0]
[null,"Група 13 – природні ресурси / natural resources","—",{"$f":"IF('Грошові потоки _ Cash flows'!$E$15>Амортизація_Depreciation!C67, 'Грошові потоки _ Cash flows'!$E$15,Амортизація_Depreciation!C67)","v":"—"},null,{"$f":"(E67+F23+F45-F89-F111-F134)*IF(F$4>0,1,0)","v":0},0,0,0,0,0,0,0,0,0,0,0,0,0,0,0,0,0,0,0,0,0,0,0,0,0,0,0,0,0,0]
[null,"Група 14 – інвентарна тара / inventory packaging",6,{"$f":"IF('Грошові потоки _ Cash flows'!$E$15>Амортизація_Depreciation!C68, 'Грошові потоки _ Cash flows'!$E$15,Амортизація_Depreciation!C68)","v":16},null,{"$f":"(E68+F24+F46-F90-F112-F135)*IF(F$4>0,1,0)","v":0},0,0,0,0,0,0,0,0,0,0,0,0,0,0,0,0,0,0,0,0,0,0,0,0,0,0,0,0,0,0]
[null,"Група 15 – предмети прокату / lease items",5,{"$f":"IF('Грошові потоки _ Cash flows'!$E$15>Амортизація_Depreciation!C69, 'Грошові потоки _ Cash flows'!$E$15,Амортизація_Depreciation!C69)","v":16},null,{"$f":"(E69+F25+F47-F91-F113-F136)*IF(F$4>0,1,0)","v":0},0,0,0,0,0,0,0,0,0,0,0,0,0,0,0,0,0,0,0,0,0,0,0,0,0,0,0,0,0,0]
[null,"Група 16 – довгострокові біологічні активи / Long-term biological assets",7,{"$f":"IF('Грошові потоки _ Cash flows'!$E$15>Амортизація_Depreciation!C70, 'Грошові потоки _ Cash flows'!$E$15,Амортизація_Depreciation!C70)","v":16},null,{"$f":"(E70+F26+F48-F92-F114-F137)*IF(F$4>0,1,0)","v":0},0,0,0,0,0,0,0,0,0,0,0,0,0,0,0,0,0,0,0,0,0,0,0,0,0,0,0,0,0,{"$f":"SUM(F70:AI70)","v":0}]
[null,"Амортизація - об'єкт ОЗ / Depreciation FA objects",null,null,null,{"$f":"F72+F85","v":0},{"$f":"G72+G85","v":562.5},562.5,562.5,562.5,562.5,562.5,562.5,562.5,562.5,562.5,562.5,562.5,562.5,562.5,562.5,0,0,0,0,0,0,0,0,0,0,0,0,0,0,8437.5]
[null,"Основні засоби: / fixed assets",null,null,null,{"$f":"SUM(F73:F84)","v":0},{"$f":"SUM(G73:G84)","v":562.5},562.5,562.5,562.5,562.5,562.5,562.5,562.5,562.5,562.5,562.5,562.5,562.5,562.5,{"$f":"SUM(U73:U84)","v":562.5},{"$f":"SUM(V73:V84)","v":0},0,0,0,0,0,0,0,0,0,0,0,0,0,8437.5]
[null,"Група 1 – земельні ділянки / Group 1 -ground sections","—",{"$f":"IF('Грошові потоки _ Cash flows'!$E$15>Амортизація_Depreciation!C73, 'Грошові потоки _ Cash flows'!$E$15,Амортизація_Depreciation!C73)","v":"—"},null,0,0,0,0,0,0,0,0,0,0,0,0,0,0,0,0,0,0,0,0,0,0,0,0,0,0,0,0,0,0,0]
[null,"Група 2 – капітальні витрати на поліпшення землі, не пов'язані з будівництвом / CAPEX on ground improvement not related to construction",15,{"$f":"IF('Грошові потоки _ Cash flows'!$E$15>Амортизація_Depreciation!C74, 'Грошові потоки _ Cash flows'!$E$15,Амортизація_Depreciation!C74)","v":16},null,{"$f":"SUM($F8:F8)/$D8*IF(F$4>0,1,0)","v":0},{"$f":"SUM($F8:G8)/$D$8*IF(G$4>0,1,0)","v":0},{"$f":"SUM($F8:H8)/$D$8*IF(H$4>0,1,0)","v":0},{"$f":"SUM($F8:I8)/$D$8*IF(I$4>0,1,0)","v":0},{"$f":"SUM($F8:J8)/$D$8*IF(J$4>0,1,0)","v":0},{"$f":"SUM($F8:K8)/$D$8*IF(K$4>0,1,0)","v":0},{"$f":"SUM($F8:L8)/$D$8*IF(L$4>0,1,0)","v":0},{"$f":"SUM($F8:M8)/$D$8*IF(M$4>0,1,0)","v":0},{"$f":"SUM($F8:N8)/$D$8*IF(N$4>0,1,0)","v":0},{"$f":"SUM($F8:O8)/$D$8*IF(O$4>0,1,0)","v":0},{"$f":"SUM($F8:P8)/$D$8*IF(P$4>0,1,0)","v":0},{"$f":"SUM($F8:Q8)/$D$8*IF(Q$4>0,1,0)","v":0},{"$f":"SUM($F8:R8)/$D$8*IF(R$4>0,1,0)","v":0},{"$f":"SUM($F8:S8)/$D$8*IF(S$4>0,1,0)","v":0},{"$f":"SUM($F8:T8)/$D$8*IF(T$4>0,1,0)","v":0},{"$f":"SUM($F8:U8)/$D$8*IF(U$4>0,1,0)","v":0},{"$f":"SUM($F8:V8)/$D$8*IF(V$4>0,1,0)","v":0},{"$f":"SUM($F8:W8)/$D$8*IF(W$4>0,1,0)","v":0},{"$f":"SUM($F8:X8)/$D$8*IF(X$4>0,1,0)","v":0},{"$f":"SUM($F8:Y8)/$D$8*IF(Y$4>0,1,0)","v":0},{"$f":"SUM($F8:Z8)/$D$8*IF(Z$4>0,1,0)","v":0},{"$f":"SUM($F8:AA8)/$D$8*IF(AA$4>0,1,0)","v":0},{"$f":"SUM($F8:AB8)/$D$8*IF(AB$4>0,1,0)","v":0},{"$f":"SUM($F8:AC8)/$D$8*IF(AC$4>0,1,0)","v":0},{"$f":"SUM($F8:AD8)/$D$8*IF(AD$4>0,1,0)","v":0},{"$f":"SUM($F8:AE8)/$D$8*IF(AE$4>0,1,0)","v":0},{"$f":"SUM($F8:AF8)/$D$8*IF(AF$4>0,1,0)","v":0},{"$f":"SUM($F8:AG8)/$D$8*IF(AG$4>0,1,0)","v":0},{"$f":"SUM($F8:AH8)/$D$8*IF(AH$4>0,1,0)","v":0},{"$f":"SUM($F8:AI8)/$D$8*IF(AI$4>0,1,0)","v":0},0]
[null,"Група 3 –  будівлі / buildings",20,{"$f":"IF('Грошові потоки _ Cash flows'!$E$15>Амортизація_Depreciation!C75, 'Грошові потоки _ Cash flows'!$E$15,Амортизація_Depreciation!C75)","v":20},null,{"$f":"SUM($F9:F9)/$D9*IF(F$4>0,1,0)","v":0},{"$f":"SUM($F9:G9)/$D9*IF(G$4>0,1,0)","v":0},{"$f":"SUM($F9:H9)/$D9*IF(H$4>0,1,0)","v":0},{"$f":"SUM($F9:I9)/$D9*IF(I$4>0,1,0)","v":0},{"$f":"SUM($F9:J9)/$D9*IF(J$4>0,1,0)","v":0},{"$f":"SUM($F9:K9)/$D9*IF(K$4>0,1,0)","v":0},{"$f":"SUM($F9:L9)/$D9*IF(L$4>0,1,0)","v":0},{"$f":"SUM($F9:M9)/$D9*IF(M$4>0,1,0)","v":0},{"$f":"SUM($F9:N9)/$D9*IF(N$4>0,1,0)","v":0},{"$f":"SUM($F9:O9)/$D9*IF(O$4>0,1,0)","v":0},{"$f":"SUM($F9:P9)/$D9*IF(P$4>0,1,0)","v":0},{"$f":"SUM($F9:Q9)/$D9*IF(Q$4>0,1,0)","v":0},{"$f":"SUM($F9:R9)/$D9*IF(R$4>0,1,0)","v":0},{"$f":"SUM($F9:S9)/$D9*IF(S$4>0,1,0)","v":0},{"$f":"SUM($F9:T9)/$D9*IF(T$4>0,1,0)","v":0},{"$f":"SUM($F9:U9)/$D9*IF(U$4>0,1,0)","v":0},{"$f":"SUM($F9:V9)/$D9*IF(V$4>0,1,0)","v":0},{"$f":"SUM($F9:W9)/$D9*IF(W$4>0,1,0)","v":0},{"$f":"SUM($F9:X9)/$D9*IF(X$4>0,1,0)","v":0},{"$f":"SUM($F9:Y9)/$D9*IF(Y$4>0,1,0)","v":0},{"$f":"SUM($F9:Z9)/$D9*IF(Z$4>0,1,0)","v":0},{"$f":"SUM($F9:AA9)/$D9*IF(AA$4>0,1,0)","v":0},{"$f":"SUM($F9:AB9)/$D9*IF(AB$4>0,1,0)","v":0},{"$f":"SUM($F9:AC9)/$D9*IF(AC$4>0,1,0)","v":0},{"$f":"SUM($F9:AD9)/$D9*IF(AD$4>0,1,0)","v":0},{"$f":"SUM($F9:AE9)/$D9*IF(AE$4>0,1,0)","v":0},{"$f":"SUM($F9:AF9)/$D9*IF(AF$4>0,1,0)","v":0},{"$f":"SUM($F9:AG9)/$D9*IF(AG$4>0,1,0)","v":0},{"$f":"SUM($F9:AH9)/$D9*IF(AH$4>0,1,0)","v":0},{"$f":"SUM($F9:AI9)/$D9*IF(AI$4>0,1,0)","v":0},0]
[null,"споруди / constructions",15,{"$f":"IF('Грошові потоки _ Cash flows'!$E$15>Амортизація_Depreciation!C76, 'Грошові потоки _ Cash flows'!$E$15,Амортизація_Depreciation!C76)","v":16},null,{"$f":"SUM($F10:F10)/$D10*IF(F$4>0,1,0)","v":0},{"$f":"SUM($F10:G10)/$D10*IF(G$4>0,1,0)","v":0},{"$f":"SUM($F10:H10)/$D10*IF(H$4>0,1,0)","v":0},{"$f":"SUM($F10:I10)/$D10*IF(I$4>0,1,0)","v":0},{"$f":"SUM($F10:J10)/$D10*IF(J$4>0,1,0)","v":0},{"$f":"SUM($F10:K10)/$D10*IF(K$4>0,1,0)","v":0},{"$f":"SUM($F10:L10)/$D10*IF(L$4>0,1,0)","v":0},{"$f":"SUM($F10:M10)/$D10*IF(M$4>0,1,0)","v":0},{"$f":"SUM($F10:N10)/$D10*IF(N$4>0,1,0)","v":0},{"$f":"SUM($F10:O10)/$D10*IF(O$4>0,1,0)","v":0},{"$f":"SUM($F10:P10)/$D10*IF(P$4>0,1,0)","v":0},{"$f":"SUM($F10:Q10)/$D10*IF(Q$4>0,1,0)","v":0},{"$f":"SUM($F10:R10)/$D10*IF(R$4>0,1,0)","v":0},{"$f":"SUM($F10:S10)/$D10*IF(S$4>0,1,0)","v":0},{"$f":"SUM($F10:T10)/$D10*IF(T$4>0,1,0)","v":0},{"$f":"SUM($F10:U10)/$D10*IF(U$4>0,1,0)","v":0},{"$f":"SUM($F10:V10)/$D10*IF(V$4>0,1,0)","v":0},{"$f":"SUM($F10:W10)/$D10*IF(W$4>0,1,0)","v":0},{"$f":"SUM($F10:X10)/$D10*IF(X$4>0,1,0)","v":0},{"$f":"SUM($F10:Y10)/$D10*IF(Y$4>0,1,0)","v":0},{"$f":"SUM($F10:Z10)/$D10*IF(Z$4>0,1,0)","v":0},{"$f":"SUM($F10:AA10)/$D10*IF(AA$4>0,1,0)","v":0},{"$f":"SUM($F10:AB10)/$D10*IF(AB$4>0,1,0)","v":0},{"$f":"SUM($F10:AC10)/$D10*IF(AC$4>0,1,0)","v":0},{"$f":"SUM($F10:AD10)/$D10*IF(AD$4>0,1,0)","v":0},{"$f":"SUM($F10:AE10)/$D10*IF(AE$4>0,1,0)","v":0},{"$f":"SUM($F10:AF10)/$D10*IF(AF$4>0,1,0)","v":0},{"$f":"SUM($F10:AG10)/$D10*IF(AG$4>0,1,0)","v":0},{"$f":"SUM($F10:AH10)/$D10*IF(AH$4>0,1,0)","v":0},{"$f":"SUM($F10:AI10)/$D10*IF(AI$4>0,1,0)","v":0},0]
[null,"передавальні пристрої / transmitting devices",10,{"$f":"IF('Грошові потоки _ Cash flows'!$E$15>Амортизація_Depreciation!C77, 'Грошові потоки _ Cash flows'!$E$15,Амортизація_Depreciation!C77)","v":16},null,{"$f":"SUM($F11:F11)/$D11*IF(F$4>0,1,0)","v":0},{"$f":"SUM($F11:G11)/$D11*IF(G$4>0,1,0)","v":0},{"$f":"SUM($F11:H11)/$D11*IF(H$4>0,1,0)","v":0},{"$f":"SUM($F11:I11)/$D11*IF(I$4>0,1,0)","v":0},{"$f":"SUM($F11:J11)/$D11*IF(J$4>0,1,0)","v":0},{"$f":"SUM($F11:K11)/$D11*IF(K$4>0,1,0)","v":0},{"$f":"SUM($F11:L11)/$D11*IF(L$4>0,1,0)","v":0},{"$f":"SUM($F11:M11)/$D11*IF(M$4>0,1,0)","v":0},{"$f":"SUM($F11:N11)/$D11*IF(N$4>0,1,0)","v":0},{"$f":"SUM($F11:O11)/$D11*IF(O$4>0,1,0)","v":0},{"$f":"SUM($F11:P11)/$D11*IF(P$4>0,1,0)","v":0},{"$f":"SUM($F11:Q11)/$D11*IF(Q$4>0,1,0)","v":0},{"$f":"SUM($F11:R11)/$D11*IF(R$4>0,1,0)","v":0},{"$f":"SUM($F11:S11)/$D11*IF(S$4>0,1,0)","v":0},{"$f":"SUM($F11:T11)/$D11*IF(T$4>0,1,0)","v":0},{"$f":"SUM($F11:U11)/$D11*IF(U$4>0,1,0)","v":0},{"$f":"SUM($F11:V11)/$D11*IF(V$4>0,1,0)","v":0},{"$f":"SUM($F11:W11)/$D11*IF(W$4>0,1,0)","v":0},{"$f":"SUM($F11:X11)/$D11*IF(X$4>0,1,0)","v":0},{"$f":"SUM($F11:Y11)/$D11*IF(Y$4>0,1,0)","v":0},{"$f":"SUM($F11:Z11)/$D11*IF(Z$4>0,1,0)","v":0},{"$f":"SUM($F11:AA11)/$D11*IF(AA$4>0,1,0)","v":0},{"$f":"SUM($F11:AB11)/$D11*IF(AB$4>0,1,0)","v":0},{"$f":"SUM($F11:AC11)/$D11*IF(AC$4>0,1,0)","v":0},{"$f":"SUM($F11:AD11)/$D11*IF(AD$4>0,1,0)","v":0},{"$f":"SUM($F11:AE11)/$D11*IF(AE$4>0,1,0)","v":0},{"$f":"SUM($F11:AF11)/$D11*IF(AF$4>0,1,0)","v":0},{"$f":"SUM($F11:AG11)/$D11*IF(AG$4>0,1,0)","v":0},{"$f":"SUM($F11:AH11)/$D11*IF(AH$4>0,1,0)","v":0},{"$f":"SUM($F11:AI11)/$D11*IF(AI$4>0,1,0)","v":0},0]
[null,"Група 4 –  машини та обладнання / Machines and equipment",5,{"$f":"IF('Грошові потоки _ Cash flows'!$E$15>Амортизація_Depreciation!C78, 'Грошові потоки _ Cash flows'!$E$15,Амортизація_Depreciation!C78)","v":16},null,{"$f":"SUM($F12:F12)/$D12*IF(F$4>0,1,0)","v":0},{"$f":"SUM($F12:G12)/$D12*IF(G$4>0,1,0)","v":562.5},{"$f":"SUM($F12:H12)/$D12*IF(H$4>0,1,0)","v":562.5},{"$f":"SUM($F12:I12)/$D12*IF(I$4>0,1,0)","v":562.5},{"$f":"SUM($F12:J12)/$D12*IF(J$4>0,1,0)","v":562.5},{"$f":"SUM($F12:K12)/$D12*IF(K$4>0,1,0)","v":562.5},{"$f":"SUM($F12:L12)/$D12*IF(L$4>0,1,0)","v":562.5},{"$f":"SUM($F12:M12)/$D12*IF(M$4>0,1,0)","v":562.5},{"$f":"SUM($F12:N12)/$D12*IF(N$4>0,1,0)","v":562.5},{"$f":"SUM($F12:O12)/$D12*IF(O$4>0,1,0)","v":562.5},{"$f":"SUM($F12:P12)/$D12*IF(P$4>0,1,0)","v":562.5},{"$f":"SUM($F12:Q12)/$D12*IF(Q$4>0,1,0)","v":562.5},{"$f":"SUM($F12:R12)/$D12*IF(R$4>0,1,0)","v":562.5},{"$f":"SUM($F12:S12)/$D12*IF(S$4>0,1,0)","v":562.5},{"$f":"SUM($F12:T12)/$D12*IF(T$4>0,1,0)","v":562.5},{"$f":"SUM($F12:U12)/$D12*IF(U$4>0,1,0)","v":562.5},{"$f":"SUM($F12:V12)/$D12*IF(V$4>0,1,0)","v":0},{"$f":"SUM($F12:W12)/$D12*IF(W$4>0,1,0)","v":0},{"$f":"SUM($F12:X12)/$D12*IF(X$4>0,1,0)","v":0},{"$f":"SUM($F12:Y12)/$D12*IF(Y$4>0,1,0)","v":0},{"$f":"SUM($F12:Z12)/$D12*IF(Z$4>0,1,0)","v":0},{"$f":"SUM($F12:AA12)/$D12*IF(AA$4>0,1,0)","v":0},{"$f":"SUM($F12:AB12)/$D12*IF(AB$4>0,1,0)","v":0},{"$f":"SUM($F12:AC12)/$D12*IF(AC$4>0,1,0)","v":0},{"$f":"SUM($F12:AD12)/$D12*IF(AD$4>0,1,0)","v":0},{"$f":"SUM($F12:AE12)/$D12*IF(AE$4>0,1,0)","v":0},{"$f":"SUM($F12:AF12)/$D12*IF(AF$4>0,1,0)","v":0},{"$f":"SUM($F12:AG12)/$D12*IF(AG$4>0,1,0)","v":0},{"$f":"SUM($F12:AH12)/$D12*IF(AH$4>0,1,0)","v":0},{"$f":"SUM($F12:AI12)/$D12*IF(AI$4>0,1,0)","v":0},8437.5]
[null,"Електронно-обчислювальні машини, інші машини для автоматичного оброблення інформації, пов'язані з ними засоби зчитування або друку інформації, пов'язані з ними комп'ютерні програми (крім програм, витрати на придбання яких визнаються роялті, та / або програм, які визнаються нематеріальним активів) , інші інформаційні системи, комутатори, маршрутизатори, модулі, модеми, джерела безперебійного живлення та засоби їх підключення до телекомунікаційних мереж, телефони (в тому числі мобільні), мікрофони і рації, вартість яких перевищує 2500 гривень.",2,{"$f":"IF('Грошові потоки _ Cash flows'!$E$15>Амортизація_Depreciation!C79, 'Грошові потоки _ Cash flows'!$E$15,Амортизація_Depreciation!C79)","v":16},null,{"$f":"SUM($F13:F13)/$D13*IF(F$4>0,1,0)","v":0},{"$f":"SUM($F13:G13)/$D13*IF(G$4>0,1,0)","v":0},{"$f":"SUM($F13:H13)/$D13*IF(H$4>0,1,0)","v":0},{"$f":"SUM($F13:I13)/$D13*IF(I$4>0,1,0)","v":0},{"$f":"SUM($F13:J13)/$D13*IF(J$4>0,1,0)","v":0},{"$f":"SUM($F13:K13)/$D13*IF(K$4>0,1,0)","v":0},{"$f":"SUM($F13:L13)/$D13*IF(L$4>0,1,0)","v":0},{"$f":"SUM($F13:M13)/$D13*IF(M$4>0,1,0)","v":0},{"$f":"SUM($F13:N13)/$D13*IF(N$4>0,1,0)","v":0},{"$f":"SUM($F13:O13)/$D13*IF(O$4>0,1,0)","v":0},{"$f":"SUM($F13:P13)/$D13*IF(P$4>0,1,0)","v":0},{"$f":"SUM($F13:Q13)/$D13*IF(Q$4>0,1,0)","v":0},{"$f":"SUM($F13:R13)/$D13*IF(R$4>0,1,0)","v":0},{"$f":"SUM($F13:S13)/$D13*IF(S$4>0,1,0)","v":0},{"$f":"SUM($F13:T13)/$D13*IF(T$4>0,1,0)","v":0},{"$f":"SUM($F13:U13)/$D13*IF(U$4>0,1,0)","v":0},{"$f":"SUM($F13:V13)/$D13*IF(V$4>0,1,0)","v":0},{"$f":"SUM($F13:W13)/$D13*IF(W$4>0,1,0)","v":0},{"$f":"SUM($F13:X13)/$D13*IF(X$4>0,1,0)","v":0},{"$f":"SUM($F13:Y13)/$D13*IF(Y$4>0,1,0)","v":0},{"$f":"SUM($F13:Z13)/$D13*IF(Z$4>0,1,0)","v":0},{"$f":"SUM($F13:AA13)/$D13*IF(AA$4>0,1,0)","v":0},{"$f":"SUM($F13:AB13)/$D13*IF(AB$4>0,1,0)","v":0},{"$f":"SUM($F13:AC13)/$D13*IF(AC$4>0,1,0)","v":0},{"$f":"SUM($F13:AD13)/$D13*IF(AD$4>0,1,0)","v":0},{"$f":"SUM($F13:AE13)/$D13*IF(AE$4>0,1,0)","v":0},{"$f":"SUM($F13:AF13)/$D13*IF(AF$4>0,1,0)","v":0},{"$f":"SUM($F13:AG13)/$D13*IF(AG$4>0,1,0)","v":0},{"$f":"SUM($F13:AH13)/$D13*IF(AH$4>0,1,0)","v":0},{"$f":"SUM($F13:AI13)/$D13*IF(AI$4>0,1,0)","v":0},0]
[null,"Група 5 – транспортні засоби / vehicles",5,{"$f":"IF('Грошові потоки _ Cash flows'!$E$15>Амортизація_Depreciation!C80, 'Грошові потоки _ Cash flows'!$E$15,Амортизація_Depreciation!C80)","v":16},null,{"$f":"SUM($F14:F14)/$D14*IF(F$4>0,1,0)","v":0},{"$f":"SUM($F14:G14)/$D14*IF(G$4>0,1,0)","v":0},{"$f":"SUM($F14:H14)/$D14*IF(H$4>0,1,0)","v":0},{"$f":"SUM($F14:I14)/$D14*IF(I$4>0,1,0)","v":0},{"$f":"SUM($F14:J14)/$D14*IF(J$4>0,1,0)","v":0},{"$f":"SUM($F14:K14)/$D14*IF(K$4>0,1,0)","v":0},{"$f":"SUM($F14:L14)/$D14*IF(L$4>0,1,0)","v":0},{"$f":"SUM($F14:M14)/$D14*IF(M$4>0,1,0)","v":0},{"$f":"SUM($F14:N14)/$D14*IF(N$4>0,1,0)","v":0},{"$f":"SUM($F14:O14)/$D14*IF(O$4>0,1,0)","v":0},{"$f":"SUM($F14:P14)/$D14*IF(P$4>0,1,0)","v":0},{"$f":"SUM($F14:Q14)/$D14*IF(Q$4>0,1,0)","v":0},{"$f":"SUM($F14:R14)/$D14*IF(R$4>0,1,0)","v":0},{"$f":"SUM($F14:S14)/$D14*IF(S$4>0,1,0)","v":0},{"$f":"SUM($F14:T14)/$D14*IF(T$4>0,1,0)","v":0},{"$f":"SUM($F14:U14)/$D14*IF(U$4>0,1,0)","v":0},{"$f":"SUM($F14:V14)/$D14*IF(V$4>0,1,0)","v":0},{"$f":"SUM($F14:W14)/$D14*IF(W$4>0,1,0)","v":0},{"$f":"SUM($F14:X14)/$D14*IF(X$4>0,1,0)","v":0},{"$f":"SUM($F14:Y14)/$D14*IF(Y$4>0,1,0)","v":0},{"$f":"SUM($F14:Z14)/$D14*IF(Z$4>0,1,0)","v":0},{"$f":"SUM($F14:AA14)/$D14*IF(AA$4>0,1,0)","v":0},{"$f":"SUM($F14:AB14)/$D14*IF(AB$4>0,1,0)","v":0},{"$f":"SUM($F14:AC14)/$D14*IF(AC$4>0,1,0)","v":0},{"$f":"SUM($F14:AD14)/$D14*IF(AD$4>0,1,0)","v":0},{"$f":"SUM($F14:AE14)/$D14*IF(AE$4>0,1,0)","v":0},{"$f":"SUM($F14:AF14)/$D14*IF(AF$4>0,1,0)","v":0},{"$f":"SUM($F14:AG14)/$D14*IF(AG$4>0,1,0)","v":0},{"$f":"SUM($F14:AH14)/$D14*IF(AH$4>0,1,0)","v":0},{"$f":"SUM($F14:AI14)/$D14*IF(AI$4>0,1,0)","v":0},0]
[null,"Група 6 – інструменти, прилади, інвентар (меблі) / tools, devices, inventory (furniture)",4,{"$f":"IF('Грошові потоки _ Cash flows'!$E$15>Амортизація_Depreciation!C81, 'Грошові потоки _ Cash flows'!$E$15,Амортизація_Depreciation!C81)","v":16},null,{"$f":"SUM($F15:F15)/$D15*IF(F$4>0,1,0)","v":0},{"$f":"SUM($F15:G15)/$D15*IF(G$4>0,1,0)","v":0},{"$f":"SUM($F15:H15)/$D15*IF(H$4>0,1,0)","v":0},{"$f":"SUM($F15:I15)/$D15*IF(I$4>0,1,0)","v":0},{"$f":"SUM($F15:J15)/$D15*IF(J$4>0,1,0)","v":0},{"$f":"SUM($F15:K15)/$D15*IF(K$4>0,1,0)","v":0},{"$f":"SUM($F15:L15)/$D15*IF(L$4>0,1,0)","v":0},{"$f":"SUM($F15:M15)/$D15*IF(M$4>0,1,0)","v":0},{"$f":"SUM($F15:N15)/$D15*IF(N$4>0,1,0)","v":0},{"$f":"SUM($F15:O15)/$D15*IF(O$4>0,1,0)","v":0},{"$f":"SUM($F15:P15)/$D15*IF(P$4>0,1,0)","v":0},{"$f":"SUM($F15:Q15)/$D15*IF(Q$4>0,1,0)","v":0},{"$f":"SUM($F15:R15)/$D15*IF(R$4>0,1,0)","v":0},{"$f":"SUM($F15:S15)/$D15*IF(S$4>0,1,0)","v":0},{"$f":"SUM($F15:T15)/$D15*IF(T$4>0,1,0)","v":0},{"$f":"SUM($F15:U15)/$D15*IF(U$4>0,1,0)","v":0},{"$f":"SUM($F15:V15)/$D15*IF(V$4>0,1,0)","v":0},{"$f":"SUM($F15:W15)/$D15*IF(W$4>0,1,0)","v":0},{"$f":"SUM($F15:X15)/$D15*IF(X$4>0,1,0)","v":0},{"$f":"SUM($F15:Y15)/$D15*IF(Y$4>0,1,0)","v":0},{"$f":"SUM($F15:Z15)/$D15*IF(Z$4>0,1,0)","v":0},{"$f":"SUM($F15:AA15)/$D15*IF(AA$4>0,1,0)","v":0},{"$f":"SUM($F15:AB15)/$D15*IF(AB$4>0,1,0)","v":0},{"$f":"SUM($F15:AC15)/$D15*IF(AC$4>0,1,0)","v":0},{"$f":"SUM($F15:AD15)/$D15*IF(AD$4>0,1,0)","v":0},{"$f":"SUM($F15:AE15)/$D15*IF(AE$4>0,1,0)","v":0},{"$f":"SUM($F15:AF15)/$D15*IF(AF$4>0,1,0)","v":0},{"$f":"SUM($F15:AG15)/$D15*IF(AG$4>0,1,0)","v":0},{"$f":"SUM($F15:AH15)/$D15*IF(AH$4>0,1,0)","v":0},{"$f":"SUM($F15:AI15)/$D15*IF(AI$4>0,1,0)","v":0},0]
[null,"Група 7 – тварини / animals",6,{"$f":"IF('Грошові потоки _ Cash flows'!$E$15>Амортизація_Depreciation!C82, 'Грошові потоки _ Cash flows'!$E$15,Амортизація_Depreciation!C82)","v":16},null,{"$f":"SUM($F16:F16)/$D16*IF(F$4>0,1,0)","v":0},{"$f":"SUM($F16:G16)/$D16*IF(G$4>0,1,0)","v":0},{"$f":"SUM($F16:H16)/$D16*IF(H$4>0,1,0)","v":0},{"$f":"SUM($F16:I16)/$D16*IF(I$4>0,1,0)","v":0},{"$f":"SUM($F16:J16)/$D16*IF(J$4>0,1,0)","v":0},{"$f":"SUM($F16:K16)/$D16*IF(K$4>0,1,0)","v":0},{"$f":"SUM($F16:L16)/$D16*IF(L$4>0,1,0)","v":0},{"$f":"SUM($F16:M16)/$D16*IF(M$4>0,1,0)","v":0},{"$f":"SUM($F16:N16)/$D16*IF(N$4>0,1,0)","v":0},{"$f":"SUM($F16:O16)/$D16*IF(O$4>0,1,0)","v":0},{"$f":"SUM($F16:P16)/$D16*IF(P$4>0,1,0)","v":0},{"$f":"SUM($F16:Q16)/$D16*IF(Q$4>0,1,0)","v":0},{"$f":"SUM($F16:R16)/$D16*IF(R$4>0,1,0)","v":0},{"$f":"SUM($F16:S16)/$D16*IF(S$4>0,1,0)","v":0},{"$f":"SUM($F16:T16)/$D16*IF(T$4>0,1,0)","v":0},{"$f":"SUM($F16:U16)/$D16*IF(U$4>0,1,0)","v":0},{"$f":"SUM($F16:V16)/$D16*IF(V$4>0,1,0)","v":0},{"$f":"SUM($F16:W16)/$D16*IF(W$4>0,1,0)","v":0},{"$f":"SUM($F16:X16)/$D16*IF(X$4>0,1,0)","v":0},{"$f":"SUM($F16:Y16)/$D16*IF(Y$4>0,1,0)","v":0},{"$f":"SUM($F16:Z16)/$D16*IF(Z$4>0,1,0)","v":0},{"$f":"SUM($F16:AA16)/$D16*IF(AA$4>0,1,0)","v":0},{"$f":"SUM($F16:AB16)/$D16*IF(AB$4>0,1,0)","v":0},{"$f":"SUM($F16:AC16)/$D16*IF(AC$4>0,1,0)","v":0},{"$f":"SUM($F16:AD16)/$D16*IF(AD$4>0,1,0)","v":0},{"$f":"SUM($F16:AE16)/$D16*IF(AE$4>0,1,0)","v":0},{"$f":"SUM($F16:AF16)/$D16*IF(AF$4>0,1,0)","v":0},{"$f":"SUM($F16:AG16)/$D16*IF(AG$4>0,1,0)","v":0},{"$f":"SUM($F16:AH16)/$D16*IF(AH$4>0,1,0)","v":0},{"$f":"SUM($F16:AI16)/$D16*IF(AI$4>0,1,0)","v":0},0]
[null,"Група 8 – багаторічні насадження / perennial plantings",10,{"$f":"IF('Грошові потоки _ Cash flows'!$E$15>Амортизація_Depreciation!C83, 'Грошові потоки _ Cash flows'!$E$15,Амортизація_Depreciation!C83)","v":16},null,{"$f":"SUM($F17:F17)/$D17*IF(F$4>0,1,0)","v":0},{"$f":"SUM($F17:G17)/$D17*IF(G$4>0,1,0)","v":0},{"$f":"SUM($F17:H17)/$D17*IF(H$4>0,1,0)","v":0},{"$f":"SUM($F17:I17)/$D17*IF(I$4>0,1,0)","v":0},{"$f":"SUM($F17:J17)/$D17*IF(J$4>0,1,0)","v":0},{"$f":"SUM($F17:K17)/$D17*IF(K$4>0,1,0)","v":0},{"$f":"SUM($F17:L17)/$D17*IF(L$4>0,1,0)","v":0},{"$f":"SUM($F17:M17)/$D17*IF(M$4>0,1,0)","v":0},{"$f":"SUM($F17:N17)/$D17*IF(N$4>0,1,0)","v":0},{"$f":"SUM($F17:O17)/$D17*IF(O$4>0,1,0)","v":0},{"$f":"SUM($F17:P17)/$D17*IF(P$4>0,1,0)","v":0},{"$f":"SUM($F17:Q17)/$D17*IF(Q$4>0,1,0)","v":0},{"$f":"SUM($F17:R17)/$D17*IF(R$4>0,1,0)","v":0},{"$f":"SUM($F17:S17)/$D17*IF(S$4>0,1,0)","v":0},{"$f":"SUM($F17:T17)/$D17*IF(T$4>0,1,0)","v":0},{"$f":"SUM($F17:U17)/$D17*IF(U$4>0,1,0)","v":0},{"$f":"SUM($F17:V17)/$D17*IF(V$4>0,1,0)","v":0},{"$f":"SUM($F17:W17)/$D17*IF(W$4>0,1,0)","v":0},{"$f":"SUM($F17:X17)/$D17*IF(X$4>0,1,0)","v":0},{"$f":"SUM($F17:Y17)/$D17*IF(Y$4>0,1,0)","v":0},{"$f":"SUM($F17:Z17)/$D17*IF(Z$4>0,1,0)","v":0},{"$f":"SUM($F17:AA17)/$D17*IF(AA$4>0,1,0)","v":0},{"$f":"SUM($F17:AB17)/$D17*IF(AB$4>0,1,0)","v":0},{"$f":"SUM($F17:AC17)/$D17*IF(AC$4>0,1,0)","v":0},{"$f":"SUM($F17:AD17)/$D17*IF(AD$4>0,1,0)","v":0},{"$f":"SUM($F17:AE17)/$D17*IF(AE$4>0,1,0)","v":0},{"$f":"SUM($F17:AF17)/$D17*IF(AF$4>0,1,0)","v":0},{"$f":"SUM($F17:AG17)/$D17*IF(AG$4>0,1,0)","v":0},{"$f":"SUM($F17:AH17)/$D17*IF(AH$4>0,1,0)","v":0},{"$f":"SUM($F17:AI17)/$D17*IF(AI$4>0,1,0)","v":0},0]
[null,"Група 9 – інші основні засоби / other fixed assets",12,{"$f":"IF('Грошові потоки _ Cash flows'!$E$15>Амортизація_Depreciation!C84, 'Грошові потоки _ Cash flows'!$E$15,Амортизація_Depreciation!C84)","v":16},null,{"$f":"SUM($F18:F18)/$D18*IF(F$4>0,1,0)","v":0},{"$f":"SUM($F18:G18)/$D18*IF(G$4>0,1,0)","v":0},{"$f":"SUM($F18:H18)/$D18*IF(H$4>0,1,0)","v":0},{"$f":"SUM($F18:I18)/$D18*IF(I$4>0,1,0)","v":0},{"$f":"SUM($F18:J18)/$D18*IF(J$4>0,1,0)","v":0},{"$f":"SUM($F18:K18)/$D18*IF(K$4>0,1,0)","v":0},{"$f":"SUM($F18:L18)/$D18*IF(L$4>0,1,0)","v":0},{"$f":"SUM($F18:M18)/$D18*IF(M$4>0,1,0)","v":0},{"$f":"SUM($F18:N18)/$D18*IF(N$4>0,1,0)","v":0},{"$f":"SUM($F18:O18)/$D18*IF(O$4>0,1,0)","v":0},{"$f":"SUM($F18:P18)/$D18*IF(P$4>0,1,0)","v":0},{"$f":"SUM($F18:Q18)/$D18*IF(Q$4>0,1,0)","v":0},{"$f":"SUM($F18:R18)/$D18*IF(R$4>0,1,0)","v":0},{"$f":"SUM($F18:S18)/$D18*IF(S$4>0,1,0)","v":0},{"$f":"SUM($F18:T18)/$D18*IF(T$4>0,1,0)","v":0},{"$f":"SUM($F18:U18)/$D18*IF(U$4>0,1,0)","v":0},{"$f":"SUM($F18:V18)/$D18*IF(V$4>0,1,0)","v":0},{"$f":"SUM($F18:W18)/$D18*IF(W$4>0,1,0)","v":0},{"$f":"SUM($F18:X18)/$D18*IF(X$4>0,1,0)","v":0},{"$f":"SUM($F18:Y18)/$D18*IF(Y$4>0,1,0)","v":0},{"$f":"SUM($F18:Z18)/$D18*IF(Z$4>0,1,0)","v":0},{"$f":"SUM($F18:AA18)/$D18*IF(AA$4>0,1,0)","v":0},{"$f":"SUM($F18:AB18)/$D18*IF(AB$4>0,1,0)","v":0},{"$f":"SUM($F18:AC18)/$D18*IF(AC$4>0,1,0)","v":0},{"$f":"SUM($F18:AD18)/$D18*IF(AD$4>0,1,0)","v":0},{"$f":"SUM($F18:AE18)/$D18*IF(AE$4>0,1,0)","v":0},{"$f":"SUM($F18:AF18)/$D18*IF(AF$4>0,1,0)","v":0},{"$f":"SUM($F18:AG18)/$D18*IF(AG$4>0,1,0)","v":0},{"$f":"SUM($F18:AH18)/$D18*IF(AH$4>0,1,0)","v":0},{"$f":"SUM($F18:AI18)/$D18*IF(AI$4>0,1,0)","v":0},0]
[null,"Інші необоротні матеріальні активи: / Other non-current tangible assets:",null,null,null,{"$f":"SUM(F86:F92)","v":0},{"$f":"SUM(G86:G92)","v":0},0,0,0,0,0,0,0,0,0,0,0,0,0,{"$f":"SUM(U86:U92)","v":0},{"$f":"SUM(V86:V92)","v":0},0,0,0,0,0,0,0,0,0,0,0,0,0,{"$f":"SUM(F85:AI92)","v":0}]
[null,"Група 10 – бібліотечні фонди /library funds","—",{"$f":"IF('Грошові потоки _ Cash flows'!$E$15>Амортизація_Depreciation!C86, 'Грошові потоки _ Cash flows'!$E$15,Амортизація_Depreciation!C86)","v":"—"},null,{"$f":"F20*IF(F$4>0,1,0)","v":0},0,0,0,0,0,0,0,0,0,0,0,0,0,0,0,0,0,0,0,0,0,0,0,0,0,0,0,0,0,{"$f":"SUM(F86:AI86)","v":0}]
[null,"Група 11 – малоцінні необоротні активи / low-value non-current assets","—",{"$f":"IF('Грошові потоки _ Cash flows'!$E$15>Амортизація_Depreciation!C87, 'Грошові потоки _ Cash flows'!$E$15,Амортизація_Depreciation!C87)","v":"—"},null,{"$f":"F21*IF(F$4>0,1,0)","v":0},0,0,0,0,0,0,0,0,0,0,0,0,0,0,0,0,0,0,0,0,0,0,0,0,0,0,0,0,0,{"$f":"SUM(F87:AI87)","v":0}]
[null,"Група 12 – тимчасові (нетитульні) споруди / temporary (untitled) buildings",5,{"$f":"IF('Грошові потоки _ Cash flows'!$E$15>Амортизація_Depreciation!C88, 'Грошові потоки _ Cash flows'!$E$15,Амортизація_Depreciation!C88)","v":16},null,{"$f":"SUM($F44:F44)/$D44*IF(F$4>0,1,0)","v":0},{"$f":"SUM($F44:G44)/$D44*IF(G$4>0,1,0)","v":0},{"$f":"SUM($F44:H44)/$D44*IF(H$4>0,1,0)","v":0},{"$f":"SUM($F44:I44)/$D44*IF(I$4>0,1,0)","v":0},{"$f":"SUM($F44:J44)/$D44*IF(J$4>0,1,0)","v":0},{"$f":"SUM($F44:K44)/$D44*IF(K$4>0,1,0)","v":0},{"$f":"SUM($F44:L44)/$D44*IF(L$4>0,1,0)","v":0},{"$f":"SUM($F44:M44)/$D44*IF(M$4>0,1,0)","v":0},{"$f":"SUM($F44:N44)/$D44*IF(N$4>0,1,0)","v":0},{"$f":"SUM($F44:O44)/$D44*IF(O$4>0,1,0)","v":0},{"$f":"SUM($F44:P44)/$D44*IF(P$4>0,1,0)","v":0},{"$f":"SUM($F44:Q44)/$D44*IF(Q$4>0,1,0)","v":0},{"$f":"SUM($F44:R44)/$D44*IF(R$4>0,1,0)","v":0},{"$f":"SUM($F44:S44)/$D44*IF(S$4>0,1,0)","v":0},{"$f":"SUM($F44:T44)/$D44*IF(T$4>0,1,0)","v":0},{"$f":"SUM($F44:U44)/$D44*IF(U$4>0,1,0)","v":0},{"$f":"SUM($F44:V44)/$D44*IF(V$4>0,1,0)","v":0},{"$f":"SUM($F44:W44)/$D44*IF(W$4>0,1,0)","v":0},{"$f":"SUM($F44:X44)/$D44*IF(X$4>0,1,0)","v":0},{"$f":"SUM($F44:Y44)/$D44*IF(Y$4>0,1,0)","v":0},{"$f":"SUM($F44:Z44)/$D44*IF(Z$4>0,1,0)","v":0},{"$f":"SUM($F44:AA44)/$D44*IF(AA$4>0,1,0)","v":0},{"$f":"SUM($F44:AB44)/$D44*IF(AB$4>0,1,0)","v":0},{"$f":"SUM($F44:AC44)/$D44*IF(AC$4>0,1,0)","v":0},{"$f":"SUM($F44:AD44)/$D44*IF(AD$4>0,1,0)","v":0},{"$f":"SUM($F44:AE44)/$D44*IF(AE$4>0,1,0)","v":0},{"$f":"SUM($F44:AF44)/$D44*IF(AF$4>0,1,0)","v":0},{"$f":"SUM($F44:AG44)/$D44*IF(AG$4>0,1,0)","v":0},{"$f":"SUM($F44:AH44)/$D44*IF(AH$4>0,1,0)","v":0},{"$f":"SUM($F44:AI44)/$D44*IF(AI$4>0,1,0)","v":0},0]
[null,"Група 13 – природні ресурси / natural resources","—",{"$f":"IF('Грошові потоки _ Cash flows'!$E$15>Амортизація_Depreciation!C89, 'Грошові потоки _ Cash flows'!$E$15,Амортизація_Depreciation!C89)","v":"—"},null,0,0,0,0,0,0,0,0,0,0,0,0,0,0,0,0,0,0,0,0,0,0,0,0,0,0,0,0,0,0,0]
[null,"Група 14 – інвентарна тара / inventory packaging",6,{"$f":"IF('Грошові потоки _ Cash flows'!$E$15>Амортизація_Depreciation!C90, 'Грошові потоки _ Cash flows'!$E$15,Амортизація_Depreciation!C90)","v":16},null,{"$f":"SUM($F24:F24)/$D24*IF(F$4>0,1,0)","v":0},{"$f":"SUM($F24:G24)/$D24*IF(G$4>0,1,0)","v":0},{"$f":"SUM($F24:H24)/$D24*IF(H$4>0,1,0)","v":0},{"$f":"SUM($F24:I24)/$D24*IF(I$4>0,1,0)","v":0},{"$f":"SUM($F24:J24)/$D24*IF(J$4>0,1,0)","v":0},{"$f":"SUM($F24:K24)/$D24*IF(K$4>0,1,0)","v":0},{"$f":"SUM($F24:L24)/$D24*IF(L$4>0,1,0)","v":0},{"$f":"SUM($F24:M24)/$D24*IF(M$4>0,1,0)","v":0},{"$f":"SUM($F24:N24)/$D24*IF(N$4>0,1,0)","v":0},{"$f":"SUM($F24:O24)/$D24*IF(O$4>0,1,0)","v":0},{"$f":"SUM($F24:P24)/$D24*IF(P$4>0,1,0)","v":0},{"$f":"SUM($F24:Q24)/$D24*IF(Q$4>0,1,0)","v":0},{"$f":"SUM($F24:R24)/$D24*IF(R$4>0,1,0)","v":0},{"$f":"SUM($F24:S24)/$D24*IF(S$4>0,1,0)","v":0},{"$f":"SUM($F24:T24)/$D24*IF(T$4>0,1,0)","v":0},{"$f":"SUM($F24:U24)/$D24*IF(U$4>0,1,0)","v":0},{"$f":"SUM($F24:V24)/$D24*IF(V$4>0,1,0)","v":0},{"$f":"SUM($F24:W24)/$D24*IF(W$4>0,1,0)","v":0},{"$f":"SUM($F24:X24)/$D24*IF(X$4>0,1,0)","v":0},{"$f":"SUM($F24:Y24)/$D24*IF(Y$4>0,1,0)","v":0},{"$f":"SUM($F24:Z24)/$D24*IF(Z$4>0,1,0)","v":0},{"$f":"SUM($F24:AA24)/$D24*IF(AA$4>0,1,0)","v":0},{"$f":"SUM($F24:AB24)/$D24*IF(AB$4>0,1,0)","v":0},{"$f":"SUM($F24:AC24)/$D24*IF(AC$4>0,1,0)","v":0},{"$f":"SUM($F24:AD24)/$D24*IF(AD$4>0,1,0)","v":0},{"$f":"SUM($F24:AE24)/$D24*IF(AE$4>0,1,0)","v":0},{"$f":"SUM($F24:AF24)/$D24*IF(AF$4>0,1,0)","v":0},{"$f":"SUM($F24:AG24)/$D24*IF(AG$4>0,1,0)","v":0},{"$f":"SUM($F24:AH24)/$D24*IF(AH$4>0,1,0)","v":0},{"$f":"SUM($F24:AI24)/$D24*IF(AI$4>0,1,0)","v":0},0]
[null,"Група 15 – предмети прокату / lease items",5,{"$f":"IF('Грошові потоки _ Cash flows'!$E$15>Амортизація_Depreciation!C91, 'Грошові потоки _ Cash flows'!$E$15,Амортизація_Depreciation!C91)","v":16},null,{"$f":"SUM($F25:F25)/$D25*IF(F$4>0,1,0)","v":0},{"$f":"SUM($F25:G25)/$D25*IF(G$4>0,1,0)","v":0},{"$f":"SUM($F25:H25)/$D25*IF(H$4>0,1,0)","v":0},{"$f":"SUM($F25:I25)/$D25*IF(I$4>0,1,0)","v":0},{"$f":"SUM($F25:J25)/$D25*IF(J$4>0,1,0)","v":0},{"$f":"SUM($F25:K25)/$D25*IF(K$4>0,1,0)","v":0},{"$f":"SUM($F25:L25)/$D25*IF(L$4>0,1,0)","v":0},{"$f":"SUM($F25:M25)/$D25*IF(M$4>0,1,0)","v":0},{"$f":"SUM($F25:N25)/$D25*IF(N$4>0,1,0)","v":0},{"$f":"SUM($F25:O25)/$D25*IF(O$4>0,1,0)","v":0},{"$f":"SUM($F25:P25)/$D25*IF(P$4>0,1,0)","v":0},{"$f":"SUM($F25:Q25)/$D25*IF(Q$4>0,1,0)","v":0},{"$f":"SUM($F25:R25)/$D25*IF(R$4>0,1,0)","v":0},{"$f":"SUM($F25:S25)/$D25*IF(S$4>0,1,0)","v":0},{"$f":"SUM($F25:T25)/$D25*IF(T$4>0,1,0)","v":0},{"$f":"SUM($F25:U25)/$D25*IF(U$4>0,1,0)","v":0},{"$f":"SUM($F25:V25)/$D25*IF(V$4>0,1,0)","v":0},{"$f":"SUM($F25:W25)/$D25*IF(W$4>0,1,0)","v":0},{"$f":"SUM($F25:X25)/$D25*IF(X$4>0,1,0)","v":0},{"$f":"SUM($F25:Y25)/$D25*IF(Y$4>0,1,0)","v":0},{"$f":"SUM($F25:Z25)/$D25*IF(Z$4>0,1,0)","v":0},{"$f":"SUM($F25:AA25)/$D25*IF(AA$4>0,1,0)","v":0},{"$f":"SUM($F25:AB25)/$D25*IF(AB$4>0,1,0)","v":0},{"$f":"SUM($F25:AC25)/$D25*IF(AC$4>0,1,0)","v":0},{"$f":"SUM($F25:AD25)/$D25*IF(AD$4>0,1,0)","v":0},{"$f":"SUM($F25:AE25)/$D25*IF(AE$4>0,1,0)","v":0},{"$f":"SUM($F25:AF25)/$D25*IF(AF$4>0,1,0)","v":0},{"$f":"SUM($F25:AG25)/$D25*IF(AG$4>0,1,0)","v":0},{"$f":"SUM($F25:AH25)/$D25*IF(AH$4>0,1,0)","v":0},{"$f":"SUM($F25:AI25)/$D25*IF(AI$4>0,1,0)","v":0},0]
[null,"Група 16 – довгострокові біологічні активи / Long-term biological assets",7,{"$f":"IF('Грошові потоки _ Cash flows'!$E$15>Амортизація_Depreciation!C92, 'Грошові потоки _ Cash flows'!$E$15,Амортизація_Depreciation!C92)","v":16},null,{"$f":"SUM($F26:F26)/$D26*IF(F$4>0,1,0)","v":0},{"$f":"SUM($F26:G26)/$D26*IF(G$4>0,1,0)","v":0},{"$f":"SUM($F26:H26)/$D26*IF(H$4>0,1,0)","v":0},{"$f":"SUM($F26:I26)/$D26*IF(I$4>0,1,0)","v":0},{"$f":"SUM($F26:J26)/$D26*IF(J$4>0,1,0)","v":0},{"$f":"SUM($F26:K26)/$D26*IF(K$4>0,1,0)","v":0},{"$f":"SUM($F26:L26)/$D26*IF(L$4>0,1,0)","v":0},{"$f":"SUM($F26:M26)/$D26*IF(M$4>0,1,0)","v":0},{"$f":"SUM($F26:N26)/$D26*IF(N$4>0,1,0)","v":0},{"$f":"SUM($F26:O26)/$D26*IF(O$4>0,1,0)","v":0},{"$f":"SUM($F26:P26)/$D26*IF(P$4>0,1,0)","v":0},{"$f":"SUM($F26:Q26)/$D26*IF(Q$4>0,1,0)","v":0},{"$f":"SUM($F26:R26)/$D26*IF(R$4>0,1,0)","v":0},{"$f":"SUM($F26:S26)/$D26*IF(S$4>0,1,0)","v":0},{"$f":"SUM($F26:T26)/$D26*IF(T$4>0,1,0)","v":0},{"$f":"SUM($F26:U26)/$D26*IF(U$4>0,1,0)","v":0},{"$f":"SUM($F26:V26)/$D26*IF(V$4>0,1,0)","v":0},{"$f":"SUM($F26:W26)/$D26*IF(W$4>0,1,0)","v":0},{"$f":"SUM($F26:X26)/$D26*IF(X$4>0,1,0)","v":0},{"$f":"SUM($F26:Y26)/$D26*IF(Y$4>0,1,0)","v":0},{"$f":"SUM($F26:Z26)/$D26*IF(Z$4>0,1,0)","v":0},{"$f":"SUM($F26:AA26)/$D26*IF(AA$4>0,1,0)","v":0},{"$f":"SUM($F26:AB26)/$D26*IF(AB$4>0,1,0)","v":0},{"$f":"SUM($F26:AC26)/$D26*IF(AC$4>0,1,0)","v":0},{"$f":"SUM($F26:AD26)/$D26*IF(AD$4>0,1,0)","v":0},{"$f":"SUM($F26:AE26)/$D26*IF(AE$4>0,1,0)","v":0},{"$f":"SUM($F26:AF26)/$D26*IF(AF$4>0,1,0)","v":0},{"$f":"SUM($F26:AG26)/$D26*IF(AG$4>0,1,0)","v":0},{"$f":"SUM($F26:AH26)/$D26*IF(AH$4>0,1,0)","v":0},{"$f":"SUM($F26:AI26)/$D26*IF(AI$4>0,1,0)","v":0},0]
[null,"Амортизація - кап. Ремонти / Depreciation overhaul",null,null,null,{"$f":"F94+F107","v":0},{"$f":"G94+G107","v":0},0,0,0,0,0,0,0,0,0,0,0,0,0,{"$f":"U94+U107","v":0},{"$f":"V94+V107","v":0},0,0,0,0,0,0,0,0,0,0,0,0,0,{"$f":"SUM(F93:AI93)","v":0}]
[null,"Основні засоби: / fixed assets :",null,null,null,{"$f":"SUM(F95:F106)","v":0},{"$f":"SUM(G95:G106)","v":0},0,0,0,0,0,0,0,0,0,0,0,0,0,{"$f":"SUM(U95:U106)","v":0},{"$f":"SUM(V95:V106)","v":0},0,0,0,0,0,0,0,0,0,0,0,0,0,0]
[null,"Група 1 – земельні ділянки / Group 1 -ground sections","—",{"$f":"IF('Грошові потоки _ Cash flows'!$E$15>Амортизація_Depreciation!C95, 'Грошові потоки _ Cash flows'!$E$15,Амортизація_Depreciation!C95)","v":"—"},null,0,0,0,0,0,0,0,0,0,0,0,0,0,0,0,0,0,0,0,0,0,0,0,0,0,0,0,0,0,0,0]
[null,"Група 2 – капітальні витрати на поліпшення землі, не пов'язані з будівництвом / CAPEX on ground improvement not related to construction",15,{"$f":"IF('Грошові потоки _ Cash flows'!$E$15>Амортизація_Depreciation!C96, 'Грошові потоки _ Cash flows'!$E$15,Амортизація_Depreciation!C96)","v":16},null,{"$f":"SUM($F30:F30)/$D30*IF(F$4>0,1,0)","v":0},{"$f":"SUM($F30:G30)/$D30*IF(G$4>0,1,0)","v":0},{"$f":"SUM($F30:H30)/$D30*IF(H$4>0,1,0)","v":0},{"$f":"SUM($F30:I30)/$D30*IF(I$4>0,1,0)","v":0},{"$f":"SUM($F30:J30)/$D30*IF(J$4>0,1,0)","v":0},{"$f":"SUM($F30:K30)/$D30*IF(K$4>0,1,0)","v":0},{"$f":"SUM($F30:L30)/$D30*IF(L$4>0,1,0)","v":0},{"$f":"SUM($F30:M30)/$D30*IF(M$4>0,1,0)","v":0},{"$f":"SUM($F30:N30)/$D30*IF(N$4>0,1,0)","v":0},{"$f":"SUM($F30:O30)/$D30*IF(O$4>0,1,0)","v":0},{"$f":"SUM($F30:P30)/$D30*IF(P$4>0,1,0)","v":0},{"$f":"SUM($F30:Q30)/$D30*IF(Q$4>0,1,0)","v":0},{"$f":"SUM($F30:R30)/$D30*IF(R$4>0,1,0)","v":0},{"$f":"SUM($F30:S30)/$D30*IF(S$4>0,1,0)","v":0},{"$f":"SUM($F30:T30)/$D30*IF(T$4>0,1,0)","v":0},{"$f":"SUM($F30:U30)/$D30*IF(U$4>0,1,0)","v":0},{"$f":"SUM($F30:V30)/$D30*IF(V$4>0,1,0)","v":0},{"$f":"SUM($F30:W30)/$D30*IF(W$4>0,1,0)","v":0},{"$f":"SUM($F30:X30)/$D30*IF(X$4>0,1,0)","v":0},{"$f":"SUM($F30:Y30)/$D30*IF(Y$4>0,1,0)","v":0},{"$f":"SUM($F30:Z30)/$D30*IF(Z$4>0,1,0)","v":0},{"$f":"SUM($F30:AA30)/$D30*IF(AA$4>0,1,0)","v":0},{"$f":"SUM($F30:AB30)/$D30*IF(AB$4>0,1,0)","v":0},{"$f":"SUM($F30:AC30)/$D30*IF(AC$4>0,1,0)","v":0},{"$f":"SUM($F30:AD30)/$D30*IF(AD$4>0,1,0)","v":0},{"$f":"SUM($F30:AE30)/$D30*IF(AE$4>0,1,0)","v":0},{"$f":"SUM($F30:AF30)/$D30*IF(AF$4>0,1,0)","v":0},{"$f":"SUM($F30:AG30)/$D30*IF(AG$4>0,1,0)","v":0},{"$f":"SUM($F30:AH30)/$D30*IF(AH$4>0,1,0)","v":0},{"$f":"SUM($F30:AI30)/$D30*IF(AI$4>0,1,0)","v":0},0]
[null,"Група 3 –  будівлі / buildings",20,{"$f":"IF('Грошові потоки _ Cash flows'!$E$15>Амортизація_Depreciation!C97, 'Грошові потоки _ Cash flows'!$E$15,Амортизація_Depreciation!C97)","v":20},null,{"$f":"SUM($F31:F31)/$D31*IF(F$4>0,1,0)","v":0},{"$f":"SUM($F31:G31)/$D31*IF(G$4>0,1,0)","v":0},{"$f":"SUM($F31:H31)/$D31*IF(H$4>0,1,0)","v":0},{"$f":"SUM($F31:I31)/$D31*IF(I$4>0,1,0)","v":0},{"$f":"SUM($F31:J31)/$D31*IF(J$4>0,1,0)","v":0},{"$f":"SUM($F31:K31)/$D31*IF(K$4>0,1,0)","v":0},{"$f":"SUM($F31:L31)/$D31*IF(L$4>0,1,0)","v":0},{"$f":"SUM($F31:M31)/$D31*IF(M$4>0,1,0)","v":0},{"$f":"SUM($F31:N31)/$D31*IF(N$4>0,1,0)","v":0},{"$f":"SUM($F31:O31)/$D31*IF(O$4>0,1,0)","v":0},{"$f":"SUM($F31:P31)/$D31*IF(P$4>0,1,0)","v":0},{"$f":"SUM($F31:Q31)/$D31*IF(Q$4>0,1,0)","v":0},{"$f":"SUM($F31:R31)/$D31*IF(R$4>0,1,0)","v":0},{"$f":"SUM($F31:S31)/$D31*IF(S$4>0,1,0)","v":0},{"$f":"SUM($F31:T31)/$D31*IF(T$4>0,1,0)","v":0},{"$f":"SUM($F31:U31)/$D31*IF(U$4>0,1,0)","v":0},{"$f":"SUM($F31:V31)/$D31*IF(V$4>0,1,0)","v":0},{"$f":"SUM($F31:W31)/$D31*IF(W$4>0,1,0)","v":0},{"$f":"SUM($F31:X31)/$D31*IF(X$4>0,1,0)","v":0},{"$f":"SUM($F31:Y31)/$D31*IF(Y$4>0,1,0)","v":0},{"$f":"SUM($F31:Z31)/$D31*IF(Z$4>0,1,0)","v":0},{"$f":"SUM($F31:AA31)/$D31*IF(AA$4>0,1,0)","v":0},{"$f":"SUM($F31:AB31)/$D31*IF(AB$4>0,1,0)","v":0},{"$f":"SUM($F31:AC31)/$D31*IF(AC$4>0,1,0)","v":0},{"$f":"SUM($F31:AD31)/$D31*IF(AD$4>0,1,0)","v":0},{"$f":"SUM($F31:AE31)/$D31*IF(AE$4>0,1,0)","v":0},{"$f":"SUM($F31:AF31)/$D31*IF(AF$4>0,1,0)","v":0},{"$f":"SUM($F31:AG31)/$D31*IF(AG$4>0,1,0)","v":0},{"$f":"SUM($F31:AH31)/$D31*IF(AH$4>0,1,0)","v":0},{"$f":"SUM($F31:AI31)/$D31*IF(AI$4>0,1,0)","v":0},0]
[null,"споруди / constructions",15,{"$f":"IF('Грошові потоки _ Cash flows'!$E$15>Амортизація_Depreciation!C98, 'Грошові потоки _ Cash flows'!$E$15,Амортизація_Depreciation!C98)","v":16},null,{"$f":"SUM($F32:F32)/$D32*IF(F$4>0,1,0)","v":0},{"$f":"SUM($F32:G32)/$D32*IF(G$4>0,1,0)","v":0},{"$f":"SUM($F32:H32)/$D32*IF(H$4>0,1,0)","v":0},{"$f":"SUM($F32:I32)/$D32*IF(I$4>0,1,0)","v":0},{"$f":"SUM($F32:J32)/$D32*IF(J$4>0,1,0)","v":0},{"$f":"SUM($F32:K32)/$D32*IF(K$4>0,1,0)","v":0},{"$f":"SUM($F32:L32)/$D32*IF(L$4>0,1,0)","v":0},{"$f":"SUM($F32:M32)/$D32*IF(M$4>0,1,0)","v":0},{"$f":"SUM($F32:N32)/$D32*IF(N$4>0,1,0)","v":0},{"$f":"SUM($F32:O32)/$D32*IF(O$4>0,1,0)","v":0},{"$f":"SUM($F32:P32)/$D32*IF(P$4>0,1,0)","v":0},{"$f":"SUM($F32:Q32)/$D32*IF(Q$4>0,1,0)","v":0},{"$f":"SUM($F32:R32)/$D32*IF(R$4>0,1,0)","v":0},{"$f":"SUM($F32:S32)/$D32*IF(S$4>0,1,0)","v":0},{"$f":"SUM($F32:T32)/$D32*IF(T$4>0,1,0)","v":0},{"$f":"SUM($F32:U32)/$D32*IF(U$4>0,1,0)","v":0},{"$f":"SUM($F32:V32)/$D32*IF(V$4>0,1,0)","v":0},{"$f":"SUM($F32:W32)/$D32*IF(W$4>0,1,0)","v":0},{"$f":"SUM($F32:X32)/$D32*IF(X$4>0,1,0)","v":0},{"$f":"SUM($F32:Y32)/$D32*IF(Y$4>0,1,0)","v":0},{"$f":"SUM($F32:Z32)/$D32*IF(Z$4>0,1,0)","v":0},{"$f":"SUM($F32:AA32)/$D32*IF(AA$4>0,1,0)","v":0},{"$f":"SUM($F32:AB32)/$D32*IF(AB$4>0,1,0)","v":0},{"$f":"SUM($F32:AC32)/$D32*IF(AC$4>0,1,0)","v":0},{"$f":"SUM($F32:AD32)/$D32*IF(AD$4>0,1,0)","v":0},{"$f":"SUM($F32:AE32)/$D32*IF(AE$4>0,1,0)","v":0},{"$f":"SUM($F32:AF32)/$D32*IF(AF$4>0,1,0)","v":0},{"$f":"SUM($F32:AG32)/$D32*IF(AG$4>0,1,0)","v":0},{"$f":"SUM($F32:AH32)/$D32*IF(AH$4>0,1,0)","v":0},{"$f":"SUM($F32:AI32)/$D32*IF(AI$4>0,1,0)","v":0},0]
[null,"передавальні пристрої / transmitting devices",10,{"$f":"IF('Грошові потоки _ Cash flows'!$E$15>Амортизація_Depreciation!C99, 'Грошові потоки _ Cash flows'!$E$15,Амортизація_Depreciation!C99)","v":16},null,{"$f":"SUM($F33:F33)/$D33*IF(F$4>0,1,0)","v":0},{"$f":"SUM($F33:G33)/$D33*IF(G$4>0,1,0)","v":0},{"$f":"SUM($F33:H33)/$D33*IF(H$4>0,1,0)","v":0},{"$f":"SUM($F33:I33)/$D33*IF(I$4>0,1,0)","v":0},{"$f":"SUM($F33:J33)/$D33*IF(J$4>0,1,0)","v":0},{"$f":"SUM($F33:K33)/$D33*IF(K$4>0,1,0)","v":0},{"$f":"SUM($F33:L33)/$D33*IF(L$4>0,1,0)","v":0},{"$f":"SUM($F33:M33)/$D33*IF(M$4>0,1,0)","v":0},{"$f":"SUM($F33:N33)/$D33*IF(N$4>0,1,0)","v":0},{"$f":"SUM($F33:O33)/$D33*IF(O$4>0,1,0)","v":0},{"$f":"SUM($F33:P33)/$D33*IF(P$4>0,1,0)","v":0},{"$f":"SUM($F33:Q33)/$D33*IF(Q$4>0,1,0)","v":0},{"$f":"SUM($F33:R33)/$D33*IF(R$4>0,1,0)","v":0},{"$f":"SUM($F33:S33)/$D33*IF(S$4>0,1,0)","v":0},{"$f":"SUM($F33:T33)/$D33*IF(T$4>0,1,0)","v":0},{"$f":"SUM($F33:U33)/$D33*IF(U$4>0,1,0)","v":0},{"$f":"SUM($F33:V33)/$D33*IF(V$4>0,1,0)","v":0},{"$f":"SUM($F33:W33)/$D33*IF(W$4>0,1,0)","v":0},{"$f":"SUM($F33:X33)/$D33*IF(X$4>0,1,0)","v":0},{"$f":"SUM($F33:Y33)/$D33*IF(Y$4>0,1,0)","v":0},{"$f":"SUM($F33:Z33)/$D33*IF(Z$4>0,1,0)","v":0},{"$f":"SUM($F33:AA33)/$D33*IF(AA$4>0,1,0)","v":0},{"$f":"SUM($F33:AB33)/$D33*IF(AB$4>0,1,0)","v":0},{"$f":"SUM($F33:AC33)/$D33*IF(AC$4>0,1,0)","v":0},{"$f":"SUM($F33:AD33)/$D33*IF(AD$4>0,1,0)","v":0},{"$f":"SUM($F33:AE33)/$D33*IF(AE$4>0,1,0)","v":0},{"$f":"SUM($F33:AF33)/$D33*IF(AF$4>0,1,0)","v":0},{"$f":"SUM($F33:AG33)/$D33*IF(AG$4>0,1,0)","v":0},{"$f":"SUM($F33:AH33)/$D33*IF(AH$4>0,1,0)","v":0},{"$f":"SUM($F33:AI33)/$D33*IF(AI$4>0,1,0)","v":0},0]
[null,"Група 4 –  машини та обладнання / Machines and equipment",5,{"$f":"IF('Грошові потоки _ Cash flows'!$E$15>Амортизація_Depreciation!C100, 'Грошові потоки _ Cash flows'!$E$15,Амортизація_Depreciation!C100)","v":16},null,{"$f":"SUM($F34:F34)/$D34*IF(F$4>0,1,0)","v":0},{"$f":"SUM($F34:G34)/$D34*IF(G$4>0,1,0)","v":0},{"$f":"SUM($F34:H34)/$D34*IF(H$4>0,1,0)","v":0},{"$f":"SUM($F34:I34)/$D34*IF(I$4>0,1,0)","v":0},{"$f":"SUM($F34:J34)/$D34*IF(J$4>0,1,0)","v":0},{"$f":"SUM($F34:K34)/$D34*IF(K$4>0,1,0)","v":0},{"$f":"SUM($F34:L34)/$D34*IF(L$4>0,1,0)","v":0},{"$f":"SUM($F34:M34)/$D34*IF(M$4>0,1,0)","v":0},{"$f":"SUM($F34:N34)/$D34*IF(N$4>0,1,0)","v":0},{"$f":"SUM($F34:O34)/$D34*IF(O$4>0,1,0)","v":0},{"$f":"SUM($F34:P34)/$D34*IF(P$4>0,1,0)","v":0},{"$f":"SUM($F34:Q34)/$D34*IF(Q$4>0,1,0)","v":0},{"$f":"SUM($F34:R34)/$D34*IF(R$4>0,1,0)","v":0},{"$f":"SUM($F34:S34)/$D34*IF(S$4>0,1,0)","v":0},{"$f":"SUM($F34:T34)/$D34*IF(T$4>0,1,0)","v":0},{"$f":"SUM($F34:U34)/$D34*IF(U$4>0,1,0)","v":0},{"$f":"SUM($F34:V34)/$D34*IF(V$4>0,1,0)","v":0},{"$f":"SUM($F34:W34)/$D34*IF(W$4>0,1,0)","v":0},{"$f":"SUM($F34:X34)/$D34*IF(X$4>0,1,0)","v":0},{"$f":"SUM($F34:Y34)/$D34*IF(Y$4>0,1,0)","v":0},{"$f":"SUM($F34:Z34)/$D34*IF(Z$4>0,1,0)","v":0},{"$f":"SUM($F34:AA34)/$D34*IF(AA$4>0,1,0)","v":0},{"$f":"SUM($F34:AB34)/$D34*IF(AB$4>0,1,0)","v":0},{"$f":"SUM($F34:AC34)/$D34*IF(AC$4>0,1,0)","v":0},{"$f":"SUM($F34:AD34)/$D34*IF(AD$4>0,1,0)","v":0},{"$f":"SUM($F34:AE34)/$D34*IF(AE$4>0,1,0)","v":0},{"$f":"SUM($F34:AF34)/$D34*IF(AF$4>0,1,0)","v":0},{"$f":"SUM($F34:AG34)/$D34*IF(AG$4>0,1,0)","v":0},{"$f":"SUM($F34:AH34)/$D34*IF(AH$4>0,1,0)","v":0},{"$f":"SUM($F34:AI34)/$D34*IF(AI$4>0,1,0)","v":0},0]
[null,"Електронно-обчислювальні машини, інші машини для автоматичного оброблення інформації, пов'язані з ними засоби зчитування або друку інформації, пов'язані з ними комп'ютерні програми (крім програм, витрати на придбання яких визнаються роялті, та / або програм, які визнаються нематеріальним активів) , інші інформаційні системи, комутатори, маршрутизатори, модулі, модеми, джерела безперебійного живлення та засоби їх підключення до телекомунікаційних мереж, телефони (в тому числі мобільні), мікрофони і рації, вартість яких перевищує 2500 гривень.",2,{"$f":"IF('Грошові потоки _ Cash flows'!$E$15>Амортизація_Depreciation!C101, 'Грошові потоки _ Cash flows'!$E$15,Амортизація_Depreciation!C101)","v":16},null,{"$f":"SUM($F35:F35)/$D35*IF(F$4>0,1,0)","v":0},{"$f":"SUM($F35:G35)/$D35*IF(G$4>0,1,0)","v":0},{"$f":"SUM($F35:H35)/$D35*IF(H$4>0,1,0)","v":0},{"$f":"SUM($F35:I35)/$D35*IF(I$4>0,1,0)","v":0},{"$f":"SUM($F35:J35)/$D35*IF(J$4>0,1,0)","v":0},{"$f":"SUM($F35:K35)/$D35*IF(K$4>0,1,0)","v":0},{"$f":"SUM($F35:L35)/$D35*IF(L$4>0,1,0)","v":0},{"$f":"SUM($F35:M35)/$D35*IF(M$4>0,1,0)","v":0},{"$f":"SUM($F35:N35)/$D35*IF(N$4>0,1,0)","v":0},{"$f":"SUM($F35:O35)/$D35*IF(O$4>0,1,0)","v":0},{"$f":"SUM($F35:P35)/$D35*IF(P$4>0,1,0)","v":0},{"$f":"SUM($F35:Q35)/$D35*IF(Q$4>0,1,0)","v":0},{"$f":"SUM($F35:R35)/$D35*IF(R$4>0,1,0)","v":0},{"$f":"SUM($F35:S35)/$D35*IF(S$4>0,1,0)","v":0},{"$f":"SUM($F35:T35)/$D35*IF(T$4>0,1,0)","v":0},{"$f":"SUM($F35:U35)/$D35*IF(U$4>0,1,0)","v":0},{"$f":"SUM($F35:V35)/$D35*IF(V$4>0,1,0)","v":0},{"$f":"SUM($F35:W35)/$D35*IF(W$4>0,1,0)","v":0},{"$f":"SUM($F35:X35)/$D35*IF(X$4>0,1,0)","v":0},{"$f":"SUM($F35:Y35)/$D35*IF(Y$4>0,1,0)","v":0},{"$f":"SUM($F35:Z35)/$D35*IF(Z$4>0,1,0)","v":0},{"$f":"SUM($F35:AA35)/$D35*IF(AA$4>0,1,0)","v":0},{"$f":"SUM($F35:AB35)/$D35*IF(AB$4>0,1,0)","v":0},{"$f":"SUM($F35:AC35)/$D35*IF(AC$4>0,1,0)","v":0},{"$f":"SUM($F35:AD35)/$D35*IF(AD$4>0,1,0)","v":0},{"$f":"SUM($F35:AE35)/$D35*IF(AE$4>0,1,0)","v":0},{"$f":"SUM($F35:AF35)/$D35*IF(AF$4>0,1,0)","v":0},{"$f":"SUM($F35:AG35)/$D35*IF(AG$4>0,1,0)","v":0},{"$f":"SUM($F35:AH35)/$D35*IF(AH$4>0,1,0)","v":0},{"$f":"SUM($F35:AI35)/$D35*IF(AI$4>0,1,0)","v":0},0]
[null,"Група 5 – транспортні засоби / vehicles",5,{"$f":"IF('Грошові потоки _ Cash flows'!$E$15>Амортизація_Depreciation!C102, 'Грошові потоки _ Cash flows'!$E$15,Амортизація_Depreciation!C102)","v":16},null,{"$f":"SUM($F36:F36)/$D36*IF(F$4>0,1,0)","v":0},{"$f":"SUM($F36:G36)/$D36*IF(G$4>0,1,0)","v":0},{"$f":"SUM($F36:H36)/$D36*IF(H$4>0,1,0)","v":0},{"$f":"SUM($F36:I36)/$D36*IF(I$4>0,1,0)","v":0},{"$f":"SUM($F36:J36)/$D36*IF(J$4>0,1,0)","v":0},{"$f":"SUM($F36:K36)/$D36*IF(K$4>0,1,0)","v":0},{"$f":"SUM($F36:L36)/$D36*IF(L$4>0,1,0)","v":0},{"$f":"SUM($F36:M36)/$D36*IF(M$4>0,1,0)","v":0},{"$f":"SUM($F36:N36)/$D36*IF(N$4>0,1,0)","v":0},{"$f":"SUM($F36:O36)/$D36*IF(O$4>0,1,0)","v":0},{"$f":"SUM($F36:P36)/$D36*IF(P$4>0,1,0)","v":0},{"$f":"SUM($F36:Q36)/$D36*IF(Q$4>0,1,0)","v":0},{"$f":"SUM($F36:R36)/$D36*IF(R$4>0,1,0)","v":0},{"$f":"SUM($F36:S36)/$D36*IF(S$4>0,1,0)","v":0},{"$f":"SUM($F36:T36)/$D36*IF(T$4>0,1,0)","v":0},{"$f":"SUM($F36:U36)/$D36*IF(U$4>0,1,0)","v":0},{"$f":"SUM($F36:V36)/$D36*IF(V$4>0,1,0)","v":0},{"$f":"SUM($F36:W36)/$D36*IF(W$4>0,1,0)","v":0},{"$f":"SUM($F36:X36)/$D36*IF(X$4>0,1,0)","v":0},{"$f":"SUM($F36:Y36)/$D36*IF(Y$4>0,1,0)","v":0},{"$f":"SUM($F36:Z36)/$D36*IF(Z$4>0,1,0)","v":0},{"$f":"SUM($F36:AA36)/$D36*IF(AA$4>0,1,0)","v":0},{"$f":"SUM($F36:AB36)/$D36*IF(AB$4>0,1,0)","v":0},{"$f":"SUM($F36:AC36)/$D36*IF(AC$4>0,1,0)","v":0},{"$f":"SUM($F36:AD36)/$D36*IF(AD$4>0,1,0)","v":0},{"$f":"SUM($F36:AE36)/$D36*IF(AE$4>0,1,0)","v":0},{"$f":"SUM($F36:AF36)/$D36*IF(AF$4>0,1,0)","v":0},{"$f":"SUM($F36:AG36)/$D36*IF(AG$4>0,1,0)","v":0},{"$f":"SUM($F36:AH36)/$D36*IF(AH$4>0,1,0)","v":0},{"$f":"SUM($F36:AI36)/$D36*IF(AI$4>0,1,0)","v":0},0]
[null,"Група 6 – інструменти, прилади, інвентар (меблі) / tools, devices, inventory (furniture)",4,{"$f":"IF('Грошові потоки _ Cash flows'!$E$15>Амортизація_Depreciation!C103, 'Грошові потоки _ Cash flows'!$E$15,Амортизація_Depreciation!C103)","v":16},null,{"$f":"SUM($F37:F37)/$D37*IF(F$4>0,1,0)","v":0},{"$f":"SUM($F37:G37)/$D37*IF(G$4>0,1,0)","v":0},{"$f":"SUM($F37:H37)/$D37*IF(H$4>0,1,0)","v":0},{"$f":"SUM($F37:I37)/$D37*IF(I$4>0,1,0)","v":0},{"$f":"SUM($F37:J37)/$D37*IF(J$4>0,1,0)","v":0},{"$f":"SUM($F37:K37)/$D37*IF(K$4>0,1,0)","v":0},{"$f":"SUM($F37:L37)/$D37*IF(L$4>0,1,0)","v":0},{"$f":"SUM($F37:M37)/$D37*IF(M$4>0,1,0)","v":0},{"$f":"SUM($F37:N37)/$D37*IF(N$4>0,1,0)","v":0},{"$f":"SUM($F37:O37)/$D37*IF(O$4>0,1,0)","v":0},{"$f":"SUM($F37:P37)/$D37*IF(P$4>0,1,0)","v":0},{"$f":"SUM($F37:Q37)/$D37*IF(Q$4>0,1,0)","v":0},{"$f":"SUM($F37:R37)/$D37*IF(R$4>0,1,0)","v":0},{"$f":"SUM($F37:S37)/$D37*IF(S$4>0,1,0)","v":0},{"$f":"SUM($F37:T37)/$D37*IF(T$4>0,1,0)","v":0},{"$f":"SUM($F37:U37)/$D37*IF(U$4>0,1,0)","v":0},{"$f":"SUM($F37:V37)/$D37*IF(V$4>0,1,0)","v":0},{"$f":"SUM($F37:W37)/$D37*IF(W$4>0,1,0)","v":0},{"$f":"SUM($F37:X37)/$D37*IF(X$4>0,1,0)","v":0},{"$f":"SUM($F37:Y37)/$D37*IF(Y$4>0,1,0)","v":0},{"$f":"SUM($F37:Z37)/$D37*IF(Z$4>0,1,0)","v":0},{"$f":"SUM($F37:AA37)/$D37*IF(AA$4>0,1,0)","v":0},{"$f":"SUM($F37:AB37)/$D37*IF(AB$4>0,1,0)","v":0},{"$f":"SUM($F37:AC37)/$D37*IF(AC$4>0,1,0)","v":0},{"$f":"SUM($F37:AD37)/$D37*IF(AD$4>0,1,0)","v":0},{"$f":"SUM($F37:AE37)/$D37*IF(AE$4>0,1,0)","v":0},{"$f":"SUM($F37:AF37)/$D37*IF(AF$4>0,1,0)","v":0},{"$f":"SUM($F37:AG37)/$D37*IF(AG$4>0,1,0)","v":0},{"$f":"SUM($F37:AH37)/$D37*IF(AH$4>0,1,0)","v":0},{"$f":"SUM($F37:AI37)/$D37*IF(AI$4>0,1,0)","v":0},0]
[null,"Група 7 – тварини / animals",6,{"$f":"IF('Грошові потоки _ Cash flows'!$E$15>Амортизація_Depreciation!C104, 'Грошові потоки _ Cash flows'!$E$15,Амортизація_Depreciation!C104)","v":16},null,{"$f":"SUM($F38:F38)/$D38*IF(F$4>0,1,0)","v":0},{"$f":"SUM($F38:G38)/$D38*IF(G$4>0,1,0)","v":0},{"$f":"SUM($F38:H38)/$D38*IF(H$4>0,1,0)","v":0},{"$f":"SUM($F38:I38)/$D38*IF(I$4>0,1,0)","v":0},{"$f":"SUM($F38:J38)/$D38*IF(J$4>0,1,0)","v":0},{"$f":"SUM($F38:K38)/$D38*IF(K$4>0,1,0)","v":0},{"$f":"SUM($F38:L38)/$D38*IF(L$4>0,1,0)","v":0},{"$f":"SUM($F38:M38)/$D38*IF(M$4>0,1,0)","v":0},{"$f":"SUM($F38:N38)/$D38*IF(N$4>0,1,0)","v":0},{"$f":"SUM($F38:O38)/$D38*IF(O$4>0,1,0)","v":0},{"$f":"SUM($F38:P38)/$D38*IF(P$4>0,1,0)","v":0},{"$f":"SUM($F38:Q38)/$D38*IF(Q$4>0,1,0)","v":0},{"$f":"SUM($F38:R38)/$D38*IF(R$4>0,1,0)","v":0},{"$f":"SUM($F38:S38)/$D38*IF(S$4>0,1,0)","v":0},{"$f":"SUM($F38:T38)/$D38*IF(T$4>0,1,0)","v":0},{"$f":"SUM($F38:U38)/$D38*IF(U$4>0,1,0)","v":0},{"$f":"SUM($F38:V38)/$D38*IF(V$4>0,1,0)","v":0},{"$f":"SUM($F38:W38)/$D38*IF(W$4>0,1,0)","v":0},{"$f":"SUM($F38:X38)/$D38*IF(X$4>0,1,0)","v":0},{"$f":"SUM($F38:Y38)/$D38*IF(Y$4>0,1,0)","v":0},{"$f":"SUM($F38:Z38)/$D38*IF(Z$4>0,1,0)","v":0},{"$f":"SUM($F38:AA38)/$D38*IF(AA$4>0,1,0)","v":0},{"$f":"SUM($F38:AB38)/$D38*IF(AB$4>0,1,0)","v":0},{"$f":"SUM($F38:AC38)/$D38*IF(AC$4>0,1,0)","v":0},{"$f":"SUM($F38:AD38)/$D38*IF(AD$4>0,1,0)","v":0},{"$f":"SUM($F38:AE38)/$D38*IF(AE$4>0,1,0)","v":0},{"$f":"SUM($F38:AF38)/$D38*IF(AF$4>0,1,0)","v":0},{"$f":"SUM($F38:AG38)/$D38*IF(AG$4>0,1,0)","v":0},{"$f":"SUM($F38:AH38)/$D38*IF(AH$4>0,1,0)","v":0},{"$f":"SUM($F38:AI38)/$D38*IF(AI$4>0,1,0)","v":0},0]
[null,"Група 8 – багаторічні насадження / perennial plantings",10,{"$f":"IF('Грошові потоки _ Cash flows'!$E$15>Амортизація_Depreciation!C105, 'Грошові потоки _ Cash flows'!$E$15,Амортизація_Depreciation!C105)","v":16},null,{"$f":"SUM($F39:F39)/$D39*IF(F$4>0,1,0)","v":0},{"$f":"SUM($F39:G39)/$D39*IF(G$4>0,1,0)","v":0},{"$f":"SUM($F39:H39)/$D39*IF(H$4>0,1,0)","v":0},{"$f":"SUM($F39:I39)/$D39*IF(I$4>0,1,0)","v":0},{"$f":"SUM($F39:J39)/$D39*IF(J$4>0,1,0)","v":0},{"$f":"SUM($F39:K39)/$D39*IF(K$4>0,1,0)","v":0},{"$f":"SUM($F39:L39)/$D39*IF(L$4>0,1,0)","v":0},{"$f":"SUM($F39:M39)/$D39*IF(M$4>0,1,0)","v":0},{"$f":"SUM($F39:N39)/$D39*IF(N$4>0,1,0)","v":0},{"$f":"SUM($F39:O39)/$D39*IF(O$4>0,1,0)","v":0},{"$f":"SUM($F39:P39)/$D39*IF(P$4>0,1,0)","v":0},{"$f":"SUM($F39:Q39)/$D39*IF(Q$4>0,1,0)","v":0},{"$f":"SUM($F39:R39)/$D39*IF(R$4>0,1,0)","v":0},{"$f":"SUM($F39:S39)/$D39*IF(S$4>0,1,0)","v":0},{"$f":"SUM($F39:T39)/$D39*IF(T$4>0,1,0)","v":0},{"$f":"SUM($F39:U39)/$D39*IF(U$4>0,1,0)","v":0},{"$f":"SUM($F39:V39)/$D39*IF(V$4>0,1,0)","v":0},{"$f":"SUM($F39:W39)/$D39*IF(W$4>0,1,0)","v":0},{"$f":"SUM($F39:X39)/$D39*IF(X$4>0,1,0)","v":0},{"$f":"SUM($F39:Y39)/$D39*IF(Y$4>0,1,0)","v":0},{"$f":"SUM($F39:Z39)/$D39*IF(Z$4>0,1,0)","v":0},{"$f":"SUM($F39:AA39)/$D39*IF(AA$4>0,1,0)","v":0},{"$f":"SUM($F39:AB39)/$D39*IF(AB$4>0,1,0)","v":0},{"$f":"SUM($F39:AC39)/$D39*IF(AC$4>0,1,0)","v":0},{"$f":"SUM($F39:AD39)/$D39*IF(AD$4>0,1,0)","v":0},{"$f":"SUM($F39:AE39)/$D39*IF(AE$4>0,1,0)","v":0},{"$f":"SUM($F39:AF39)/$D39*IF(AF$4>0,1,0)","v":0},{"$f":"SUM($F39:AG39)/$D39*IF(AG$4>0,1,0)","v":0},{"$f":"SUM($F39:AH39)/$D39*IF(AH$4>0,1,0)","v":0},{"$f":"SUM($F39:AI39)/$D39*IF(AI$4>0,1,0)","v":0},0]
[null,"Група 9 – інші основні засоби / other fixed assets",12,{"$f":"IF('Грошові потоки _ Cash flows'!$E$15>Амортизація_Depreciation!C106, 'Грошові потоки _ Cash flows'!$E$15,Амортизація_Depreciation!C106)","v":16},null,{"$f":"SUM($F40:F40)/$D40*IF(F$4>0,1,0)","v":0},{"$f":"SUM($F40:G40)/$D40*IF(G$4>0,1,0)","v":0},{"$f":"SUM($F40:H40)/$D40*IF(H$4>0,1,0)","v":0},{"$f":"SUM($F40:I40)/$D40*IF(I$4>0,1,0)","v":0},{"$f":"SUM($F40:J40)/$D40*IF(J$4>0,1,0)","v":0},{"$f":"SUM($F40:K40)/$D40*IF(K$4>0,1,0)","v":0},{"$f":"SUM($F40:L40)/$D40*IF(L$4>0,1,0)","v":0},{"$f":"SUM($F40:M40)/$D40*IF(M$4>0,1,0)","v":0},{"$f":"SUM($F40:N40)/$D40*IF(N$4>0,1,0)","v":0},{"$f":"SUM($F40:O40)/$D40*IF(O$4>0,1,0)","v":0},{"$f":"SUM($F40:P40)/$D40*IF(P$4>0,1,0)","v":0},{"$f":"SUM($F40:Q40)/$D40*IF(Q$4>0,1,0)","v":0},{"$f":"SUM($F40:R40)/$D40*IF(R$4>0,1,0)","v":0},{"$f":"SUM($F40:S40)/$D40*IF(S$4>0,1,0)","v":0},{"$f":"SUM($F40:T40)/$D40*IF(T$4>0,1,0)","v":0},{"$f":"SUM($F40:U40)/$D40*IF(U$4>0,1,0)","v":0},{"$f":"SUM($F40:V40)/$D40*IF(V$4>0,1,0)","v":0},{"$f":"SUM($F40:W40)/$D40*IF(W$4>0,1,0)","v":0},{"$f":"SUM($F40:X40)/$D40*IF(X$4>0,1,0)","v":0},{"$f":"SUM($F40:Y40)/$D40*IF(Y$4>0,1,0)","v":0},{"$f":"SUM($F40:Z40)/$D40*IF(Z$4>0,1,0)","v":0},{"$f":"SUM($F40:AA40)/$D40*IF(AA$4>0,1,0)","v":0},{"$f":"SUM($F40:AB40)/$D40*IF(AB$4>0,1,0)","v":0},{"$f":"SUM($F40:AC40)/$D40*IF(AC$4>0,1,0)","v":0},{"$f":"SUM($F40:AD40)/$D40*IF(AD$4>0,1,0)","v":0},{"$f":"SUM($F40:AE40)/$D40*IF(AE$4>0,1,0)","v":0},{"$f":"SUM($F40:AF40)/$D40*IF(AF$4>0,1,0)","v":0},{"$f":"SUM($F40:AG40)/$D40*IF(AG$4>0,1,0)","v":0},{"$f":"SUM($F40:AH40)/$D40*IF(AH$4>0,1,0)","v":0},{"$f":"SUM($F40:AI40)/$D40*IF(AI$4>0,1,0)","v":0},0]
[null,"Інші необоротні матеріальні активи: / Other non-current tangible assets:",null,null,null,{"$f":"SUM(F108:F114)","v":0},{"$f":"SUM(G108:G114)","v":0},0,0,0,0,0,0,0,0,0,0,0,0,0,0,0,0,0,0,0,0,0,0,0,0,0,0,0,0,0]
[null,"Група 10 – бібліотечні фонди /library funds","—",{"$f":"IF('Грошові потоки _ Cash flows'!$E$15>Амортизація_Depreciation!C108, 'Грошові потоки _ Cash flows'!$E$15,Амортизація_Depreciation!C108)","v":"—"},null,{"$f":"F42*IF(F$4>0,1,0)","v":0},{"$f":"G42*IF(G$4>0,1,0)","v":0},0,0,0,0,0,0,0,0,0,0,0,0,0,0,{"$f":"V42*IF(V$4>0,1,0)","v":0},0,0,0,0,0,0,0,0,0,0,0,0,0,0]
[null,"Група 11 – малоцінні необоротні активи / low-value non-current assets","—",{"$f":"IF('Грошові потоки _ Cash flows'!$E$15>Амортизація_Depreciation!C109, 'Грошові потоки _ Cash flows'!$E$15,Амортизація_Depreciation!C109)","v":"—"},null,{"$f":"F43*IF(F$4>0,1,0)","v":0},{"$f":"G43*IF(G$4>0,1,0)","v":0},0,0,0,0,0,0,0,0,0,0,0,0,0,0,{"$f":"V43*IF(V$4>0,1,0)","v":0},0,0,0,0,0,0,0,0,0,0,0,0,0,{"$f":"SUM(F109:AI109)","v":0}]
[null,"Група 12 – тимчасові (нетитульні) споруди / temporary (untitled) buildings",5,{"$f":"IF('Грошові потоки _ Cash flows'!$E$15>Амортизація_Depreciation!C110, 'Грошові потоки _ Cash flows'!$E$15,Амортизація_Depreciation!C110)","v":16},null,{"$f":"SUM($F44:F44)/$D44*IF(F$4>0,1,0)","v":0},{"$f":"SUM($F44:G44)/$D44*IF(G$4>0,1,0)","v":0},{"$f":"SUM($F44:H44)/$D44*IF(H$4>0,1,0)","v":0},{"$f":"SUM($F44:I44)/$D44*IF(I$4>0,1,0)","v":0},{"$f":"SUM($F44:J44)/$D44*IF(J$4>0,1,0)","v":0},{"$f":"SUM($F44:K44)/$D44*IF(K$4>0,1,0)","v":0},{"$f":"SUM($F44:L44)/$D44*IF(L$4>0,1,0)","v":0},{"$f":"SUM($F44:M44)/$D44*IF(M$4>0,1,0)","v":0},{"$f":"SUM($F44:N44)/$D44*IF(N$4>0,1,0)","v":0},{"$f":"SUM($F44:O44)/$D44*IF(O$4>0,1,0)","v":0},{"$f":"SUM($F44:P44)/$D44*IF(P$4>0,1,0)","v":0},{"$f":"SUM($F44:Q44)/$D44*IF(Q$4>0,1,0)","v":0},{"$f":"SUM($F44:R44)/$D44*IF(R$4>0,1,0)","v":0},{"$f":"SUM($F44:S44)/$D44*IF(S$4>0,1,0)","v":0},{"$f":"SUM($F44:T44)/$D44*IF(T$4>0,1,0)","v":0},{"$f":"SUM($F44:U44)/$D44*IF(U$4>0,1,0)","v":0},{"$f":"SUM($F44:V44)/$D44*IF(V$4>0,1,0)","v":0},{"$f":"SUM($F44:W44)/$D44*IF(W$4>0,1,0)","v":0},{"$f":"SUM($F44:X44)/$D44*IF(X$4>0,1,0)","v":0},{"$f":"SUM($F44:Y44)/$D44*IF(Y$4>0,1,0)","v":0},{"$f":"SUM($F44:Z44)/$D44*IF(Z$4>0,1,0)","v":0},{"$f":"SUM($F44:AA44)/$D44*IF(AA$4>0,1,0)","v":0},{"$f":"SUM($F44:AB44)/$D44*IF(AB$4>0,1,0)","v":0},{"$f":"SUM($F44:AC44)/$D44*IF(AC$4>0,1,0)","v":0},{"$f":"SUM($F44:AD44)/$D44*IF(AD$4>0,1,0)","v":0},{"$f":"SUM($F44:AE44)/$D44*IF(AE$4>0,1,0)","v":0},{"$f":"SUM($F44:AF44)/$D44*IF(AF$4>0,1,0)","v":0},{"$f":"SUM($F44:AG44)/$D44*IF(AG$4>0,1,0)","v":0},{"$f":"SUM($F44:AH44)/$D44*IF(AH$4>0,1,0)","v":0},{"$f":"SUM($F44:AI44)/$D44*IF(AI$4>0,1,0)","v":0},0]
[null,"Група 13 – природні ресурси / natural resources","—",{"$f":"IF('Грошові потоки _ Cash flows'!$E$15>Амортизація_Depreciation!C111, 'Грошові потоки _ Cash flows'!$E$15,Амортизація_Depreciation!C111)","v":"—"},null,0,0,0,0,0,0,0,0,0,0,0,0,0,0,0,0,0,0,0,0,0,0,0,0,0,0,0,0,0,0,0]
[null,"Група 14 – інвентарна тара / inventory packaging",6,{"$f":"IF('Грошові потоки _ Cash flows'!$E$15>Амортизація_Depreciation!C112, 'Грошові потоки _ Cash flows'!$E$15,Амортизація_Depreciation!C112)","v":16},null,{"$f":"SUM($F46:F46)/$D46*IF(F$4>0,1,0)","v":0},{"$f":"SUM($F46:G46)/$D46*IF(G$4>0,1,0)","v":0},{"$f":"SUM($F46:H46)/$D46*IF(H$4>0,1,0)","v":0},{"$f":"SUM($F46:I46)/$D46*IF(I$4>0,1,0)","v":0},{"$f":"SUM($F46:J46)/$D46*IF(J$4>0,1,0)","v":0},{"$f":"SUM($F46:K46)/$D46*IF(K$4>0,1,0)","v":0},{"$f":"SUM($F46:L46)/$D46*IF(L$4>0,1,0)","v":0},{"$f":"SUM($F46:M46)/$D46*IF(M$4>0,1,0)","v":0},{"$f":"SUM($F46:N46)/$D46*IF(N$4>0,1,0)","v":0},{"$f":"SUM($F46:O46)/$D46*IF(O$4>0,1,0)","v":0},{"$f":"SUM($F46:P46)/$D46*IF(P$4>0,1,0)","v":0},{"$f":"SUM($F46:Q46)/$D46*IF(Q$4>0,1,0)","v":0},{"$f":"SUM($F46:R46)/$D46*IF(R$4>0,1,0)","v":0},{"$f":"SUM($F46:S46)/$D46*IF(S$4>0,1,0)","v":0},{"$f":"SUM($F46:T46)/$D46*IF(T$4>0,1,0)","v":0},{"$f":"SUM($F46:U46)/$D46*IF(U$4>0,1,0)","v":0},{"$f":"SUM($F46:V46)/$D46*IF(V$4>0,1,0)","v":0},{"$f":"SUM($F46:W46)/$D46*IF(W$4>0,1,0)","v":0},{"$f":"SUM($F46:X46)/$D46*IF(X$4>0,1,0)","v":0},{"$f":"SUM($F46:Y46)/$D46*IF(Y$4>0,1,0)","v":0},{"$f":"SUM($F46:Z46)/$D46*IF(Z$4>0,1,0)","v":0},{"$f":"SUM($F46:AA46)/$D46*IF(AA$4>0,1,0)","v":0},{"$f":"SUM($F46:AB46)/$D46*IF(AB$4>0,1,0)","v":0},{"$f":"SUM($F46:AC46)/$D46*IF(AC$4>0,1,0)","v":0},{"$f":"SUM($F46:AD46)/$D46*IF(AD$4>0,1,0)","v":0},{"$f":"SUM($F46:AE46)/$D46*IF(AE$4>0,1,0)","v":0},{"$f":"SUM($F46:AF46)/$D46*IF(AF$4>0,1,0)","v":0},{"$f":"SUM($F46:AG46)/$D46*IF(AG$4>0,1,0)","v":0},{"$f":"SUM($F46:AH46)/$D46*IF(AH$4>0,1,0)","v":0},{"$f":"SUM($F46:AI46)/$D46*IF(AI$4>0,1,0)","v":0},0]
[null,"Група 15 – предмети прокату / lease items",5,{"$f":"IF('Грошові потоки _ Cash flows'!$E$15>Амортизація_Depreciation!C113, 'Грошові потоки _ Cash flows'!$E$15,Амортизація_Depreciation!C113)","v":16},null,{"$f":"SUM($F47:F47)/$D47*IF(F$4>0,1,0)","v":0},{"$f":"SUM($F47:G47)/$D47*IF(G$4>0,1,0)","v":0},{"$f":"SUM($F47:H47)/$D47*IF(H$4>0,1,0)","v":0},{"$f":"SUM($F47:I47)/$D47*IF(I$4>0,1,0)","v":0},{"$f":"SUM($F47:J47)/$D47*IF(J$4>0,1,0)","v":0},{"$f":"SUM($F47:K47)/$D47*IF(K$4>0,1,0)","v":0},{"$f":"SUM($F47:L47)/$D47*IF(L$4>0,1,0)","v":0},{"$f":"SUM($F47:M47)/$D47*IF(M$4>0,1,0)","v":0},{"$f":"SUM($F47:N47)/$D47*IF(N$4>0,1,0)","v":0},{"$f":"SUM($F47:O47)/$D47*IF(O$4>0,1,0)","v":0},{"$f":"SUM($F47:P47)/$D47*IF(P$4>0,1,0)","v":0},{"$f":"SUM($F47:Q47)/$D47*IF(Q$4>0,1,0)","v":0},{"$f":"SUM($F47:R47)/$D47*IF(R$4>0,1,0)","v":0},{"$f":"SUM($F47:S47)/$D47*IF(S$4>0,1,0)","v":0},{"$f":"SUM($F47:T47)/$D47*IF(T$4>0,1,0)","v":0},{"$f":"SUM($F47:U47)/$D47*IF(U$4>0,1,0)","v":0},{"$f":"SUM($F47:V47)/$D47*IF(V$4>0,1,0)","v":0},{"$f":"SUM($F47:W47)/$D47*IF(W$4>0,1,0)","v":0},{"$f":"SUM($F47:X47)/$D47*IF(X$4>0,1,0)","v":0},{"$f":"SUM($F47:Y47)/$D47*IF(Y$4>0,1,0)","v":0},{"$f":"SUM($F47:Z47)/$D47*IF(Z$4>0,1,0)","v":0},{"$f":"SUM($F47:AA47)/$D47*IF(AA$4>0,1,0)","v":0},{"$f":"SUM($F47:AB47)/$D47*IF(AB$4>0,1,0)","v":0},{"$f":"SUM($F47:AC47)/$D47*IF(AC$4>0,1,0)","v":0},{"$f":"SUM($F47:AD47)/$D47*IF(AD$4>0,1,0)","v":0},{"$f":"SUM($F47:AE47)/$D47*IF(AE$4>0,1,0)","v":0},{"$f":"SUM($F47:AF47)/$D47*IF(AF$4>0,1,0)","v":0},{"$f":"SUM($F47:AG47)/$D47*IF(AG$4>0,1,0)","v":0},{"$f":"SUM($F47:AH47)/$D47*IF(AH$4>0,1,0)","v":0},{"$f":"SUM($F47:AI47)/$D47*IF(AI$4>0,1,0)","v":0},0]
[null,"Група 16 – довгострокові біологічні активи / Long-term biological assets",7,{"$f":"IF('Грошові потоки _ Cash flows'!$E$15>Амортизація_Depreciation!C114, 'Грошові потоки _ Cash flows'!$E$15,Амортизація_Depreciation!C114)","v":16},null,{"$f":"SUM($F48:F48)/$D48*IF(F$4>0,1,0)","v":0},{"$f":"SUM($F48:G48)/$D48*IF(G$4>0,1,0)","v":0},{"$f":"SUM($F48:H48)/$D48*IF(H$4>0,1,0)","v":0},{"$f":"SUM($F48:I48)/$D48*IF(I$4>0,1,0)","v":0},{"$f":"SUM($F48:J48)/$D48*IF(J$4>0,1,0)","v":0},{"$f":"SUM($F48:K48)/$D48*IF(K$4>0,1,0)","v":0},{"$f":"SUM($F48:L48)/$D48*IF(L$4>0,1,0)","v":0},{"$f":"SUM($F48:M48)/$D48*IF(M$4>0,1,0)","v":0},{"$f":"SUM($F48:N48)/$D48*IF(N$4>0,1,0)","v":0},{"$f":"SUM($F48:O48)/$D48*IF(O$4>0,1,0)","v":0},{"$f":"SUM($F48:P48)/$D48*IF(P$4>0,1,0)","v":0},{"$f":"SUM($F48:Q48)/$D48*IF(Q$4>0,1,0)","v":0},{"$f":"SUM($F48:R48)/$D48*IF(R$4>0,1,0)","v":0},{"$f":"SUM($F48:S48)/$D48*IF(S$4>0,1,0)","v":0},{"$f":"SUM($F48:T48)/$D48*IF(T$4>0,1,0)","v":0},{"$f":"SUM($F48:U48)/$D48*IF(U$4>0,1,0)","v":0},{"$f":"SUM($F48:V48)/$D48*IF(V$4>0,1,0)","v":0},{"$f":"SUM($F48:W48)/$D48*IF(W$4>0,1,0)","v":0},{"$f":"SUM($F48:X48)/$D48*IF(X$4>0,1,0)","v":0},{"$f":"SUM($F48:Y48)/$D48*IF(Y$4>0,1,0)","v":0},{"$f":"SUM($F48:Z48)/$D48*IF(Z$4>0,1,0)","v":0},{"$f":"SUM($F48:AA48)/$D48*IF(AA$4>0,1,0)","v":0},{"$f":"SUM($F48:AB48)/$D48*IF(AB$4>0,1,0)","v":0},{"$f":"SUM($F48:AC48)/$D48*IF(AC$4>0,1,0)","v":0},{"$f":"SUM($F48:AD48)/$D48*IF(AD$4>0,1,0)","v":0},{"$f":"SUM($F48:AE48)/$D48*IF(AE$4>0,1,0)","v":0},{"$f":"SUM($F48:AF48)/$D48*IF(AF$4>0,1,0)","v":0},{"$f":"SUM($F48:AG48)/$D48*IF(AG$4>0,1,0)","v":0},{"$f":"SUM($F48:AH48)/$D48*IF(AH$4>0,1,0)","v":0},{"$f":"SUM($F48:AI48)/$D48*IF(AI$4>0,1,0)","v":0},0]
[null,"РАЗОМ АМОРТИЗАЦІЯ / Total Depreciation ",null,null,null,null,{"$f":"G93+G71","v":562.5},562.5,562.5,562.5,562.5,562.5,562.5,562.5,562.5,562.5,562.5,562.5,562.5,562.5,{"$f":"U93+U71","v":562.5},{"$f":"V93+V71","v":0},{"$f":"W93+W71","v":0},0,0,0,0,0,0,0,0,0,0,0,0,{"$f":"SUM(F115:AI115)","v":8437.5}]
[null,"Ліквідаційна вартість / Liquidation value ",null,null,null,{"$f":"F117+F130","v":0},{"$f":"G117+G130","v":0},0,0,0,0,0,0,0,0,0,0,0,0,0,{"$f":"U117+U130","v":0},{"$f":"V117+V130","v":562.5},0,0,0,0,0,0,0,0,0,0,0,0,0,562.5]
[null,"Основні засоби: / fixed assets :",null,null,null,{"$f":"SUM(F118:F129)","v":0},{"$f":"SUM(G118:G129)","v":0},0,0,0,0,0,0,0,0,0,0,0,0,0,{"$f":"SUM(U118:U129)","v":0},{"$f":"SUM(V118:V129)","v":562.5},0,0,0,0,0,0,0,0,0,0,0,0,0,562.5]
[null,"Група 1 – земельні ділянки / Group 1 -ground sections","—",{"$f":"IF('Грошові потоки _ Cash flows'!$E$15>Амортизація_Depreciation!C118, 'Грошові потоки _ Cash flows'!$E$15,Амортизація_Depreciation!C118)","v":"—"},null,{"$f":"IF(AND(F$4=0,E$4>0),E51,0)","v":0},{"$f":"IF(AND(G$4=0,F$4>0),F51,0)","v":0},0,{"$f":"IF(AND(I$4=0,H$4>0),H51,0)","v":0},0,0,0,0,0,0,0,0,0,0,{"$f":"IF(AND(T$4=0,S$4>0),S51,0)","v":0},{"$f":"IF(AND(U$4=0,T$4>0),T51,0)","v":0},{"$f":"IF(AND(V$4=0,U$4>0),U51,0)","v":0},0,0,0,0,0,0,0,0,0,0,0,0,0,0]
[null,"Група 2 – капітальні витрати на поліпшення землі, не пов'язані з будівництвом / CAPEX on ground improvement not related to construction",15,{"$f":"IF('Грошові потоки _ Cash flows'!$E$15>Амортизація_Depreciation!C119, 'Грошові потоки _ Cash flows'!$E$15,Амортизація_Depreciation!C119)","v":16},null,{"$f":"IF(AND(F$4=0,E$4>0),E52,0)","v":0},{"$f":"IF(AND(G$4=0,F$4>0),F52,0)","v":0},0,0,0,0,0,{"$f":"IF(AND(M$4=0,L$4>0),L52,0)","v":0},0,0,0,0,0,0,0,0,0,0,0,0,0,0,0,0,0,0,0,0,0,0,0]
[null,"Група 3 –  будівлі / buildings",20,{"$f":"IF('Грошові потоки _ Cash flows'!$E$15>Амортизація_Depreciation!C120, 'Грошові потоки _ Cash flows'!$E$15,Амортизація_Depreciation!C120)","v":20},null,0,0,0,0,0,0,0,0,0,0,0,0,0,{"$f":"IF(AND(S$4=0,R$4>0),R53,0)","v":0},0,0,0,0,0,0,0,0,0,0,0,0,0,0,0,0,0]
[null,"споруди / constructions",15,{"$f":"IF('Грошові потоки _ Cash flows'!$E$15>Амортизація_Depreciation!C121, 'Грошові потоки _ Cash flows'!$E$15,Амортизація_Depreciation!C121)","v":16},null,0,0,0,0,0,0,0,0,0,0,0,0,0,0,0,0,0,0,0,0,0,0,0,0,0,0,0,0,0,0,0]
[null,"передавальні пристрої / transmitting devices",10,{"$f":"IF('Грошові потоки _ Cash flows'!$E$15>Амортизація_Depreciation!C122, 'Грошові потоки _ Cash flows'!$E$15,Амортизація_Depreciation!C122)","v":16},null,0,0,0,0,0,0,0,0,0,0,0,0,0,0,0,0,0,0,0,0,0,0,0,0,0,0,0,0,0,0,0]
[null,"Група 4 –  машини та обладнання / Machines and equipment",5,{"$f":"IF('Грошові потоки _ Cash flows'!$E$15>Амортизація_Depreciation!C123, 'Грошові потоки _ Cash flows'!$E$15,Амортизація_Depreciation!C123)","v":16},null,0,0,0,0,0,0,0,0,0,0,0,0,0,0,0,0,562.5,0,0,0,0,0,0,0,0,0,0,0,0,0,562.5]
[null,"Електронно-обчислювальні машини, інші машини для автоматичного оброблення інформації, пов'язані з ними засоби зчитування або друку інформації, пов'язані з ними комп'ютерні програми (крім програм, витрати на придбання яких визнаються роялті, та / або програм, які визнаються нематеріальним активів) , інші інформаційні системи, комутатори, маршрутизатори, модулі, модеми, джерела безперебійного живлення та засоби їх підключення до телекомунікаційних мереж, телефони (в тому числі мобільні), мікрофони і рації, вартість яких перевищує 2500 гривень.",2,{"$f":"IF('Грошові потоки _ Cash flows'!$E$15>Амортизація_Depreciation!C124, 'Грошові потоки _ Cash flows'!$E$15,Амортизація_Depreciation!C124)","v":16},null,0,0,0,0,0,0,0,0,0,0,0,0,0,0,0,0,0,0,0,0,0,0,0,0,0,0,0,0,0,0,0]
[null,"Група 5 – транспортні засоби / vehicles",5,{"$f":"IF('Грошові потоки _ Cash flows'!$E$15>Амортизація_Depreciation!C125, 'Грошові потоки _ Cash flows'!$E$15,Амортизація_Depreciation!C125)","v":16},null,0,0,0,0,0,0,0,0,0,0,0,0,0,0,0,0,0,0,0,0,0,0,0,0,0,0,0,0,0,{"$f":"IF(AND(AI$4=0,AH$4>0),AH58,0)","v":0},0]
[null,"Група 6 – інструменти, прилади, інвентар (меблі) / tools, devices, inventory (furniture)",4,{"$f":"IF('Грошові потоки _ Cash flows'!$E$15>Амортизація_Depreciation!C126, 'Грошові потоки _ Cash flows'!$E$15,Амортизація_Depreciation!C126)","v":16},null,0,0,0,0,0,0,0,0,0,0,0,0,0,0,0,0,0,0,0,0,0,0,0,0,0,0,0,0,0,{"$f":"IF(AND(AI$4=0,AH$4>0),AH59,0)","v":0},0]
[null,"Група 7 – тварини / animals",6,{"$f":"IF('Грошові потоки _ Cash flows'!$E$15>Амортизація_Depreciation!C127, 'Грошові потоки _ Cash flows'!$E$15,Амортизація_Depreciation!C127)","v":16},null,0,0,0,0,0,0,0,0,0,0,0,0,0,0,0,0,0,0,0,0,0,0,0,0,0,0,0,0,0,0,0]
[null,"Група 8 – багаторічні насадження / perennial plantings",10,{"$f":"IF('Грошові потоки _ Cash flows'!$E$15>Амортизація_Depreciation!C128, 'Грошові потоки _ Cash flows'!$E$15,Амортизація_Depreciation!C128)","v":16},null,0,0,0,0,0,0,0,0,0,0,0,0,0,0,0,0,0,0,0,0,0,0,0,0,0,0,0,0,0,0,0]
[null,"Група 9 – інші основні засоби / other fixed assets",12,{"$f":"IF('Грошові потоки _ Cash flows'!$E$15>Амортизація_Depreciation!C129, 'Грошові потоки _ Cash flows'!$E$15,Амортизація_Depreciation!C129)","v":16},null,0,0,0,0,0,0,0,0,0,0,0,0,0,0,0,0,0,0,0,0,0,0,0,0,0,0,0,0,0,{"$f":"IF(AND(AI$4=0,AH$4>0),AH62,0)","v":0},0]
[null,"Інші необоротні матеріальні активи: / Other non-current tangible assets:",null,null,null,{"$f":"SUM(F131:F137)","v":0},{"$f":"SUM(G131:G137)","v":0},0,0,0,0,0,0,0,0,0,0,0,0,0,0,0,0,0,0,0,0,0,0,0,0,0,0,0,0,0]
[null,"Група 10 – бібліотечні фонди /library funds","—",{"$f":"IF('Грошові потоки _ Cash flows'!$E$15>Амортизація_Depreciation!C131, 'Грошові потоки _ Cash flows'!$E$15,Амортизація_Depreciation!C131)","v":"—"},null,{"$f":"IF(AND(F$4=0,E$4>0),E64,0)","v":0},{"$f":"IF(AND(G$4=0,F$4>0),F64,0)","v":0},0,0,0,0,0,0,0,0,0,0,0,0,0,0,{"$f":"IF(AND(V$4=0,U$4>0),U64,0)","v":0},{"$f":"IF(AND(W$4=0,V$4>0),V64,0)","v":0},{"$f":"IF(AND(X$4=0,W$4>0),W64,0)","v":0},{"$f":"IF(AND(Y$4=0,X$4>0),X64,0)","v":0},{"$f":"IF(AND(Z$4=0,Y$4>0),Y64,0)","v":0},{"$f":"IF(AND(AA$4=0,Z$4>0),Z64,0)","v":0},{"$f":"IF(AND(AB$4=0,AA$4>0),AA64,0)","v":0},{"$f":"IF(AND(AC$4=0,AB$4>0),AB64,0)","v":0},{"$f":"IF(AND(AD$4=0,AC$4>0),AC64,0)","v":0},{"$f":"IF(AND(AE$4=0,AD$4>0),AD64,0)","v":0},{"$f":"IF(AND(AF$4=0,AE$4>0),AE64,0)","v":0},{"$f":"IF(AND(AG$4=0,AF$4>0),AF64,0)","v":0},{"$f":"IF(AND(AH$4=0,AG$4>0),AG64,0)","v":0},{"$f":"IF(AND(AI$4=0,AH$4>0),AH64,0)","v":0},0]
[null,"Група 11 – малоцінні необоротні активи / low-value non-current assets","—",{"$f":"IF('Грошові потоки _ Cash flows'!$E$15>Амортизація_Depreciation!C132, 'Грошові потоки _ Cash flows'!$E$15,Амортизація_Depreciation!C132)","v":"—"},null,{"$f":"IF(AND(F$4=0,E$4>0),E65,0)","v":0},0,0,0,0,0,0,0,0,0,0,0,0,0,0,0,0,0,0,0,0,0,0,0,0,0,0,0,0,0,0]
[null,"Група 12 – тимчасові (нетитульні) споруди / temporary (untitled) buildings",5,{"$f":"IF('Грошові потоки _ Cash flows'!$E$15>Амортизація_Depreciation!C133, 'Грошові потоки _ Cash flows'!$E$15,Амортизація_Depreciation!C133)","v":16},null,0,0,0,0,0,0,0,0,0,0,0,0,0,0,0,0,0,0,0,0,0,0,0,0,0,0,0,0,0,0,0]
[null,"Група 13 – природні ресурси / natural resources","—",{"$f":"IF('Грошові потоки _ Cash flows'!$E$15>Амортизація_Depreciation!C134, 'Грошові потоки _ Cash flows'!$E$15,Амортизація_Depreciation!C134)","v":"—"},null,0,0,0,0,0,0,0,0,0,0,0,0,0,0,0,{"$f":"IF(AND(U$4=0,T$4>0),T67,0)","v":0},0,0,0,0,0,0,0,0,0,0,0,0,0,0,0]
[null,"Група 14 – інвентарна тара / inventory packaging",6,{"$f":"IF('Грошові потоки _ Cash flows'!$E$15>Амортизація_Depreciation!C135, 'Грошові потоки _ Cash flows'!$E$15,Амортизація_Depreciation!C135)","v":16},null,0,0,0,0,0,0,0,0,0,0,0,0,0,0,0,0,0,0,0,0,0,0,0,0,0,0,0,0,{"$f":"IF(AND(AH$4=0,AG$4>0),AG68,0)","v":0},0,0]
[null,"Група 15 – предмети прокату / lease items",5,{"$f":"IF('Грошові потоки _ Cash flows'!$E$15>Амортизація_Depreciation!C136, 'Грошові потоки _ Cash flows'!$E$15,Амортизація_Depreciation!C136)","v":16},null,0,0,0,0,0,0,0,0,0,0,0,0,0,0,0,0,0,0,0,0,0,0,0,0,0,0,0,0,0,0,0]
[null,"Група 16 – довгострокові біологічні активи / Long-term biological assets",7,{"$f":"IF('Грошові потоки _ Cash flows'!$E$15>Амортизація_Depreciation!C137, 'Грошові потоки _ Cash flows'!$E$15,Амортизація_Depreciation!C137)","v":16},null,0,0,0,0,0,0,0,0,0,0,{"$f":"IF(AND(P$4=0,O$4>0),O70,0)","v":0},0,0,0,0,0,0,0,0,0,0,0,0,0,0,0,0,0,0,0,0]
[]
[]
[]
[]
[]
[]
[]
[]
[]
[]
[]
[]
[]
[]
[]
[null,null,null,null,null,null,null,null,null,{"$f":"HLOOKUP(E13+E9-1,Амортизація_Depreciation!F4:AI137,53,FALSE)","v":{"$error":"#N/A"}}]

{"sheet":"Факторн. аналіз_Factor analysis","index":10,"n_rows":52,"n_cols":35,"rows_kept":52,"cut":false,"hidden":false,"merged":[[19,2,19,3],[20,2,20,3],[24,14,24,24],[25,16,25,18],[26,1,29,1],[26,5,28,5],[26,6,28,6],[26,13,30,13],[26,14,26,15],[46,5,46,7],[46,8,46,12],[47,1,53,1],[47,14,47,15],[51,13,55,13],[53,5,53,7],[53,8,53,12],[36,6,38,6],[39,5,39,7],[39,8,39,12],[39,16,39,18],[40,13,44,13],[40,14,40,15],[31,1,33,1],[31,5,33,5],[31,6,33,6],[32,16,32,18],[33,13,37,13],[33,14,33,15],[34,5,34,7],[34,8,34,12],[36,1,38,1],[36,5,38,5],[14,32,15,32],[14,33,15,33],[14,34,15,34],[16,2,16,3],[17,2,17,3],[18,2,18,3],[14,26,15,26],[14,27,15,27],[14,28,15,28],[14,29,15,29],[14,30,15,30],[14,31,15,31],[14,20,15,20],[14,21,15,21],[14,22,15,22],[14,23,15,23],[14,24,15,24],[14,25,15,25],[14,14,15,14],[14,15,15,15],[14,16,15,16],[14,17,15,17],[14,18,15,18],[14,19,15,19],[14,12,15,12],[14,13,15,13],[12,2,12,3],[14,2,15,3],[14,4,15,4],[14,5,15,5],[14,6,15,6],[14,7,15,7],[7,2,7,3],[11,2,11,3],[14,8,15,8],[14,9,15,9],[14,10,15,10],[14,11,15,11],[6,2,6,3],[5,2,5,3],[10,2,10,3],[3,29,4,29],[3,30,4,30],[3,31,4,31],[3,17,4,17],[3,18,4,18],[3,19,4,19],[3,20,4,20],[3,21,4,21],[3,22,4,22],[3,11,4,11],[3,12,4,12],[3,13,4,13],[3,14,4,14],[3,15,4,15],[3,16,4,16],[8,2,8,3],[9,2,9,3],[3,32,4,32],[3,33,4,33],[3,34,4,34],[3,23,4,23],[3,24,4,24],[3,25,4,25],[3,26,4,26],[3,27,4,27],[3,28,4,28],[1,1,1,2],[1,3,1,14],[3,2,4,3],[3,4,4,4],[3,5,4,5],[3,6,4,6],[3,7,4,7],[3,8,4,8],[3,9,4,9],[3,10,4,10]]}
[]
[null,"ФАКТОРНИЙ АНАЛІЗ/FACTOR ANALYSIS",null,{"$f":"CONCATENATE(Головна_Summary!A2,\"/ \",Головна_Summary!K2)","v":"Energy storage system 10МВт/ Energy storage system 10 MW"}]
[]
[null,null,"Фактори зміни NPV/NPV change factors",null,"Вплив фактору /factor influence",{"$f":"'Грошові потоки _ Cash flows'!I22","v":2024},{"$f":"'Грошові потоки _ Cash flows'!J22","v":2025},{"$f":"'Грошові потоки _ Cash flows'!K22","v":2026},{"$f":"'Грошові потоки _ Cash flows'!L22","v":2027},{"$f":"'Грошові потоки _ Cash flows'!M22","v":2028},{"$f":"'Грошові потоки _ Cash flows'!N22","v":2029},{"$f":"'Грошові потоки _ Cash flows'!O22","v":2030},{"$f":"'Грошові потоки _ Cash flows'!P22","v":2031},{"$f":"'Грошові потоки _ Cash flows'!Q22","v":2032},{"$f":"'Грошові потоки _ Cash flows'!R22","v":2033},{"$f":"'Грошові потоки _ Cash flows'!S22","v":2034},{"$f":"'Грошові потоки _ Cash flows'!T22","v":2035},{"$f":"'Грошові потоки _ Cash flows'!U22","v":2036},{"$f":"'Грошові потоки _ Cash flows'!V22","v":2037},{"$f":"'Грошові потоки _ Cash flows'!W22","v":2038},{"$f":"'Грошові потоки _ Cash flows'!X22","v":0},{"$f":"'Грошові потоки _ Cash flows'!Y22","v":0},{"$f":"'Грошові потоки _ Cash flows'!Z22","v":0},{"$f":"'Грошові потоки _ Cash flows'!AA22","v":0},{"$f":"'Грошові потоки _ Cash flows'!AB22","v":0},{"$f":"'Грошові потоки _ Cash flows'!AC22","v":0},{"$f":"'Грошові потоки _ Cash flows'!AD22","v":0},{"$f":"'Грошові потоки _ Cash flows'!AE22","v":0},{"$f":"'Грошові потоки _ Cash flows'!AF22","v":0},{"$f":"'Грошові потоки _ Cash flows'!AG22","v":0},{"$f":"'Грошові потоки _ Cash flows'!AH22","v":0},{"$f":"'Грошові потоки _ Cash flows'!AI22","v":0},{"$f":"'Грошові потоки _ Cash flows'!AJ22","v":0},{"$f":"'Грошові потоки _ Cash flows'!AK22","v":0},{"$f":"'Грошові потоки _ Cash flows'!AL22","v":0}]
[]
[null,1,"Бюджет проекту/Project budget",null,{"$f":"SUM(F6:AI6)","v":-4023.9202700394471},{"$f":"-'Грошові потоки _ Cash flows'!I39*'Грошові потоки _ Cash flows'!I47","v":0},{"$f":"-'Грошові потоки _ Cash flows'!J39*'Грошові потоки _ Cash flows'!J47","v":-901.87590187590195},{"$f":"-'Грошові потоки _ Cash flows'!K39*'Грошові потоки _ Cash flows'!K47","v":-1061.9491138971657},{"$f":"-'Грошові потоки _ Cash flows'!L39*'Грошові потоки _ Cash flows'!L47","v":-919.43646224862823},{"$f":"-'Грошові потоки _ Cash flows'!M39*'Грошові потоки _ Cash flows'!M47","v":-796.04888506374766},{"$f":"-'Грошові потоки _ Cash flows'!N39*'Грошові потоки _ Cash flows'!N47","v":-344.60990695400346},{"$f":"-'Грошові потоки _ Cash flows'!O39*'Грошові потоки _ Cash flows'!O47","v":0},{"$f":"-'Грошові потоки _ Cash flows'!P39*'Грошові потоки _ Cash flows'!P47","v":0},{"$f":"-'Грошові потоки _ Cash flows'!Q39*'Грошові потоки _ Cash flows'!Q47","v":0},{"$f":"-'Грошові потоки _ Cash flows'!R39*'Грошові потоки _ Cash flows'!R47","v":0},{"$f":"-'Грошові потоки _ Cash flows'!S39*'Грошові потоки _ Cash flows'!S47","v":0},{"$f":"-'Грошові потоки _ Cash flows'!T39*'Грошові потоки _ Cash flows'!T47","v":0},{"$f":"-'Грошові потоки _ Cash flows'!U39*'Грошові потоки _ Cash flows'!U47","v":0},{"$f":"-'Грошові потоки _ Cash flows'!V39*'Грошові потоки _ Cash flows'!V47","v":0},{"$f":"-'Грошові потоки _ Cash flows'!W39*'Грошові потоки _ Cash flows'!W47","v":0},{"$f":"-'Грошові потоки _ Cash flows'!X39*'Грошові потоки _ Cash flows'!X47","v":0},{"$f":"-'Грошові потоки _ Cash flows'!Y39*'Грошові потоки _ Cash flows'!Y47","v":0},{"$f":"-'Грошові потоки _ Cash flows'!Z39*'Грошові потоки _ Cash flows'!Z47","v":0}]
[null,2,"Відсотки за кредит/Loan interest rate ",null,{"$f":"SUM(F7:AI7)","v":-1112.5108971840291},{"$f":"-('Грошові потоки _ Cash flows'!I36-'Грошові потоки _ Cash flows'!I36*IF(F8=0,0,'Грошові потоки _ Cash flows'!I53))*'Грошові потоки _ Cash flows'!I47","v":-150},{"$f":"-('Грошові потоки _ Cash flows'!J36-'Грошові потоки _ Cash flows'!J36*IF(G8=0,0,'Грошові потоки _ Cash flows'!J53))*'Грошові потоки _ Cash flows'!J47","v":-414.14141414141415},{"$f":"-('Грошові потоки _ Cash flows'!K36-'Грошові потоки _ Cash flows'!K36*IF(H8=0,0,'Грошові потоки _ Cash flows'!K53))*'Грошові потоки _ Cash flows'!K47","v":-283.00943885359465},{"$f":"-('Грошові потоки _ Cash flows'!L36-'Грошові потоки _ Cash flows'!L36*IF(I8=0,0,'Грошові потоки _ Cash flows'!L53))*'Грошові потоки _ Cash flows'!L47","v":-169.63602728487194},{"$f":"-('Грошові потоки _ Cash flows'!M36-'Грошові потоки _ Cash flows'!M36*IF(J8=0,0,'Грошові потоки _ Cash flows'!M53))*'Грошові потоки _ Cash flows'!M47","v":-81.595010719034136},{"$f":"-('Грошові потоки _ Cash flows'!N36-'Грошові потоки _ Cash flows'!N36*IF(K8=0,0,'Грошові потоки _ Cash flows'!N53))*'Грошові потоки _ Cash flows'!N47","v":-14.129006185114143},{"$f":"-('Грошові потоки _ Cash flows'!O36-'Грошові потоки _ Cash flows'!O36*IF(L8=0,0,'Грошові потоки _ Cash flows'!O53))*'Грошові потоки _ Cash flows'!O47","v":0},{"$f":"-('Грошові потоки _ Cash flows'!P36-'Грошові потоки _ Cash flows'!P36*IF(M8=0,0,'Грошові потоки _ Cash flows'!P53))*'Грошові потоки _ Cash flows'!P47","v":0},{"$f":"-('Грошові потоки _ Cash flows'!Q36-'Грошові потоки _ Cash flows'!Q36*IF(N8=0,0,'Грошові потоки _ Cash flows'!Q53))*'Грошові потоки _ Cash flows'!Q47","v":0},{"$f":"-('Грошові потоки _ Cash flows'!R36-'Грошові потоки _ Cash flows'!R36*IF(O8=0,0,'Грошові потоки _ Cash flows'!R53))*'Грошові потоки _ Cash flows'!R47","v":0},{"$f":"-('Грошові потоки _ Cash flows'!S36-'Грошові потоки _ Cash flows'!S36*IF(P8=0,0,'Грошові потоки _ Cash flows'!S53))*'Грошові потоки _ Cash flows'!S47","v":0},{"$f":"-('Грошові потоки _ Cash flows'!T36-'Грошові потоки _ Cash flows'!T36*IF(Q8=0,0,'Грошові потоки _ Cash flows'!T53))*'Грошові потоки _ Cash flows'!T47","v":0},{"$f":"-('Грошові потоки _ Cash flows'!U36-'Грошові потоки _ Cash flows'!U36*IF(R8=0,0,'Грошові потоки _ Cash flows'!U53))*'Грошові потоки _ Cash flows'!U47","v":0},{"$f":"-('Грошові потоки _ Cash flows'!V36-'Грошові потоки _ Cash flows'!V36*IF(S8=0,0,'Грошові потоки _ Cash flows'!V53))*'Грошові потоки _ Cash flows'!V47","v":0},{"$f":"-('Грошові потоки _ Cash flows'!W36-'Грошові потоки _ Cash flows'!W36*IF(T8=0,0,'Грошові потоки _ Cash flows'!W53))*'Грошові потоки _ Cash flows'!W47","v":0},{"$f":"-('Грошові потоки _ Cash flows'!X36-'Грошові потоки _ Cash flows'!X36*IF(U8=0,0,'Грошові потоки _ Cash flows'!X53))*'Грошові потоки _ Cash flows'!X47","v":0},{"$f":"-('Грошові потоки _ Cash flows'!Y36-'Грошові потоки _ Cash flows'!Y36*IF(V8=0,0,'Грошові потоки _ Cash flows'!Y53))*'Грошові потоки _ Cash flows'!Y47","v":0},{"$f":"-('Грошові потоки _ Cash flows'!Z36-'Грошові потоки _ Cash flows'!Z36*IF(W8=0,0,'Грошові потоки _ Cash flows'!Z53))*'Грошові потоки _ Cash flows'!Z47","v":0}]
[null,3,"Ефективність роботи СНЕ від аРВЧ/The efficiency of storage work for FRR",null,{"$f":"SUM(F8:AI8)","v":2695.456162423664},0,{"$f":"IF('Грошові потоки _ Cash flows'!J28=0,0,((CFO!I26+CFO!I27-CFO!I19)-((CFO!I26+CFO!I27-CFO!I19)*'Грошові потоки _ Cash flows'!J53))*'Грошові потоки _ Cash flows'!J47)/2","v":245.87857885550892},{"$f":"IF('Грошові потоки _ Cash flows'!K28=0,0,((CFO!J26+CFO!J27-CFO!J19)-((CFO!J26+CFO!J27-CFO!J19)*'Грошові потоки _ Cash flows'!K53))*'Грошові потоки _ Cash flows'!K47)","v":417.97171390093689},{"$f":"IF('Грошові потоки _ Cash flows'!L28=0,0,((CFO!K26+CFO!K27-CFO!K19)-((CFO!K26+CFO!K27-CFO!K19)*'Грошові потоки _ Cash flows'!L53))*'Грошові потоки _ Cash flows'!L47)","v":355.27595681579641},{"$f":"IF('Грошові потоки _ Cash flows'!M28=0,0,((CFO!L26+CFO!L27-CFO!L19)-((CFO!L26+CFO!L27-CFO!L19)*'Грошові потоки _ Cash flows'!M53))*'Грошові потоки _ Cash flows'!M47)","v":301.98456329342696},{"$f":"IF('Грошові потоки _ Cash flows'!N28=0,0,((CFO!M26+CFO!M27-CFO!M19)-((CFO!M26+CFO!M27-CFO!M19)*'Грошові потоки _ Cash flows'!N53))*'Грошові потоки _ Cash flows'!N47)","v":256.68687879941285},{"$f":"IF('Грошові потоки _ Cash flows'!O28=0,0,((CFO!N26+CFO!N27-CFO!N19)-((CFO!N26+CFO!N27-CFO!N19)*'Грошові потоки _ Cash flows'!O53))*'Грошові потоки _ Cash flows'!O47)","v":218.18384697950091},{"$f":"IF('Грошові потоки _ Cash flows'!P28=0,0,((CFO!O26+CFO!O27-CFO!O19)-((CFO!O26+CFO!O27-CFO!O19)*'Грошові потоки _ Cash flows'!P53))*'Грошові потоки _ Cash flows'!P47)","v":185.45626993257576},{"$f":"IF('Грошові потоки _ Cash flows'!Q28=0,0,((CFO!P26+CFO!P27-CFO!P19)-((CFO!P26+CFO!P27-CFO!P19)*'Грошові потоки _ Cash flows'!Q53))*'Грошові потоки _ Cash flows'!Q47)","v":157.63782944268942},{"$f":"IF('Грошові потоки _ Cash flows'!R28=0,0,((CFO!Q26+CFO!Q27-CFO!Q19)-((CFO!Q26+CFO!Q27-CFO!Q19)*'Грошові потоки _ Cash flows'!R53))*'Грошові потоки _ Cash flows'!R47)","v":133.99215502628596},{"$f":"IF('Грошові потоки _ Cash flows'!S28=0,0,((CFO!R26+CFO!R27-CFO!R19)-((CFO!R26+CFO!R27-CFO!R19)*'Грошові потоки _ Cash flows'!S53))*'Грошові потоки _ Cash flows'!S47)","v":113.89333177234306},{"$f":"IF('Грошові потоки _ Cash flows'!T28=0,0,((CFO!S26+CFO!S27-CFO!S19)-((CFO!S26+CFO!S27-CFO!S19)*'Грошові потоки _ Cash flows'!T53))*'Грошові потоки _ Cash flows'!T47)","v":96.809332006491601},{"$f":"IF('Грошові потоки _ Cash flows'!U28=0,0,((CFO!T26+CFO!T27-CFO!T19)-((CFO!T26+CFO!T27-CFO!T19)*'Грошові потоки _ Cash flows'!U53))*'Грошові потоки _ Cash flows'!U47)","v":82.287932205517848},{"$f":"IF('Грошові потоки _ Cash flows'!V28=0,0,((CFO!U26+CFO!U27-CFO!U19)-((CFO!U26+CFO!U27-CFO!U19)*'Грошові потоки _ Cash flows'!V53))*'Грошові потоки _ Cash flows'!V47)","v":69.944742374690165},{"$f":"IF('Грошові потоки _ Cash flows'!W28=0,0,((CFO!V26+CFO!V27-CFO!V19)-((CFO!V26+CFO!V27-CFO!V19)*'Грошові потоки _ Cash flows'!W53))*'Грошові потоки _ Cash flows'!W47)","v":59.453031018486662},{"$f":"IF('Грошові потоки _ Cash flows'!X28=0,0,((CFO!W26+CFO!W27-CFO!W19)-((CFO!W26+CFO!W27-CFO!W19)*'Грошові потоки _ Cash flows'!X53))*'Грошові потоки _ Cash flows'!X47)","v":0},{"$f":"IF('Грошові потоки _ Cash flows'!Y28=0,0,((CFO!X26+CFO!X27-CFO!X19)-((CFO!X26+CFO!X27-CFO!X19)*'Грошові потоки _ Cash flows'!Y53))*'Грошові потоки _ Cash flows'!Y47)","v":0},{"$f":"IF('Грошові потоки _ Cash flows'!Z28=0,0,((CFO!Y26+CFO!Y27-CFO!Y19)-((CFO!Y26+CFO!Y27-CFO!Y19)*'Грошові потоки _ Cash flows'!Z53))*'Грошові потоки _ Cash flows'!Z47)","v":0}]
[null,4,"Ефективність роботи СНЕ на БР/The efficiency of storage work on the BM ",null,{"$f":"SUM(F9:AI9)","v":{"$error":"#REF!"}},0,{"$f":"IF('Грошові потоки _ Cash flows'!J28=0,0,((CFO!I31+CFO!I34+CFO!I37+CFO!I40-CFO!I43-CFO!I46)-((CFO!I31+CFO!I34+CFO!I37+CFO!I40-CFO!I43-CFO!I46)*'Грошові потоки _ Cash flows'!J53))*'Грошові потоки _ Cash flows'!J47)/2","v":{"$error":"#REF!"}},{"$f":"IF('Грошові потоки _ Cash flows'!K28=0,0,((CFO!J31+CFO!J34+CFO!J37+CFO!J40-CFO!J43-CFO!J46)-((CFO!J31+CFO!J34+CFO!J37+CFO!J40-CFO!J43-CFO!J46)*'Грошові потоки _ Cash flows'!K53))*'Грошові потоки _ Cash flows'!K47)","v":{"$error":"#REF!"}},{"$f":"IF('Грошові потоки _ Cash flows'!L28=0,0,((CFO!K31+CFO!K34+CFO!K37+CFO!K40-CFO!K43-CFO!K46)-((CFO!K31+CFO!K34+CFO!K37+CFO!K40-CFO!K43-CFO!K46)*'Грошові потоки _ Cash flows'!L53))*'Грошові потоки _ Cash flows'!L47)","v":{"$error":"#REF!"}},{"$f":"IF('Грошові потоки _ Cash flows'!M28=0,0,((CFO!L31+CFO!L34+CFO!L37+CFO!L40-CFO!L43-CFO!L46)-((CFO!L31+CFO!L34+CFO!L37+CFO!L40-CFO!L43-CFO!L46)*'Грошові потоки _ Cash flows'!M53))*'Грошові потоки _ Cash flows'!M47)","v":{"$error":"#REF!"}},{"$f":"IF('Грошові потоки _ Cash flows'!N28=0,0,((CFO!M31+CFO!M34+CFO!M37+CFO!M40-CFO!M43-CFO!M46)-((CFO!M31+CFO!M34+CFO!M37+CFO!M40-CFO!M43-CFO!M46)*'Грошові потоки _ Cash flows'!N53))*'Грошові потоки _ Cash flows'!N47)","v":{"$error":"#REF!"}},{"$f":"IF('Грошові потоки _ Cash flows'!O28=0,0,((CFO!N31+CFO!N34+CFO!N37+CFO!N40-CFO!N43-CFO!N46)-((CFO!N31+CFO!N34+CFO!N37+CFO!N40-CFO!N43-CFO!N46)*'Грошові потоки _ Cash flows'!O53))*'Грошові потоки _ Cash flows'!O47)","v":{"$error":"#REF!"}},{"$f":"IF('Грошові потоки _ Cash flows'!P28=0,0,((CFO!O31+CFO!O34+CFO!O37+CFO!O40-CFO!O43-CFO!O46)-((CFO!O31+CFO!O34+CFO!O37+CFO!O40-CFO!O43-CFO!O46)*'Грошові потоки _ Cash flows'!P53))*'Грошові потоки _ Cash flows'!P47)","v":{"$error":"#REF!"}},{"$f":"IF('Грошові потоки _ Cash flows'!Q28=0,0,((CFO!P31+CFO!P34+CFO!P37+CFO!P40-CFO!P43-CFO!P46)-((CFO!P31+CFO!P34+CFO!P37+CFO!P40-CFO!P43-CFO!P46)*'Грошові потоки _ Cash flows'!Q53))*'Грошові потоки _ Cash flows'!Q47)","v":{"$error":"#REF!"}},{"$f":"IF('Грошові потоки _ Cash flows'!R28=0,0,((CFO!Q31+CFO!Q34+CFO!Q37+CFO!Q40-CFO!Q43-CFO!Q46)-((CFO!Q31+CFO!Q34+CFO!Q37+CFO!Q40-CFO!Q43-CFO!Q46)*'Грошові потоки _ Cash flows'!R53))*'Грошові потоки _ Cash flows'!R47)","v":{"$error":"#REF!"}},{"$f":"IF('Грошові потоки _ Cash flows'!S28=0,0,((CFO!R31+CFO!R34+CFO!R37+CFO!R40-CFO!R43-CFO!R46)-((CFO!R31+CFO!R34+CFO!R37+CFO!R40-CFO!R43-CFO!R46)*'Грошові потоки _ Cash flows'!S53))*'Грошові потоки _ Cash flows'!S47)","v":{"$error":"#REF!"}},{"$f":"IF('Грошові потоки _ Cash flows'!T28=0,0,((CFO!S31+CFO!S34+CFO!S37+CFO!S40-CFO!S43-CFO!S46)-((CFO!S31+CFO!S34+CFO!S37+CFO!S40-CFO!S43-CFO!S46)*'Грошові потоки _ Cash flows'!T53))*'Грошові потоки _ Cash flows'!T47)","v":{"$error":"#REF!"}},{"$f":"IF('Грошові потоки _ Cash flows'!U28=0,0,((CFO!T31+CFO!T34+CFO!T37+CFO!T40-CFO!T43-CFO!T46)-((CFO!T31+CFO!T34+CFO!T37+CFO!T40-CFO!T43-CFO!T46)*'Грошові потоки _ Cash flows'!U53))*'Грошові потоки _ Cash flows'!U47)","v":{"$error":"#REF!"}},{"$f":"IF('Грошові потоки _ Cash flows'!V28=0,0,((CFO!U31+CFO!U34+CFO!U37+CFO!U40-CFO!U43-CFO!U46)-((CFO!U31+CFO!U34+CFO!U37+CFO!U40-CFO!U43-CFO!U46)*'Грошові потоки _ Cash flows'!V53))*'Грошові потоки _ Cash flows'!V47)","v":{"$error":"#REF!"}},{"$f":"IF('Грошові потоки _ Cash flows'!W28=0,0,((CFO!V31+CFO!V34+CFO!V37+CFO!V40-CFO!V43-CFO!V46)-((CFO!V31+CFO!V34+CFO!V37+CFO!V40-CFO!V43-CFO!V46)*'Грошові потоки _ Cash flows'!W53))*'Грошові потоки _ Cash flows'!W47)","v":{"$error":"#REF!"}},{"$f":"IF('Грошові потоки _ Cash flows'!X28=0,0,((CFO!W31+CFO!W34+CFO!W37+CFO!W40-CFO!W43-CFO!W46)-((CFO!W31+CFO!W34+CFO!W37+CFO!W40-CFO!W43-CFO!W46)*'Грошові потоки _ Cash flows'!X53))*'Грошові потоки _ Cash flows'!X47)","v":0},{"$f":"IF('Грошові потоки _ Cash flows'!Y28=0,0,((CFO!X31+CFO!X34+CFO!X37+CFO!X40-CFO!X43-CFO!X46)-((CFO!X31+CFO!X34+CFO!X37+CFO!X40-CFO!X43-CFO!X46)*'Грошові потоки _ Cash flows'!Y53))*'Грошові потоки _ Cash flows'!Y47)","v":0},{"$f":"IF('Грошові потоки _ Cash flows'!Z28=0,0,((CFO!Y31+CFO!Y34+CFO!Y37+CFO!Y40-CFO!Y43-CFO!Y46)-((CFO!Y31+CFO!Y34+CFO!Y37+CFO!Y40-CFO!Y43-CFO!Y46)*'Грошові потоки _ Cash flows'!Z53))*'Грошові потоки _ Cash flows'!Z47)","v":0}]
[null,5,"Ефективність роботи СНЕ від РПЧ/The efficiency of storage work for FCR",null,7428.0251687625514,0,{"$f":"IF('Грошові потоки _ Cash flows'!J28=0,0,(((CFO!I53-CFO!I56)-((CFO!I53-CFO!I56)*'Грошові потоки _ Cash flows'!J53))*'Грошові потоки _ Cash flows'!J47)/2)","v":677.54966827767373},{"$f":"IF('Грошові потоки _ Cash flows'!K28=0,0,((CFO!J53-CFO!J56)-((CFO!J53-CFO!J56)*'Грошові потоки _ Cash flows'!K53))*'Грошові потоки _ Cash flows'!K47)","v":1151.8344360720453},{"$f":"IF('Грошові потоки _ Cash flows'!L28=0,0,((CFO!K53-CFO!K56)-((CFO!K53-CFO!K56)*'Грошові потоки _ Cash flows'!L53))*'Грошові потоки _ Cash flows'!L47)","v":979.05927066123866},{"$f":"IF('Грошові потоки _ Cash flows'!M28=0,0,((CFO!L53-CFO!L56)-((CFO!L53-CFO!L56)*'Грошові потоки _ Cash flows'!M53))*'Грошові потоки _ Cash flows'!M47)","v":832.20038006205277},{"$f":"IF('Грошові потоки _ Cash flows'!N28=0,0,((CFO!M53-CFO!M56)-((CFO!M53-CFO!M56)*'Грошові потоки _ Cash flows'!N53))*'Грошові потоки _ Cash flows'!N47)","v":707.37032305274477},{"$f":"IF('Грошові потоки _ Cash flows'!O28=0,0,((CFO!N53-CFO!N56)-((CFO!N53-CFO!N56)*'Грошові потоки _ Cash flows'!O53))*'Грошові потоки _ Cash flows'!O47)","v":601.26477459483306},{"$f":"IF('Грошові потоки _ Cash flows'!P28=0,0,((CFO!O53-CFO!O56)-((CFO!O53-CFO!O56)*'Грошові потоки _ Cash flows'!P53))*'Грошові потоки _ Cash flows'!P47)","v":511.07505840560799},{"$f":"IF('Грошові потоки _ Cash flows'!Q28=0,0,((CFO!P53-CFO!P56)-((CFO!P53-CFO!P56)*'Грошові потоки _ Cash flows'!Q53))*'Грошові потоки _ Cash flows'!Q47)","v":434.41379964476693},{"$f":"IF('Грошові потоки _ Cash flows'!R28=0,0,((CFO!Q53-CFO!Q56)-((CFO!Q53-CFO!Q56)*'Грошові потоки _ Cash flows'!R53))*'Грошові потоки _ Cash flows'!R47)","v":369.2517296980518},{"$f":"IF('Грошові потоки _ Cash flows'!S28=0,0,((CFO!R53-CFO!R56)-((CFO!R53-CFO!R56)*'Грошові потоки _ Cash flows'!S53))*'Грошові потоки _ Cash flows'!S47)","v":313.86397024334411},{"$f":"IF('Грошові потоки _ Cash flows'!T28=0,0,((CFO!S53-CFO!S56)-((CFO!S53-CFO!S56)*'Грошові потоки _ Cash flows'!T53))*'Грошові потоки _ Cash flows'!T47)","v":266.78437470684247},{"$f":"IF('Грошові потоки _ Cash flows'!U28=0,0,((CFO!T53-CFO!T56)-((CFO!T53-CFO!T56)*'Грошові потоки _ Cash flows'!U53))*'Грошові потоки _ Cash flows'!U47)","v":226.76671850081607},{"$f":"IF('Грошові потоки _ Cash flows'!V28=0,0,((CFO!U53-CFO!U56)-((CFO!U53-CFO!U56)*'Грошові потоки _ Cash flows'!V53))*'Грошові потоки _ Cash flows'!V47)","v":192.75171072569364},{"$f":"IF('Грошові потоки _ Cash flows'!W28=0,0,((CFO!V53-CFO!V56)-((CFO!V53-CFO!V56)*'Грошові потоки _ Cash flows'!W53))*'Грошові потоки _ Cash flows'!W47)","v":163.83895411683957},{"$f":"IF('Грошові потоки _ Cash flows'!X28=0,0,((CFO!W53-CFO!W56)-((CFO!W53-CFO!W56)*'Грошові потоки _ Cash flows'!X53))*'Грошові потоки _ Cash flows'!X47)","v":0},{"$f":"IF('Грошові потоки _ Cash flows'!Y28=0,0,((CFO!X53-CFO!X56)-((CFO!X53-CFO!X56)*'Грошові потоки _ Cash flows'!Y53))*'Грошові потоки _ Cash flows'!Y47)","v":0},{"$f":"IF('Грошові потоки _ Cash flows'!Z28=0,0,((CFO!Y53-CFO!Y56)-((CFO!Y53-CFO!Y56)*'Грошові потоки _ Cash flows'!Z53))*'Грошові потоки _ Cash flows'!Z47)","v":0}]
[null,6,"Податок на амортизацію/Depreciation tax",null,{"$f":"SUM(F11:AI11)","v":566.34665819886084},{"$f":"'Грошові потоки _ Cash flows'!I30*'Грошові потоки _ Cash flows'!I53*'Грошові потоки _ Cash flows'!I47","v":0},{"$f":"'Грошові потоки _ Cash flows'!J30*'Грошові потоки _ Cash flows'!J53*'Грошові потоки _ Cash flows'!J47","v":87.662337662337691},{"$f":"'Грошові потоки _ Cash flows'!K30*'Грошові потоки _ Cash flows'!K53*'Грошові потоки _ Cash flows'!K47","v":75.898127846179804},{"$f":"'Грошові потоки _ Cash flows'!L30*'Грошові потоки _ Cash flows'!L53*'Грошові потоки _ Cash flows'!L47","v":65.712664801887286},{"$f":"'Грошові потоки _ Cash flows'!M30*'Грошові потоки _ Cash flows'!M53*'Грошові потоки _ Cash flows'!M47","v":56.894082079556085},{"$f":"'Грошові потоки _ Cash flows'!N30*'Грошові потоки _ Cash flows'!N53*'Грошові потоки _ Cash flows'!N47","v":49.258945523425176},{"$f":"'Грошові потоки _ Cash flows'!O30*'Грошові потоки _ Cash flows'!O53*'Грошові потоки _ Cash flows'!O47","v":42.648437682619196},{"$f":"'Грошові потоки _ Cash flows'!P30*'Грошові потоки _ Cash flows'!P53*'Грошові потоки _ Cash flows'!P47","v":36.925054270665967},{"$f":"'Грошові потоки _ Cash flows'!Q30*'Грошові потоки _ Cash flows'!Q53*'Грошові потоки _ Cash flows'!Q47","v":31.969743957286553},{"$f":"'Грошові потоки _ Cash flows'!R30*'Грошові потоки _ Cash flows'!R53*'Грошові потоки _ Cash flows'!R47","v":27.679431997650692},{"$f":"'Грошові потоки _ Cash flows'!S30*'Грошові потоки _ Cash flows'!S53*'Грошові потоки _ Cash flows'!S47","v":23.964876188442158},{"$f":"'Грошові потоки _ Cash flows'!T30*'Грошові потоки _ Cash flows'!T53*'Грошові потоки _ Cash flows'!T47","v":20.748810552763771},{"$f":"'Грошові потоки _ Cash flows'!U30*'Грошові потоки _ Cash flows'!U53*'Грошові потоки _ Cash flows'!U47","v":17.964338140921015},{"$f":"'Грошові потоки _ Cash flows'!V30*'Грошові потоки _ Cash flows'!V53*'Грошові потоки _ Cash flows'!V47","v":15.553539515948929},{"$f":"'Грошові потоки _ Cash flows'!W30*'Грошові потоки _ Cash flows'!W53*'Грошові потоки _ Cash flows'!W47","v":13.466267979176562},{"$f":"'Грошові потоки _ Cash flows'!X30*'Грошові потоки _ Cash flows'!X53*'Грошові потоки _ Cash flows'!X47","v":0},{"$f":"'Грошові потоки _ Cash flows'!Y30*'Грошові потоки _ Cash flows'!Y53*'Грошові потоки _ Cash flows'!Y47","v":0},{"$f":"'Грошові потоки _ Cash flows'!Z30*'Грошові потоки _ Cash flows'!Z53*'Грошові потоки _ Cash flows'!Z47","v":0}]
[null,7,"Амортизація/Depreciation",null,3146.3703233270044,{"$f":"'Грошові потоки _ Cash flows'!I30*'Грошові потоки _ Cash flows'!I47","v":0},{"$f":"'Грошові потоки _ Cash flows'!J30*'Грошові потоки _ Cash flows'!J47","v":487.01298701298703},{"$f":"'Грошові потоки _ Cash flows'!K30*'Грошові потоки _ Cash flows'!K47","v":421.65626581210995},{"$f":"'Грошові потоки _ Cash flows'!L30*'Грошові потоки _ Cash flows'!L47","v":365.07036001048482},{"$f":"'Грошові потоки _ Cash flows'!M30*'Грошові потоки _ Cash flows'!M47","v":316.0782337753115},{"$f":"'Грошові потоки _ Cash flows'!N30*'Грошові потоки _ Cash flows'!N47","v":273.66080846347313},{"$f":"'Грошові потоки _ Cash flows'!O30*'Грошові потоки _ Cash flows'!O47","v":236.93576490343992},{"$f":"'Грошові потоки _ Cash flows'!P30*'Грошові потоки _ Cash flows'!P47","v":205.13919039258866},{"$f":"'Грошові потоки _ Cash flows'!Q30*'Грошові потоки _ Cash flows'!Q47","v":177.60968865159191},{"$f":"'Грошові потоки _ Cash flows'!R30*'Грошові потоки _ Cash flows'!R47","v":153.77462220917047},{"$f":"'Грошові потоки _ Cash flows'!S30*'Грошові потоки _ Cash flows'!S47","v":133.13820104690083},{"$f":"'Грошові потоки _ Cash flows'!T30*'Грошові потоки _ Cash flows'!T47","v":115.27116973757649},{"$f":"'Грошові потоки _ Cash flows'!U30*'Грошові потоки _ Cash flows'!U47","v":99.801878560672279},{"$f":"'Грошові потоки _ Cash flows'!V30*'Грошові потоки _ Cash flows'!V47","v":86.408552866382919},{"$f":"'Грошові потоки _ Cash flows'!W30*'Грошові потоки _ Cash flows'!W47","v":74.81259988431421},{"$f":"'Грошові потоки _ Cash flows'!X30*'Грошові потоки _ Cash flows'!X47","v":0},{"$f":"'Грошові потоки _ Cash flows'!Y30*'Грошові потоки _ Cash flows'!Y47","v":0},{"$f":"'Грошові потоки _ Cash flows'!Z30*'Грошові потоки _ Cash flows'!Z47","v":0}]
[null,null,"Разом приріст NPV/Total increase in NPV",null,{"$f":"E8+E9+E10+E7+E6+E11+E12","v":{"$error":"#REF!"}},{"$f":"SUM(F7:F11)","v":-150},{"$f":"SUM(G7:G11)","v":{"$error":"#REF!"}},{"$f":"SUM(H7:H11)","v":{"$error":"#REF!"}},{"$error":"#REF!"},{"$error":"#REF!"},{"$error":"#REF!"},{"$error":"#REF!"},{"$error":"#REF!"},{"$error":"#REF!"},{"$error":"#REF!"},{"$error":"#REF!"},{"$error":"#REF!"},{"$error":"#REF!"},{"$error":"#REF!"},{"$error":"#REF!"},0,0,0]
[null,null,null,null,{"$f":"E8+E9+E10","v":{"$error":"#REF!"}}]
[null,null,"Фактори зміни ROI та PI/ROI and PI change factors",null,"Вплив фактору /factor influence",{"$f":"'Грошові потоки _ Cash flows'!I22","v":2024},{"$f":"'Грошові потоки _ Cash flows'!J22","v":2025},{"$f":"'Грошові потоки _ Cash flows'!K22","v":2026},{"$f":"'Грошові потоки _ Cash flows'!L22","v":2027},{"$f":"'Грошові потоки _ Cash flows'!M22","v":2028},{"$f":"'Грошові потоки _ Cash flows'!N22","v":2029},{"$f":"'Грошові потоки _ Cash flows'!O22","v":2030},{"$f":"'Грошові потоки _ Cash flows'!P22","v":2031},{"$f":"'Грошові потоки _ Cash flows'!Q22","v":2032},{"$f":"'Грошові потоки _ Cash flows'!R22","v":2033},{"$f":"'Грошові потоки _ Cash flows'!S22","v":2034},{"$f":"'Грошові потоки _ Cash flows'!T22","v":2035},{"$f":"'Грошові потоки _ Cash flows'!U22","v":2036},{"$f":"'Грошові потоки _ Cash flows'!V22","v":2037},{"$f":"'Грошові потоки _ Cash flows'!W22","v":2038},{"$f":"'Грошові потоки _ Cash flows'!X22","v":0},{"$f":"'Грошові потоки _ Cash flows'!Y22","v":0},{"$f":"'Грошові потоки _ Cash flows'!Z22","v":0},{"$f":"'Грошові потоки _ Cash flows'!AA22","v":0},{"$f":"'Грошові потоки _ Cash flows'!AB22","v":0},{"$f":"'Грошові потоки _ Cash flows'!AC22","v":0},{"$f":"'Грошові потоки _ Cash flows'!AD22","v":0},{"$f":"'Грошові потоки _ Cash flows'!AE22","v":0},{"$f":"'Грошові потоки _ Cash flows'!AF22","v":0},{"$f":"'Грошові потоки _ Cash flows'!AG22","v":0},{"$f":"'Грошові потоки _ Cash flows'!AH22","v":0},{"$f":"'Грошові потоки _ Cash flows'!AI22","v":0},{"$f":"'Грошові потоки _ Cash flows'!AJ22","v":0},{"$f":"'Грошові потоки _ Cash flows'!AK22","v":0},{"$f":"'Грошові потоки _ Cash flows'!AL22","v":0}]
[]
[null,1,"Дисконтований чистий прибуток ДЧП",null,{"$f":"SUM(F17:AI17)","v":2191.4741852403304},{"$f":"'Грошові потоки _ Cash flows'!I33*'Грошові потоки _ Cash flows'!I47+F18","v":-300},{"$f":"'Грошові потоки _ Cash flows'!J33*'Грошові потоки _ Cash flows'!J47+G18","v":-380.73292607008898},{"$f":"'Грошові потоки _ Cash flows'!K33*'Грошові потоки _ Cash flows'!K47+H18","v":-464.61045006319387},{"$f":"'Грошові потоки _ Cash flows'!L33*'Грошові потоки _ Cash flows'!L47+I18","v":-253.25008305946994},{"$f":"'Грошові потоки _ Cash flows'!M33*'Грошові потоки _ Cash flows'!M47+J18","v":-89.961524969723996},{"$f":"'Грошові потоки _ Cash flows'!N33*'Грошові потоки _ Cash flows'!N47+K18","v":378.91760813455602},{"$f":"'Грошові потоки _ Cash flows'!O33*'Грошові потоки _ Cash flows'!O47+L18","v":642.32652464093962},{"$f":"'Грошові потоки _ Cash flows'!P33*'Грошові потоки _ Cash flows'!P47+M18","v":546.5598494190599},{"$f":"'Грошові потоки _ Cash flows'!Q33*'Грошові потоки _ Cash flows'!Q47+N18","v":465.08003085837532},{"$f":"'Грошові потоки _ Cash flows'!R33*'Грошові потоки _ Cash flows'!R47+O18","v":395.75452740033273},{"$f":"'Грошові потоки _ Cash flows'!S33*'Грошові потоки _ Cash flows'!S47+P18","v":336.76927138180986},{"$f":"'Грошові потоки _ Cash flows'!T33*'Грошові потоки _ Cash flows'!T47+Q18","v":286.58108681438858},{"$f":"'Грошові потоки _ Cash flows'!U33*'Грошові потоки _ Cash flows'!U47+R18","v":243.87721915140796},{"$f":"'Грошові потоки _ Cash flows'!V33*'Грошові потоки _ Cash flows'!V47+S18","v":207.54091364595018},{"$f":"'Грошові потоки _ Cash flows'!W33*'Грошові потоки _ Cash flows'!W47+T18","v":176.622137955987},{"$f":"'Грошові потоки _ Cash flows'!X33*'Грошові потоки _ Cash flows'!X47+U18","v":0},{"$f":"'Грошові потоки _ Cash flows'!Y33*'Грошові потоки _ Cash flows'!Y47+V18","v":0},{"$f":"'Грошові потоки _ Cash flows'!Z33*'Грошові потоки _ Cash flows'!Z47+W18","v":0}]
[null,2,"Дисконтовані інвестиції",null,{"$f":"SUM(F18:AI18)","v":-5347.7140470931408},{"$f":"IFERROR(IF(Головна_Summary!H13=\"Кредитні кошти\",-'Грошові потоки _ Cash flows'!I55*'Грошові потоки _ Cash flows'!I47,IF(Головна_Summary!H13=\"Власні кошти\",-'Грошові потоки _ Cash flows'!I41*'Грошові потоки _ Cash flows'!I47,-'Грошові потоки _ Cash flows'!I54*'Грошові потоки _ Cash flows'!I47)),\"Н/Д\")","v":-150},{"$f":"IFERROR(IF(Головна_Summary!I13=\"Кредитні кошти\",-'Грошові потоки _ Cash flows'!J55*'Грошові потоки _ Cash flows'!J47,IF(Головна_Summary!I13=\"Власні кошти\",-'Грошові потоки _ Cash flows'!J41*'Грошові потоки _ Cash flows'!J47,-'Грошові потоки _ Cash flows'!J54*'Грошові потоки _ Cash flows'!J47)),\"Н/Д\")","v":-1406.926406926407},{"$f":"IFERROR(IF(Головна_Summary!J13=\"Кредитні кошти\",-'Грошові потоки _ Cash flows'!K55*'Грошові потоки _ Cash flows'!K47,IF(Головна_Summary!J13=\"Власні кошти\",-'Грошові потоки _ Cash flows'!K41*'Грошові потоки _ Cash flows'!K47,-'Грошові потоки _ Cash flows'!K54*'Грошові потоки _ Cash flows'!K47)),\"Н/Д\")","v":-1407.0825759137444},{"$f":"IFERROR(IF(Головна_Summary!K13=\"Кредитні кошти\",-'Грошові потоки _ Cash flows'!L55*'Грошові потоки _ Cash flows'!L47,IF(Головна_Summary!K13=\"Власні кошти\",-'Грошові потоки _ Cash flows'!L41*'Грошові потоки _ Cash flows'!L47,-'Грошові потоки _ Cash flows'!L54*'Грошові потоки _ Cash flows'!L47)),\"Н/Д\")","v":-1126.3096662545697},{"$f":"IFERROR(IF(Головна_Summary!L13=\"Кредитні кошти\",-'Грошові потоки _ Cash flows'!M55*'Грошові потоки _ Cash flows'!M47,IF(Головна_Summary!L13=\"Власні кошти\",-'Грошові потоки _ Cash flows'!M41*'Грошові потоки _ Cash flows'!M47,-'Грошові потоки _ Cash flows'!M54*'Грошові потоки _ Cash flows'!M47)),\"Н/Д\")","v":-895.55499569671611},{"$f":"IFERROR(IF(Головна_Summary!M13=\"Кредитні кошти\",-'Грошові потоки _ Cash flows'!N55*'Грошові потоки _ Cash flows'!N47,IF(Головна_Summary!M13=\"Власні кошти\",-'Грошові потоки _ Cash flows'!N41*'Грошові потоки _ Cash flows'!N47,-'Грошові потоки _ Cash flows'!N54*'Грошові потоки _ Cash flows'!N47)),\"Н/Д\")","v":-361.8404023017037},{"$f":"IFERROR(IF(Головна_Summary!N13=\"Кредитні кошти\",-'Грошові потоки _ Cash flows'!O55*'Грошові потоки _ Cash flows'!O47,IF(Головна_Summary!N13=\"Власні кошти\",-'Грошові потоки _ Cash flows'!O41*'Грошові потоки _ Cash flows'!O47,-'Грошові потоки _ Cash flows'!O54*'Грошові потоки _ Cash flows'!O47)),\"Н/Д\")","v":0},{"$f":"IFERROR(IF(Головна_Summary!O13=\"Кредитні кошти\",-'Грошові потоки _ Cash flows'!P55*'Грошові потоки _ Cash flows'!P47,IF(Головна_Summary!O13=\"Власні кошти\",-'Грошові потоки _ Cash flows'!P41*'Грошові потоки _ Cash flows'!P47,-'Грошові потоки _ Cash flows'!P54*'Грошові потоки _ Cash flows'!P47)),\"Н/Д\")","v":0},{"$f":"IFERROR(IF(Головна_Summary!P13=\"Кредитні кошти\",-'Грошові потоки _ Cash flows'!Q55*'Грошові потоки _ Cash flows'!Q47,IF(Головна_Summary!P13=\"Власні кошти\",-'Грошові потоки _ Cash flows'!Q41*'Грошові потоки _ Cash flows'!Q47,-'Грошові потоки _ Cash flows'!Q54*'Грошові потоки _ Cash flows'!Q47)),\"Н/Д\")","v":0},{"$f":"IFERROR(IF(Головна_Summary!Q13=\"Кредитні кошти\",-'Грошові потоки _ Cash flows'!R55*'Грошові потоки _ Cash flows'!R47,IF(Головна_Summary!Q13=\"Власні кошти\",-'Грошові потоки _ Cash flows'!R41*'Грошові потоки _ Cash flows'!R47,-'Грошові потоки _ Cash flows'!R54*'Грошові потоки _ Cash flows'!R47)),\"Н/Д\")","v":0},{"$f":"IFERROR(IF(Головна_Summary!R13=\"Кредитні кошти\",-'Грошові потоки _ Cash flows'!S55*'Грошові потоки _ Cash flows'!S47,IF(Головна_Summary!R13=\"Власні кошти\",-'Грошові потоки _ Cash flows'!S41*'Грошові потоки _ Cash flows'!S47,-'Грошові потоки _ Cash flows'!S54*'Грошові потоки _ Cash flows'!S47)),\"Н/Д\")","v":0},{"$f":"IFERROR(IF(Головна_Summary!S13=\"Кредитні кошти\",-'Грошові потоки _ Cash flows'!T55*'Грошові потоки _ Cash flows'!T47,IF(Головна_Summary!S13=\"Власні кошти\",-'Грошові потоки _ Cash flows'!T41*'Грошові потоки _ Cash flows'!T47,-'Грошові потоки _ Cash flows'!T54*'Грошові потоки _ Cash flows'!T47)),\"Н/Д\")","v":0},{"$f":"IFERROR(IF(Головна_Summary!T13=\"Кредитні кошти\",-'Грошові потоки _ Cash flows'!U55*'Грошові потоки _ Cash flows'!U47,IF(Головна_Summary!T13=\"Власні кошти\",-'Грошові потоки _ Cash flows'!U41*'Грошові потоки _ Cash flows'!U47,-'Грошові потоки _ Cash flows'!U54*'Грошові потоки _ Cash flows'!U47)),\"Н/Д\")","v":0},{"$f":"IFERROR(IF(Головна_Summary!U13=\"Кредитні кошти\",-'Грошові потоки _ Cash flows'!V55*'Грошові потоки _ Cash flows'!V47,IF(Головна_Summary!U13=\"Власні кошти\",-'Грошові потоки _ Cash flows'!V41*'Грошові потоки _ Cash flows'!V47,-'Грошові потоки _ Cash flows'!V54*'Грошові потоки _ Cash flows'!V47)),\"Н/Д\")","v":0},{"$f":"IFERROR(IF(Головна_Summary!V13=\"Кредитні кошти\",-'Грошові потоки _ Cash flows'!W55*'Грошові потоки _ Cash flows'!W47,IF(Головна_Summary!V13=\"Власні кошти\",-'Грошові потоки _ Cash flows'!W41*'Грошові потоки _ Cash flows'!W47,-'Грошові потоки _ Cash flows'!W54*'Грошові потоки _ Cash flows'!W47)),\"Н/Д\")","v":0},{"$f":"IFERROR(IF(Головна_Summary!W13=\"Кредитні кошти\",-'Грошові потоки _ Cash flows'!X55*'Грошові потоки _ Cash flows'!X47,IF(Головна_Summary!W13=\"Власні кошти\",-'Грошові потоки _ Cash flows'!X41*'Грошові потоки _ Cash flows'!X47,-'Грошові потоки _ Cash flows'!X54*'Грошові потоки _ Cash flows'!X47)),\"Н/Д\")","v":0},{"$f":"IFERROR(IF(Головна_Summary!X13=\"Кредитні кошти\",-'Грошові потоки _ Cash flows'!Y55*'Грошові потоки _ Cash flows'!Y47,IF(Головна_Summary!X13=\"Власні кошти\",-'Грошові потоки _ Cash flows'!Y41*'Грошові потоки _ Cash flows'!Y47,-'Грошові потоки _ Cash flows'!Y54*'Грошові потоки _ Cash flows'!Y47)),\"Н/Д\")","v":0},{"$f":"IFERROR(IF(Головна_Summary!Y13=\"Кредитні кошти\",-'Грошові потоки _ Cash flows'!Z55*'Грошові потоки _ Cash flows'!Z47,IF(Головна_Summary!Y13=\"Власні кошти\",-'Грошові потоки _ Cash flows'!Z41*'Грошові потоки _ Cash flows'!Z47,-'Грошові потоки _ Cash flows'!Z54*'Грошові потоки _ Cash flows'!Z47)),\"Н/Д\")","v":0}]
[null,3,"Дисконтований інвестиційний  грошовий потік CFI",null,{"$f":"SUM(F19:AI19)","v":4023.9202700394471},{"$f":"'Грошові потоки _ Cash flows'!I38*'Грошові потоки _ Cash flows'!I47","v":0},{"$f":"'Грошові потоки _ Cash flows'!J38*'Грошові потоки _ Cash flows'!J47","v":901.87590187590195},{"$f":"'Грошові потоки _ Cash flows'!K38*'Грошові потоки _ Cash flows'!K47","v":1061.9491138971657},{"$f":"'Грошові потоки _ Cash flows'!L38*'Грошові потоки _ Cash flows'!L47","v":919.43646224862823},{"$f":"'Грошові потоки _ Cash flows'!M38*'Грошові потоки _ Cash flows'!M47","v":796.04888506374766},{"$f":"'Грошові потоки _ Cash flows'!N38*'Грошові потоки _ Cash flows'!N47","v":344.60990695400346},{"$f":"'Грошові потоки _ Cash flows'!O38*'Грошові потоки _ Cash flows'!O47","v":0},{"$f":"'Грошові потоки _ Cash flows'!P38*'Грошові потоки _ Cash flows'!P47","v":0},{"$f":"'Грошові потоки _ Cash flows'!Q38*'Грошові потоки _ Cash flows'!Q47","v":0},{"$f":"'Грошові потоки _ Cash flows'!R38*'Грошові потоки _ Cash flows'!R47","v":0},{"$f":"'Грошові потоки _ Cash flows'!S38*'Грошові потоки _ Cash flows'!S47","v":0},{"$f":"'Грошові потоки _ Cash flows'!T38*'Грошові потоки _ Cash flows'!T47","v":0},{"$f":"'Грошові потоки _ Cash flows'!U38*'Грошові потоки _ Cash flows'!U47","v":0},{"$f":"'Грошові потоки _ Cash flows'!V38*'Грошові потоки _ Cash flows'!V47","v":0},{"$f":"'Грошові потоки _ Cash flows'!W38*'Грошові потоки _ Cash flows'!W47","v":0},{"$f":"'Грошові потоки _ Cash flows'!X38*'Грошові потоки _ Cash flows'!X47","v":0},{"$f":"'Грошові потоки _ Cash flows'!Y38*'Грошові потоки _ Cash flows'!Y47","v":0},{"$f":"'Грошові потоки _ Cash flows'!Z38*'Грошові потоки _ Cash flows'!Z47","v":0}]
[null,4]
[null,5]
[]
[null,"АНАЛІЗ СЦЕНАРІЇВ/ Scenario analysis"]
[]
[null,null,null,null,null,null,null,null,null,null,null,null,null,null,"Розрахунок показників/Indicators calculation"]
[null,"Показник/Indicator","Фактор зміни/Change factor","Оптимістичний сценарій/Optimistic sc.","Песимістичний сценарій/Pessimistic sc.","Одиниці виміру/Unit","Значення NPV відп. до базов. сценарію/Value of NPV according to the basic sc.","Значення NPV відп. до оптим. сценарію/Value of NPV according to the optim. sc.","Відхилення, абс./deviation","Відхилення, %/deviation","Значення NPV відп. до песим. сценарію/Value of NPV according to the pesim. sc.","Відхилення, абс./deviation","Відхилення, %/deviation",null,null,null,{"$f":"C28","v":"Бюджет/Project budget "}]
[null,"Зміна NPV/NPV change","Строки реалізації/Implementation period","Пришвидшення проекту на 1 місяць/1 month acceleration","Запізнення проекту на 1 місяць / 1 month delay",{"$f":"Головна_Summary!AD5","v":"тис.US$/ ths.US$"},{"$f":"'Грошові потоки _ Cash flows'!K7","v":10374214.43011884},{"$f":"G27*1.1","v":11411635.873130726},{"$f":"H27-$G$27","v":1037421.4430118855},{"$f":"I27/$G$27","v":0.10000000000000014},{"$f":"G27*0.9","v":9336792.9871069565},{"$f":"K27-$G$27","v":-1037421.4430118836},{"$f":"L27/$G$27","v":-9.9999999999999964E-2},{"$f":"C29","v":"Ефективність роботи СНЕ/The efficiency of storage work"},"NPV",null,"Оптимістичний/ optimistic","Базовий/base ","Песимістичний/Pesimisstic"]
[null,null,"Бюджет/Project budget ","Бюджет проєкту зменшиться на 20% / Project budget will decrese by 20%","Бюджет проєкту збільшиться на 20% / Project budget will increse by 20%",null,null,{"$f":"Q30","v":{"$error":"#REF!"}},{"$f":"H28-$G$27","v":{"$error":"#REF!"}},{"$f":"I28/$G$27","v":{"$error":"#REF!"}},{"$f":"S30","v":{"$error":"#REF!"}},{"$f":"K28-$G$27","v":{"$error":"#REF!"}},{"$f":"L28/$G$27","v":{"$error":"#REF!"}},null,null,{"$f":"E13","v":{"$error":"#REF!"}},-8978.6486352358388,-11223.310794044797,-13467.972952853755]
[null,null,"Ефективність роботи СНЕ/The efficiency of storage work","Ефективність будівництва збільшиться на 20% / The efficiency of construction will increase by 20%","Ефективність будівництва зменшиться на 20% / The efficiency of construction will decrease by 20%",null,null,{"$f":"R29","v":{"$error":"#REF!"}},{"$f":"H29-$G$27","v":{"$error":"#REF!"}},{"$f":"I29/$G$27","v":{"$error":"#REF!"}},{"$f":"R31","v":{"$error":"#REF!"}},{"$f":"K29-$G$27","v":{"$error":"#REF!"}},{"$f":"L29/$G$27","v":{"$error":"#REF!"}},null,"Оптимістичний/ Optimistic",10201.524612505635,{"$error":"#REF!"},{"$error":"#REF!"},{"$error":"#REF!"}]
[null,null,null,null,null,null,null,null,null,null,null,null,null,null,"Базовий/Base",8501.2705104213619,{"$error":"#REF!"},{"$error":"#REF!"},{"$error":"#REF!"}]
[null,"Показник/Indicator","Фактор зміни/Change factor","Оптимістичний сценарій/Optimistic sc.","Песимістичний сценарій/Pessimistic sc.","Одиниці виміру/Unit","Значення ROI відп. до базов. сценарію/Value of ROI according to the basic sc.","Значення ROI відп. до оптим. сценарію/Value of ROI according to the optim. sc.","Відхилення, абс./deviation","Відхилення, %/deviation","Значення ROI відп. до песим. сценарію/Value of ROI according to the pesim. sc.","Відхилення, абс./deviation","Відхилення, %/deviation",null,"Песимістичний/Pessimistic",6801.0164083370901,{"$error":"#REF!"},{"$error":"#REF!"},{"$error":"#REF!"}]
[null,"Зміна ROI/ROI change","Строки реалізації/Implementation period","Пришвидшення проекту на 1 місяць/1 month acceleration","Запізнення проекту на 1 місяць / 1 month delay","%",{"$f":"'Грошові потоки _ Cash flows'!K11","v":0.40979644123483971},{"$f":"G32*1.1","v":0.4507760853583237},{"$f":"H32-$G$32","v":4.0979644123483983E-2},{"$f":"I32/$G$32","v":0.10000000000000003},{"$f":"G32*0.9","v":0.36881679711135573},{"$f":"K32-$G$32","v":-4.0979644123483983E-2},{"$f":"L32/$G$32","v":-0.10000000000000003}]
[null,null,"Дисконтований чистий прибуток (ДЧП)/Discounted net profit","ДЧП збільшиться на 20% / Discounted net profit will increase by 20% ","ДЧП зменшиться на 20% / Discounted net profit will decrease by 20%",null,null,{"$f":"R36","v":0.49175572948180746},8.1959288246967743E-2,{"$f":"I33/$G$32","v":0.19999999999999951},{"$f":"R38","v":0.32783715298787164},{"$f":"K33-$G$32","v":-8.1959288246968076E-2},{"$f":"L33/$G$32","v":-0.20000000000000032},null,null,null,{"$f":"C34","v":"Дисконтовані інвестиції (ДІ)/Discounted investments"}]
[null,null,"Дисконтовані інвестиції (ДІ)/Discounted investments","ДІ зменшаться на 20%/Discounted investments will decrease by 20%","ДІ зменшаться на 20%/Discounted investments will increase by 20%",null,null,{"$f":"Q37","v":0.51224555154354945},0.10244911030870973,0.24999999999999953,{"$f":"S37","v":0.34149703436236628},{"$f":"K34-$G$32","v":-6.8299406872473434E-2},{"$f":"L34/$G$32","v":-0.16666666666666702},{"$f":"C33","v":"Дисконтований чистий прибуток (ДЧП)/Discounted net profit"},"ROI",null,"Оптимістичний/ optimistic","Базовий/base ","Песимістичний/Pesimisstic"]
[null,null,null,null,null,null,null,null,null,null,null,null,null,null,null,{"$f":"'Грошові потоки _ Cash flows'!K11","v":0.40979644123483971},{"$f":"R35*0.8","v":4278.1712376745127},{"$f":"-E18","v":5347.7140470931408},{"$f":"R35*1.2","v":6417.256856511769}]
[null,"Показник/Indicator","Фактор зміни/Change factor","Оптимістичний сценарій/Optimistic sc.","Песимістичний сценарій/Pessimistic sc.","Одиниці виміру/Unit","Значення PI відп. до базов. сценарію/Value of PI according to the basic sc.","Значення PI відп. до оптим. сценарію/Value of PI according to the optim. sc.","Відхилення, абс./deviation","Відхилення, %/deviation","Значення PI відп. до песим. сценарію/Value of PI according to the pesim. sc.","Відхилення, абс./deviation","Відхилення, %/deviation",null,"Оптимістичний/ Optimistic",{"$f":"P37*1.2","v":2629.7690222883962},{"$f":"$P$36/Q35","v":0.61469466185225929},{"$f":"$P$36/R35","v":0.49175572948180746},0.40979644123483955]
[null,"Зміна PI/PI change","Строки реалізації/Implementation period","Пришвидшення проекту на 1 місяць/1 month acceleration","Запізнення проекту на 1 місяць / 1 month delay"," - ",{"$f":"'Грошові потоки _ Cash flows'!N7","v":2579.1361791289023},{"$f":"G37*1.1","v":2837.0497970417928},{"$f":"H37-$G$37","v":257.91361791289046},{"$f":"I37/$G$37","v":0.10000000000000009},{"$f":"G37*0.9","v":2321.2225612160123},{"$f":"K37-$G$37","v":-257.91361791289},{"$f":"L37/$G$37","v":-9.9999999999999908E-2},null,"Базовий/Base",{"$f":"E17","v":2191.4741852403304},{"$f":"$P$37/Q35","v":0.51224555154354945},{"$f":"$P$37/R35","v":0.40979644123483955},0.34149703436236628]
[null,null,"Чиста приведена вартість (NPV)/Net present value","Чиста приведена вартість збільшиться на 20%/NPV will increase by 20%","Чиста приведена вартість зменшиться на 20%/NPV will decrease by 20%",null,null,{"$f":"R43","v":{"$error":"#REF!"}},{"$error":"#REF!"},{"$f":"I38/$G$37","v":{"$error":"#REF!"}},{"$f":"R45","v":{"$error":"#REF!"}},{"$f":"K38-$G$37","v":{"$error":"#REF!"}},{"$f":"L38/$G$37","v":{"$error":"#REF!"}},null,"Песимістичний/Pessimistic",{"$f":"P37*0.8","v":1753.1793481922643},{"$f":"$P$38/Q35","v":0.4097964412348396},{"$f":"$P$38/R35","v":0.32783715298787164},0.27319762748989307]
[null,null,"Дисконтований інвестиційний  грошовий потік (CFI)/Cash flow of investments (CFI)","Дисконтований інвестиційний  грошовий потік збільшиться на 20%/CFI will increase by 20%","Дисконтований інвестиційний  грошовий потік зменшиться на 20%/CFI will decrease by 20%",null,null,{"$f":"Q44","v":{"$error":"#REF!"}},{"$error":"#REF!"},{"$error":"#REF!"},{"$f":"S44","v":{"$error":"#REF!"}},{"$f":"K39-$G$37","v":{"$error":"#REF!"}},{"$f":"L39/$G$37","v":{"$error":"#REF!"}}]
[null,null,null,null,null,null,null,null,null,null,null,null,null,null,null,null,{"$f":"C39","v":"Дисконтований інвестиційний  грошовий потік (CFI)/Cash flow of investments (CFI)"}]
[null,null,null,null,null,null,null,null,null,null,null,null,null,{"$f":"C38","v":"Чиста приведена вартість (NPV)/Net present value"},"PI",null,"Оптимістичний/ optimistic","Базовий/base ","Песимістичний/Pesimisstic"]
[null,null,null,null,null,null,null,null,null,null,null,null,null,null,null,{"$f":"'Грошові потоки _ Cash flows'!N7","v":2579.1361791289023},{"$f":"R42*1.2","v":4828.7043240473367},{"$f":"E19","v":4023.9202700394471},{"$f":"R42*0.8","v":3219.136216031558}]
[null,null,null,null,null,null,null,null,null,null,null,null,null,null,"Оптимістичний/ Optimistic",{"$f":"P44*1.2","v":{"$error":"#REF!"}},{"$f":"($P$43/Q42)+1","v":{"$error":"#REF!"}},{"$f":"($P$43/R42)+1","v":{"$error":"#REF!"}},{"$f":"($P$43/S42)+1","v":{"$error":"#REF!"}}]
[null,null,null,null,null,null,null,null,null,null,null,null,null,null,"Базовий/Base",{"$f":"E13","v":{"$error":"#REF!"}},{"$f":"($P$44/Q42)+1","v":{"$error":"#REF!"}},{"$f":"($P$44/R42)+1","v":{"$error":"#REF!"}},{"$f":"($P$44/S42)+1","v":{"$error":"#REF!"}}]
[null,null,null,null,null,null,null,null,null,null,null,null,null,null,"Песимістичний/Pessimistic",{"$f":"P44*0.8","v":{"$error":"#REF!"}},{"$f":"($P$45/Q42)+1","v":{"$error":"#REF!"}},{"$f":"($P$45/R42)+1","v":{"$error":"#REF!"}},{"$f":"($P$45/S42)+1","v":{"$error":"#REF!"}}]
[]
[]
[null,null,null,null,null,null,null,null,null,null,null,null,null,null,null,null,"Оптимістичний/ optimistic","Базовий/base ","Песимістичний/Pesimisstic"]
[]
[null,null,null,null,null,null,null,null,null,null,null,null,null,null,"Оптимістичний/ Optimistic"]
[null,null,null,null,null,null,null,null,null,null,null,null,null,null,"Базовий/Base"]
[null,null,null,null,null,null,null,null,null,null,null,null,null,null,"Песимістичний/Pessimistic"]

{"sheet":"Ризики проекту_Project risks","index":11,"n_rows":12,"n_cols":23,"rows_kept":12,"cut":false,"hidden":true,"merged":[[11,13,11,15],[11,16,11,17],[3,1,3,2],[11,2,11,4],[11,5,11,6],[11,7,11,8],[11,9,11,10],[11,11,11,12],[7,13,7,15],[8,13,8,15],[9,13,9,15],[10,13,10,15],[7,16,7,17],[8,16,8,17],[9,16,9,17],[10,16,10,17],[5,20,6,20],[5,21,6,21],[5,22,6,22],[5,1,6,1],[4,20,4,22],[5,11,6,12],[5,13,6,15],[5,16,6,17],[5,2,6,4],[5,5,6,6],[5,7,6,8],[5,9,6,10],[10,9,10,10],[7,11,7,12],[8,11,8,12],[9,11,9,12],[10,11,10,12],[8,9,8,10],[7,9,7,10],[9,9,9,10],[7,2,7,4],[10,2,10,4],[10,5,10,6],[10,7,10,8],[8,2,8,4],[9,2,9,4],[7,5,7,6],[8,5,8,6],[9,5,9,6],[7,7,7,8],[8,7,8,8],[9,7,9,8]]}
[]
[null,"РИЗИКИ ПРОЕКТУ/RISK",null,null,{"$f":"CONCATENATE(Головна_Summary!A2,\" / \",Головна_Summary!K2)","v":"Energy storage system 10МВт / Energy storage system 10 MW"}]
[]
[null,"Загальна оцінка/Overall rating",null,{"$f":"IF(SUM(B8:B12)<=18,\"Простий/Simple\",IF(SUM(B8:B12)<=30,\"Середньої важкості/\nModerate\",IF(30<SUM(B8:B12),\"Складний/complicated\",\"-\")))","v":"Простий/Simple"}]
[null,null,null,null,null,null,null,null,null,null,null,null,null,null,null,null,null,null,null,null,"Матриця ризиків/ Risk Matrix"]
[null,null,"Ризик/ Risks",null,null,"Опис ризику/ Risk Description",null,"Істотність ризику/ Significance of risk",null,"Ймовірність реалізації/Probability",null,"Фінансові втрати в результаті реалізації/Financial loss ",null,"Заходи мінімізації/ Minimization measures",null,null,"Відповідальний/ Responsible",null,null,null,"Незначний/Minor","Помірний/Moderate ","Катастрофічний/Disastrous"]
[]
[null,{"$f":"IF(AND(H8=\"Незначний/Minor\",J8=\"Велика вірогідність реалізації/High probability of realization\"),4,IF(AND(H8=\"Незначний/Minor\",J8=\"Можливо/Maybe\"),2,IF(AND(H8=\"Незначний/Minor\",J8=\"Малоймовірно/Unlikely\"),1,IF(AND(H8=\"Помірний/Moderate\",J8=\"Велика вірогідність реалізації/High probability of realization\"),7,IF(AND(H8=\"Помірний/Moderate\",J8=\"Можливо/Maybe\"),5,IF(AND(H8=\"Помірний/Moderate\",J8=\"Малоймовірно/Unlikely\"),3,IF(AND(H8=\"Катастрофічний/Disastrous\",J8=\"Велика вірогідність реалізації/High probability of realization\"),9,IF(AND(H8=\"Катастрофічний/Disastrous\",J8=\"Можливо/Maybe\"),8,IF(AND(H8=\"Катастрофічний/Disastrous\",J8=\"Малоймовірно/Unlikely\"),6,0)))))))))","v":0},null,null,null,null,null,null,null,null,null,null,null,null,null,null,null,null,null,"Велик вірогідність реалізації/High Probability",{"$f":"COUNTIF(B8:B12,4)","v":0},{"$f":"COUNTIF(B8:B12,7)","v":0},{"$f":"COUNTIF(B8:B12,9)","v":0}]
[null,{"$f":"IF(AND(H9=\"Незначний/Minor\",J9=\"Велика вірогідність реалізації/High probability of realization\"),4,IF(AND(H9=\"Незначний/Minor\",J9=\"Можливо/Maybe\"),2,IF(AND(H9=\"Незначний/Minor\",J9=\"Малоймовірно/Unlikely\"),1,IF(AND(H9=\"Помірний/Moderate\",J9=\"Велика вірогідність реалізації/High probability of realization\"),7,IF(AND(H9=\"Помірний/Moderate\",J9=\"Можливо/Maybe\"),5,IF(AND(H9=\"Помірний/Moderate\",J9=\"Малоймовірно/Unlikely\"),3,IF(AND(H9=\"Катастрофічний/Disastrous\",J9=\"Велика вірогідність реалізації/High probability of realization\"),9,IF(AND(H9=\"Катастрофічний/Disastrous\",J9=\"Можливо/Maybe\"),8,IF(AND(H9=\"Катастрофічний/Disastrous\",J9=\"Малоймовірно/Unlikely\"),6,0)))))))))","v":0},null,null,null,null,null,null,null,null,null,null,null,null,null,null,null,null,null,"Можливо/Probably",{"$f":"COUNTIF(B8:B12,1)","v":0},{"$f":"COUNTIF(B8:B12,5)","v":0},{"$f":"COUNTIF(B8:B12,8)","v":0}]
[null,{"$f":"IF(AND(H10=\"Незначний/Minor\",J10=\"Велика вірогідність реалізації/High probability of realization\"),4,IF(AND(H10=\"Незначний/Minor\",J10=\"Можливо/Maybe\"),2,IF(AND(H10=\"Незначний/Minor\",J10=\"Малоймовірно/Unlikely\"),1,IF(AND(H10=\"Помірний/Moderate\",J10=\"Велика вірогідність реалізації/High probability of realization\"),7,IF(AND(H10=\"Помірний/Moderate\",J10=\"Можливо/Maybe\"),5,IF(AND(H10=\"Помірний/Moderate\",J10=\"Малоймовірно/Unlikely\"),3,IF(AND(H10=\"Катастрофічний/Disastrous\",J10=\"Велика вірогідність реалізації/High probability of realization\"),9,IF(AND(H10=\"Катастрофічний/Disastrous\",J10=\"Можливо/Maybe\"),8,IF(AND(H10=\"Катастрофічний/Disastrous\",J10=\"Малоймовірно/Unlikely\"),6,0)))))))))","v":0},null,null,null,null,null,null,null,null,null,null,null,null,null,null,null,null,null,"Малоймовірно/Unlikely",{"$f":"COUNTIF(B8:B12,2)","v":0},{"$f":"COUNTIF(B8:B12,3)","v":0},{"$f":"COUNTIF(B8:B12,6)","v":0}]
[null,{"$f":"IF(AND(H11=\"Незначний/Minor\",J11=\"Велика вірогідність реалізації/High probability of realization\"),4,IF(AND(H11=\"Незначний/Minor\",J11=\"Можливо/Maybe\"),2,IF(AND(H11=\"Незначний/Minor\",J11=\"Малоймовірно/Unlikely\"),1,IF(AND(H11=\"Помірний/Moderate\",J11=\"Велика вірогідність реалізації/High probability of realization\"),7,IF(AND(H11=\"Помірний/Moderate\",J11=\"Можливо/Maybe\"),5,IF(AND(H11=\"Помірний/Moderate\",J11=\"Малоймовірно/Unlikely\"),3,IF(AND(H11=\"Катастрофічний/Disastrous\",J11=\"Велика вірогідність реалізації/High probability of realization\"),9,IF(AND(H11=\"Катастрофічний/Disastrous\",J11=\"Можливо/Maybe\"),8,IF(AND(H11=\"Катастрофічний/Disastrous\",J11=\"Малоймовірно/Unlikely\"),6,0)))))))))","v":0},null,null,null,null,null,null,null,null,null,null,null,null,null,null,null,null,null,null," низький /low","середній/medium","високий/high"]
[null,{"$f":"IF(AND(H12=\"Незначний/Minor\",J12=\"Велика вірогідність реалізації/High probability of realization\"),4,IF(AND(H12=\"Незначний/Minor\",J12=\"Можливо/Maybe\"),2,IF(AND(H12=\"Незначний/Minor\",J12=\"Малоймовірно/Unlikely\"),1,IF(AND(H12=\"Помірний/Moderate\",J12=\"Велика вірогідність реалізації/High probability of realization\"),7,IF(AND(H12=\"Помірний/Moderate\",J12=\"Можливо/Maybe\"),5,IF(AND(H12=\"Помірний/Moderate\",J12=\"Малоймовірно/Unlikely\"),3,IF(AND(H12=\"Катастрофічний/Disastrous\",J12=\"Велика вірогідність реалізації/High probability of realization\"),9,IF(AND(H12=\"Катастрофічний/Disastrous\",J12=\"Можливо/Maybe\"),8,IF(AND(H12=\"Катастрофічний/Disastrous\",J12=\"Малоймовірно/Unlikely\"),6,0)))))))))","v":0}]

{"sheet":"Аналіз чутливості_Sensitivity","index":12,"n_rows":36,"n_cols":17,"rows_kept":36,"cut":false,"hidden":false,"merged":[[29,2,29,4],[33,2,33,4],[31,2,31,4],[35,2,35,4],[11,11,11,12],[13,11,13,12],[13,7,13,8],[14,11,14,12],[15,11,15,12],[14,2,14,4],[15,2,15,4],[10,11,10,12],[12,11,12,12],[10,7,10,8],[12,7,12,8],[11,7,11,8],[5,9,13,10],[6,7,6,8],[5,7,5,8],[13,13,13,14],[10,15,10,16],[12,15,12,16],[11,15,11,16],[13,15,13,16],[8,15,8,16],[7,15,7,16],[17,1,18,4],[17,6,17,16],[27,2,27,4],[25,2,25,4],[23,2,23,4],[21,2,21,4],[19,2,19,4],[10,2,10,4],[12,2,12,4],[11,2,11,4],[13,2,13,4],[10,13,10,14],[12,13,12,14],[11,13,11,14],[6,15,6,16],[5,15,5,16],[9,13,9,14],[9,15,9,16],[4,11,4,12],[9,11,9,12],[8,11,8,12],[7,11,7,12],[6,11,6,12],[5,11,5,12],[4,15,4,16],[8,13,8,14],[7,13,7,14],[6,13,6,14],[5,13,5,14],[4,13,4,14],[1,1,1,4],[9,2,9,4],[8,2,8,4],[7,2,7,4],[6,2,6,4],[5,2,5,4],[4,1,4,4],[4,7,4,8],[4,9,4,10],[9,7,9,8],[8,7,8,8],[7,7,7,8],[14,13,14,14],[15,13,15,14],[14,15,14,16],[15,15,15,16],[14,7,14,8],[15,7,15,8],[14,9,14,10],[15,9,15,10]]}
[]
[null,"АНАЛІЗ ЧУТЛИВОСТІ/SENSITIVITY ANALYSIS",null,null,null,null,{"$f":"CONCATENATE(Головна_Summary!A2,\" / \",Головна_Summary!K2)","v":"Energy storage system 10МВт / Energy storage system 10 MW"}]
[]
[]
[null,"Фактори/Factors",null,null,null,"Прив'язка/\nBind","Одиниці виміру/\nUnit","Базове значення показника/ Base Inidcator ",null,"Базове значення показника NPV/ Base NPV",null,"Значення, при якому NPV=0/ value npv=0",null,"Відхилення показника, абс./ Indicator Deviation",null,"Відхилення показника, %/Indicator Deviation"]
[null,1,"Гранична ціна на ДП, 2023/Price cap for anciliary services , 2023",null,null,{"$f":"1+F19","v":1},"грн./МВт/UAH/MW",{"$f":"Припущення_Assumptions!G36","v":1339.82},null,{"$f":"'Грошові потоки _ Cash flows'!K7","v":10374214.43011884},null,345.72189727947415,null,{"$f":"L6-H6","v":-994.09810272052573},null,{"$f":"N6/H6","v":-0.74196392255715382}]
[null,2,{"$f":"Припущення_Assumptions!C53","v":"Вартість активації на розвантаження зима"},null,null,{"$f":"1+F21","v":1},"грн./МВт*год/UAH/MWh",{"$f":"Припущення_Assumptions!G53","v":1500},null,null,null,1858.3391307703582,null,{"$f":"L7-H7","v":358.33913077035822},null,{"$f":"N7/H7","v":0.23889275384690548}]
[null,3,"Гранична ціна РПЧ, 2023/Price cap for anciliary services (FCR), 2023",null,null,{"$f":"1+F23","v":1},"грн./МВт/UAH/MW",{"$f":"Припущення_Assumptions!G46","v":34.827657915258641},null,null,null,-317.01017120087823,null,-351.83782911613685,null,-10.102253501289566]
[null,4,"Бюджет проекту / Project budjet",null,null,{"$f":"1+F25","v":1},"тис.US$/ ths.US$",{"$f":"SUM('Грошові потоки _ Cash flows'!I39:X39)","v":6000},null,null,null,20601.72291442881,null,14601.72291442881,null,2.4336204857381349]
[null,5,"Вартість активації на завантаження зима/The activation price for award, winter",null,null,{"$f":"1+F27","v":1},"грн./МВт*год/UAH/MWh",{"$f":"Припущення_Assumptions!G52","v":6000},null,null,null,758.70084591921079,null,-5241.2991540807889,null,-0.87354985901346482]
[null,6,"Вартість активації на завантаження літо/The activation price for award, summer",null,null,{"$f":"1+F29","v":1},"грн./МВт*год/UAH/MWh",{"$f":"Припущення_Assumptions!G50","v":5250},null,null,null,-1013.6773081615776,null,-6263.6773081615775,null,{"$f":"N11/H11","v":-1.1930813920307766}]
[null,7,"Рівень саморозряду/The level of self-discharge",null,null,{"$f":"1+F31","v":1},"%",{"$f":"Припущення_Assumptions!G32","v":1.8249999999999999E-2},null,null,null,0.10051326246771769,null,{"$f":"L12-H12","v":8.2263262467717688E-2},null,4.5075760256283663]
[null,8,"Тривалість готовності до надання послуг аРВЧ/The time of readiness for aFRR",null,null,{"$f":"1+F33","v":1},"год./рік/hours/year",{"$f":"Припущення_Assumptions!G43","v":2737.5},null,null,null,-58.238148324346973,null,-2795.7381483243471,null,{"$f":"N13/H13","v":-1.0212742094335514}]
[null,9,"Прогнозний курс грн/долл на 2023/Exchange rate UAH/US$, 2023",null,null,{"$f":"1+F35","v":1},"грн/долл./UAH/US$",{"$f":"Припущення_Assumptions!G6","v":38.47},null,null,null,60.349324562076703,null,{"$f":"L14-H14","v":21.879324562076704},null,{"$f":"N14/H14","v":0.56873731640438541}]
[null,null,"Гранична ціна на ДП 2023 (розвантаження)/Price cap for anciliary services (award), 2023",null,null,null,"грн./МВт/UAH/MW",{"$f":"Припущення_Assumptions!G34","v":366.43},null,null,null,{"$f":"L6*CFO!E15","v":94.552159857382122},null,{"$f":"L15-H15","v":-271.87784014261786},null,{"$f":"N15/H15","v":-0.74196392255715371}]
[null,null,"Гранична ціна на ДП 2023 (завантаження)/Price cap for anciliary services (downward), 2023",null,null,null,"грн./МВт/UAH/MW",{"$f":"Припущення_Assumptions!G35","v":973.39},null,null,null,{"$f":"L6*CFO!E16","v":251.16973742209203},null,{"$f":"L16-H16","v":-722.22026257790799},null,{"$f":"N16/H16","v":-0.74196392255715382}]
[]
[null,"Фактори/Factor ",null,null,null,null,"Значення NPV при зміні фактора / NPV when factor changes"]
[null,null,null,null,null,null,-0.5,-0.4,-0.3,-0.2,-0.1,0,0.1,0.2,0.3,0.4,0.5]
[null,1,{"$f":"C6","v":"Гранична ціна на ДП, 2023/Price cap for anciliary services , 2023"},null,null,{"$f":"'Грошові потоки _ Cash flows'!K7","v":10374214.43011884},10374214.43011884,10374214.43011884,10374214.43011884,10374214.43011884,10374214.43011884,10374214.43011884,10374214.43011884,10374214.43011884,10374214.43011884,10374214.43011884,10374214.43011884]
[null,null,null,null,null,null,{"$f":"G19","v":-0.5},{"$f":"H19","v":-0.4},-0.3,-0.2,-0.1,0,0.1,0.2,0.3,0.4,0.5]
[null,2,{"$f":"C7","v":"Вартість активації на розвантаження зима"},null,null,{"$f":"'Грошові потоки _ Cash flows'!K7","v":10374214.43011884},10374214.43011884,10374214.43011884,10374214.43011884,10374214.43011884,10374214.43011884,10374214.43011884,10374214.43011884,10374214.43011884,10374214.43011884,10374214.43011884,10374214.43011884]
[null,null,null,null,null,null,{"$f":"G19","v":-0.5},{"$f":"H19","v":-0.4},-0.3,-0.2,-0.1,0,0.1,0.2,0.3,0.4,0.5]
[null,3,{"$f":"C8","v":"Гранична ціна РПЧ, 2023/Price cap for anciliary services (FCR), 2023"},null,null,{"$f":"'Грошові потоки _ Cash flows'!K7","v":10374214.43011884},5590179.6676880522,6546986.6201742114,7503793.5726603698,8460600.5251465272,9417407.4776326846,10374214.43011884,11331021.382604999,12287828.335091159,13244635.287577316,14201442.240063474,15158249.192549633]
[null,null,null,null,null,null,{"$f":"G19","v":-0.5},{"$f":"H19","v":-0.4},-0.3,-0.2,-0.1,0,0.1,0.2,0.3,0.4,0.5]
[null,4,{"$f":"C9","v":"Бюджет проекту / Project budjet"},null,null,{"$f":"'Грошові потоки _ Cash flows'!K7","v":10374214.43011884},11837265.351292823,11544655.16705803,11252044.982823234,10959434.798588434,10666824.614353638,10374214.43011884,10081604.245884046,9788994.0616492499,9496383.8774144538,9203773.6931796577,8911163.5089448616]
[null,null,null,null,null,null,{"$f":"G19","v":-0.5},{"$f":"H19","v":-0.4},-0.3,-0.2,-0.1,0,0.1,0.2,0.3,0.4,0.5]
[null,5,{"$f":"C10","v":"Вартість активації на завантаження зима/The activation price for award, winter"},null,null,{"$f":"'Грошові потоки _ Cash flows'!K7","v":10374214.43011884},10374214.43011884,10374214.43011884,10374214.43011884,10374214.43011884,10374214.43011884,10374214.43011884,10374214.43011884,10374214.43011884,10374214.43011884,10374214.43011884,10374214.43011884]
[null,null,null,null,null,null,{"$f":"G19","v":-0.5},{"$f":"H19","v":-0.4},-0.3,-0.2,-0.1,0,0.1,0.2,0.3,0.4,0.5]
[null,6,{"$f":"C11","v":"Вартість активації на завантаження літо/The activation price for award, summer"},null,null,{"$f":"'Грошові потоки _ Cash flows'!K7","v":10374214.43011884},10374214.43011884,10374214.43011884,10374214.43011884,10374214.43011884,10374214.43011884,10374214.43011884,10374214.43011884,10374214.43011884,10374214.43011884,10374214.43011884,10374214.43011884]
[null,null,null,null,null,null,{"$f":"G19","v":-0.5},{"$f":"H19","v":-0.4},-0.3,-0.2,-0.1,0,0.1,0.2,0.3,0.4,0.5]
[null,7,{"$f":"C12","v":"Рівень саморозряду/The level of self-discharge"},null,null,{"$f":"'Грошові потоки _ Cash flows'!K7","v":10374214.43011884},10946048.685792936,10828330.517027093,10712313.309910638,10597971.57625195,10485280.199594414,10374214.43011884,10264749.879609948,10156862.516486213,10050528.660892356,9945724.9798537809,9842428.4824921414]
[null,null,null,null,null,null,{"$f":"G19","v":-0.5},{"$f":"H19","v":-0.4},-0.3,-0.2,-0.1,0,0.1,0.2,0.3,0.4,0.5]
[null,8,{"$f":"C13","v":"Тривалість готовності до надання послуг аРВЧ/The time of readiness for aFRR"},null,null,{"$f":"'Грошові потоки _ Cash flows'!K7","v":10374214.43011884},8879203.5668592211,9178205.7395111453,9477207.9121630695,9776210.0848149937,10075212.25746692,10374214.43011884,10673216.602770764,10972218.775422694,11271220.948074616,11570223.120726543,11869225.293378459]
[null,null,null,null,null,null,{"$f":"G19","v":-0.5},{"$f":"H19","v":-0.4},-0.3,-0.2,-0.1,0,0.1,0.2,0.3,0.4,0.5]
[null,9,{"$f":"C14","v":"Прогнозний курс грн/долл на 2023/Exchange rate UAH/US$, 2023"},null,null,{"$f":"'Грошові потоки _ Cash flows'!K7","v":10374214.43011884},10374214.43011884,10374214.43011884,10374214.43011884,10374214.43011884,10374214.43011884,10374214.43011884,10374214.43011884,10374214.43011884,10374214.43011884,10374214.43011884,10374214.43011884]

{"sheet":"Тариф ОСП_Tariff","index":13,"n_rows":44,"n_cols":31,"rows_kept":44,"cut":false,"hidden":true,"merged":[[17,2,19,3],[44,7,44,11],[1,1,1,4],[6,1,8,1],[11,2,11,4],[12,2,12,4],[9,1,10,1],[20,1,21,1],[20,2,21,3],[30,2,31,3],[24,2,24,4],[25,2,26,3],[27,2,27,4],[28,2,28,4],[1,5,2,12],[25,1,26,1],[0,15,0,22],[32,1,34,1],[37,2,38,3],[13,2,14,3],[13,1,14,1],[15,2,16,3],[15,1,16,1],[37,1,38,1],[23,2,23,4],[36,2,36,4],[6,2,8,3],[9,2,10,3],[22,2,22,4],[35,2,35,4],[32,2,34,3],[29,2,29,4],[5,21,5,22],[5,2,5,4],[5,9,5,10],[5,12,5,13],[5,6,5,7],[5,15,5,16],[5,18,5,19],[1,15,1,17],[2,15,2,17],[3,15,3,17],[3,19,3,21],[1,19,1,21],[2,19,2,21]]}
[null,null,null,null,null,null,null,null,null,null,null,null,null,null,null,"Припущення/ Assumptions"]
[null,"РОЗРАХУНОК ТАРИФУ/TARIFF CALCULATION",null,null,null,{"$f":"CONCATENATE(Головна_Summary!A2, \" / \",Головна_Summary!K2)","v":"Energy storage system 10МВт / Energy storage system 10 MW"},null,null,null,null,null,null,null,null,null,"Темп зростання витрат/Cost rate",null,null,{"$f":"1+AVERAGE(TenYearsMarket!H6:P6)","v":1.0660000000000001},"Коефіцієнт передачі е/е / Electricity transmission ratio",null,null,{"$f":"AVERAGE(TenYearsMarket!H38:P38)","v":0.79659999999999986}]
[null,null,null,null,null,null,null,null,null,null,null,null,null,null,null,"Темп зростання обсягу виробництва е/е /Growth rate of electricity production",null,null,1.01,"Коефіцієнт диспетчеризації е/е / Electricity Dispatching ratio",null,null,{"$f":"1-W2","v":0.20340000000000014}]
[null,null,null,null,null,null,null,null,null,null,null,null,null,null,null,"Індекс споживчих цін / Consumer price index",null,null,{"$f":"1+AVERAGE(TenYearsMarket!H5:P5)","v":1.060888888888889}]
[]
[null,null,null,null,null,null,2022,null,null,{"$f":"G6+1","v":2023},null,null,{"$f":"J6+1","v":2024},null,null,{"$f":"M6+1","v":2025},null,null,{"$f":"P6+1","v":2026},null,null,{"$f":"S6+1","v":2027},null,null,null,{"$f":"G6","v":2022},{"$f":"J6","v":2023},{"$f":"M6","v":2024},{"$f":"P6","v":2025},{"$f":"S6","v":2026},{"$f":"V6","v":2027}]
[null,"1.","ОПЕРАЦІЙНІ  ВИТРАТИ/Operating costs",null,"До реалізації/Before implementation",null,13526655,17402115,null,{"$f":"G7*$S$2","v":14419414.23},{"$f":"H7*$S$2","v":18550654.59},null,{"$f":"J7*$S$2","v":15371095.569180001},{"$f":"K7*$S$2","v":19774997.792940002},null,{"$f":"M7*$S$2","v":16385587.876745882},{"$f":"N7*$S$2","v":21080147.647274043},null,{"$f":"P7*$S$2","v":17467036.676611111},{"$f":"Q7*$S$2","v":22471437.39199413},null,{"$f":"S7*$S$2","v":18619861.097267445},{"$f":"T7*$S$2","v":23954552.259865742},null,"Тариф за передачу е/е",{"$f":"G38","v":345.6444327293915},{"$f":"J38","v":305.45898825534221},{"$f":"M38","v":204.79395564496539},{"$f":"P38","v":175.44374421214732},{"$f":"S38","v":180.80140288925963},{"$f":"V38","v":176.08109720608272}]
[null,null,null,null,"Економічний ефект за новим проєктом з урахуванням аморизації/Economic effect of the new project taking into account depreciation",null,0,0,null,{"$f":"IFERROR((HLOOKUP(J6,CFO!$B$4:$AK$44,17,FALSE)+HLOOKUP(J6,CFO!$B$4:$AK$44,34,FALSE)-HLOOKUP(J6,'Грошові потоки _ Cash flows'!$A$22:$AL$30,9,FALSE)*$W$2)*HLOOKUP(J6,CFO!$B$4:$AK$12,10,FALSE),0)","v":0},{"$f":"IFERROR(((HLOOKUP(J6,CFO!$B$4:$AK$44,21,FALSE)+HLOOKUP(J6,CFO!$B$4:$AK$44,33,FALSE)-HLOOKUP(J6,CFO!$B$4:$AK$44,35,FALSE)-HLOOKUP(J6,'Грошові потоки _ Cash flows'!$A$22:$AL$30,9,FALSE))*$W$3)*HLOOKUP(J6,CFO!$B$4:$AK$12,10,FALSE),0)","v":0},null,{"$f":"IFERROR((HLOOKUP(M6,CFO!$B$4:$AK$44,17,FALSE)+HLOOKUP(M6,CFO!$B$4:$AK$44,34,FALSE)-HLOOKUP(M6,'Грошові потоки _ Cash flows'!$A$22:$AL$30,9,FALSE)*$W$2)*HLOOKUP(M6,CFO!$B$4:$AK$12,10,FALSE),0)","v":0},{"$f":"IFERROR(((HLOOKUP(M6,CFO!$B$4:$AK$44,21,FALSE)+HLOOKUP(M6,CFO!$B$4:$AK$44,33,FALSE)-HLOOKUP(M6,CFO!$B$4:$AK$44,35,FALSE)-HLOOKUP(M6,'Грошові потоки _ Cash flows'!$A$22:$AL$30,9,FALSE))*$W$3)*HLOOKUP(M6,CFO!$B$4:$AK$12,10,FALSE),0)","v":0},null,{"$f":"IFERROR((HLOOKUP(P6,CFO!$B$4:$AK$44,17,FALSE)+HLOOKUP(P6,CFO!$B$4:$AK$44,34,FALSE)-HLOOKUP(P6,'Грошові потоки _ Cash flows'!$A$22:$AL$30,9,FALSE)*$W$2)*HLOOKUP(P6,CFO!$B$4:$AK$12,10,FALSE),0)","v":0},{"$f":"IFERROR(((HLOOKUP(P6,CFO!$B$4:$AK$44,21,FALSE)+HLOOKUP(P6,CFO!$B$4:$AK$44,33,FALSE)-HLOOKUP(P6,CFO!$B$4:$AK$44,35,FALSE)-HLOOKUP(P6,'Грошові потоки _ Cash flows'!$A$22:$AL$30,9,FALSE))*$W$3)*HLOOKUP(P6,CFO!$B$4:$AK$12,10,FALSE),0)","v":0},null,{"$f":"IFERROR((HLOOKUP(S6,CFO!$B$4:$AK$44,17,FALSE)+HLOOKUP(S6,CFO!$B$4:$AK$44,34,FALSE)-HLOOKUP(S6,'Грошові потоки _ Cash flows'!$A$22:$AL$30,9,FALSE)*$W$2)*HLOOKUP(S6,CFO!$B$4:$AK$12,10,FALSE),0)","v":0},{"$f":"IFERROR(((HLOOKUP(S6,CFO!$B$4:$AK$44,21,FALSE)+HLOOKUP(S6,CFO!$B$4:$AK$44,33,FALSE)-HLOOKUP(S6,CFO!$B$4:$AK$44,35,FALSE)-HLOOKUP(S6,'Грошові потоки _ Cash flows'!$A$22:$AL$30,9,FALSE))*$W$3)*HLOOKUP(S6,CFO!$B$4:$AK$12,10,FALSE),0)","v":0},null,{"$f":"IFERROR((HLOOKUP(V6,CFO!$B$4:$AK$44,17,FALSE)+HLOOKUP(V6,CFO!$B$4:$AK$44,34,FALSE)-HLOOKUP(V6,'Грошові потоки _ Cash flows'!$A$22:$AL$30,9,FALSE)*$W$2)*HLOOKUP(V6,CFO!$B$4:$AK$12,10,FALSE),0)","v":0},{"$f":"IFERROR(((HLOOKUP(V6,CFO!$B$4:$AK$44,21,FALSE)+HLOOKUP(V6,CFO!$B$4:$AK$44,33,FALSE)-HLOOKUP(V6,CFO!$B$4:$AK$44,35,FALSE)-HLOOKUP(V6,'Грошові потоки _ Cash flows'!$A$22:$AL$30,9,FALSE))*$W$3)*HLOOKUP(V6,CFO!$B$4:$AK$12,10,FALSE),0)","v":0}]
[null,null,null,null,"Після / After implementation",null,{"$f":"G7-G8","v":13526655},{"$f":"H7-H8","v":17402115},null,{"$f":"J7-J8","v":14419414.23},{"$f":"K7-K8","v":18550654.59},null,{"$f":"M7-M8","v":15371095.569180001},{"$f":"N7-N8","v":19774997.792940002},null,{"$f":"P7-P8","v":16385587.876745882},{"$f":"Q7-Q8","v":21080147.647274043},null,{"$f":"S7-S8","v":17467036.676611111},{"$f":"T7-T8","v":22471437.39199413},null,{"$f":"V7-V8","v":18619861.097267445},{"$f":"W7-W8","v":23954552.259865742},null,"Тариф за передачу е/е після реалізації проекту",{"$f":"G39","v":345.6444327293915},{"$f":"J39","v":305.45898825534221},{"$f":"M39","v":204.82324927329404},{"$f":"P39","v":175.79345405273881},{"$f":"S39","v":181.23489557452606},{"$f":"V39","v":176.44965009222568}]
[null,"2.","ФІНАНСОВИ ВИТРАТИ (відсотки за банківський кредит)/ Finance expenses (interests)",null,"До реалізації/Before implementation",null,3392988,128268,null,721715.50841064402,{"$f":"J10/$W$2*$W$3","v":184279.35527331801},null,706817.8212381287,{"$f":"M10/$W$2*$W$3","v":180475.45171960269},null,628579.90807601647,{"$f":"P10/$W$2*$W$3","v":160498.56051049693},null,561049.5988296112,{"$f":"S10/$W$2*$W$3","v":143255.69721559505},null,{"$f":"S10*1.1","v":617154.55871257233},{"$f":"V10/$W$2*$W$3","v":157581.26693715455},null,"Тариф за диспечеризацію",{"$f":"H38","v":62.132430496777133},{"$f":"K38","v":80.767630430445493},{"$f":"N38","v":71.346778919009111},{"$f":"Q38","v":75.627903800814039},{"$f":"T38","v":79.179878459219196},{"$f":"W38","v":80.240431323738349}]
[null,null,null,null,"Після/ After implementation",null,{"$f":"G10+G12","v":3392988},{"$f":"H10+H12","v":128268},null,{"$f":"J10+J12","v":721715.50841064402},{"$f":"K10+K12","v":184279.35527331801},null,{"$f":"M10+M12","v":711030.49157307867},{"$f":"N10+N12","v":184688.12205455269},null,{"$f":"P10+P12","v":644164.54483747482},{"$f":"Q10+Q12","v":176083.19727195526},null,{"$f":"S10+S12","v":574060.91073411121},{"$f":"T10+T12","v":156267.00912009506},null,{"$f":"V10+V12","v":626162.39003107231},{"$f":"W10+W12","v":166589.09825565454},null,"Тариф за диспечеризацію після реалізації е/е",{"$f":"H39","v":62.132430496777133},{"$f":"K39","v":80.767630430445493},{"$f":"N39","v":71.361122647448724},{"$f":"Q39","v":75.796508560161726},{"$f":"T39","v":79.388580084170897},{"$f":"W39","v":80.425735461076073}]
[null,"2.10"," - відсотки за користування  кредитом НОВИЙ ПРОЕКТ/ interests for the loan usage",null,null,null,{"$f":"IFERROR(HLOOKUP(G6,CFF!$B$25:$CH$34,10,FALSE)*Припущення_Assumptions!$G$7*'Тариф ОСП_Tariff'!$W$2,0)","v":0},{"$f":"IFERROR(HLOOKUP(G6,CFF!$B$25:$CH$34,10,FALSE)*Припущення_Assumptions!$G$7*'Тариф ОСП_Tariff'!$W$2,0)","v":0},null,{"$f":"IFERROR(HLOOKUP(J6,CFF!$B$25:$CH$34,10,FALSE)*TenYearsMarket!$I$43*'Тариф ОСП_Tariff'!$W$2,0)","v":0},{"$f":"IFERROR(HLOOKUP(J6,CFF!$B$25:$CH$34,10,FALSE)*TenYearsMarket!$I$43*'Тариф ОСП_Tariff'!$W$2,0)","v":0},null,{"$f":"IFERROR(HLOOKUP(M6,CFF!$B$25:$CH$34,10,FALSE)*TenYearsMarket!$J$43*'Тариф ОСП_Tariff'!$W$2,0)","v":4212.6703349499994},{"$f":"IFERROR(HLOOKUP(M6,CFF!$B$25:$CH$34,10,FALSE)*TenYearsMarket!$J$43*'Тариф ОСП_Tariff'!$W$2,0)","v":4212.6703349499994},null,{"$f":"IFERROR(HLOOKUP(P6,CFF!$B$25:$CH$34,10,FALSE)*TenYearsMarket!$K$43*'Тариф ОСП_Tariff'!$W$2,0)","v":15584.636761458332},{"$f":"IFERROR(HLOOKUP(P6,CFF!$B$25:$CH$34,10,FALSE)*TenYearsMarket!$K$43*'Тариф ОСП_Tariff'!$W$2,0)","v":15584.636761458332},null,{"$f":"IFERROR(HLOOKUP(S6,CFF!$B$25:$CH$34,10,FALSE)*TenYearsMarket!$L$43*'Тариф ОСП_Tariff'!$W$2,0)","v":13011.311904499997},{"$f":"IFERROR(HLOOKUP(S6,CFF!$B$25:$CH$34,10,FALSE)*TenYearsMarket!$L$43*'Тариф ОСП_Tariff'!$W$2,0)","v":13011.311904499997},null,{"$f":"IFERROR(HLOOKUP(V6,CFF!$B$25:$CH$34,10,FALSE)*TenYearsMarket!$M$43*'Тариф ОСП_Tariff'!$W$2,0)","v":9007.8313184999988},{"$f":"IFERROR(HLOOKUP(V6,CFF!$B$25:$CH$34,10,FALSE)*TenYearsMarket!$M$43*'Тариф ОСП_Tariff'!$W$2,0)","v":9007.8313184999988}]
[null,null,"Коригування/Adjustment",null,null,null,0,0,null,0,0,null,0,0,null,0,0,null,0,0,null,0,0]
[null,"3.","ВИТРАТИ З ПРИБУТКУ/ Profit expenses",null,"До реалізації/Before implementation",null,{"$f":"G16+G26","v":7841513},{"$f":"H16+H26","v":601165},null,{"$f":"J16/0.82","v":18968069.535235051},{"$f":"K16/0.82","v":4684249.2165036565},null,{"$f":"M16/0.82","v":4065463.5848956089},{"$f":"N16/0.82","v":868597.96134341869},null,{"$f":"P16/0.82","v":4469759.1904830318},{"$f":"Q16/0.82","v":960644.6294375892},null,{"$f":"S16/0.82","v":4019414.3035563761},{"$f":"T16/0.82","v":833733.35966839117},null,{"$f":"V16/0.82","v":4395271.7201932194},{"$f":"W16/0.82","v":916993.72219896235}]
[null,null,null,null,"Після After implementation",null,{"$f":"G17+G27","v":7841513},{"$f":"H17+H27","v":601165},null,{"$f":"J17/0.82","v":18968069.535235051},{"$f":"K17/0.82","v":4684249.2165036565},null,{"$f":"M17/0.82","v":4065463.5848956089},{"$f":"N17/0.82","v":868597.96134341869},null,{"$f":"P17/0.82","v":4503697.8593886457},{"$f":"Q17/0.82","v":994583.29834320396},null,{"$f":"S17/0.82","v":4068237.2375319861},{"$f":"T17/0.82","v":882556.29364400089},null,{"$f":"V17/0.82","v":4444094.6541688293},{"$f":"W17/0.82","v":965816.65617457207}]
[null,"3.1","Прибуток (чистий прибуток)",null,"До реалізації/Before implementation",null,{"$f":"G18+G21+G24+G25","v":7841513},{"$f":"H18+H21+H24+H25","v":601165},null,{"$f":"J18+J21+J24+J25","v":15553817.018892741},{"$f":"K18+K21+K24+K25","v":3841084.3575329981},null,{"$f":"M18+M21+M24+M25","v":3333680.1396143991},{"$f":"N18+N21+N24+N25","v":712250.32830160332},null,{"$f":"P18+P21+P24+P25","v":3665202.5361960856},{"$f":"Q18+Q21+Q24+Q25","v":787728.59613882308},null,{"$f":"S18+S21+S24+S25","v":3295919.7289162283},{"$f":"T18+T21+T24+T25","v":683661.35492808069},null,{"$f":"V18+V21+V24+V25","v":3604122.8105584397},{"$f":"W18+W21+W24+W25","v":751934.85220314912}]
[null,null,null,null,"Після реалізації/After implementation",null,{"$f":"G22+G19+G24+G25","v":7841513},{"$f":"H22+H18+H24+H25","v":601165},null,{"$f":"J22+J18+J24+J25","v":15553817.018892741},{"$f":"K22+K18+K24+K25","v":3841084.3575329981},null,{"$f":"M22+M18+M24+M25","v":3333680.1396143991},{"$f":"N22+N18+N24+N25","v":712250.32830160332},null,{"$f":"P22+P18+P24+P25","v":3693032.2446986893},{"$f":"Q22+Q18+Q24+Q25","v":815558.30464142724},null,{"$f":"S22+S18+S24+S25","v":3335954.5347762285},{"$f":"T22+T18+T24+T25","v":723696.16078808066},null,{"$f":"V22+V18+V24+V25","v":3644157.6164184399},{"$f":"W22+W18+W24+W25","v":791969.65806314908}]
[null,"3.1.1","Капітальні інвестиції/Capital Investments",null,"До реалізації/Before implementation",null,478936,1760,null,{"$f":"G18*$S$2","v":510545.77600000001},{"$f":"H18*$S$2","v":1876.16},null,{"$f":"J18*$S$2","v":544241.79721600004},{"$f":"K18*$S$2","v":1999.9865600000003},null,{"$f":"M18*$S$2","v":580161.75583225605},{"$f":"N18*$S$2","v":2131.9856729600006},null,{"$f":"P18*$S$2","v":618452.43171718495},{"$f":"Q18*$S$2","v":2272.6967273753608},null,{"$f":"S18*$S$2","v":659270.2922105192},{"$f":"T18*$S$2","v":2422.6947113821348}]
[null,null,null,null,"Після After implementation",null,{"$f":"G18+G20","v":478936},{"$f":"H18+H20","v":1760},null,{"$f":"J18+J20","v":510545.77600000001},{"$f":"K18+K20","v":1876.16},null,{"$f":"M18+M20","v":544241.79721600004},{"$f":"N18+N20","v":1999.9865600000003},null,{"$f":"P18+P20","v":580161.75583225605},{"$f":"Q18+Q20","v":2131.9856729600006},null,{"$f":"S18+S20","v":618452.43171718495},{"$f":"T18+T20","v":2272.6967273753608},null,{"$f":"V18+V20","v":659270.2922105192},{"$f":"W18+W20","v":2422.6947113821348}]
[null,null,null,null,"Від нового проєкту/From a new project",null,{"$f":"IF(Головна_Summary!$H$13=\"Власні кошти\",HLOOKUP('Тариф ОСП_Tariff'!G6,'Грошові потоки _ Cash flows'!$A$22:$AM$49,18,0),0)","v":0},{"$f":"IF(Головна_Summary!$H$13=\"Власні кошти\",HLOOKUP('Тариф ОСП_Tariff'!G6,'Грошові потоки _ Cash flows'!$A$22:$AM$49,18,0),0)","v":0},null,{"$f":"IF(Головна_Summary!$H$13=\"Власні кошти\",HLOOKUP('Тариф ОСП_Tariff'!J6,'Грошові потоки _ Cash flows'!$A$22:$AM$49,18,0),0)","v":0},{"$f":"IF(Головна_Summary!$H$13=\"Власні кошти\",HLOOKUP('Тариф ОСП_Tariff'!J6,'Грошові потоки _ Cash flows'!$A$22:$AM$49,18,0),0)","v":0},null,{"$f":"IF(Головна_Summary!$H$13=\"Власні кошти\",HLOOKUP('Тариф ОСП_Tariff'!M6,'Грошові потоки _ Cash flows'!$A$22:$AM$49,18,0),0)","v":0},{"$f":"IF(Головна_Summary!$H$13=\"Власні кошти\",HLOOKUP('Тариф ОСП_Tariff'!M6,'Грошові потоки _ Cash flows'!$A$22:$AM$49,18,0),0)","v":0},null,{"$f":"IF(Головна_Summary!$H$13=\"Власні кошти\",HLOOKUP('Тариф ОСП_Tariff'!P6,'Грошові потоки _ Cash flows'!$A$22:$AM$49,18,0),0)","v":0},{"$f":"IF(Головна_Summary!$H$13=\"Власні кошти\",HLOOKUP('Тариф ОСП_Tariff'!P6,'Грошові потоки _ Cash flows'!$A$22:$AM$49,18,0),0)","v":0},null,{"$f":"IF(Головна_Summary!$H$13=\"Власні кошти\",HLOOKUP('Тариф ОСП_Tariff'!S6,'Грошові потоки _ Cash flows'!$A$22:$AM$49,18,0),0)","v":0},{"$f":"IF(Головна_Summary!$H$13=\"Власні кошти\",HLOOKUP('Тариф ОСП_Tariff'!S6,'Грошові потоки _ Cash flows'!$A$22:$AM$49,18,0),0)","v":0},null,{"$f":"IF(Головна_Summary!$H$13=\"Власні кошти\",HLOOKUP('Тариф ОСП_Tariff'!V6,'Грошові потоки _ Cash flows'!$A$22:$AM$49,18,0),0)","v":0},{"$f":"IF(Головна_Summary!$H$13=\"Власні кошти\",HLOOKUP('Тариф ОСП_Tariff'!V6,'Грошові потоки _ Cash flows'!$A$22:$AM$49,18,0),0)","v":0}]
[null,"3.1.2","Витрати на погашення кредитів/Loan repayment costs",null,"До реалізації/Before implementation",null,7354343,599055,null,{"$f":"12861173.90721+2173319.89168274","v":15034493.79889274},{"$f":"J21/$W$2*$W$3","v":3838835.0975329978},null,2780081.5870943991,{"$f":"M21/$W$2*$W$3","v":709852.61714160338},null,3075066.4792097653,{"$f":"P21/$W$2*$W$3","v":785172.63604226301},null,2666834.6921688113,{"$f":"S21/$W$2*$W$3","v":680936.70146514766},null,{"$f":"S21*1.1","v":2933518.1613856927},{"$f":"V21/$W$2*$W$3","v":749030.37161166256}]
[null,null,null,null,"Після After implementation",null,{"$f":"G21+G23","v":7354343},{"$f":"H21+H23","v":599055},null,{"$f":"J21+J23","v":15034493.79889274},{"$f":"K21+K23","v":3838835.0975329978},null,{"$f":"M21+M23","v":2780081.5870943991},{"$f":"N21+N23","v":709852.61714160338},null,{"$f":"P21+P23","v":3102896.1877123695},{"$f":"Q21+Q23","v":813002.34454486717},null,{"$f":"S21+S23","v":2706869.4980288115},{"$f":"T21+T23","v":720971.50732514763},null,{"$f":"V21+V23","v":2973552.9672456929},{"$f":"W21+W23","v":789065.17747166252}]
[null,"3.1.2.10","- Погашення позики НОВИЙ ПРОЕКТ / - Loan repayment",null,null,null,{"$f":"IFERROR(HLOOKUP(G6,CFF!$B$25:$CH$35,11,FALSE)*Припущення_Assumptions!$G$7*'Тариф ОСП_Tariff'!$W$2,0)","v":0},{"$f":"IFERROR(HLOOKUP(G6,CFF!$B$25:$CH$35,11,FALSE)*Припущення_Assumptions!$G$7*'Тариф ОСП_Tariff'!$W$2,0)","v":0},null,{"$f":"IFERROR(HLOOKUP(J6,CFF!$B$25:$CH$35,11,FALSE)*TenYearsMarket!$I$43*'Тариф ОСП_Tariff'!$W$2,0)","v":0},{"$f":"IFERROR(HLOOKUP(J6,CFF!$B$25:$CH$35,11,FALSE)*TenYearsMarket!$I$43*'Тариф ОСП_Tariff'!$W$2,0)","v":0},null,{"$f":"IFERROR(HLOOKUP(M6,CFF!$B$25:$CH$35,11,FALSE)*TenYearsMarket!$J$43*'Тариф ОСП_Tariff'!$W$2,0)","v":0},{"$f":"IFERROR(HLOOKUP(M6,CFF!$B$25:$CH$35,11,FALSE)*TenYearsMarket!$J$43*'Тариф ОСП_Tariff'!$W$2,0)","v":0},null,{"$f":"IFERROR(HLOOKUP(P6,CFF!$B$25:$CH$35,11,FALSE)*TenYearsMarket!$K$43*'Тариф ОСП_Tariff'!$W$2,0)","v":27829.708502604164},{"$f":"IFERROR(HLOOKUP(P6,CFF!$B$25:$CH$35,11,FALSE)*TenYearsMarket!$K$43*'Тариф ОСП_Tariff'!$W$2,0)","v":27829.708502604164},null,{"$f":"IFERROR(HLOOKUP(S6,CFF!$B$25:$CH$35,11,FALSE)*TenYearsMarket!$L$43*'Тариф ОСП_Tariff'!$W$2,0)","v":40034.805859999986},{"$f":"IFERROR(HLOOKUP(S6,CFF!$B$25:$CH$35,11,FALSE)*TenYearsMarket!$L$43*'Тариф ОСП_Tariff'!$W$2,0)","v":40034.805859999986},null,{"$f":"IFERROR(HLOOKUP(V6,CFF!$B$25:$CH$35,11,FALSE)*TenYearsMarket!$M$43*'Тариф ОСП_Tariff'!$W$2,0)","v":40034.805859999986},{"$f":"IFERROR(HLOOKUP(V6,CFF!$B$25:$CH$35,11,FALSE)*TenYearsMarket!$M$43*'Тариф ОСП_Tariff'!$W$2,0)","v":40034.805859999986}]
[null,"3.1.3","Інші витрати з прибутку",null,null,null,8234,350,null,{"$f":"G24*$S$2","v":8777.4440000000013},{"$f":"H24*$S$2","v":373.1},null,{"$f":"J24*$S$2","v":9356.7553040000021},{"$f":"K24*$S$2","v":397.72460000000007},null,{"$f":"M24*$S$2","v":9974.3011540640036},{"$f":"N24*$S$2","v":423.97442360000008},null,{"$f":"P24*$S$2","v":10632.605030232229},{"$f":"Q24*$S$2","v":451.9567355576001},null,{"$f":"S24*$S$2","v":11334.356962227557},{"$f":"T24*$S$2","v":481.78588010440171}]
[null,"3.1.4","Відрахування частини прибутку на виплату девидендів до держ бюджету",null,null,null,0,0,null,{"$f":"G25*$S$2","v":0},{"$f":"H25*$S$2","v":0},null,{"$f":"J25*$S$2","v":0},{"$f":"K25*$S$2","v":0},null,{"$f":"M25*$S$2","v":0},{"$f":"N25*$S$2","v":0},null,{"$f":"P25*$S$2","v":0},{"$f":"Q25*$S$2","v":0},null,{"$f":"S25*$S$2","v":0},{"$f":"T25*$S$2","v":0}]
[null,"3.2","Податок на прибуток",null,"До реалізації",null,0,0,null,{"$f":"J14*0.18","v":3414252.5163423088},{"$f":"K14*0.18","v":843164.85897065816},null,{"$f":"M14*0.18","v":731783.44528120954},{"$f":"N14*0.18","v":156347.63304181537},null,{"$f":"P14*0.18","v":804556.6542869457},{"$f":"Q14*0.18","v":172916.03329876604},null,{"$f":"S14*0.18","v":723494.57464014762},{"$f":"T14*0.18","v":150072.0047403104},null,{"$f":"V14*0.18","v":791148.90963477944},{"$f":"W14*0.18","v":165058.86999581321}]
[null,null,null,null,"Після реалізації",null,0,0,null,{"$f":"J15*0.18","v":3414252.5163423088},{"$f":"K15*0.18","v":843164.85897065816},null,{"$f":"M15*0.18","v":731783.44528120954},{"$f":"N15*0.18","v":156347.63304181537},null,{"$f":"P15*0.18","v":810665.61468995619},{"$f":"Q15*0.18","v":179024.99370177669},null,{"$f":"S15*0.18","v":732282.70275575749},{"$f":"T15*0.18","v":158860.13285592015},null,{"$f":"V15*0.18","v":799937.03775038919},{"$f":"W15*0.18","v":173846.99811142296}]
[null,"4.","Витрати на виконання спеціальних обов’язків для забезпечення загальносуспільних інтересів/Expenses for the performance of special duties to ensure the general interest",null,null,null,22648880,0,null,6340000,{"$f":"H28*$S$4","v":0},null,6060000,{"$f":"K28*$S$4","v":0},null,440000,{"$f":"N28*$S$4","v":0},null,650000,{"$f":"Q28*$S$4","v":0},null,{"$f":"S28*1.1","v":715000},{"$f":"T28*$S$4","v":0}]
[null,"5.","Витрати на послуги із зменшення навантаження виробником, який здійснює продаж електричної енергії за \"зеленим\" тарифом або за аукціонною ціною/Costs of services to reduce the load on the manufacturer",null,null,null,2423047,0,null,{"$f":"G29*($S$4)","v":2570583.6395555558},{"$f":"H29*$S$2","v":0},null,{"$f":"J29*($S$4)","v":2727103.62116405},{"$f":"K29*$S$2","v":0},null,{"$f":"M29*($S$4)","v":2893153.9305415945},{"$f":"N29*$S$2","v":0},null,{"$f":"P29*($S$4)","v":3069314.8587567941},{"$f":"Q29*$S$2","v":0},null,{"$f":"S29*($S$4)","v":3256202.0301566524},{"$f":"T29*$S$2","v":0}]
[null,"6.","Дефіцит або профіцит коштів у частині надходження та витрат, пов’язаних з наданням послуг із приєднання електроустановок замовників до електричних мереж/Deficit or surplus of funds in terms of revenues and expenditures related to the provision of services for the connection of electrical installations of customers to electrical networks",null,null,null,-3599,0,null,{"$f":"G30*$S$2","v":-3836.5340000000001},{"$f":"H30*$S$2","v":0},null,{"$f":"J30*$S$2","v":-4089.7452440000002},{"$f":"K30*$S$2","v":0},null,{"$f":"M30*$S$2","v":-4359.6684301040004},{"$f":"N30*$S$2","v":0},null,{"$f":"P30*$S$2","v":-4647.4065464908645},{"$f":"Q30*$S$2","v":0},null,{"$f":"S30*$S$2","v":-4954.1353785592619},{"$f":"T30*$S$2","v":0}]
[null,null,"Всього витрат/Total costs",null,"До реалізації/Before implementation",null,{"$f":"G30+G28+G14+G10+G7+G29","v":49829484},{"$f":"H30+H28+H14+H10+H7+H29","v":18131548},null,{"$f":"J30+J28+J14+J10+J7+J29","v":43015946.379201256},{"$f":"K30+K28+K14+K10+K7+K29","v":23419183.161776975},null,{"$f":"M30+M28+M14+M10+M7+M29","v":28926390.851233788},{"$f":"N30+N28+N14+N10+N7+N29","v":20824071.206003025},null,{"$f":"P30+P28+P14+P10+P7+P29","v":24812721.23741642},{"$f":"Q30+Q28+Q14+Q10+Q7+Q29","v":22201290.837222129},null,{"$f":"S30+S28+S14+S10+S7+S29","v":25762168.031207401},{"$f":"T30+T28+T14+T10+T7+T29","v":23448426.448878117},null,{"$f":"V30+V28+V14+V10+V7+V29","v":27598535.270951331},{"$f":"W30+W28+W14+W10+W7+W29","v":25029127.249001861}]
[null,null,null,null,"Після реалізації/After implementation",null,{"$f":"G9+G11+G15+G28+G30+G29","v":49829484},{"$f":"H9+H11+H15+H28+H30+H29","v":18131548},null,{"$f":"J9+J11+J15+J28+J30+J29","v":43015946.379201256},{"$f":"K9+K11+K15+K28+K30+K29","v":23419183.161776975},null,{"$f":"M9+M11+M15+M28+M30+M29","v":28930603.521568738},{"$f":"N9+N11+N15+N28+N30+N29","v":20828283.876337975},null,{"$f":"P9+P11+P15+P28+P30+P29","v":24862244.543083489},{"$f":"Q9+Q11+Q15+Q28+Q30+Q29","v":22250814.142889202},null,{"$f":"S9+S11+S15+S28+S30+S29","v":25824002.27708751},{"$f":"T9+T11+T15+T28+T30+T29","v":23510260.694758225},null,{"$f":"V9+V11+V15+V28+V30+V29","v":27656366.036245443},{"$f":"W9+W11+W15+W28+W30+W29","v":25086958.014295965}]
[null,"6.","Обсяг передачі електричної енергії/The amount of electricity transmission",null,"До реалізації/Before implementation",null,144164000,{"$f":"G33","v":144164000},null,140823966.66371116,{"$f":"J33","v":140823966.66371116},null,141246311.4945693,{"$f":"M33","v":141246311.4945693},null,141428361.26099074,{"$f":"P33","v":141428361.26099074},null,142488761.81003228,{"$f":"S33","v":142488761.81003228},null,{"$f":"S33*1.1","v":156737637.99103552},{"$f":"V33","v":156737637.99103552}]
[null,null,null,null,"Додатковий об'єм е/е при реалізації проєкту / Additional electricity supply",null,{"$f":"IFERROR(HLOOKUP(G6,CFO!$B$4:$AL$64,8,FALSE),0)","v":0},{"$f":"IFERROR(HLOOKUP(G6,CFO!$B$4:$AL$64,8,FALSE),0)","v":0},null,{"$f":"IFERROR(HLOOKUP(J6,CFO!$B$4:$AL$64,8,FALSE),0)","v":0},{"$f":"IFERROR(HLOOKUP(J6,CFO!$B$4:$AL$64,8,FALSE),0)","v":0},null,{"$f":"IFERROR(HLOOKUP(M6,CFO!$B$4:$AL$64,8,FALSE),0)","v":366.43},{"$f":"IFERROR(HLOOKUP(M6,CFO!$B$4:$AL$64,8,FALSE),0)","v":366.43},null,{"$f":"IFERROR(HLOOKUP(P6,CFO!$B$4:$AL$64,8,FALSE),0)","v":366.43},{"$f":"IFERROR(HLOOKUP(P6,CFO!$B$4:$AL$64,8,FALSE),0)","v":366.43},null,{"$f":"IFERROR(HLOOKUP(S6,CFO!$B$4:$AL$64,8,FALSE),0)","v":366.43},{"$f":"IFERROR(HLOOKUP(S6,CFO!$B$4:$AL$64,8,FALSE),0)","v":366.43},null,{"$f":"IFERROR(HLOOKUP(V6,CFO!$B$4:$AL$64,8,FALSE),0)","v":366.43},{"$f":"IFERROR(HLOOKUP(V6,CFO!$B$4:$AL$64,8,FALSE),0)","v":366.43}]
[null,null,null,null,"Після реалізації/After implementation",null,{"$f":"G33+G34","v":144164000},{"$f":"H33+H34","v":144164000},null,{"$f":"J33+J34","v":140823966.66371116},{"$f":"K33+K34","v":140823966.66371116},null,{"$f":"M33+M34","v":141246677.92456931},{"$f":"N33+N34","v":141246677.92456931},null,{"$f":"P33+P34","v":141428727.69099075},{"$f":"Q33+Q34","v":141428727.69099075},null,{"$f":"S33+S34","v":142489128.24003229},{"$f":"T33+T34","v":142489128.24003229},null,{"$f":"V33+V34","v":156738004.42103553},{"$f":"W33+W34","v":156738004.42103553}]
[null,"7.","Обсяг споживання електричної енергії для підприємств \"зеленої\" електрометалургії/Volume of electricity consumption for \"green\" metallurgy enterprises",null,null,null,{"$f":"D36*$S$3","v":0},0,null,{"$f":"G36*$S$3","v":0},{"$f":"H36*$S$3","v":0},null,{"$f":"J36*$S$3","v":0},{"$f":"K36*$S$3","v":0},null,{"$f":"M36*$S$3","v":0},{"$f":"N36*$S$3","v":0},null,{"$f":"P36*$S$3","v":0},{"$f":"Q36*$S$3","v":0},null,{"$f":"S36*$S$3","v":0},{"$f":"T36*$S$3","v":0}]
[null,"8.","Обсяг виробництва (відпуску) електричної енергії +імпорт / Volume of production (supply) of electricity + imports",null,null,null,null,147657000,null,null,{"$f":"H37*$S$3","v":149133570},null,null,{"$f":"K37*$S$3","v":150624905.69999999},null,null,{"$f":"N37*$S$3","v":152131154.757},null,null,{"$f":"Q37*$S$3","v":153652466.30456999},null,null,{"$f":"T37*$S$3","v":155188990.96761569}]
[null,"8.","Тариф/Tariff",null,"До реалізації/Before implementation",null,{"$f":"((G31-G28-G29)/G33+(G28+G29)/(G33-G36))*1000","v":345.6444327293915},{"$f":"H31/(H33+H37)*1000","v":62.132430496777133},null,{"$f":"((J31-J28-J29)/J33+(J28+J29)/(J33-J36))*1000","v":305.45898825534221},{"$f":"K31/(K33+K37)*1000","v":80.767630430445493},null,{"$f":"((M31-M28-M29)/M33+(M28+M29)/(M33-M36))*1000","v":204.79395564496539},{"$f":"N31/(N33+N37)*1000","v":71.346778919009111},null,{"$f":"((P31-P28-P29)/P33+(P28+P29)/(P33-P36))*1000","v":175.44374421214732},{"$f":"Q31/(Q33+Q37)*1000","v":75.627903800814039},null,{"$f":"((S31-S28-S29)/S33+(S28+S29)/(S33-S36))*1000","v":180.80140288925963},{"$f":"T31/(T33+T37)*1000","v":79.179878459219196},null,{"$f":"((V31-V28-V29)/V33+(V28+V29)/(V33-V36))*1000","v":176.08109720608272},{"$f":"W31/(W33+W37)*1000","v":80.240431323738349}]
[null,null,null,null,"Після реалізації/After implementation",null,{"$f":"((G32-G28-G29)/G35+(G28+G29)/(G35-G36))*1000","v":345.6444327293915},{"$f":"H32/(H35+H37)*1000","v":62.132430496777133},null,{"$f":"((J32-J28-J29)/J35+(J28+J29)/(J35-J36))*1000","v":305.45898825534221},{"$f":"K32/(K35+K37)*1000","v":80.767630430445493},null,{"$f":"((M32-M28-M29)/M35+(M28+M29)/(M35-M36))*1000","v":204.82324927329404},{"$f":"N32/(N35+N37)*1000","v":71.361122647448724},null,{"$f":"((P32-P28-P29)/P35+(P28+P29)/(P35-P36))*1000","v":175.79345405273881},{"$f":"Q32/(Q35+Q37)*1000","v":75.796508560161726},null,{"$f":"((S32-S28-S29)/S35+(S28+S29)/(S35-S36))*1000","v":181.23489557452606},{"$f":"T32/(T35+T37)*1000","v":79.388580084170897},null,{"$f":"((V32-V28-V29)/V35+(V28+V29)/(V35-V36))*1000","v":176.44965009222568},{"$f":"W32/(W35+W37)*1000","v":80.425735461076073}]
[null,null,null,null,null,null,null,null,null,null,null,null,null,null,null,null,null,null,null,null,null,{"$f":"V38/V39-1","v":-2.0887141796559483E-3}]
[]
[]
[]
[null,null,null,null,null,null,{"$f":"244176.4*(G38+H38)/1000","v":99569.486465858237}]

{"sheet":"Тарифи ОСР (НКРЕКП)_Tariff","index":14,"n_rows":50,"n_cols":36,"rows_kept":50,"cut":false,"hidden":true,"merged":[[26,1,26,2],[44,1,45,2],[46,1,46,2],[47,1,47,2],[49,1,49,2],[25,1,25,2],[0,1,0,2],[2,1,3,2],[4,1,4,2],[5,1,5,2],[23,1,24,2]]}
[null,"ТАРИФИ ОСР/ MSO Tariff"]
[]
[null,"I КЛАС НАПРУГИ / 1 Class Circuit"]
[]
[null,2020]
[null,"Постанова/Resolution",null,2670,2671,2672,2673,2674,2675,2676,2677,2678,2679,2680,2681,2682,2683,2684,2685,2686,2687,2688,2689,2690,2691,2692,2693,2694,279,2695,2696,2697,1924,2698,1925,280]
[null,null,"Перелік складових  частин витрат на послуги з розподілу електричної енергії.  що включаються в розрахунок тарифу","ПАТ «ВІННИЦЯОБЛЕНЕРГО»","ПРАТ «ВОЛИНЬОБЛЕНЕРГО»","АТ «ДТЕК ДНІПРОВСЬКІ ЕЛЕКТРОМЕРЕЖІ»","АТ «ДТЕК ДОНЕЦЬКІ ЕЛЕКТРОМЕРЕЖІ»","АТ«ЖИТОМИРОБЛЕНЕРГО»","ПРАТ «ЗАКАРПАТТЯОБЛЕНЕРГО»","ПАТ «ЗАПОРІЖЖЯОБЛЕНЕРГО»","ПРАТ «ДТЕК КИЇВСЬКІ ЕЛЕКТРОМЕРЕЖІ»","ПРАТ «КИЇВОБЛЕНЕРГО»","ПРАТ «КІРОВОГРАДОБЛЕНЕРГО»","ПРАТ «ЛЬВІВОБЛЕНЕРГО»","АТ «МИКОЛАЇВОБЛЕНЕРГО»","АТ «ОДЕСАОБЛЕНЕРГО»","ПАТ «ПОЛТАВАОБЛЕНЕРГО»","АТ «ПРИКАРПАТТЯОБЛЕНЕРГО»","ПРАТ «РІВНЕОБЛЕНЕРГО»","ПАТ «СУМИОБЛЕНЕРГО»","ВАТ «ТЕРНОПІЛЬОБЛЕНЕРГО»","АТ «ХАРКІВОБЛЕНЕРГО»","АТ «ХЕРСОНОБЛЕНЕРГО»","АТ «ХМЕЛЬНИЦЬКОБЛЕНЕРГО»","ПАТ «ЧЕРКАСИОБЛЕНЕРГО»","АТ «ЧЕРНІВЦІОБЛЕНЕРГО»","ПАТ «ЧЕРНІГІВОБЛЕНЕРГО»","ДПЕМ ПРАТ «АТОМСЕРВІС»","ДП «РЕГІОНАЛЬНІ ЕЛЕКТРИЧНІ МЕРЕЖІ»","ПРАТ «ДТЕК ПЕМ-ЕНЕРГОВУГІЛЛЯ»","ТОВ «ДТЕК ВИСОКОВОЛЬТНІ МЕРЕЖІ»","АТ «УКРЗАЛІЗНИЦЯ»","КП «МІСЬКІ ЕЛЕКТРИЧНІ МЕРЕЖІ»","ПРАТ «ПЕЕМ «ЦЕК»","ПП «ГАРАНТ ЕНЕРГО М»","ТОВ «ЛУГАНСЬКЕ ЕНЕРГЕТИЧНЕ ОБ’ЄДНАННЯ»"]
[null,null,"Область/Region","Вінницька","Волинська","Дніпропетровська","Донецька","Житомирська","Закарпатська","Запорізька","Київська","Київська","Кіровоградська","Львівська","Миколаївська","Одеська","Полтавська","Івано-Франківська","Рівненська","Сумська","Тернопільска","Харківська","Херсонська","Хмельницька","Черкаська","Чернівецька","Чернігівська","Миколаївська","Донецька. Луганська. Львівська. Волинська","Донецька","Донецька та Дніпропетровська","Донецька. Львівська. Одеська. Харківська. Дніпропетровська. Київська","Рівненська","Дніпропетровська","Львівська","Луганська"]
[null,1," Операційні витрати: / Operating costs",{"$f":"D10+D11+D12+D13+D14+D15+D16","v":406544},{"$f":"E10+E11+E12+E13+E14+E15+E16","v":174942},1462887,637375,411191,407143,658364,661545,1043937,393323,590714,388657,730967,515577,311675,333284,233273,217304,1060829,627968,347873,314997,155984,306070,10694,52522,23799,210821,884588,2148,39322,null,426936]
[null,"1.1","Матеріальні витрати: / Material Costs",44996,19850,186914,71271,52382,52283,79344,91825,122574,46615,68347,43991,86757,65165,41021,41544,31788,26810,123523,80583,40134,32231,16277,33002,1586,6525,1545,47605,105214,480,4486,null,45241]
[null,"1.2","Витрати. пов’язані з купівлею електричної енергії з метою компенсації технологічних витрат електричної енергії на її розподіл/Costs. related to the purchase of electricity in order to compensate for the technological costs of electricity for its distribution",230343,113169,806427,310110,213589,183598,372123,381771,699461,218632,369983,208660,419711,243620,157645,192885,69494,137047,619392,297126,194898,221085,106994,186650,5751,18084,3247,83594,300847,363,21020,null,199564]
[null,"1.3","Витрати на оплату праці  / salary expenses",95445,25819,269376,165871,101407,103094,174114,90746,150081,86669,102258,104412,141659,149313,71645,66961,94451,36335,245997,164066,82014,50223,22499,59243,2268,27976,15048,40132,314936,1339,9165,null,149570]
[null,"1.4","Відрахування на соціальні заходи/Deductions for social events",20998,5680,59263,36492,22310,22681,38305,19964,33018,19067,22497,22971,31165,32849,15762,14731,20779,7994,54119,36095,18043,11049,4950,13033,499,6155,3311,8829,69286,295,2016,null,32905]
[null,"1.5","Амортизація  /Depreciation ",7336,8648,83692,23342,15856,37825,12287,44883,25581,15286,18554,10204,41092,17028,19846,10138,11571,6274,30140,39687,7930,2659,3906,7484,295,1097,254,19255,83551,141,1608,null,8424]
[null,"1.6","Інші операційні витрати:/Other operating expenses:",5690,1776,56034,30289,5647,7662,7930,32356,13222,6212,9064,5049,10583,7602,5756,7025,5190,2844,19580,10411,4854,3041,1358,6658,295,1257,394,11406,10754,86,1027,null,6553]
[null,"1.7","Коригування витрат/Cost adjustment *",1736,0,1181,0,0,0,-25739,0,0,842,11,-6630,0,0,0,0,0,0,-31922,0,0,-5291,0,0,0,-8572,0,0,0,-556,0,null,-15321]
[null,"2","Усього фінансові витрати (% за кредит)/ Financial costs ( loan interest )",0,0,0,0,0,0,0,0,0,0,0,0,0,0,0,0,0,0,0,0,0,0,0,0,0,0,0,0,0,0,0,null,0]
[null,"3","Витрати з прибутку/Profit costs ",11116,1658,35391,19439,12585,8713,9661,15114,15374,10730,12890,5899,17820,8725,7402,8374,11308,2979,14408,9719,9628,2894,2660,7260,128,1461,727,5676,17191,102,982,null,0]
[null,"4","Дефіцит або профіцит коштів у частині надходження та витрат. пов’язаних з наданням послуг з приєднання електроустановок замовників до електричних мереж/Deficit or surplus of funds in terms of revenues and expenditures related to the provision of services for the connection of electrical installations of customers to electrical networks",0,0,0,0,0,0,0,0,0,0,0,0,0,0,0,0,0,0,0,0,0,0,0,0,0,0,0,0,0,0,0,null,0]
[null,"5","Усього загальні витрати (необхідний дохід)/ Total expenses",{"$f":"SUM(D9,D18,D17,D19)","v":417660},176600,1498278,656814,423776,415856,668025,676659,1059311,404053,603604,394556,748787,524302,319077,341658,244581,220283,1075237,637687,357501,317891,158644,313330,10822,53983,24526,216497,901779,2250,40304,null,{"$f":"SUM(AJ9,AJ18,AJ17,AJ19)","v":426936}]
[null,null,"Прогнозований обсяг електричної енергії. що розподіляється на 1 Класі напруги (МВт·год)/ Projected amount of electricity. which is divided into 1 Circuit Class",{"$f":"D20/D22","v":2718.2557761145458},{"$f":"E20/E22","v":1642.485119047619},{"$f":"F20/F22","v":18023.312883435585},3422.1539102797892,2365.217391304348,1820.9747339843236,8390.1657874905795,9722.1120689655181,6434.4955354431149,1876.0005571547963,4517.6558640820294,2739.0211732037483,6074.8580236897615,4938.7905048982666,2389.7318753744757,2136.2971299943724,1984.7520895885741,1420.0812274368232,6641.3650401482391,2101.5950960682858,2137.7803025772887,3113.2210361374987,1505.8756525866161,1666.205796330763,736.19047619047626,629.09917259060717,357.83484096877731,6382.5766509433961,5185.9163839208695,54.664723032069972,414.09637316346453,null,1236.2772919441711]
[null,null,"Тариф на розподіл електричної енергії для \n1 класу напруги (грн/МВт·год) /Electricity transportation tariff",153.65,107.52,83.13,191.93,179.17,228.37,79.62,69.599999999999994,164.63,215.38,133.61000000000001,144.05000000000001,123.26,106.16000000000001,133.52000000000001,159.93,123.23,155.12,161.9,303.43,167.23000000000002,102.11,105.35,188.05,14.7,85.81,68.540000000000006,33.92,173.89,41.16,97.33,null,345.34]
[]
[null,"IІ КЛАС НАПРУГИ / 2 Class Circuit"]
[]
[null,2020]
[null,null,"Постанова",{"$f":"D6","v":2670},2671,2672,2673,2674,2675,2676,2677,2678,2679,2680,2681,2682,2683,2684,2685,2686,2687,2688,2689,2690,2691,2692,2693,2694,279,2695,2696,2697,1924,2698,1925,280]
[null,null,"Перелік складових  частин витрат на послуги з розподілу електричної енергії.  що включаються в розрахунок тарифу/List of components of costs for electricity distribution services. included in the calculation of the tariff","ПАТ «ВІННИЦЯОБЛЕНЕРГО»","ПРАТ «ВОЛИНЬОБЛЕНЕРГО»","АТ «ДТЕК ДНІПРОВСЬКІ ЕЛЕКТРОМЕРЕЖІ»","АТ «ДТЕК ДОНЕЦЬКІ ЕЛЕКТРОМЕРЕЖІ»","АТ«ЖИТОМИРОБЛЕНЕРГО»","ПРАТ «ЗАКАРПАТТЯОБЛЕНЕРГО»","ПАТ «ЗАПОРІЖЖЯОБЛЕНЕРГО»","ПРАТ «ДТЕК КИЇВСЬКІ ЕЛЕКТРОМЕРЕЖІ»","ПРАТ «КИЇВОБЛЕНЕРГО»","ПРАТ «КІРОВОГРАДОБЛЕНЕРГО»","ПРАТ «ЛЬВІВОБЛЕНЕРГО»","АТ «МИКОЛАЇВОБЛЕНЕРГО»","АТ «ОДЕСАОБЛЕНЕРГО»","ПАТ «ПОЛТАВАОБЛЕНЕРГО»","АТ «ПРИКАРПАТТЯОБЛЕНЕРГО»","ПРАТ «РІВНЕОБЛЕНЕРГО»","ПАТ «СУМИОБЛЕНЕРГО»","ВАТ «ТЕРНОПІЛЬОБЛЕНЕРГО»","АТ «ХАРКІВОБЛЕНЕРГО»","АТ «ХЕРСОНОБЛЕНЕРГО»","АТ «ХМЕЛЬНИЦЬКОБЛЕНЕРГО»","ПАТ «ЧЕРКАСИОБЛЕНЕРГО»","АТ «ЧЕРНІВЦІОБЛЕНЕРГО»","ПАТ «ЧЕРНІГІВОБЛЕНЕРГО»","ДПЕМ ПРАТ «АТОМСЕРВІС»","ДП «РЕГІОНАЛЬНІ ЕЛЕКТРИЧНІ МЕРЕЖІ»","ПРАТ «ДТЕК ПЕМ-ЕНЕРГОВУГІЛЛЯ»","ТОВ «ДТЕК ВИСОКОВОЛЬТНІ МЕРЕЖІ»","АТ «УКРЗАЛІЗНИЦЯ»","КП «МІСЬКІ ЕЛЕКТРИЧНІ МЕРЕЖІ»","ПРАТ «ПЕЕМ «ЦЕК»","ПП «ГАРАНТ ЕНЕРГО М»","ТОВ «ЛУГАНСЬКЕ ЕНЕРГЕТИЧНЕ ОБ’ЄДНАННЯ»"]
[null,null,"Область","Вінницька","Волинська","Дніпропетровська","Донецька","Житомирська","Закарпатська","Запорізька","Київська","Київська","Кіровоградська","Львівська","Миколаївська","Одеська","Полтавська","Івано-Франківська","Рівненська","Сумська","Тернопільска","Харківська","Херсонська","Хмельницька","Черкаська","Чернівецька","Чернігівська","Миколаївська","Донецька. Луганська. Львівська. Волинська","Донецька","Донецька та Дніпропетровська","Донецька. Львівська. Одеська. Харківська. Дніпропетровська. Київська","Рівненська","Дніпропетровська","Львівська","Луганська"]
[null,1," Операційні витрати: / Operating costs",{"$f":"D31+D32+D33+D35+D36+D37+D34","v":1655393},955041,3228888,1888828,1308962,1251627,1920563,1882688,2194790,980960,2073975,1179662,2918865,1680755,1305545,827084,1181636,929251,2444024,947102,1283659,1330878,804401,1069553,45582,258187,82680,167729,1148963,18103,321508,null,{"$f":"AJ31+AJ32+AJ33+AJ35+AJ36+AJ37+AJ34","v":763720}]
[null,"1.1","Матеріальні витрати: / Material Costs",214249,145014,509908,226817,199714,173354,271081,310074,307501,144102,306502,150774,407663,243304,207184,116083,167781,152040,336702,134796,171189,170803,101026,143905,9708,36197,5001,52784,143419,4316,41784,null,88625]
[null,"1.2","Витрати. пов’язані з купівлею електричної енергії з метою компенсації технологічних витрат електричної енергії на її розподіл/Costs. related to the purchase of electricity in order to compensate for the technological costs of electricity for its distribution",478962,253051,840803,638038,346832,434004,639337,771355,1052513,211546,649986,364859,1008786,427823,342075,360522,265912,296197,835670,304202,419306,450749,327173,226440,5680,17297,1651,9399,257079,2047,96169,null,156723]
[null,"1.3","Витрати на оплату праці  /salary expenses",699933,343022,1077505,663485,532388,387828,850087,386862,564592,423149,749889,509778,948027,729001,479467,237406,535223,327011,983988,333104,503802,577562,258737,479329,20410,205155,60193,53199,492593,12050,121758,null,425698]
[null,"1.4","Відрахування на соціальні заходи/Deductions for social events",153985,75465,237051,145966,117125,85322,187019,85110,124210,93093,164975,112151,208566,160380,105483,52230,117749,71942,216478,73282,110837,127064,56922,105453,4490,45134,13242,11704,108370,2651,26787,null,93654]
[null,"1.5","Амортизація  /Depreciation",53794,114898,334768,93368,83246,142293,59987,191345,96235,74632,136066,49818,275004,83136,132814,35942,65567,56462,120558,80577,48714,30581,44924,60552,2651,8041,1014,25525,130683,1267,21362,null,23977]
[null,"1.6","Інші операційні витрати:/Other operating expenses:",41740,23591,224130,121154,29657,28826,38718,137942,49739,30330,66478,24651,70819,37111,38522,24901,29404,25599,78317,21141,29811,34969,15619,53874,2643,9221,1579,15118,16819,779,13648,null,18649]
[null,"1.7","Коригування витрат*/Cost adjustment *",12730,0,4723,0,0,0,-125666,0,0,4108,79,-32369,0,0,0,0,0,0,-127689,0,0,-60850,0,0,0,-62858,0,0,0,-5007,0,null,-43606]
[null,"2","Усього фінансові витрати (% за кредит)/ Financial costs ( loan interest )",0,0,0,0,0,0,0,0,0,0,0,0,0,0,0,0,0,0,0,0,0,0,0,0,0,0,0,0,0,0,0,null,0]
[null,"3","Витрати з прибутку/Profit costs ",81518,22030,141563,77754,66070,32778,47168,64438,57833,52388,94520,28803,119260,42597,49538,29686,64078,26814,57630,19734,59144,33279,30590,58742,1150,10712,2909,7524,26889,920,13046,null,0]
[null,"4","Дефіцит або профіцит коштів у частині надходження та витрат. пов’язаних з наданням послуг з приєднання електроустановок замовників до електричних мереж/Deficit or surplus of funds in terms of revenues and expenditures related to the provision of services for the connection of electrical installations of customers to electrical networks",0,0,0,0,0,0,0,0,0,0,0,0,0,0,0,0,0,0,0,0,0,0,0,0,0,0,0,0,0,0,0,null,0]
[null,"5","Усього загальні витрати (необхідний дохід)/ Total expenses",{"$f":"D40+D39+D38+D30","v":1736911},{"$f":"E40+E39+E38+E30","v":977071},3370451,1966582,1375032,1284405,1967731,1947126,2252623,1033348,2168495,1208465,3038125,1723352,1355083,856770,1245714,956065,2501654,966836,1342803,1364157,834991,1128295,46732,268899,85589,175253,1175852,19023,334554,null,{"$f":"AJ40+AJ39+AJ38+AJ30","v":763720}]
[null,null,"Прогнозований обсяг електричної енергії. що розподіляється на 1 Класі напруги (МВт·год)/ Projected amount of electricity. which is divided into 1 Circuit Class",{"$f":"D41/D43","v":1908.9241556671686},{"$f":"E41/E43","v":1280.4306232636159},6292.851008215086,2044.7954250064986,1521.3896879840675,1307.4421303365298,3044.373791289549,6871.5626764539802,3692.3403488067138,1164.9395743145744,2983.9484258036105,1554.1359088453921,4320.3051676573477,2087.8992003876911,1447.769183102203,1210.1100266945382,1318.606571259209,1045.3596186227558,4042.881153237015,1217.6775818639799,1482.9409166206515,1797.0241858994625,1065.7328108846316,1184.0768609178394,64.629086684737501,948.39699502698136,148.1752709393719,293.33991697911085,1690.1953456280814,45.910462169663326,579.01349948078928,null,588.12838836865456]
[null,null,"Тариф на розподіл електричної енергії для \n2 класу напруги (грн/МВт·год) /Electricity transportation tariff",909.89,763.08,535.6,961.75,903.79999999999984,982.37999999999988,646.35,283.36,610.08000000000004,887.04,726.72,777.58,703.22,825.39999999999986,935.98,708.01,944.72,914.58,618.78,794,905.50000000000011,759.12,783.49,952.89,723.08000000000015,283.52999999999997,577.62,597.44000000000005,695.69,414.35,577.79999999999995,null,1298.56]
[]
[null,"ТАРИФ ПУП"]
[]
[null,2020]
[null,"Постанова/Resolution",null,2701,2702,2703,2704,2705,2706,2707,2708,2709,2710,2712,2713,2714,2715,2716,2717,2718,2719,2720,2721,2722,2723,2724,2725,2710,2702,null,null,2710,null,null,null,2711]
[null,null,"Підприємство-постачальник універсальних послуг/Enterprise-provider of universal services","ТОВ «ЕНЕРА ВІННИЦЯ»","ТОВ «ВОЛИНЬЕЛЕКТРОЗБУТ»","ТОВ «ДНІПРОВСЬКІ ЕНЕРГЕТИЧНІ  ПОСЛУГИ»","ТОВ «ДОНЕЦЬКІ ЕНЕРГЕТИЧНІ ПОСЛУГИ»","ТОВ «ЖИТОМИРСЬКА ОБЛАСНА ЕНЕРГОПОСТАЧАЛЬНА КОМПАНІЯ»","ТОВ «ЗАКАРПАТТЯЕНЕРГОЗБУТ»","ТОВ «ЗАПОРІЖЖЯЕЛЕКТРОПОСТАЧАННЯ»","ТОВ  «КИЇВСЬКІ ЕНЕРГЕТИЧНІ ПОСЛУГИ»","ТОВ «КИЇВСЬКА ОБЛАСНА ЕНЕРГОПОСТАЧАЛЬНА КОМПАНІЯ»","ТОВ «КІРОВОГРАДСЬКА ОБЛАСНА ЕК»","ТОВ «ЛЬВІВЕНЕРГОЗБУТ»","ТОВ «МИКОЛАЇВСЬКА ЕНЕРГОПОСТАЧАЛЬНА КОМПАНІЯ»","ТОВ «ОДЕСЬКА ОБЛАСНА ЕНЕРГОПОСТАЧАЛЬНА КОМПАНІЯ»","ТОВ «ПОЛТАВАЕНЕРГОЗБУТ»","ТОВ «ПРИКАРПАТЕНЕРГОТРЕЙД»","ТОВ  «РІВНЕНСЬКА ОБЛАСНА ЕНЕРГОПОСТАЧАЛЬНА КОМПАНІЯ»","ТОВ «ЕНЕРА СУМИ»","ТОВ «ТЕРНОПІЛЬЕЛЕКТРОПОСТАЧ»","ПРАТ «ХАРКІВЕНЕРГОЗБУТ»","ТОВ «ХЕРСОНСЬКА ОБЛАСНА ЕНЕРГОПОСТАЧАЛЬНА КОМПАНІЯ»","ТОВ «ХМЕЛЬНИЦЬКЕНЕРГОЗБУТ»","ТОВ «ЧЕРКАСИЕНЕРГОЗБУТ»","ТОВ «ЧЕРНІВЕЦЬКА ОБЛАСНА ЕНЕРГОПОСТАЧАЛЬНА КОМПАНІЯ»","ТОВ «ЕНЕРА ЧЕРНІГІВ»","ДПЕМ ПРАТ «АТОМСЕРВІС»","ДП «РЕГІОНАЛЬНІ ЕЛЕКТРИЧНІ МЕРЕЖІ»","ПРАТ «ДТЕК ПЕМ-ЕНЕРГОВУГІЛЛЯ»","ТОВ «ДТЕК ВИСОКОВОЛЬТНІ МЕРЕЖІ»","АТ «УКРЗАЛІЗНИЦЯ»","КП «МІСЬКІ ЕЛЕКТРИЧНІ МЕРЕЖІ»","ПРАТ «ПЕЕМ «ЦЕК»","ПП «ГАРАНТ ЕНЕРГО М»","ТОВ «ЕНЕРА СХІД» (Луганська обл.)"]
[null,"Тариф постачальника універсальних послуг/Tariff of the universal service provider",null,79.98,64.48,64.75,106.94,78.05,63.28,67.209999999999994,51.01,47.72,66.14,62.09,62.16,56.14,83.63,75.5,52.23,93.06,67.099999999999994,60.05,44.05,60.34,71.7,54.19,89.24,117.41,64.48,null,null,117.41,null,null,null,131.83000000000001]

{"sheet":"Споживачі_CONSUMER","index":15,"n_rows":52,"n_cols":20,"rows_kept":52,"cut":false,"hidden":true,"merged":[[30,13,30,18],[31,13,31,18],[24,2,25,2],[24,12,25,12],[27,1,28,2],[27,3,27,5],[27,11,28,12],[27,13,27,15],[29,1,29,2],[29,9,30,9],[29,11,29,12],[5,14,5,19],[6,4,6,9],[6,14,6,19],[8,1,9,1],[8,2,9,2],[8,11,9,11],[8,12,9,12],[5,4,5,9],[42,11,44,11],[1,1,2,2],[2,3,2,5],[3,1,4,2],[3,3,3,5],[3,11,4,12],[11,1,12,1],[11,2,12,2],[11,11,12,11],[11,12,12,12],[21,1,22,1],[21,2,22,2],[21,11,22,11],[21,12,22,12],[36,11,38,11],[39,11,41,11]]}
[]
[null,"ПРОГНОЗ ЦІНИ ЗА Е/Е ДЛЯ КІНЦЕВОГО СПОЖИВАЧА /ENERGY PRICE FORECAST FOR END CONSUMER"]
[null,null,null,"Темп зростання витрат/ The growth rate of costs",null,null,1.1000000000000001]
[null,"I КЛАС НАПРУГИ /  1 Class Circuit",null,"Темп зростання обсягу розподілу  е/е /The growth rate of the distribution of electricity",null,null,1.01,null,null,null,null,"IІ КЛАС НАПРУГИ / 2 Class Circuit"]
[]
[null,null,"Область/Region",null,"Донецька",null,null,null,null,null,null,null,"Область/Region",null,{"$f":"E6","v":"Донецька"}]
[null,null,"Оператор системи розподілу/ Distribution system operator",null,"АТ «ДТЕК ДОНЕЦЬКІ ЕЛЕКТРОМЕРЕЖІ»",null,null,null,null,null,null,null,"Оператор системи розподілу/ Distribution system operator",null,{"$f":"E7","v":"АТ «ДТЕК ДОНЕЦЬКІ ЕЛЕКТРОМЕРЕЖІ»"}]
[null,null,null,null,2020,2021,2022,2023,2024,2025,null,null,null,null,2020,2021,2022,2023,2024,2025]
[null,1," Операційні витрати: / Operating costs","До реалізації/Before implementation",{"$f":"HLOOKUP($E$7,'Тарифи ОСР (НКРЕКП)_Tariff'!$B$7:$AJ$22,3,FALSE)","v":637375},{"$f":"E9*$G$3","v":701112.5},{"$f":"F9*$G$3","v":771223.75000000012},848346.12500000023,933180.73750000028,1026498.8112500004,null,1," Операційні витрати: / Operating costs","До реалізації/Before implementation",{"$f":"HLOOKUP($O$7,'Тарифи ОСР (НКРЕКП)_Tariff'!B$28:$AJ$43,3,FALSE)","v":1888828},{"$f":"O9*$G$3","v":2077710.8000000003},{"$f":"P9*$G$3","v":2285481.8800000004},{"$f":"Q9*$G$3","v":2514030.0680000004},2765433.0748000005,3041976.382280001]
[null,null,null,"Після реалізації /After implementation",{"$f":"E11+E13+E14+E15+E16+E17+E18","v":327265},{"$f":"E10*$G$3","v":359991.5},395990.65,435589.71500000008,479148.68650000013,527063.55515000015,null,null,null,"Після реалізації /After implementation",{"$f":"O11+O13+O14+O15+O16+O17+O18","v":1250790},{"$f":"P11+P13+P14+P15+P16+P17+P18","v":1375869.0000000005},{"$f":"Q11+Q13+Q14+Q15+Q16+Q17+Q18","v":1513455.9000000004},1664801.4900000002,1831281.6390000004,2014409.8029000009]
[null,"1.1","Матеріальні витрати: / Material Costs",null,{"$f":"HLOOKUP($E$7,'Тарифи ОСР (НКРЕКП)_Tariff'!$B$7:$AJ$22,4,FALSE)","v":71271},78398.100000000006,86237.910000000018,94861.70100000003,104347.87110000005,114782.65821000007,null,"1.1","Матеріальні витрати: / Material Costs",null,{"$f":"HLOOKUP($O$7,'Тарифи ОСР (НКРЕКП)_Tariff'!B$28:$AJ$43,4,FALSE)","v":226817},{"$f":"O11*$G$3","v":249498.7},{"$f":"P11*$G$3","v":274448.57},301893.42700000003,332082.76970000006,365291.04667000013]
[null,"1.2","Витрати. пов’язані з купівлею електричної енергії з метою компенсації технологічних витрат електричної енергії на її розподіл/Costs. related to the purchase of electricity in order to compensate for the technological costs of electricity for its distribution","До реалізації/Before implementation",{"$f":"HLOOKUP($E$7,'Тарифи ОСР (НКРЕКП)_Tariff'!$B$7:$AJ$22,5,FALSE)","v":310110},341121,375233.10000000003,412756.41000000009,454032.05100000015,499435.25610000023,null,"1.2","Витрати. пов’язані з купівлею електричної енергії з метою компенсації технологічних витрат електричної енергії на її розподіл/Costs. related to the purchase of electricity in order to compensate for the technological costs of electricity for its distribution","До реалізації/Before implementation",{"$f":"HLOOKUP($O$7,'Тарифи ОСР (НКРЕКП)_Tariff'!B$28:$AJ$43,5,FALSE)","v":638038},{"$f":"O12*$G$3","v":701841.8},772025.9800000001,849228.57800000021,934151.43580000033,1027566.5793800005]
[null,null,null,"Після реалізації / After implementation",null,0,0,0,0,0,null,null,null,"Після реалізації / After implementation",null,{"$f":"O13*$G$3","v":0},{"$f":"P13*$G$3","v":0},0,0,0]
[null,"1.3","Витрати на оплату праці  / salary expenses",null,{"$f":"HLOOKUP($E$7,'Тарифи ОСР (НКРЕКП)_Tariff'!$B$7:$AJ$22,6,FALSE)","v":165871},182458.1,200703.91000000003,220774.30100000006,242851.73110000009,267136.90421000012,null,"1.3","Витрати на оплату праці  / salary expenses",null,{"$f":"HLOOKUP($O$7,'Тарифи ОСР (НКРЕКП)_Tariff'!B$28:$AJ$43,6,FALSE)","v":663485},{"$f":"O14*$G$3","v":729833.50000000012},{"$f":"P14*$G$3","v":802816.85000000021},883098.53500000027,971408.38850000035,1068549.2273500005]
[null,"1.4","Відрахування на соціальні заходи/Deductions for social events",null,{"$f":"HLOOKUP($E$7,'Тарифи ОСР (НКРЕКП)_Tariff'!$B$7:$AJ$22,7,FALSE)","v":36492},40141.200000000004,44155.320000000007,48570.852000000014,53427.937200000022,58770.730920000031,null,"1.4","Відрахування на соціальні заходи/Deductions for social events",null,{"$f":"HLOOKUP($O$7,'Тарифи ОСР (НКРЕКП)_Tariff'!B$28:$AJ$43,7,FALSE)","v":145966},{"$f":"O15*$G$3","v":160562.6},176618.86000000002,194280.74600000004,213708.82060000006,235079.7026600001]
[null,"1.5","Амортизація  /Depreciation ",null,{"$f":"HLOOKUP($E$7,'Тарифи ОСР (НКРЕКП)_Tariff'!$B$7:$AJ$22,8,FALSE)","v":23342},25676.2,28243.820000000003,31068.202000000005,34175.022200000007,37592.524420000009,null,"1.5","Амортизація  /Depreciation ",null,{"$f":"HLOOKUP($O$7,'Тарифи ОСР (НКРЕКП)_Tariff'!B$28:$AJ$43,8,FALSE)","v":93368},{"$f":"O16*$G$3","v":102704.8},112975.28000000001,124272.80800000002,136700.08880000003,150370.09768000004]
[null,"1.6","Інші операційні витрати:/Other operating expenses:",null,{"$f":"HLOOKUP($E$7,'Тарифи ОСР (НКРЕКП)_Tariff'!$B$7:$AJ$22,9,FALSE)","v":30289},33317.9,36649.69,40314.659000000007,44346.12490000001,48780.737390000017,null,"1.6","Інші операційні витрати:/Other operating expenses:",null,{"$f":"HLOOKUP($O$7,'Тарифи ОСР (НКРЕКП)_Tariff'!B$28:$AJ$43,9,FALSE)","v":121154},133269.40000000002,146596.34000000003,161255.97400000005,177381.57140000007,195119.7285400001]
[null,"1.7","Коригування витрат/Cost adjustment *",null,{"$f":"HLOOKUP($E$7,'Тарифи ОСР (НКРЕКП)_Tariff'!$B$7:$AJ$22,10,FALSE)","v":0},0,0,0,0,0,null,"1.7","Коригування витрат/Cost adjustment *",null,{"$f":"HLOOKUP($O$7,'Тарифи ОСР (НКРЕКП)_Tariff'!B$28:$AJ$43,10,FALSE)","v":0},0,0,0,0,0]
[null,"2","Усього фінансові витрати (% за кредит)/ Financial costs ( loan interest )",null,{"$f":"HLOOKUP($E$7,'Тарифи ОСР (НКРЕКП)_Tariff'!$B$7:$AJ$22,11,FALSE)","v":0},0,0,0,0,0,null,"2","Усього фінансові витрати (% за кредит)/ Financial costs ( loan interest )",null,{"$f":"HLOOKUP($O$7,'Тарифи ОСР (НКРЕКП)_Tariff'!B$28:$AJ$43,11,FALSE)","v":0},0,0,0,0,0]
[null,"3","Витрати з прибутку/Profit costs ",null,{"$f":"HLOOKUP($E$7,'Тарифи ОСР (НКРЕКП)_Tariff'!$B$7:$AJ$22,12,FALSE)","v":19439},21382.9,23521.190000000002,25873.309000000005,28460.639900000009,31306.703890000012,null,"3","Витрати з прибутку/Profit costs ",null,{"$f":"HLOOKUP($O$7,'Тарифи ОСР (НКРЕКП)_Tariff'!B$28:$AJ$43,12,FALSE)","v":77754},85529.400000000009,{"$f":"P20*$G$3","v":94082.340000000011},103490.57400000002,113839.63140000003,125223.59454000003]
[null,"4","Дефіцит або профіцит коштів у частині надходження та витрат. пов’язаних з наданням послуг з приєднання електроустановок замовників до електричних мереж/Deficit or surplus of funds in terms of revenues and expenditures related to the provision of services for the connection of electrical installations of customers to electrical networks",null,{"$f":"HLOOKUP($E$7,'Тарифи ОСР (НКРЕКП)_Tariff'!$B$7:$AJ$22,13,FALSE)","v":0},0,0,0,0,0,null,"4","Дефіцит або профіцит коштів у частині надходження та витрат. пов’язаних з наданням послуг з приєднання електроустановок замовників до електричних мереж/Deficit or surplus of funds in terms of revenues and expenditures related to the provision of services for the connection of electrical installations of customers to electrical networks",null,{"$f":"HLOOKUP($O$7,'Тарифи ОСР (НКРЕКП)_Tariff'!B$28:$AJ$43,13,FALSE)","v":0},{"$f":"O21*$G$3","v":0},{"$f":"P21*$G$3","v":0},0,0,0]
[null,"5","Усього загальні витрати (необхідний дохід)/ Total expenses","До реалізації/Before implementation",{"$f":"E9+E19+E20+E21","v":656814},722495.4,794744.94000000006,874219.43400000012,961641.37740000023,1057805.5151400003,null,"5","Усього загальні витрати (необхідний дохід)/ Total expenses","До реалізації/Before implementation",{"$f":"O9+O19+O20+O21","v":1966582},{"$f":"P9+P19+P20+P21","v":2163240.2000000002},2379564.2200000002,2617520.6420000005,2879272.7062000004,3167199.9768200009]
[null,null,null,"Після реалізації/ after implementation",{"$f":"E10+E19+E20+E21","v":346704},381374.4,419511.84000000008,461463.02400000015,507609.32640000019,558370.25904000027,null,null,null,"Після реалізації/ after implementation",{"$f":"O10+O19+O20+O21","v":1328544},{"$f":"P10+P19+P20+P21","v":1461398.4000000004},1607538.2400000005,1768292.0640000002,1945121.2704000005,2139633.3974400009]
[null,null,"Прогнозований обсяг електричної енергії. що розподіляється на 1 Класі напруги (МВт·год)/ Projected amount of electricity. which is divided into 1 Circuit Class",null,{"$f":"HLOOKUP($E$7,'Тарифи ОСР (НКРЕКП)_Tariff'!$B$7:$AJ$22,15,FALSE)","v":3422.1539102797892},{"$f":"E24*$G$4","v":3456.3754493825872},{"$f":"F24*$G$4","v":3490.9392038764131},3525.8485959151772,3561.1070818743287,3596.7181526930722,null,null,"Прогнозований обсяг електричної енергії. що розподіляється на 1 Класі напруги (МВт·год)/ Projected amount of electricity. which is divided into 1 Circuit Class",null,{"$f":"HLOOKUP($O$7,'Тарифи ОСР (НКРЕКП)_Tariff'!B$28:$AJ$43,15,FALSE)","v":2044.7954250064986},{"$f":"O24*$G$4","v":2065.2433792565635},{"$f":"P24*$G$4","v":2085.8958130491292},2106.7547711796205,2127.8223188914167,2149.1005420803308]
[null,null,"Тариф на розподіл електричної енергії для \n1 класу напруги (грн/МВт·год) /Electricity transportation tariff","До реалізації/Before implementation",{"$f":"HLOOKUP($E$7,'Тарифи ОСР (НКРЕКП)_Tariff'!$B$7:$AJ$22,16,FALSE)","v":191.93},{"$f":"F22/F24","v":209.03267326732674},{"$f":"G22/G24","v":227.65934712283112},247.94582359912303,270.040005900035,294.10297672281041,null,null,"Тариф на розподіл електричної енергії для \n2 класу напруги (грн/МВт·год) /Electricity transportation tariff","До реалізації/Before implementation",{"$f":"HLOOKUP($O$7,'Тарифи ОСР (НКРЕКП)_Tariff'!B$28:$AJ$43,16,FALSE)","v":961.75},{"$f":"P22/P24","v":1047.450495049505},{"$f":"Q22/Q24","v":1140.7876678756986},1242.4420145180877,1353.1546692771251,1473.7328081236019]
[null,null,null,"Після реалізації/after implementation",{"$f":"E23/E24","v":101.31163269966841},{"$f":"F23/F24","v":110.33940195013392},{"$f":"G23/G24","v":120.17162588628447},130.8799885890227,142.54256182962871,155.24437426989266,null,null,null,"Після реалізації/after implementation",{"$f":"O23/O24","v":649.71976352880279},{"$f":"P23/P24","v":707.61558404127061},{"$f":"Q23/Q24","v":770.6704380647501},839.34404145665837,914.13707485378654,995.5948339991736]
[]
[null,"ЦІНА Е/Е / Electricity price",null,"Темп зростання ціни на е/е / Electricity price growth rate ",null,null,1.07,null,null,null,null,"ТАРИФ ПУП/ Universal service provider tariff",null,"Темп зростання тарифу на ПУП / tariff for universal service provider growth rate ",null,null,1.07]
[]
[null,null,null,2020,2021,2022,2023,2024,2025," Від середньої /from average",null,null,null,2020,2021,2022,2023,2024,2025]
[null,null,"ОЕС України / IPS Ukraine ",null,null,null,null,null,null,null,null,null,"Область/Region",{"$f":"E6","v":"Донецька"}]
[null,null,"Ринок на добу наперед / day ahead market",null,null,null,null,null,null,null,null,null,"Постачальник універсальних послуг/ Universal service provider ","АТ «УКРЗАЛІЗНИЦЯ»"]
[null,null,"Peak",{"$f":"D35*$J$33","v":1749.7904000000001},{"$f":"E35*$J$33","v":1872.2757280000001},{"$f":"F35*$J$33","v":2003.33502896},2143.5684809872005,2293.6182746563045,2454.1715538822459,1.206752,null,null,"Тариф на постачання універсальних послуг / Universal service provider tariff",{"$f":"HLOOKUP(N32,'Тарифи ОСР (НКРЕКП)_Tariff'!$B$49:$AJ$50,2,FALSE)","v":117.41},{"$f":"N33*$Q$28","v":125.62870000000001},{"$f":"O33*$Q$28","v":134.42270900000003},143.83229863000003,153.90055953410004,164.67359870148707]
[null,null,"Offpeak",{"$f":"D35*$J$34","v":860.85919999999999},{"$f":"E35*$J$34","v":921.11934399999996},{"$f":"F35*$J$34","v":985.59769807999999},1054.5895369456,1128.4108045317921,1207.3995608490177,0.593696]
[null,null,"Середня/average",1450,{"$f":"D35*$G$28","v":1551.5},{"$f":"E35*$G$28","v":1660.105},{"$f":"F35*$G$28","v":1776.3123500000002},1900.6542145000003,2033.7000095150004]
[null,null,"Небаланси/Imbalances",2200,{"$f":"D36*$G$28","v":2354},{"$f":"E36*$G$28","v":2518.7800000000002},2695.0946000000004,2883.7512220000003,3085.6138075400004,null,null,null,null,2020,2021,2022,2023,2024,2025]
[null,null,"Допоміжні послуги/Ancillary services",54.41,{"$f":"D37*$G$28","v":58.218699999999998},62.294009000000003,66.654589630000004,71.320410904100015,76.312839667387024,null,null,"До реалізації / before implementation","Споживачі ОСП /transmission system operator consumers ",{"$f":"D43+'Тариф ОСП_Tariff'!G38+'Тариф ОСП_Tariff'!H38+Споживачі_CONSUMER!D37","v":1888.2868632261686},{"$f":"'Тариф ОСП_Tariff'!J38+'Тариф ОСП_Tariff'!K38+Споживачі_CONSUMER!E43+Споживачі_CONSUMER!E37","v":1970.3723186857874},{"$f":"F37+F43+'Тариф ОСП_Tariff'!M38+'Тариф ОСП_Tariff'!N38","v":1971.1766335639743},{"$f":"G37+G43+'Тариф ОСП_Tariff'!P38+'Тариф ОСП_Tariff'!Q38","v":2064.7600599429616},{"$f":"H43+H37+'Тариф ОСП_Tariff'!S38+'Тариф ОСП_Tariff'!T38","v":2200.6278821135793},{"$f":"I37+I43+'Тариф ОСП_Tariff'!V38+'Тариф ОСП_Tariff'!W38","v":2332.8133913484785}]
[null,null,"БуТЕС ",null,null,null,null,null,null,null,null,null,"Споживачі ОСР 1 класу/ distribution system operator consumers 1 class",{"$f":"D43+'Тариф ОСП_Tariff'!G38+Споживачі_CONSUMER!E25+Споживачі_CONSUMER!N33+Споживачі_CONSUMER!D37","v":2135.4944327293915},{"$f":"E43+'Тариф ОСП_Tariff'!J38+Споживачі_CONSUMER!E37+Споживачі_CONSUMER!F25+Споживачі_CONSUMER!O33","v":2224.2660615226687},{"$f":"F43+F37+G25+P33+'Тариф ОСП_Tariff'!M38","v":2261.9119107677966},{"$f":"G43+G37+H25+Q33+'Тариф ОСП_Tariff'!P38","v":2380.9102783712706},{"$f":"H43+I25+H37+R33+'Тариф ОСП_Tariff'!S38","v":2545.3885690884945},{"$f":"I43+I37+J25+S33+'Тариф ОСП_Tariff'!V38","v":2711.3495354490378}]
[null,null,"Ринок на добу наперед / day ahead market",null,null,null,null,null,null,null,null,null,"Споживачі ОСР 2 класу/ distribution system operator  consumers 2 class",{"$f":"N33+O25+D37+D43+'Тариф ОСП_Tariff'!G38","v":2905.3144327293917},{"$f":"O33+P25+E37+E43+'Тариф ОСП_Tariff'!J38","v":3062.6838833048473},{"$f":"P33+Q25+F43+F37+'Тариф ОСП_Tariff'!M38","v":3175.0402315206643},{"$f":"Q33+R25+G37+G43+'Тариф ОСП_Tariff'!P38","v":3375.4064692902352},{"$f":"R33+S25+H43+H37+'Тариф ОСП_Tariff'!S38","v":3628.5032324655849},{"$f":"S33+T25+I43+I37+'Тариф ОСП_Tariff'!V38","v":3890.9793668498287}]
[null,null,"Peak",{"$f":"D42*$J$40","v":2125},{"$f":"E42*$J$40","v":2273.75},2432.9125000000004,2603.216375,2785.4415212500003,2980.4224277375006,1.25,null,"Після реалізації / after implementation ","Споживачі ОСП / transmission system operator consumers",{"$f":"D37+D43+'Тариф ОСП_Tariff'!G39+'Тариф ОСП_Tariff'!H39","v":1888.2868632261689},{"$f":"E37+E43+'Тариф ОСП_Tariff'!J39+'Тариф ОСП_Tariff'!K39","v":1970.3723186857874},{"$f":"F43+F37+'Тариф ОСП_Tariff'!M39+'Тариф ОСП_Tariff'!N39","v":1971.2202709207427},{"$f":"G37+G43+'Тариф ОСП_Tariff'!P39+'Тариф ОСП_Tariff'!Q39","v":2065.2783745429006},{"$f":"H43+H37+'Тариф ОСП_Tariff'!S39+'Тариф ОСП_Tariff'!T39","v":2201.2700764237975},{"$f":"I37+I43+'Тариф ОСП_Tariff'!V39+'Тариф ОСП_Tariff'!W39","v":2333.3672483719588}]
[null,null,"Offpeak",{"$f":"D42*$J$41","v":905.83555555555552},{"$f":"E42*$J$41","v":969.24404444444451},1037.0911275555557,1109.6875064844446,1187.3656319383558,1270.4812261740406,0.53284444444444445,null,null,"Споживачі ОСР 1 класу/ distribution system operator consumers 1 class",{"$f":"N33+D43+D37+E26+'Тариф ОСП_Tariff'!G39","v":2044.8760654290604},{"$f":"O33+E43+E37+F26+'Тариф ОСП_Tariff'!J39","v":2125.5727902054759},{"$f":"P33+F43+F37+G26+'Тариф ОСП_Tariff'!M39","v":2154.4534831595784},{"$f":"Q33+G43+G37+H26+'Тариф ОСП_Tariff'!P39","v":2264.1941532017618},{"$f":"R33+H43+I26+'Тариф ОСП_Tariff'!S39+H37","v":2418.3246177033548},{"$f":"S33+I37+I43+J26+'Тариф ОСП_Tariff'!V39","v":2572.8594858822621}]
[null,null,"Середня/average",{"$f":"1700","v":1700},{"$f":"D42*$G$28","v":1819},{"$f":"E42*$G$28","v":1946.3300000000002},2082.5731000000001,2228.3532170000003,2384.3379421900004,null,null,null,"Споживачі ОСР 2 класу / distribution system operator consumers 2 class",{"$f":"N33+D43+D37+O26+'Тариф ОСП_Tariff'!G39","v":2593.2841962581947},{"$f":"O33+P26+E37+E43+'Тариф ОСП_Tariff'!J39","v":2722.8489722966128},{"$f":"P33+Q26+F43+F37+'Тариф ОСП_Tariff'!M39","v":2804.9522953380447},{"$f":"Q33+R26+G43+G37+'Тариф ОСП_Tariff'!P39","v":2972.6582060693977},{"$f":"R33+S26+H43+H37+'Тариф ОСП_Tariff'!S39","v":3189.9191307275128},{"$f":"S33+T26+I43+I37+'Тариф ОСП_Tariff'!V39","v":3413.2099456115434}]
[null,null,"Оптова ціна на е/е Wholesale electricity price ",{"$f":"D35*$D$51*$D$46+D35*$D$47+D35*$D$48*$D$52+D36*$D$49","v":1426.1000000000001},{"$f":"E35*$D$51*$D$46+E35*$D$47+E35*$D$48*$D$52+E36*$D$49","v":1525.9269999999999},{"$f":"F35*$D$51*$D$46+F35*$D$47+F35*$D$48*$D$52+F36*$D$49","v":1632.74189},1747.0338223000003,1869.3261898610003,2000.1790231512703,null,null," △","Споживачі ОСП/ transmission system operator consumers",{"$f":"N40/N37-1","v":0},{"$f":"O40/O37-1","v":0},2.2137720194770338E-5,2.5102897425921533E-4,2.9182321801779487E-4,2.3742020066164216E-4]
[null,null,null,null,null,null,null,null,null,null,null,null,"Споживачі ОСР 1 класу/ distribution system operator consumers 1 class",{"$f":"N41/N38-1","v":-4.2434373001156045E-2},{"$f":"O41/O38-1","v":-4.4371162705971523E-2},-4.7507786265532315E-2,-4.9021639424964736E-2,-4.9919274773297717E-2,-5.1077903367350186E-2]
[null,null,"Частка ринкових сегментів /Market share",null,null,null,null,null,null,null,null,null,"Споживачі ОСР 2 класу / distribution system operator consumers 2 class",{"$f":"N42/N39-1","v":-0.10739981633521878},-0.11095983913348872,-0.11656165251341355,-0.11931844857355078,-0.12087190602833009,-0.12278898863066745]
[null,null,"Двосторонні договори / bilateral treaties ",{"$f":"1-SUM(D47:D49)","v":0.66}]
[null,null,"РДН / day ahead market ",0.3]
[null,null,"ВДР / day market",0.01]
[null,null,"БР / Balance market",0.03]
[null,null,"Цінові модифікатори (на підставі РДН) / Price modifiers (based on day ahead market)"]
[null,null,"Двосторонні договори/  bilateral treaties ",0.95]
[null,null,"ВДР / day market",1.1000000000000001]

{"sheet":"TenYearsMarket","index":16,"n_rows":45,"n_cols":22,"rows_kept":45,"cut":false,"hidden":true,"merged":[[96,8,96,13],[57,8,57,13],[70,8,70,13],[83,8,83,13]]}
["Припущення","Показники, які можна змінювати","Показники, коефіцієнти","Од.вим","Джерело даних",2019,2020,2021,2022,2023,2024,2025,2026,2027,2028,2029,2030,2031,2032,2033,2034]
[null,null,"Облікова ставка НБУ","%","Станом на 04.09.2019",0.16500000000000001,0.16500000000000001,0.14000000000000001,0.14000000000000001,0.14000000000000001,0.14000000000000001,0.14000000000000001,0.14000000000000001,0.14000000000000001,0.14000000000000001]
[null,0.3,"Ставка дивідендів","%",null,0.3,0.3,0.3,0.3,0.3,0.3,0.3,0.3,0.3,0.3,0.3]
[null,null,"Податок на прибуток ","%",null,0.18,0.18,0.18,0.18,0.18,0.18,0.18,0.18,0.18,0.18,0.18]
[null,null,"Індекс споживчіх цін","%","Постанова КМУ №555 від 15.05.2019",null,6.8000000000000005E-2,6.0999999999999999E-2,6.7000000000000004E-2,0.06,0.06,0.06,0.06,0.06,0.06,0.06]
[null,null,"Індекс цін виробників","%","Постанова КМУ №555 від 15.05.2019",null,8.4000000000000005E-2,8.6999999999999994E-2,0.08,6.0999999999999999E-2,6.0999999999999999E-2,6.0999999999999999E-2,6.0999999999999999E-2,6.0999999999999999E-2,6.0999999999999999E-2,6.0999999999999999E-2]
[null,1.01,"Збільшення відпуску в мережу",null,"Експертна думка",1.01,1.01,1.01,1.01,1.01,1.01,1.01,1.01,1.01,1.01,1.01]
[null,null,"Коефіціент поправки на зміну кількості у.о. обладнання",null,"Встановлюється НКРЕКП"]
[null,null,"Корегування з урахуванням економії контрольованих операційних витрат  (+/-)",null,"За результатами діяльності ",null,null,null,"50% економії вилучається з доходу наступного періоду","50% економії вилучається з доходу наступного періоду","50% економії вилучається з доходу наступного періоду","50% економії вилучається з доходу наступного періоду","50% економії вилучається з доходу наступного періоду","50% економії вилучається з доходу наступного періоду","50% економії вилучається з доходу наступного періоду"]
[null,null,"Індекс заробітньої платні",null,"Постанова КМУ №555 від 15.05.2019",null,null,1.25,1.0720000000000001,1.071,1.071,1.071,1.071,1.071,1.071,1.071]
[null,null,"ЄСВ",null,"ставка збору",0.22,0.22,0.22,0.22,0.22,0.22,0.22,0.22,0.22,0.22,0.22]
[null,null,"OPEX база "]
[null,null,"Операційні витрати, в т.ч.:","тис.грн",null,3951138,7102785.9542997424,5077199,5387190.2707600007,5704800.3250609599,6044402.3016655082,6407523.8729018914,6795799.1352939522,7210976.042313912,7654924.3574018143,8129644.1637395425]
[null,null,"Матеріальні витрати","тис.грн",null,320791,363393,380483,410921.64,435987.86004,462583.11950243998,490800.68979208882,520739.53186940623,552504.64331344003,586207.42655555985,621966.079575449,null,0]
[null,null,"Витрати на оплату праці","тис.грн",null,1902189,2630917,2849214,3054357.4080000003,3271216.7839680002,3503473.175629728,3752219.7710994384,4018627.3748474983,4303949.9184616702,4609530.3626724482,4936807.018422192,null,0]
[null,null,"Відрахування на соціальні заходи","тис.грн",null,379486,578802,626827,671958.62976000004,719667.6924729601,770764.09863854013,825488.34964187641,884098.02246644965,946868.98206156748,1014096.6797879386,1086097.5440528824,null,0]
[null,null,"Амортизація","тис.грн",null,967476,3121803.9542997424,783696,783696,783696,783696,783696,783696,783696,783696,783696,null,0]
[null,null,"Інші витрати","тис.грн",null,381196,407870,436979,466256.59299999999,494231.98858,523885.90789480001,555319.06236848806,588638.20611059736,623956.49847723322,661393.88838586723,701077.52168901928,null,0]
[null,null,"Різниця між бухгалтерською та податковою амортизацією","тис.грн",null,null,null,null,null,null,null,null,null,null,null,null,null,0]
[null,null,"Фінансові витрати","тис.грн",null,339958,2495638.0781392921,641433,849919.80357872066,905994.8636839618,887293.27295773127,789078.46858651331,704305.29604520614,621735.48320739286,537987.19666867668,465417.03689942393,null,0]
[null,null,"% витрати по позикаъ на ГарПок",null,null,null,null,1626419.021520375,1557838.0430407496,519279.34768024983,0,0,0,0,null,null,null,0]
[null,null,"Витрати на придбання допоміжних послуг","тис.грн",null,null,null,9031187,9753681.9600000009,10348656.559560001,10979924.60969316,11649700.010884443,12360331.711548394,13114311.945952846,13914284.974655969,14763056.358109983,null,0]
[null,null,"Витрати з прибутку, в т.ч.:","тис.грн",null,2318126,0,3423385,20680702.528267503,25581550.773921218,12296336.212951979,8762363.1995587982,7077210.6594212465,6751172.6048952471,6067197.3204742391,5967423.4276827145,null,0]
[null,null,"Податок на прибуток ","тис.грн",null,454031,0,659888,3722526.4550881512,4604679.1393058198,2213340.5183313559,1577225.3759205837,1273897.9186958245,1215211.0688811445,1092095.5176853631,1074136.2169828885,null,0]
[null,null,"Чистий прибуток","тис.грн",null,1864095,0,2763497,16958176.073179353,20976871.634615399,10082995.694620622,7185137.8236382138,5803312.7407254223,5535961.5360141024,4975101.802788876,4893287.2106998255,null,0]
[null,null,"у т. ч. капітальні інвестиції","тис.грн",null,87131.85566663323,null,300000,300000,300000,300000,300000,300000,300000,300000,300000,null,0]
[null,null,"у т. ч. на повернення залучених кредитних коштів ","тис.грн",null,1278922.1443333668,null,2213751,2967953.065969354,2728244.9054515921,3489934.2042360022,3860239.1152520278,3347771.3936339589,3494967.7137964754,3014313.341984645,3100756.6698631626,null,0]
[null,null,"у т. ч. інші витрати з прибутку","тис.грн",null,498041,null,9804,null,null,null,null,null,null,null,null,null,0]
[null,null,"у т.ч. дивіденди","тис.грн",null,0,null,239942,829049.1,5087452.8219538061,6293061.4903846197,3024898.7083861865,2155541.3470914639,1740993.8222176267,1660788.4608042308,1492530.5408366628,null,0]
[null,null,"повернення тіла кредиту на ГарПок",null,null,null,null,0,12861173.90721,12861173.90721,0,0,0,0,0,0,null,0]
[null,null,"Усього витрат","тис.грн",null,6609222,9598424.0324390344,19799623.021520376,38229332.605646968,43060281.869906388,30207956.397268377,27608665.551931646,26937646.802308798,27698196.076369397,28174393.849200699,29325540.986431666,null,0]
[null,null,"Витрати, пов’язані з купівлею електричної енергії з метою компенсації технологічних витрат електричної енергії","тис.грн",null,1337523,null,4733931,5101615.4207699997,5461789.4694763618,5847391.8060213923,6260217.6675265031,6702189.0348538738,7175363.5807145573,7681944.2495130049,8224289.5135286236,null,0]
[null,null,"Витрати на виконання спеціальних обов’язків для забезпечення загальносуспільних інтересів","тис.грн",null,6352046,null,27209880.01274344,29032941.973597247,30774918.492013082,32621413.601533867,34578698.417625904,36653420.322683461,38852625.542044468,41183783.074567139,43654810.059041172,null,0]
[null,null,"Витрати на послугу із зменшення навантаження ВДЕ","тис.грн",null,null,null,2468850,null,null,null,null,null,null,null,null,null,-641901]
[null,null,"Необхідний дохід","тис.грн",null,14298791,{"$error":"#REF!"},54212284.034263819,72363890.000014216,79296989.831395835,68676761.804823637,68447581.637084052,70293256.159846127,73726185.199128419,77040121.173280835,81204640.559001461]
[null,null,"Обсяг передачі"," МВт∙год",null,125368000,139156000,138871974.40795839,140003427.41148576,140823966.66371116,141246311.4945693,141428361.26099074,142488761.81003228,145316995.4052898,146335734.55083266,148412428.34825221]
[null,null,null,null,null,null,null,null,null,null,null,null,null,null,null,null,"x"]
[null,null,"Частка OPEX для послуг передачі е/е",null,null,0.8,0.8,0.79659999999999997,{"$f":"H38","v":0.79659999999999997},{"$f":"I38","v":0.79659999999999997},0.79659999999999997,0.79659999999999997,0.79659999999999997,0.79659999999999997,0.79659999999999997,0.79659999999999997]
[]
[]
[null,"https://apnews.com.ua/ru/news/mvf-sprognoziroval-kurs-dollara-k-grivne-na-shest-let-vpered/","Курс валют UAH/US$","UAH/US$",null,null,null,null,27.61,27.59,27.75,27.75,27.75,{"$f":"M41*M41/L41","v":27.75},27.75,27.75,{"$f":"P41*P41/O41","v":27.75},{"$f":"Q41*Q41/P41","v":27.75},{"$f":"R41*R41/Q41","v":27.75},{"$f":"S41*S41/R41","v":27.75},{"$f":"T41*T41/S41","v":27.75},{"$f":"U41*U41/T41","v":27.75}]
[null,"https://apecon.ru/prognoz-evro-dollar-forex-na-zavtra-nedelyu-mesyats-5-let","Прогноз курса EUR/US$","EUR/US$",null,null,null,null,1.2935833333333333,1.2778333333333334,1.2085833333333333,1.2784,{"$f":"L42","v":1.2784},{"$f":"M42","v":1.2784},1.2784,1.2784,{"$f":"P42","v":1.2784},1.2784,1.2784,{"$f":"S42","v":1.2784},1.2784,1.2784]
[null,null,"Курс валют UAH/EUR","UAH/EUR",null,null,null,null,{"$f":"I41*I42","v":35.71583583333333},{"$f":"J41*J42","v":35.25542166666667},33.538187499999999,35.4756,35.4756,35.4756,35.4756,35.4756,{"$f":"Q41*Q42","v":35.4756},{"$f":"R41*R42","v":35.4756},{"$f":"S41*S42","v":35.4756},{"$f":"T41*T42","v":35.4756},{"$f":"U41*U42","v":35.4756},{"$f":"V41*V42","v":35.4756}]
[null,null,null,null,null,null,null,null,null,null,null,null,null,null,null,null,"x"]
[null,null,null,null,null,null,null,null,null,null,null,null,null,null,null,null,"x"]

{"sheet":"Строки експлуатації_useful life","index":17,"n_rows":61,"n_cols":9,"rows_kept":61,"cut":false,"hidden":true,"merged":[[1,1,1,2],[60,1,60,3],[1,6,1,7],[60,6,60,8]]}
[]
[null,"СТРОКИ КОРИСНОГО ВИКОРИСТАННЯ ОБЛАДНАННЯ",null,null,null,null,"TERMS OF USEFUL LIFE OF THE EQUIPMENT"]
[]
[null,"Група","Групи активів ліцензіатів з передачі електричної енергії магістральними та міждержавними електромережами","Строки корисного використання",null,null,"Group","Assets groups of licensees for electricity transmission by main and interstate power grids","Useful life"]
[null,1,"Будівлі, споруди, передавальні пристрої",null,null,null,1,"Buildings, structures, transmitting devices"]
[null,1.1000000000000001,"Будівлі",null,null,null,1.1000000000000001,"Buildings"]
[null,"1.1.1","Будівлі технологічного (виробничого) призначення",50,null,null,"1.1.1","Technological (production) buildings",50]
[null,"1.1.2","Будівлі інфраструктурні (інженерна інфраструктура, склади, транспорт)",50,null,null,"1.1.2","Infrastructure buildings (engineering infrastructure, warehouses, transport)",50]
[null,"1.1.3","Будівлі адміністративного призначення",70,null,null,"1.1.3","Administrative buildings",70]
[null,1.2,"Споруди",30,null,null,1.2,"Structures",30]
[null,1.3,"Передавальні пристрої (повітряні та кабельні лінії електропередач):",null,null,null,1.3,"Transmitting devices (overhead and cable power lines):"]
[null,"1.3.1","ПЛ-800 кВ",40,null,null,"1.3.1","OHL-800 kV",40]
[null,"1.3.2","ПЛ-750 кВ",40,null,null,"1.3.2","OHL-750 kV",40]
[null,"1.3.3","ПЛ-500 кВ",40,null,null,"1.3.3","OHL-500 kV",40]
[null,"1.3.4","ПЛ-400 кВ",40,null,null,"1.3.4","OHL-400 kV",40]
[null,"1.3.5","ПЛ-330 кВ",40,null,null,"1.3.5","OHL-330 kV",40]
[null,"1.3.6","ПЛ-220 кВ",40,null,null,"1.3.6","OHL-220 kV",40]
[null,"1.3.7","ПЛ-110 кВ",40,null,null,"1.3.7","OHL-110 kV",40]
[null,"1.3.8","ПЛ-35 кВ",40,null,null,"1.3.8","OHL-35kV",40]
[null,"1.3.9","КЛ-110 кВ",30,null,null,"1.3.9","CL-110 kV",30]
[null,"1.3.10","КЛ-35 кВ",30,null,null,"1.3.10","CL-35 kV",30]
[null,"1.3.11","КЛ-0,4-10 Кв",30,null,null,"1.3.11","CL-0,4-10 kV",30]
[null,1.4,"Розподільчі пристрої",null,null,null,1.4,"Distribution devices"]
[null,"1.4.1","РП-750 кВ",35,null,null,"1.4.1","DD-750 kV",35]
[null,"1.4.2","РП-500 кВ",35,null,null,"1.4.2","DD-500 kV",35]
[null,"1.4.3","РП-400 кВ",35,null,null,"1.4.3","DD-400 kV",35]
[null,"1.4.4","РП-330 кВ",35,null,null,"1.4.4","DD-330 kV",35]
[null,"1.4.5","РП-220 кВ",35,null,null,"1.4.5","DD-220 kV",35]
[null,"1.4.6","РП-110 кВ",35,null,null,"1.4.6","DD-110 kV",35]
[null,"1.4.7","РП-35 кВ",35,null,null,"1.4.7","DD-35 kV",35]
[null,"1.4.8","РП-10 кВ",35,null,null,"1.4.8","DD-10 kV",35]
[null,"1.5","Силові трансформатори:",null,null,null,"1.5","Power transformers:"]
[null,"1.5.1","Трансформатори 750 кВ",35,null,null,"1.5.1","Transformators 750 kV",35]
[null,"1.5.2","Трансформатори 500 кВ",35,null,null,"1.5.2","Transformators 500 kV",35]
[null,"1.5.3","Трансформатори 400 кВ",35,null,null,"1.5.3","Transformators 400 kV",35]
[null,"1.5.4","Трансформатори 330 кВ",35,null,null,"1.5.4","Transformators 330 kV",35]
[null,"1.5.5","Трансформатори 220 кВ",35,null,null,"1.5.5","Transformators 220 kV",35]
[null,"1.5.6","Трансформатори 154 кВ",30,null,null,"1.5.6","Transformators 154 kV",30]
[null,"1.5.7","Трансформатори 110 кВ",30,null,null,"1.5.7","Transformators 110 kV",30]
[null,"1.5.8","Трансформатори 35 кВ",30,null,null,"1.5.8","Transformators 35 kV",30]
[null,"1.5.9","Трансформатори 3-20 кВ",30,null,null,"1.5.9","Transformators 3-20 kV",30]
[null,"1.6","Шунтуючі реактори:",null,null,null,"1.6","Shunt reactors:"]
[null,"1.6.1","Реактор 750 кВ",35,null,null,"1.6.1","Reactor 750 kV",35]
[null,"1.6.2","Реактор 500 кВ",35,null,null,"1.6.2","Reactor 500 kV",35]
[null,"1.6.3","Реактор 35 кВ",35,null,null,"1.6.3","Reactor 35 kV",35]
[null,"1.6.4","Реактор 0,4-10 кВ",35,null,null,"1.6.4","Reactor 0,4-10 kV",35]
[null,2,"Машини та обладнання:",null,null,null,2,"Machines and equipment:"]
[null,2.1,"Технологічне обладнання:",25,null,null,2.1,"Technical equipment:",25]
[null,"2.1.1","Вимірювальні пристрої, телемеханіка та релейний захист автоматика",15,null,null,"2.1.1","Measuring devices, telemechanics and relay protection automation",15]
[null,"2.1.2","Обладнання системи зв'язку",15,null,null,"2.1.2","Communication system equipment",15]
[null,"2.1.3","Обчислювальна техніка",7,null,null,"2.1.3","Computers",7]
[null,"2.1.4","Транспортні засоби, спецтехніка і спецмеханізми",10,null,null,"2.1.4","Vehicles, special equipment and special mechanisms",10]
[null,"2.1.5","Інше обладнання",7,null,null,"2.1.5","Other equipment",7]
[null,"2.2","Діагностичне обладнання",null,null,null,"2.2","Diagnostic equipment"]
[null,"2.2.1","Прилади і пристрої",5,null,null,"2.2.1","Devices",5]
[null,"2.2.2","Інше обладнання",5,null,null,"2.2.2","Other equipment",5]
[null,"3","Меблі",15,null,null,"3","Furniture",15]
[null,"4","Інвентар",5,null,null,"4","Inventory",5]
[null,5,"Програмне забезпечення",7,null,null,5,"Software",7]
[null,6,"Інші активи",15,null,null,6,"Other assets",15]
[null,"Джерело: Додаток до Порядку визначення регуляторної бази активів для ліцензіата для передачі електричної енергії магістральними та міждержавними електромережами Постанови Національної комісії, що здійснює регулювання у сферах енергетики та комунальних послуг від 27.07.17 № 979",null,null,null,null,"Source: Annex to the Procedure for Determining the Regulatory Base of Assets for a Licensee for Transmission of Electricity through Main and Interstate Electricity Networks of the Resolution of the National Commission for Regulation of Energy and Utilities dated July 27, 2017 № 979"]

{"sheet":"Списки","index":18,"n_rows":123,"n_cols":16,"rows_kept":123,"cut":false,"hidden":true,"merged":[]}
["Вид робіт за проектом","Поточний стан проекту","Фінансування",null,"Енергосистема","Підстанція","Енергосистема","Валюта","Залишкова вартість","Оцінка ризику","Ймовірність ризику","Об'єкт","Область","ОСР","ПУП","Області України"]
["Нове будівництво","Передпроектні роботи","Кредитні кошти","Кредитні кошти/Loan","Дніпровська ","ПС 220 кВ Азовська ","--","тис.UAH/ ths.UAH","Ліквідаційна","Незначний/Minor","Малоймовірно/Unlikely","Підстанція","Вінницька","ПАТ «ВІННИЦЯОБЛЕНЕРГО»","ТОВ «ЕНЕРА ВІННИЦЯ»","Вінницька"]
["Технічне переоснащення","Не розпочатий","Власні кошти","Власні кошти/Own funds","Дніпровська ","ПС 330 кВ ВДМГК","Дніпровська ","млн.UAH/mln.UAH","Подовжена","Помірний/Moderate","Можливо/Maybe","Повітряна лінія","Волинська","ПРАТ «ВОЛИНЬОБЛЕНЕРГО»","ТОВ «ВОЛИНЬЕЛЕКТРОЗБУТ»","Волинська"]
["Реконструкція","Землевпорядкування","Кредитні + Власні кошти","Кредитні кошти/Loan","Дніпровська ","ПС 330 кВ Гірнична","Західна ","тис.US$/ ths.US$","Відсутня","Катастрофічний/Disastrous","Велика вірогідність реалізації/High probability of realization","Системи накопичення електроенергії","Волинська","ДП «РЕГІОНАЛЬНІ ЕЛЕКТРИЧНІ МЕРЕЖІ»","ДП «РЕГІОНАЛЬНІ ЕЛЕКТРИЧНІ МЕРЕЖІ»","Дніпропетровська"]
["Автоматизація","Тендер ","Кредитні + Власні кошти","Власні кошти/Own funds","Дніпровська ","ПС 750 кВ Дніпровська ","Південна ","тис.EUR/ ths.EUR",null,null,null,"Інформаційні системи ","Житомирська","АТ«ЖИТОМИРОБЛЕНЕРГО»","ТОВ «ЖИТОМИРСЬКА ОБЛАСНА ЕНЕРГОПОСТАЧАЛЬНА КОМПАНІЯ»","Донецька"]
["Інформаційні системи","ТЕО",null,null,"Дніпровська ","ПС 330 кВ Дніпровська ","Південно-Західна ",null,null,null,null,"Апаратне забезпечення","Закарпатська","ПРАТ «ЗАКАРПАТТЯОБЛЕНЕРГО»","ТОВ «ЗАКАРПАТТЯЕНЕРГОЗБУТ»","Житомирська"]
["Апаратне і програмне забезпечення","ПКД стадії П",null,null,"Дніпровська ","ПС 330 кВ Дніпро-донбас","Північна ",null,null,null,null,"Програмне забезпечення","Запорізька","ПАТ «ЗАПОРІЖЖЯОБЛЕНЕРГО»","ТОВ «ЗАПОРІЖЖЯЕЛЕКТРОПОСТАЧАННЯ»","Закарпатська"]
[null,"ПКД стадії РП",null,null,"Дніпровська ","ПС 750 кВ Запорізька","Центальна",null,null,null,null,"Вставка постійного струму","Київська","ПРАТ «ДТЕК КИЇВСЬКІ ЕЛЕКТРОМЕРЕЖІ»","ТОВ  «КИЇВСЬКІ ЕНЕРГЕТИЧНІ ПОСЛУГИ»","Запорізька"]
[null,"Експертиза",null,null,"Дніпровська ","ПС 330 кВ Запорізька","Апарат Управління",null,null,null,null,null,"Київська","ПРАТ «КИЇВОБЛЕНЕРГО»","ТОВ «КИЇВСЬКА ОБЛАСНА ЕНЕРГОПОСТАЧАЛЬНА КОМПАНІЯ»","Івано-Франківська"]
[null,"Поставка обладнання",null,null,"Дніпровська ","ПС 330 кВ Зоря","ВП \"Вінницяелектротехнологія\"",null,null,null,null,null,"Київська","АТ «УКРЗАЛІЗНИЦЯ»","АТ «УКРЗАЛІЗНИЦЯ»","Київська"]
[null,"БМР",null,null,"Дніпровська ","ПС 330 кВ Іванівка","ВП \"Укренергосервіс\"",null,null,null,null,null,"Кіровоградська","ПРАТ «КІРОВОГРАДОБЛЕНЕРГО»","ТОВ «КІРОВОГРАДСЬКА ОБЛАСНА ЕК»","Кіровоградська"]
[null,"ПНР",null,null,"Дніпровська ","ПС 330 кВ Кам'янська",null,null,null,null,null,null,"Миколаївська","ДПЕМ ПРАТ «АТОМСЕРВІС»","ТОВ «МИКОЛАЇВСЬКА ЕНЕРГОПОСТАЧАЛЬНА КОМПАНІЯ»","Львівська"]
[null,"Введенно в експлуатацію",null,null,"Дніпровська ","ПС 330 кВ Кварцит",null,null,null,null,null,null,"Миколаївська","АТ «МИКОЛАЇВОБЛЕНЕРГО»","ДПЕМ ПРАТ «АТОМСЕРВІС»","Миколаївська"]
[null,"Призупинений",null,null,"Дніпровська ","ПС 330 кВ Криворізька",null,null,null,null,null,null,"Одеська","АТ «ОДЕСАОБЛЕНЕРГО»","ТОВ «ОДЕСЬКА ОБЛАСНА ЕНЕРГОПОСТАЧАЛЬНА КОМПАНІЯ»","Одеська"]
[null,"Відмінений",null,null,"Дніпровська ","ПС 330 кВ Лівобережна",null,null,null,null,null,null,"Одеська","АТ «УКРЗАЛІЗНИЦЯ»","АТ «УКРЗАЛІЗНИЦЯ»","Полтавська"]
[null,null,null,null,"Дніпровська ","ПС 330 кВ Мелітопільська ",null,null,null,null,null,null,"Полтавська","ПАТ «ПОЛТАВАОБЛЕНЕРГО»","ТОВ «ПОЛТАВАЕНЕРГОЗБУТ»","Рівненська"]
[null,null,null,null,"Дніпровська ","ПС 330 кВ Мирна",null,null,null,null,null,null,"Івано-Франківська","АТ «ПРИКАРПАТТЯОБЛЕНЕРГО»","ТОВ «ПРИКАРПАТЕНЕРГОТРЕЙД»","Сумська"]
[null,null,null,null,"Дніпровська ","ПС 330 кВ Молчанська",null,null,null,null,null,null,"Рівненська","ПРАТ «РІВНЕОБЛЕНЕРГО»","ТОВ  «РІВНЕНСЬКА ОБЛАСНА ЕНЕРГОПОСТАЧАЛЬНА КОМПАНІЯ»","Тернопільска"]
[null,null,null,null,"Дніпровська ","ПС 330 кВ Нікопольська",null,null,null,null,null,null,"Рівненська","КП «МІСЬКІ ЕЛЕКТРИЧНІ МЕРЕЖІ»","КП «МІСЬКІ ЕЛЕКТРИЧНІ МЕРЕЖІ»","Харківська"]
[null,null,null,null,"Дніпровська ","ПС 330 кВ Павлоградська ",null,null,null,null,null,null,"Сумська","ПАТ «СУМИОБЛЕНЕРГО»","ТОВ «ЕНЕРА СУМИ»","Херсонська"]
[null,null,null,null,"Дніпровська ","ПС 330 кВ Першотравнева",null,null,null,null,null,null,"Тернопільска","ВАТ «ТЕРНОПІЛЬОБЛЕНЕРГО»","ТОВ «ТЕРНОПІЛЬЕЛЕКТРОПОСТАЧ»","Хмельницька"]
[null,null,null,null,"Дніпровська ","ПС 330 кВ Південна",null,null,null,null,null,null,"Харківська","АТ «ХАРКІВОБЛЕНЕРГО»","ПРАТ «ХАРКІВЕНЕРГОЗБУТ»","Черкаська"]
[null,null,null,null,"Дніпровська ","ПС 750 кВ Південнодонбаська",null,null,null,null,null,null,"Харківська","АТ «УКРЗАЛІЗНИЦЯ»","АТ «УКРЗАЛІЗНИЦЯ»","Чернівецька"]
[null,null,null,null,"Дніпровська ","ПС 330 кВ Побузька",null,null,null,null,null,null,"Херсонська","АТ «ХЕРСОНОБЛЕНЕРГО»","ТОВ «ХЕРСОНСЬКА ОБЛАСНА ЕНЕРГОПОСТАЧАЛЬНА КОМПАНІЯ»","Чернігівська"]
[null,null,null,null,"Дніпровська ","ПС 330 кВ Прометей",null,null,null,null,null,null,"Хмельницька","АТ «ХМЕЛЬНИЦЬКОБЛЕНЕРГО»","ТОВ «ХМЕЛЬНИЦЬКЕНЕРГОЗБУТ»","Луганська"]
[null,null,null,null,"Дніпровська ","ПС 330 кВ Рудна",null,null,null,null,null,null,"Черкаська","ПАТ «ЧЕРКАСИОБЛЕНЕРГО»","ТОВ «ЧЕРКАСИЕНЕРГОЗБУТ»"]
[null,null,null,null,"Дніпровська ","ПС 330 кВ Українка",null,null,null,null,null,null,"Чернівецька","АТ «ЧЕРНІВЦІОБЛЕНЕРГО»","ТОВ «ЧЕРНІВЕЦЬКА ОБЛАСНА ЕНЕРГОПОСТАЧАЛЬНА КОМПАНІЯ»"]
[null,null,null,null,"Дніпровська ","ПС 330 кВ Феросплавна",null,null,null,null,null,null,"Чернігівська","ПАТ «ЧЕРНІГІВОБЛЕНЕРГО»","ТОВ «ЕНЕРА ЧЕРНІГІВ»"]
[null,null,null,null,"Західна ","ПС 330 кВ Богородчани",null,null,null,null,null,null,"Донецька","ПРАТ «ДТЕК ПЕМ-ЕНЕРГОВУГІЛЛЯ»","ТОВ «ДОНЕЦЬКІ ЕНЕРГЕТИЧНІ ПОСЛУГИ»"]
[null,null,null,null,"Західна ","ПС 330 кВ Борислав",null,null,null,null,null,null,"Донецька","ТОВ «ДТЕК ВИСОКОВОЛЬТНІ МЕРЕЖІ»","ДП «РЕГІОНАЛЬНІ ЕЛЕКТРИЧНІ МЕРЕЖІ»"]
[null,null,null,null,"Західна ","ПС 330 кВ Воловець",null,null,null,null,null,null,"Донецька","АТ «УКРЗАЛІЗНИЦЯ»","ПРАТ «ДТЕК ПЕМ-ЕНЕРГОВУГІЛЛЯ»"]
[null,null,null,null,"Західна ","ПС 330 кВ Грабів",null,null,null,null,null,null,"Донецька","ДП «РЕГІОНАЛЬНІ ЕЛЕКТРИЧНІ МЕРЕЖІ»","ТОВ «ДТЕК ВИСОКОВОЛЬТНІ МЕРЕЖІ»"]
[null,null,null,null,"Західна ","ПС 330 кВ Івано-Франківськ",null,null,null,null,null,null,"Донецька","АТ «ДТЕК ДОНЕЦЬКІ ЕЛЕКТРОМЕРЕЖІ»","АТ «УКРЗАЛІЗНИЦЯ»"]
[null,null,null,null,"Західна ","ПС 330 кВ Калуш",null,null,null,null,null,null,"Дніпропетровська","ПРАТ «ПЕЕМ «ЦЕК»","ТОВ «ДНІПРОВСЬКІ ЕНЕРГЕТИЧНІ  ПОСЛУГИ»"]
[null,null,null,null,"Західна ","ПС 330 кВ Ковель",null,null,null,null,null,null,"Дніпропетровська","ТОВ «ДТЕК ВИСОКОВОЛЬТНІ МЕРЕЖІ»","ТОВ «ДТЕК ВИСОКОВОЛЬТНІ МЕРЕЖІ»"]
[null,null,null,null,"Західна ","ПС 330 кВ Луцьк Південна",null,null,null,null,null,null,"Дніпропетровська","АТ «УКРЗАЛІЗНИЦЯ»","АТ «УКРЗАЛІЗНИЦЯ»"]
[null,null,null,null,"Західна ","ПС 330 кВ Луцьк-Північна",null,null,null,null,null,null,"Дніпропетровська","АТ «ДТЕК ДНІПРОВСЬКІ ЕЛЕКТРОМЕРЕЖІ»","ПРАТ «ПЕЕМ «ЦЕК»"]
[null,null,null,null,"Західна ","ПС 330 кВ Львів Західна",null,null,null,null,null,null,"Львівська","ПП «ГАРАНТ ЕНЕРГО М»","ТОВ «ЛЬВІВЕНЕРГОЗБУТ»"]
[null,null,null,null,"Західна ","ПС 330 кВ Львів Південна",null,null,null,null,null,null,"Львівська","АТ «УКРЗАЛІЗНИЦЯ»","ДП «РЕГІОНАЛЬНІ ЕЛЕКТРИЧНІ МЕРЕЖІ»"]
[null,null,null,null,"Західна ","ПС 330 кВ Львів-2",null,null,null,null,null,null,"Львівська","ДП «РЕГІОНАЛЬНІ ЕЛЕКТРИЧНІ МЕРЕЖІ»","АТ «УКРЗАЛІЗНИЦЯ»"]
[null,null,null,null,"Західна ","ПС 330 кВ Нововолинськ",null,null,null,null,null,null,"Львівська","ПРАТ «ЛЬВІВОБЛЕНЕРГО»","ПП «ГАРАНТ ЕНЕРГО М»"]
[null,null,null,null,"Західна ","ПС 330 кВ Радивілів",null,null,null,null,null,null,"Луганська","ДП «РЕГІОНАЛЬНІ ЕЛЕКТРИЧНІ МЕРЕЖІ»","ДП «РЕГІОНАЛЬНІ ЕЛЕКТРИЧНІ МЕРЕЖІ»"]
[null,null,null,null,"Західна ","ПС 330 кВ Рівне",null,null,null,null,null,null,"Луганська","ТОВ «ЛУГАНСЬКЕ ЕНЕРГЕТИЧНЕ ОБ’ЄДНАННЯ»","ТОВ «ЕНЕРА СХІД» (Луганська обл.)"]
[null,null,null,null,"Західна ","ПС 330 кВ Розділ"]
[null,null,null,null,"Західна ","ПС 330 кВ Стрий"]
[null,null,null,null,"Західна ","ПС 330 кВ Яворів"]
[null,null,null,null,"Західна ","ПС 330 кВ Мукачеве"]
[null,null,null,null,"Західна ","ПС 750 кВ Західноукраїнська"]
[null,null,null,null,"Південна ","ПС 330 кВ  Аджалик"]
[null,null,null,null,"Південна ","ПС 330 кВ Аквілон"]
[null,null,null,null,"Південна ","ПС 330 кВ Арциз"]
[null,null,null,null,"Південна ","ПС 220 кВ Березань"]
[null,null,null,null,"Південна ","ПС 220 кВ Доброславська"]
[null,null,null,null,"Південна ","ПС 330 кВ Каховська"]
[null,null,null,null,"Південна ","ПС 750 кВ Каховська"]
[null,null,null,null,"Південна ","ПС 330 кВ Миколаївська"]
[null,null,null,null,"Південна ","ПС 330 кВ Новоодеська"]
[null,null,null,null,"Південна ","ПС 330 кВ Подільська"]
[null,null,null,null,"Південна ","ПС 330 кВ Подільська"]
[null,null,null,null,"Південна ","ПС 110 кВ Придунайська"]
[null,null,null,null,"Південна ","ПС 330 кВ Приморська"]
[null,null,null,null,"Південна ","ПС 330 кВ Приморська"]
[null,null,null,null,"Південна ","ПС 330 кВ Сиваш"]
[null,null,null,null,"Південна ","ПС 110 кВ Сонячна Арциз"]
[null,null,null,null,"Південна ","ПС 110 кВ Сонячна-Кілія "]
[null,null,null,null,"Південна ","ПС 110 кВ Сонячна-Рені "]
[null,null,null,null,"Південна ","ПС 330 кВ Трихати"]
[null,null,null,null,"Південна ","ПС 330 кВ Усатове"]
[null,null,null,null,"Південна ","ПС 330 кВ Херсонська"]
[null,null,null,null,"Південна ","ПС 220 кВ Центроліт"]
[null,null,null,null,"Південно-Західна ","ПС 330 кВ Бар"]
[null,null,null,null,"Південно-Західна ","ПС 330 кВ Вінницька"]
[null,null,null,null,"Південно-Західна ","ПС 750 кВ Вінницька"]
[null,null,null,null,"Південно-Західна ","ПС 330 кВ Кам'янець-Подільська"]
[null,null,null,null,"Південно-Західна ","ПС 330 кВ Козятин"]
[null,null,null,null,"Південно-Західна ","ПС 330 кВ Тернопільська"]
[null,null,null,null,"Південно-Західна ","ПС 330 кВ Хмельницька"]
[null,null,null,null,"Південно-Західна ","ПС 330 кВ Чернівецька"]
[null,null,null,null,"Південно-Західна ","ПС 330 кВ Шепетівка"]
[null,null,null,null,"Північна ","ПС 330 кВ Білицька"]
[null,null,null,null,"Північна ","ПС 330 кВ Великоцька"]
[null,null,null,null,"Північна ","ПС 330 кВ Донбаська"]
[null,null,null,null,"Північна ","ПС 330 кВ Залютине"]
[null,null,null,null,"Північна ","ПС 330 кВ Конотоп"]
[null,null,null,null,"Північна ","ПС 330 кВ Кременчук"]
[null,null,null,null,"Північна ","ПС 330 кВ Кремінська"]
[null,null,null,null,"Північна ","ПС 330 кВ Куп'янськ"]
[null,null,null,null,"Північна ","ПС 330 кВ Лисичанська"]
[null,null,null,null,"Північна ","ПС 330 кВ Лозова"]
[null,null,null,null,"Північна ","ПС 330 кВ Лосєво"]
[null,null,null,null,"Північна ","ПС 330 кВ Миргород"]
[null,null,null,null,"Північна ","ПС 750 кВ Північноукраїнська"]
[null,null,null,null,"Північна ","ПС 330 кВ Полтава"]
[null,null,null,null,"Північна ","ПС 330 кВ Степова"]
[null,null,null,null,"Північна ","ПС 330 кВ Суми"]
[null,null,null,null,"Північна ","ПС 330 кВ Суми-Північна"]
[null,null,null,null,"Північна ","ПС 330 кВ Травнева"]
[null,null,null,null,"Північна ","ПС 330 кВ Харківська"]
[null,null,null,null,"Північна ","ПС 330 кВ Центральна"]
[null,null,null,null,"Північна ","ПС 330 кВ Шостка"]
[null,null,null,null,"Північна ","ПС 330 кВ Слобожанська"]
[null,null,null,null,"Північна ","ПС 330 кВ Ювілейна"]
[null,null,null,null,"Центальна","ПС 330 кВ Білоцерквівська"]
[null,null,null,null,"Центальна","ПС 330 кВ Броварська "]
[null,null,null,null,"Центальна","ПС 330 кВ Житомирська"]
[null,null,null,null,"Центальна","ПС 330 кВ Західна"]
[null,null,null,null,"Центальна","ПС 750 кВ Київська"]
[null,null,null,null,"Центальна","ПС 330 кВ Лісова"]
[null,null,null,null,"Центальна","ПС 330 кВ Нивки"]
[null,null,null,null,"Центальна","ПС 330 кВ Ніжинська"]
[null,null,null,null,"Центальна","ПС 330 кВ Новокиївська"]
[null,null,null,null,"Центальна","ПС 330 кВ Північна"]
[null,null,null,null,"Центальна","ПС 330 кВ Поляна"]
[null,null,null,null,"Центальна","ПС 330 кВ Славутич"]
[null,null,null,null,"Центальна","ПС 330 кВ Східна"]
[null,null,null,null,"Центальна","ПС 330 кВ Тальне"]
[null,null,null,null,"Центальна","ПС 330 кВ Фастів"]
[null,null,null,null,"Центальна","ПС 330 кВ Черкаська"]
[null,null,null,null,"Центальна","ПС 330 кВ Чернігівська"]
[null,null,null,null,"Апарат Управління","--"]
[null,null,null,null,"ВП \"Вінницяелектротехнологія\"","--"]
[null,null,null,null,"ВП \"Укренергосервіс\"","--"]
[null,null,null,null,"--","--"]

{"sheet":"Lists","index":19,"n_rows":123,"n_cols":15,"rows_kept":123,"cut":false,"hidden":true,"merged":[]}
["Type of work according to the project","Current state of the project","Financing","Power system","Substation","Power system","Currency","Residual value","Risk assessment","Probability of risk","Object","Region","Distribution system operator","Universal service provider","Ukraine Region"]
["New construction","Pre-Project work","Loan","Dniprovska","SS 220 kV Azovska","--","th.UAH","Liquidation","Minor","Unlikely","Substation","Vinnytsia","PJSC \"VINNITSIAOBLENERGO\"","ENERA VINNITSA LLC","Vinnytsia"]
["Technical re-equipment","Not started","Own funds","Dniprovska","SS 330 kV VDHMK","Dniprovska","ml.UAH","Extended","Moderate ","Probably","Overhead line","Volyn","PJSC \"VOLYNOBLENERGO\"","VOLYNELEKTROZBUT LLC","Volyn"]
["Reconstruction","Land management",{"$f":"CONCATENATE(C2,\" + \",C3)","v":"Loan + Own funds"},"Dniprovska","SS 330 kV Hirnycha","Zakhidna","th.US$","Missing","Disastrous","High Probability","Energy storage systems","Volyn","SE \"REGIONAL ELECTRICAL NETWORKS\"","SE \"REGIONAL ELECTRICAL NETWORKS\"","Dnipro"]
["Automation","Tender",null,"Dniprovska","SS 750 kV Dniprovska","Pivdenna","th.EUR",null,null,null,"Information systems","Zhytomyr","JSC \"ZHYTOMYROBLENERGO\"","ZHYTOMYR REGIONAL ENERGY SUPPLY COMPANY LLC","Донецька"]
["Information systems","Feasibility",null,"Dniprovska","SS 330 kV Dniprovska","Pivdenno_Zakhidna",null,null,null,null,"Hardware","Transcarpathian","PJSC \"ZAKARPATTYAOBLENERGO\"","LLC \"ZAKARPATTYAENERGOZBUT\"","Zhytomyr"]
["Office and software ","Design and estimate documentation Project",null,"Dniprovska","SS 330 kV Dnipro-Donbas","Pivnichna",null,null,null,null,"Software","Zaporizhye","PJSC \"ZAPORIZHZHIAOBLENERGO\"","LLC \"ZAPORIZHZHIAELKTROPOSTACHANNYA\"","Transcarpathian"]
[null,"Design and estimate documentation Work Project",null,"Dniprovska","SS 750 kV Zaporizka","Tsentralna",null,null,null,null,"Insert DC","Kyiv","PJSC DTEK KYIV ELECTRIC NETWORKS","KYIV ENERGY SERVICES LLC","Zaporizhye"]
[null,"Expertise",null,"Dniprovska","SS 330 kV Zaporizka","Office of Management",null,null,null,null,null,"Kyiv","PJSC \"KYIVOBLENERGO\"","KYIV REGIONAL ENERGY SUPPLY COMPANY LLC","Ivano-Frankivsk"]
[null,"Delivery of equipment",null,"Dniprovska","SS 330 kV Zoria","SE Vinnytsiaelectrotechnology",null,null,null,null,null,"Kyiv","JSC UKRZALIZNYTSYA","JSC \"UKRZALIZNYTSYA\"","Kyiv"]
[null,"Construction and installation work",null,"Dniprovska","SS 330 kV Ivanivka","SE Ukrenergoservice",null,null,null,null,null,"Kirovograd","PJSC \"KIROVOHRADOBLENERGO\"","LLC \"KIROVOHRAD REGIONAL EC\"","Kirovograd"]
[null,"Commissioning works",null,"Dniprovska","SS 330 kV Kamianska",null,null,null,null,null,null,"Mykolayivska","DPEM PJSC \"ATOMSERVICE\"","LLC \"MYKOLAIV ENERGY SUPPLY COMPANY\"","Lviv"]
[null,"Put into operation",null,"Dniprovska","SS 330 kV Kvartsyt",null,null,null,null,null,null,"Mykolayivska","JSC \"MYKOLAYIVOBLENERGO\"","DPEM PJSC \"ATOMSERVICE\"","Mykolayivska"]
[null,"Suspended",null,"Dniprovska","SS 330 kV Kryvorizka",null,null,null,null,null,null,"Odessa","JSC \"ODESAOBLENERGO\"","ODESSA REGIONAL ENERGY SUPPLY COMPANY LLC","Odessa"]
[null,"Canceled",null,"Dniprovska","SS 330 kV Livoberezhna",null,null,null,null,null,null,"Odessa","JSC \"UKRZALIZNYTSYA\"","JSC \"UKRZALIZNYTSYA\"","Poltava"]
[null,null,null,"Dniprovska","SS 330 kV Melitopolska",null,null,null,null,null,null,"Poltava","PJSC \"POLTAVAOBLENERGO\"","POLTAVAENERGOZBUT LLC","Rivne"]
[null,null,null,"Dniprovska","SS 330 kV Myrna",null,null,null,null,null,null,"Ivano-Frankivsk","JSC \"PRIKARPATTYAOBLENERGO\"","PRIKARPATENERGOTRADE LLC","Sumy"]
[null,null,null,"Dniprovska","SS 330 kV Molochanska",null,null,null,null,null,null,"Rivne","PJSC \"RIVNEOBLENERGO\"","RIVNE REGIONAL ENERGY SUPPLY COMPANY LLC","Ternopil"]
[null,null,null,"Dniprovska","SS 330 kV Nikopolska",null,null,null,null,null,null,"Rivne","ME \"CITY ELECTRIC NETWORKS\"","ME \"CITY ELECTRIC NETWORKS\"","Kharkiv"]
[null,null,null,"Dniprovska","SS 330 kV Pavlohradska",null,null,null,null,null,null,"Sumy","PJSC \"SUMIOBLENERGO\"","ENERA SUMY LLC","Kherson"]
[null,null,null,"Dniprovska","SS 330 kV Pershotravneva",null,null,null,null,null,null,"Ternopil","OJSC \"TERNOPILOBLENERGO\"","LLC \"TERNOPILELEKTROPOSTACH\"","Khmelnytsky"]
[null,null,null,"Dniprovska","SS 330 kV Pivdenna",null,null,null,null,null,null,"Kharkiv","JSC \"KHARKIVOBLENERGO\"","PJSC \"KHARKIVENERGOZBUT\"","Cherkasy"]
[null,null,null,"Dniprovska","SS 750 kV Pivdennodonbaska",null,null,null,null,null,null,"Kharkiv","JSC \"UKRZALIZNYTSYA\"","JSC \"UKRZALIZNYTSYA\"","Chernivtsi"]
[null,null,null,"Dniprovska","SS 330 kV Pobuzka",null,null,null,null,null,null,"Kherson","JSC \"KHERSONOBLENERGO\"","KHERSON REGIONAL ENERGY SUPPLY COMPANY LLC","Chernihiv"]
[null,null,null,"Dniprovska","SS 330 kV Prometei",null,null,null,null,null,null,"Khmelnytsky","JSC \"Khmelnitskoblenergo\"","LLC \"KHMELNYTSKENERGOZBUT\"","Luhansk"]
[null,null,null,"Dniprovska","SS 330 kV Rudna",null,null,null,null,null,null,"Cherkasy","PJSC \"CHERKASIOBLENERGO\"","CHERKASIENERGOZBUT LLC"]
[null,null,null,"Dniprovska","SS 330 kV Ukrainka",null,null,null,null,null,null,"Chernivtsi","JSC \"CHERNIVTSIOBLENERGO\"","LLC \"CHERNIVTSI REGIONAL ENERGY SUPPLY COMPANY\""]
[null,null,null,"Dniprovska","SS 330 kV Ferosplavna",null,null,null,null,null,null,"Chernihiv","PJSC \"CHERNIGIVOBLENERGO\"","ENERA CHERNIGIV LLC"]
[null,null,null,"Zakhidna","SS 330 kV Bohorodchany",null,null,null,null,null,null,"Donetsk","PJSC DTEK PEM-ENERGY COAL","DONETSK ENERGY SERVICES LLC"]
[null,null,null,"Zakhidna","SS 330 kV Boryslav",null,null,null,null,null,null,"Donetsk","DTEK HIGH VOLTAGE NETWORKS LLC","SE \"REGIONAL ELECTRICAL NETWORKS\""]
[null,null,null,"Zakhidna","SS 330 kV Volovets",null,null,null,null,null,null,"Donetsk","JSC \"UKRZALIZNYTSYA\"","PJSC DTEK PEM-ENERGY COAL"]
[null,null,null,"Zakhidna","SS 330 kV Hrabiv",null,null,null,null,null,null,"Donetsk","SE \"REGIONAL ELECTRICAL NETWORKS\"","DTEK HIGH VOLTAGE NETWORKS LLC"]
[null,null,null,"Zakhidna","SS 330 kV Ivano-Frankivsk",null,null,null,null,null,null,"Donetsk","JSC DTEK DONETSK ELECTRIC NETWORKS","JSC \"UKRZALIZNYTSYA\""]
[null,null,null,"Zakhidna","SS 330 kV Kalush",null,null,null,null,null,null,"Dnipro","PJSC \"SING\" TSEK \"","LLC \"DNIPRO ENERGY SERVICES\""]
[null,null,null,"Zakhidna","SS 330 kV Kovel",null,null,null,null,null,null,"Dnipro","DTEK HIGH VOLTAGE NETWORKS LLC","DTEK HIGH VOLTAGE NETWORKS LLC"]
[null,null,null,"Zakhidna","SS 330 kV Lutsk pivdenna",null,null,null,null,null,null,"Dnipro","JSC \"UKRZALIZNYTSYA\"","JSC \"UKRZALIZNYTSYA\""]
[null,null,null,"Zakhidna","SS 330 kV Lutsk pivnichna",null,null,null,null,null,null,"Dnipro","JSC DTEK DNIPRO ELECTRIC NETWORKS","PJSC \"SING\" TSEK \""]
[null,null,null,"Zakhidna","SS 330 kV Lviv zakhidna",null,null,null,null,null,null,"Lviv","PE \"GARANT ENERGO M\"","LVIVENERGOZBUT LLC"]
[null,null,null,"Zakhidna","SS330 kV Lviv pivdenna",null,null,null,null,null,null,"Lviv","JSC \"UKRZALIZNYTSYA\"","SE \"REGIONAL ELECTRICAL NETWORKS\""]
[null,null,null,"Zakhidna","SS 330 kV Lviv-2",null,null,null,null,null,null,"Lviv","SE \"REGIONAL ELECTRICAL NETWORKS\"","JSC \"UKRZALIZNYTSYA\""]
[null,null,null,"Zakhidna","SS 330 kV Novovolynsk",null,null,null,null,null,null,"Lviv","PJSC \"LVIVOBLENERGO\"","PE \"GARANT ENERGO M\""]
[null,null,null,"Zakhidna","SS 330 kV Radyvyliv",null,null,null,null,null,null,"Luhansk","SE \"REGIONAL ELECTRICAL NETWORKS\"","SE \"REGIONAL ELECTRICAL NETWORKS\""]
[null,null,null,"Zakhidna","SS 330 kV Rivne",null,null,null,null,null,null,"Luhansk","LUGANSK ENERGY ASSOCIATION LLC","ENERA EAST LLC (Luhansk region)"]
[null,null,null,"Zakhidna","SS 330 kV Rozdil"]
[null,null,null,"Zakhidna","SS 330 kV Stryi"]
[null,null,null,"Zakhidna","SS 330 kV Yavoriv"]
[null,null,null,"Zakhidna","SS 330 kV Mukacheve"]
[null,null,null,"Zakhidna","SS 750 kV Zakhidnoukrainska"]
[null,null,null,"Pivdenna","SS 330 kV Adzhalyk"]
[null,null,null,"Pivdenna","SS 330 kV Akvilon"]
[null,null,null,"Pivdenna","SS 330 kV Artsyz"]
[null,null,null,"Pivdenna","SS 220 kV Berezan"]
[null,null,null,"Pivdenna","SS 220 kV Dobroslavska"]
[null,null,null,"Pivdenna","SS 330 kV Kakhovka"]
[null,null,null,"Pivdenna","SS 750 kV Kakhovka"]
[null,null,null,"Pivdenna","SS 330 kV Mykolayivska"]
[null,null,null,"Pivdenna","SS 330 kV Novoodeska"]
[null,null,null,"Pivdenna","SS 330 kV Podilska"]
[null,null,null,"Pivdenna","SS 330 kV Podilska"]
[null,null,null,"Pivdenna","SS 330 kV Prydunaiska"]
[null,null,null,"Pivdenna","SS  330 kV Primorska"]
[null,null,null,"Pivdenna","SS  330 kV Primorska"]
[null,null,null,"Pivdenna","SS 330 kV Syvash"]
[null,null,null,"Pivdenna","SS 110 kV Sonyashna Artsyz"]
[null,null,null,"Pivdenna","SS 110 kV Sonyachna Kiliya"]
[null,null,null,"Pivdenna","SS 110 kV Sonychna Reni"]
[null,null,null,"Pivdenna","SS 330 kV Trykhaty"]
[null,null,null,"Pivdenna","SS 330 kV Usatove"]
[null,null,null,"Pivdenna","SS  330 kV Khersonska"]
[null,null,null,"Pivdenna","SS 220 kV Tsentrolit"]
[null,null,null,"Pivdenno-Zakhidna","SS 330 kV Bar"]
[null,null,null,"Pivdenno-Zakhidna","SS 330 kV Vinnytska"]
[null,null,null,"Pivdenno-Zakhidna","SS 750 kV Vinnytska"]
[null,null,null,"Pivdenno-Zakhidna","SS 330 kV Kamianets-Podilska"]
[null,null,null,"Pivdenno-Zakhidna","SS 330 kV Koziatin"]
[null,null,null,"Pivdenno-Zakhidna","SS  330 kV Ternopilska"]
[null,null,null,"Pivdenno-Zakhidna","SS 330 kV Khmelnytska"]
[null,null,null,"Pivdenno-Zakhidna","SS 330 kV Chernivetska"]
[null,null,null,"Pivdenno-Zakhidna","SS 330 kV Shepetivka"]
[null,null,null,"Pivnichna","SS 330 kV Bilytska"]
[null,null,null,"Pivnichna","SS 330 kV Velykotska"]
[null,null,null,"Pivnichna","SS 330 kV Donbaska"]
[null,null,null,"Pivnichna","SS 330 kV Zaliutyne"]
[null,null,null,"Pivnichna","SS 330 kV Konotop"]
[null,null,null,"Pivnichna","SS 330 kV Kremenchuk"]
[null,null,null,"Pivnichna","SS 330 kV Kreminska"]
[null,null,null,"Pivnichna","SS 330 kV Kupiansk"]
[null,null,null,"Pivnichna","SS 330 kV Lysychanska"]
[null,null,null,"Pivnichna","SS 330 kV Lozova"]
[null,null,null,"Pivnichna","SS 330 kV Losievo"]
[null,null,null,"Pivnichna","SS 330 kV Myrhorod"]
[null,null,null,"Pivnichna","SS 750 kV Pivnichnoukrainska"]
[null,null,null,"Pivnichna","SS 330 kV Poltava"]
[null,null,null,"Pivnichna","SS 330 kV Stepova"]
[null,null,null,"Pivnichna","SS 330 kV Sumy"]
[null,null,null,"Pivnichna","SS 330 kV Sumy pivnichna"]
[null,null,null,"Pivnichna","SS 330 kV Travneva"]
[null,null,null,"Pivnichna","SS 330 kV Kharkivska"]
[null,null,null,"Pivnichna","SS 330 kV Tsentralna"]
[null,null,null,"Pivnichna","SS 330 kV Shostka"]
[null,null,null,"Pivnichna","SS 330 kV Slobozhanska"]
[null,null,null,"Pivnichna","SS 330 kV Yuvileina"]
[null,null,null,"Tsentralna","SS 330 kV Bilotserkivska"]
[null,null,null,"Tsentralna","SS 330 kV Brovarska"]
[null,null,null,"Tsentralna","SS 330 kV Zhytomyrska"]
[null,null,null,"Tsentralna","SS 330 kV Zakhidna"]
[null,null,null,"Tsentralna","SS 750 kV Kyivska"]
[null,null,null,"Tsentralna","SS 330 kV Lisova"]
[null,null,null,"Tsentralna","SS 330 kV Nyvky"]
[null,null,null,"Tsentralna","SS 330 kV Nizhynska"]
[null,null,null,"Tsentralna","SS 330 kV Novokyivska"]
[null,null,null,"Tsentralna","SS 330 kV Pivnichna"]
[null,null,null,"Tsentralna","SS 330 kV Poliana"]
[null,null,null,"Tsentralna","SS 330 kV Slavutych"]
[null,null,null,"Tsentralna","SS 330 kV Shidna"]
[null,null,null,"Tsentralna","SS 330 kV Talne"]
[null,null,null,"Tsentralna","SS 330 kV Fastiv"]
[null,null,null,"Tsentralna","SS 330 kV Cherkaska"]
[null,null,null,"Tsentralna","SS 330 kV Chernihivska"]
[null,null,null,"Office of Management","--"]
[null,null,null,"ВП \"Вінницяелектротехнологія\"","--"]
[null,null,null,"ВП \"Укренергосервіс\"","--"]
[null,null,null,"--","--"]