{"text_format":"1","workbook":"xlsx","n_sheets":20,"sheets":["Інструкція","Головна_Summary","План фінансування_Funding plan","Фінансування_Financing (CFI)","Грошові потоки _ Cash flows","Припущення_Assumptions","Дані_каталог","CFO","CFF","Амортизація_Depreciation","Факторн. аналіз_Factor analysis","Ризики проекту_Project risks","Аналіз чутливості_Sensitivity","Тариф ОСП_Tariff","Тарифи ОСР (НКРЕКП)_Tariff","Споживачі_CONSUMER","TenYearsMarket","Строки експлуатації_useful life","Списки","Lists"],"not_rendered":{"charts":5,"images":16,"macros":1,"external_links":93,"defined_names":2934,"comments":4,"pivot_tables":0},"unopened":[],"bounds":{"document_bytes":16777216,"sheet_cells":100000,"rows_first":2000,"rows_last":500,"rows_between":2000,"halvings":0,"cell_chars":16384,"cell_head_chars":4096},"cells_cut":0,"cells_raw":0,"read":"whole","date_system":"1900"}

{"sheet":"Інструкція","index":0,"n_rows":461,"n_cols":2,"rows_kept":461,"cut":false,"hidden":false,"merged":[[459,1,459,5],[460,1,460,20],[235,1,235,6],[290,1,290,5],[291,1,291,20],[270,1,270,20],[236,1,236,20],[146,1,146,18],[421,1,421,20],[420,1,420,5],[387,1,387,20],[0,0,1,4],[4,1,4,15],[3,1,3,3],[77,1,77,18],[76,1,76,3],[39,1,39,15],[38,1,38,3],[145,1,145,3],[205,1,205,20],[269,1,269,4],[386,1,386,5],[204,1,204,4]]}
["ІНСТРУКЦІЯ"]
[]
[]
[null,"1. ГОЛОВНА"]
[null,"Даний аркуш є обов'язковим для заповнення. На даному аркуші відображаються всі ключові параметри інвестиційного проекту, що дозволяють отримати уявлення про його суть, етапи та ефективності.\n"]
[]
[]
[]
[]
[]
[]
[]
[]
[]
[]
[]
[]
[]
[]
[]
[]
[]
[]
[]
[]
[]
[]
[]
[]
[]
[]
[]
[]
[]
[]
[]
[]
[]
[null,"2. ФІНАНСУВАННЯ (CFI)"]
[null,"    Даний аркуш є обов'язковим для заповнення. Показує елементний склад витрат, пов'язаних з реалізацією проекту: \n    - Операційні витрати на реалізацію проекту;\n    - Інвестиції по проекту;\n    - Отримання кредиту;\n    - Заплановані витрати на капітальні ремонти протягом терміну експлуатації;  \n     На аркуші «Фінансування (CFI)» також відображається інформація про розподіл витрат по роках. Дана інформація в автоматичному режимі використовуються на аркушах «Амортизація» та «Грошові потоки»."]
[]
[]
[]
[]
[]
[]
[]
[]
[]
[]
[]
[]
[]
[]
[]
[]
[]
[]
[]
[]
[]
[]
[]
[]
[]
[]
[]
[]
[]
[]
[]
[]
[]
[]
[]
[]
[null,"3. ПЛАН ФІНАНСУВАННЯ"]
[null,"Даний аркуш є обов'язковим для заповнення. аркуш складається з двой таблиць: План фінансування та план освоєння. Мета даного аркуша показати графік реалізації інвестиційного проекту і взаємозв'язок з графіком фінансування / освоєння. Дана інформація повинна відповідати графіку впровадження проекта виконаному в MS Project. Дані по графіку проекту автоматично переносяться на аркуш \"Головна\".\n"]
[]
[]
[]
[]
[]
[]
[]
[]
[]
[]
[]
[]
[]
[]
[]
[]
[]
[]
[]
[]
[]
[]
[]
[]
[]
[]
[]
[]
[]
[]
[]
[]
[]
[]
[]
[]
[]
[]
[]
[]
[]
[]
[]
[]
[]
[]
[]
[]
[]
[]
[]
[]
[]
[]
[]
[]
[]
[]
[]
[]
[]
[]
[]
[]
[]
[]
[]
[null,"4.ГРОШОВІ ПОТОКИ"]
[null,"Даний аркуш є обов'язковим для заповнення. Необхідний для розрахунку дисконтування грошових потоків.  Мета форми - показати розрахунок основних економічних показників проекту. ПРИМІТКА: додавання рядків в цей аркуш не допускається (будуть неправильно працювати формули розрахунку ставок дисконтування)!"]
[]
[]
[]
[]
[]
[]
[]
[]
[]
[]
[]
[]
[]
[]
[]
[]
[]
[]
[]
[]
[]
[]
[]
[]
[]
[]
[]
[]
[]
[]
[]
[]
[]
[]
[]
[]
[]
[]
[]
[]
[]
[]
[]
[]
[]
[]
[]
[]
[]
[]
[]
[]
[]
[]
[]
[]
[]
[null,"5.РОЗРАХУНОК КРЕДИТУ (CFF)"]
[null,"Аркуш використовується для розрахунку кредитних виплат у разі,я кщо джелом фінансування проекту є кредитні кошти. Розрахунки автоматично переносяться на аркуш \"Грошові потоки\" в розділ \"Фінансовий грошовий потік\".  "]
[]
[]
[]
[]
[]
[]
[]
[]
[]
[]
[]
[]
[]
[]
[]
[]
[]
[]
[]
[]
[]
[]
[]
[]
[]
[]
[]
[]
[]
[null,"6.  РОЗРАХУНОК ОПЕРАЦІЙНОГО ГРОШОВОГО ПОТОКУ (CFO)"]
[null,"Два аркуши використовуються для довільних розрахунків автора. На аркуші \"Для розрахунків (CFO)\" є макропрогноз показників, які можливо використовувати для розрахунків. На аркуші CFO перелічені можливі грошові потоки по проектам. Обидва аркуші розраховані на додавання рядків."]
[]
[]
[]
[]
[]
[]
[]
[]
[]
[]
[]
[]
[]
[]
[]
[]
[]
[]
[]
[]
[]
[]
[]
[]
[]
[]
[]
[]
[]
[]
[]
[]
[null,"7.АМОРТИЗАЦІЯ"]
[null,"Мета форми - показати розрахунок амортизаційних відрахувань при введенні в експлуатацію об'єкта інвестицій, бухгалтерську залишкову вартість об'єкта. В інвестиційній формі передбачено використання прямолінійного методу розрахунку амортизації: Згідно Наказу НЕК «Укренерго» №54 від 31.01.2019р. \"Про затвердження Облікової політики за міжнародними стандартами фінансової звітності\", підприємство застосовує прямолінійний метод амортизації.  Значення амортизації вносяться в аркуш «Грошові потоки» автоматично, посиланнями на відповідні осередки аркуша додатка."]
[]
[]
[]
[]
[]
[]
[]
[]
[]
[]
[]
[]
[]
[]
[]
[]
[]
[]
[]
[null,"8. Факторний аналіз "]
[null,"Аркуш призначений для визначення складу NPV, а також для визначення кількісної зміни показників економічної ефективності в результаті зміни кожного чи двох одночасно факторів. "]
[]
[]
[]
[]
[]
[]
[]
[]
[]
[]
[]
[]
[]
[]
[]
[]
[]
[]
[]
[]
[]
[]
[]
[]
[]
[]
[]
[]
[]
[]
[]
[]
[]
[]
[]
[]
[]
[]
[]
[]
[]
[]
[]
[]
[]
[]
[]
[]
[]
[]
[]
[]
[]
[]
[]
[]
[]
[]
[]
[]
[]
[]
[]
[]
[]
[]
[]
[]
[]
[]
[]
[]
[]
[]
[]
[]
[]
[]
[]
[]
[]
[]
[]
[]
[]
[]
[]
[]
[]
[]
[]
[]
[]
[]
[null,"9. РИЗИКИ ПРОЕКТУ"]
[null,"Мета форми - описати основні специфічні ризики проекту, їх вірогідність і заходи, які будуть вжиті для мінімізації ризиків невдачі проекту. В даній формі оцінюються тільки специфічні для даного проекту ризики і пропонуються специфічні для проекту заходи щодо їх мінімізації. Якщо мінімізація загальних ризиків забезпечується наявними на підприємстві звичайними бізнес-процедурами, описувати ці ризики і заходи щодо їх мінімізації в формі не потрібно. Заходи щодо мінімізації ризику розробляються в обов'язковому порядку в разі, якщо ризик оцінюється як «середній» або «високий». Загальна оцінка ризиків розраховується автоматично.\n"]
[]
[]
[]
[]
[]
[]
[]
[]
[]
[]
[]
[]
[]
[]
[]
[]
[]
[]
[]
[]
[]
[]
[]
[]
[]
[]
[]
[]
[]
[]
[]
[]
[null,"10.АНАЛІЗ ЧУТЛИВОСТІ"]
[null,"Мета форми - оцінити чутливість економічних показників проекту до зміни основних параметрів, щодо базового варіанту. Додавання і видалення рядків в цій формі не допускається."]
[]
[]
[]
[]
[]
[]
[]
[]
[]
[]
[]
[]
[]
[]
[]
[]
[]
[]
[]
[]
[]
[]
[]
[]
[]
[]
[]
[]
[]
[]
[]
[]
[]
[]
[]
[]
[]
[null,"11. ТАРИФ "]
[null,"Мета даного аркушу - демонстрація впливу реалізації  проєкту на тариф на передачу електроенергії та на тариф на диспечеризацію. "]

{"sheet":"Головна_Summary","index":1,"n_rows":69,"n_cols":43,"rows_kept":69,"cut":false,"hidden":false,"merged":[[1,0,2,7],[14,2,27,7],[31,6,31,7],[31,19,48,19],[16,19,30,19],[41,6,41,7],[31,2,31,4],[33,2,33,4],[35,2,35,4],[37,2,37,4],[33,12,33,14],[33,16,33,17],[41,16,41,17],[43,12,43,14],[35,16,35,17],[37,12,37,14],[31,10,31,11],[29,2,29,4],[29,6,29,7],[31,12,31,14],[31,16,31,17],[45,12,45,14],[10,2,10,7],[60,2,60,7],[60,12,60,17],[35,6,35,7],[37,6,37,7],[39,6,39,7],[39,2,39,4],[45,2,45,4],[41,10,41,11],[50,10,51,11],[43,16,49,17],[52,10,54,11],[52,2,57,7],[43,6,49,7],[43,2,43,4],[49,12,49,14],[43,10,43,11],[35,12,35,14],[47,12,47,14],[47,2,47,4],[49,2,49,4],[37,16,37,17],[52,12,57,17],[39,12,39,14],[39,16,39,17],[0,32,14,32],[1,10,2,17],[4,33,4,36],[8,12,8,17],[6,33,6,36],[12,12,12,14],[10,33,10,36],[14,12,27,17],[12,33,12,36],[14,33,14,36],[16,32,30,32],[17,33,17,36],[21,33,21,36],[23,33,23,36],[25,33,25,36],[27,20,27,23],[29,16,29,17],[10,12,10,17],[29,12,29,14],[0,19,15,19],[29,10,29,11],[8,10,8,11],[14,26,15,26],[55,32,55,33],[55,40,55,41],[56,36,56,37],[56,38,56,39],[56,32,56,33],[55,36,55,37],[55,38,55,39],[53,36,53,37],[53,38,53,39],[54,36,54,37],[54,38,54,39],[56,40,56,41],[53,40,53,41],[54,32,54,33],[54,40,54,41],[53,23,53,24],[53,25,53,26],[53,27,53,28],[54,27,54,28],[54,23,54,24],[54,25,54,26],[52,19,52,29],[47,21,47,23],[50,19,50,20],[54,19,54,20],[52,32,52,42],[19,20,19,23],[17,26,17,27],[19,26,19,27],[50,34,50,35],[50,32,50,33],[31,32,48,32],[31,34,31,35],[33,34,33,36],[27,33,27,36],[45,21,45,23],[47,34,47,36],[50,21,50,22],[51,19,51,29],[39,34,39,36],[39,21,39,23],[33,21,33,23],[35,21,35,23],[37,21,37,23],[31,21,31,23],[35,34,35,36],[37,34,37,36],[41,34,41,36],[43,34,43,36],[41,21,41,23],[45,34,45,36],[43,21,43,23],[14,1,15,1],[14,10,15,11],[12,10,12,11],[4,2,4,7],[5,1,6,1],[10,10,10,11],[5,10,6,11],[4,12,4,17],[4,10,4,11],[12,2,12,4],[8,2,8,7],[33,6,33,7],[17,20,17,23],[4,20,4,23],[6,20,6,23],[10,20,10,23],[25,20,25,23],[23,20,23,23],[21,20,21,23],[12,20,12,23],[14,20,14,23]]}
["UKR",null,null,null,null,null,null,null,null,null,"ENG",null,null,null,null,null,null,null,null,"ФІНАНССОВІ ВИТРАТИ / FINANCIAL EXPENSES",null,null,null,null,null,null,null,null,null,null,null,null,"FINANCIAL EXPENSES"]
["Будівництво СЕС 10 МВт",null,null,null,null,null,null,null,null,null,"Project name"]
[]
[null,null,null,null,null,null,null,null,null,null,null,null,null,null,null,null,null,null,null,null,null,null,null,null,null,{"$f":"E7","v":2024},null,"Весь період / All period",null,"Валюта / Currency",null,null,null,null,null,null,null,null,{"$f":"O7","v":2024},null,"All period",null,"Currency"]
[null,"Оцінка ефективності з урахуванням:","Погашення тіла кредиту",null,null,null,null,null,null,null,"Efficiency evaluation taking into account:",null,null,null,null,null,null,null,null,null,"Бюджет проекту  / Project budget",null,null,null,null,{"$f":"'Фінансування_Financing (CFI)'!AD8","v":4278.8149935014299},null,{"$f":"'Фінансування_Financing (CFI)'!BH8","v":4278.8149935014299},null,"тис.US$/ ths.US$",null,null,null,"Project budjet",null,null,null,null,3961,null,58132,null,"тис.EUR/ ths.EUR"]
[null,"Терміни реалізації","Місяць",null,"Початок витрат за проєктом",null,"Введення в експлуатацію",null,null,null,"Implementation period",null,"Month",null,"Start of project costs",null,"Commissioning"]
[null,null,5,null,2024,null,2025,null,null,null,null,null,{"$f":"C7","v":5},null,{"$f":"E7","v":2024},null,{"$f":"G7","v":2025},null,null,null,"Бюджет освоєння / Project budget - capitalization",null,null,null,null,{"$f":"'Фінансування_Financing (CFI)'!AD22","v":4278.8149935014299},null,{"$f":"'Фінансування_Financing (CFI)'!BH22","v":4278.8149935014299},null,{"$f":"AD5","v":"тис.US$/ ths.US$"},null,null,null,"Development budget",null,null,null,null,3961,null,58132,null,{"$f":"AQ5","v":"тис.EUR/ ths.EUR"}]
[]
[null,"Вид робіт за проєктом","Нове будівництво",null,null,null,null,null,null,null,"Type of works"]
[]
[null,"Застосовуваний тариф","Інфраструктурний тариф",null,null,null,null,null,{"$f":"IF(Головна_Summary!H13=\"Власні кошти\",1,0)","v":0},null,"Tariff applied",null,null,null,null,null,null,null,{"$f":"IF(Головна_Summary!R13=\"Власні кошти\",1,0)","v":0},null,"Витрати за кредитом /Costs on the loan",null,null,null,null,{"$f":"'Грошові потоки _ Cash flows'!I36","v":213.94074967507152},null,{"$f":"'Грошові потоки _ Cash flows'!AM36","v":1283.6444980504289},null,{"$f":"AD5","v":"тис.US$/ ths.US$"},null,null,null,"Operating costs for implementation",null,null,null,null,{"$f":"'Фінансування_Financing (CFI)'!AP20","v":4278.8149935014299},null,{"$f":"'Фінансування_Financing (CFI)'!BH22","v":4278.8149935014299},null,{"$f":"AQ5","v":"тис.EUR/ ths.EUR"}]
[]
[null,"Поточний стан","Не розпочатий",null,null,null,"Фінансування","Кредитні кошти",null,null,"Current status",null,null,null,null,null,"Financing",null,null,null,"Капітальні ремонти / Capital repairs",null,null,null,null,{"$f":"'Фінансування_Financing (CFI)'!AD35","v":0},null,{"$f":"'Фінансування_Financing (CFI)'!BH35","v":0},null,{"$f":"AD5","v":"тис.US$/ ths.US$"},null,null,null,"Overhaul",null,null,null,null,{"$f":"'Фінансування_Financing (CFI)'!BA35","v":0},null,{"$f":"'Фінансування_Financing (CFI)'!BH35","v":0},null,{"$f":"AQ5","v":"тис.EUR/ ths.EUR"}]
[]
[null,"Обгрунтування необхідності ",null,null,null,null,null,null,null,null,"Necessity of the project",null,null,null,null,null,null,null,null,null,"Безповоротні витрати / Sunk costs",null,null,null,null,0,"Бюджет проєкту з урахуванням безповоротних витрат / Project budget taking into account sunk costs",{"$f":"AB5+Z15","v":4278.8149935014299},null,{"$f":"AD5","v":"тис.US$/ ths.US$"},null,null,null,"Sunk costs",null,null,null,null,null,null,null,null,{"$f":"AQ5","v":"тис.EUR/ ths.EUR"}]
[]
[null,null,null,null,null,null,null,null,null,null,null,null,null,null,null,null,null,null,null,"ЕКОНОМІЧНИЙ ЕФЕКТ / ECONOMIC EFFECT",null,null,null,null,null,null,null,null,null,null,null,null,"ECONOMIC EFFECT"]
[null,null,null,null,null,null,null,null,null,null,null,null,null,null,null,null,null,null,null,null,"Чиста приведена вартість/Net Present Value   (NPV)     ",null,null,null,null,{"$f":"'Грошові потоки _ Cash flows'!K7","v":1479.2847079935079},{"$f":"AD5","v":"тис.US$/ ths.US$"},null,null,null,null,null,null,"Net Present Value  ",null,null,null,null,{"$f":"'Грошові потоки _ Cash flows'!AI7","v":0},null,{"$f":"AQ5","v":"тис.EUR/ ths.EUR"}]
[]
[null,null,null,null,null,null,null,null,null,null,null,null,null,null,null,null,null,null,null,null,"NPV без залишкової вартості / Net Present Value without residual value   ",null,null,null,null,{"$f":"'Грошові потоки _ Cash flows'!K9","v":1479.2847079935079},{"$f":"AA18","v":"тис.US$/ ths.US$"}]
[]
[null,null,null,null,null,null,null,null,null,null,null,null,null,null,null,null,null,null,null,null,"Внутрішня норма доходу/Internal rate of return (IRR)    ",null,null,null,null,{"$f":"'Грошові потоки _ Cash flows'!K13","v":0.3194902936128946},"%",null,null,null,null,null,null,"Internal rate of return",null,null,null,null,{"$f":"IF(H13=\"Кредитні кошти\",\"Не розраховується\",'Грошові потоки _ Cash flows'!K13)","v":"Не розраховується"},"%"]
[]
[null,null,null,null,null,null,null,null,null,null,null,null,null,null,null,null,null,null,null,null,"Окупність інвестицій/Return on investments  (ROI)    ",null,null,null,null,{"$f":"'Грошові потоки _ Cash flows'!K11","v":0.11868912801197984},"%",null,null,null,null,null,null,"Return on investments ",null,null,null,null,{"$f":"'Грошові потоки _ Cash flows'!K11","v":0.11868912801197984},"%"]
[]
[null,null,null,null,null,null,null,null,null,null,null,null,null,null,null,null,null,null,null,null,"Індекс прибутковості/Profitability index (PI)    ",null,null,null,null,{"$f":"'Грошові потоки _ Cash flows'!N7","v":1.5068266306842686},null,null,null,null,null,null,null,"Profitability index",null,null,null,null,{"$f":"'Грошові потоки _ Cash flows'!N7","v":1.5068266306842686}]
[]
[null,null,null,null,null,null,null,null,null,null,null,null,null,null,null,null,null,null,null,null,"Дисконтований термін окупності/Discounted payback period (DPP)    ",null,null,null,null,{"$f":"'Грошові потоки _ Cash flows'!N9","v":90.602256811061238},"міс./months",{"$f":"IFERROR(Z28/12,\"Не окуповується/ Doesn't pay off\")","v":7.5501880675884365},"років/years",null,null,null,null,"Discounted payback period",null,null,null,null,{"$f":"'Грошові потоки _ Cash flows'!N9","v":90.602256811061238},"Month."]
[]
[null,null,"ТУОМ",null,null,null,"Підстанція",null,null,null,null,null,"TONM",null,null,null,"Substation"]
[]
[null,"Територія проведення",null,null,null,null,null,null,null,null,"Location",null,null,null,null,null,null,null,null,"ПЛАН ФІНАНСУВАННЯ / FINANCING PLAN",null,"Етап проєкту / Project phase",null,null,null,"Початок / Start",null,"Кінець / End",null,null,null,null,"FUNDING PLAN",null,"Project phase",null,null,null,"Start",null,"End"]
[]
[null,null,null,null,null,null,null,null,null,null,null,null,null,null,null,null,null,null,null,null,null,{"$f":"'План фінансування_Funding plan'!B10","v":"Етап 1 / Phase 1"},null,null,null,{"$f":"'План фінансування_Funding plan'!E10","v":"2024-06-01"},null,{"$f":"'План фінансування_Funding plan'!G10","v":"2024-12-31"},null,null,null,null,null,null,"Phase 1"]
[]
[null,null,null,null,null,null,null,null,null,null,null,null,null,null,null,null,null,null,null,null,null,null,null,null,null,null,null,null,null,null,null,null,null,null,"Phase 2"]
[]
[null,null,null,null,null,null,null,null,null,null,null,null,null,null,null,null,null,null,null,null,null,null,null,null,null,null,null,null,null,null,null,null,null,null,"Phase 3"]
[]
[null,null,null,null,null,null,null,null,null,null,null,null,null,null,null,null,null,null,null,null,null,null,null,null,null,null,null,null,null,null,null,null,null,null,"Phase 4 "]
[]
[null,null,null,null,null,null,"Факотри отримання техніко-економічного ефекту",null,null,null,null,null,null,null,null,null,"Factors of obtaining technical and economic effect",null,null,null,null,null,null,null,null,null,null,null,null,null,null,null,null,null,"Phase 5"]
[]
[null,"Об'єкт",null,null,null,null,null,null,null,null,"Object",null,null,null,null,null,null,null,null,null,null,null,null,null,null,null,null,null,null,null,null,null,null,null,"Phase 6"]
[]
[null,null,null,null,null,null,null,null,null,null,null,null,null,null,null,null,null,null,null,null,null,null,null,null,null,null,null,null,null,null,null,null,null,null,"Phase 7"]
[]
[null,null,null,null,null,null,null,null,null,null,null,null,null,null,null,null,null,null,null,null,null,null,null,null,null,null,null,null,null,null,null,null,null,null,"Phase 8"]
[]
[]
[null,null,null,null,null,null,null,null,null,null,null,null,null,null,null,null,null,null,null,"Оцінка ризиків / Risk assessment",null,{"$f":"'Ризики проекту_Project risks'!D4","v":"Простий/Simple"},null,null,null,null,null,null,null,null,null,null,"Risk assessment",null,{"$f":"'Ризики проекту_Project risks'!#REF!","v":{"$error":"#REF!"}}]
[null,null,null,null,null,null,null,null,null,null,null,null,null,null,null,null,null,null,null,"Вплив проєкту на кінцеву ціну е/е для споживачів"]
[null,"Опис/склад робіт",null,null,null,null,null,null,null,null,"Description / composition of works",null,null,null,null,null,null,null,null,"The impact of the project on the final price of electricity  for consumers",null,null,null,null,null,null,null,null,null,null,null,null,"The impact of the project on the final price of electricity  for consumers"]
[null,null,null,null,null,null,null,null,null,null,null,null,null,null,null,null,null,null,null,null,null,{"$f":"'Тариф ОСП_Tariff'!G6","v":2024},{"$f":"V54+1","v":2025},{"$f":"W54+1","v":2026},null,{"$f":"X54+1","v":2027},null,{"$f":"Z54+1","v":2028},null,{"$f":"AB54+1","v":2029},null,null,null,null,2020,2021,2022,null,2023,null,2024,null,2025]
[null,null,null,null,null,null,null,null,null,null,null,null,null,null,null,null,null,null,null,"Тариф ОСП / TSO tariff",null,{"$f":"1-('Тариф ОСП_Tariff'!H38+'Тариф ОСП_Tariff'!G38)/('Тариф ОСП_Tariff'!H39+'Тариф ОСП_Tariff'!G39)","v":1.2693885752512735E-4},{"$f":"1-('Тариф ОСП_Tariff'!K38+'Тариф ОСП_Tariff'!J38)/('Тариф ОСП_Tariff'!K39+'Тариф ОСП_Tariff'!J39)","v":7.560845374677827E-4},{"$f":"1-('Тариф ОСП_Tariff'!N38+'Тариф ОСП_Tariff'!M38)/('Тариф ОСП_Tariff'!N39+'Тариф ОСП_Tariff'!M39)","v":7.130387098217561E-4},null,{"$f":"1-('Тариф ОСП_Tariff'!Q38+'Тариф ОСП_Tariff'!P38)/('Тариф ОСП_Tariff'!Q39+'Тариф ОСП_Tariff'!P39)","v":6.6145359445757279E-4},null,{"$f":"1-('Тариф ОСП_Tariff'!T38+'Тариф ОСП_Tariff'!S38)/('Тариф ОСП_Tariff'!T39+'Тариф ОСП_Tariff'!S39)","v":6.0743495413595472E-4},null,{"$f":"1-('Тариф ОСП_Tariff'!W38+'Тариф ОСП_Tariff'!V38)/('Тариф ОСП_Tariff'!W39+'Тариф ОСП_Tariff'!V39)","v":3.0877632095149821E-4},null,null,"TSO Consumers",null,{"$f":"Споживачі_CONSUMER!AK43","v":0},{"$f":"Споживачі_CONSUMER!AL43","v":0},{"$f":"Споживачі_CONSUMER!AM43","v":0},null,{"$f":"Споживачі_CONSUMER!AN43","v":0},null,{"$f":"Споживачі_CONSUMER!AO43","v":0},null,{"$f":"Споживачі_CONSUMER!AP43","v":0}]
[null,null,null,null,null,null,null,null,null,null,null,null,null,null,null,null,null,null,null,null,null,null,null,null,null,null,null,null,null,null,null,null,"1st class MSO Consumers",null,{"$f":"Споживачі_CONSUMER!AK44","v":0},{"$f":"Споживачі_CONSUMER!AL44","v":0},{"$f":"Споживачі_CONSUMER!AM44","v":0},null,{"$f":"Споживачі_CONSUMER!AN44","v":0},null,{"$f":"Споживачі_CONSUMER!AO44","v":0},null,{"$f":"Споживачі_CONSUMER!AP44","v":0}]
[null,null,null,null,null,null,null,null,null,null,null,null,null,null,null,null,null,null,null,null,null,null,null,null,null,null,null,null,null,null,null,null,"2nd class MSO Consumers",null,{"$f":"Споживачі_CONSUMER!AK45","v":0},{"$f":"Споживачі_CONSUMER!AL45","v":0},{"$f":"Споживачі_CONSUMER!AM45","v":0},null,{"$f":"Споживачі_CONSUMER!AN45","v":0},null,{"$f":"Споживачі_CONSUMER!AO45","v":0},null,{"$f":"Споживачі_CONSUMER!AP45","v":0}]
[]
[]
[]
[]
[null,null,null,null,null,null,null,null,null,null,null,null,null,null,null,{"$f":"'План фінансування_Funding plan'!E10","v":"2024-06-01"},null,{"$f":"'План фінансування_Funding plan'!G10","v":"2024-12-31"}]
[null,null,null,null,null,null,null,null,null,null,null,null,null,null,null,{"$f":"'План фінансування_Funding plan'!E16","v":""},null,{"$f":"'План фінансування_Funding plan'!G16","v":""}]
[null,null,null,null,null,null,null,null,null,null,null,null,null,null,null,{"$f":"'План фінансування_Funding plan'!E20","v":""},null,{"$f":"'План фінансування_Funding plan'!G20","v":""}]
[null,null,null,null,null,null,null,null,null,null,null,null,null,null,null,{"$f":"'План фінансування_Funding plan'!E25","v":""},null,{"$f":"'План фінансування_Funding plan'!G25","v":""}]
[null,null,null,null,null,null,null,null,null,null,null,null,null,null,null,{"$f":"'План фінансування_Funding plan'!E30","v":""},null,{"$f":"'План фінансування_Funding plan'!G30","v":""}]
[null,null,null,null,null,null,null,null,null,null,null,null,null,null,null,{"$f":"'План фінансування_Funding plan'!E35","v":""},null,{"$f":"'План фінансування_Funding plan'!G35","v":""}]
[null,null,null,null,null,null,null,null,null,null,null,null,null,null,null,{"$f":"'План фінансування_Funding plan'!E40","v":""},null,{"$f":"'План фінансування_Funding plan'!G40","v":""}]
[null,null,null,null,null,null,null,null,null,null,null,null,null,null,null,{"$f":"'План фінансування_Funding plan'!E45","v":""},null,{"$f":"'План фінансування_Funding plan'!G45","v":""}]

{"sheet":"План фінансування_Funding plan","index":2,"n_rows":99,"n_cols":60,"rows_kept":99,"cut":false,"hidden":false,"merged":[[1,1,2,1],[2,63,3,63],[2,65,3,65],[16,64,17,64],[16,65,17,65],[13,64,14,64],[16,68,17,68],[2,66,3,66],[2,67,3,67],[2,68,3,68],[13,66,14,66],[13,67,14,67],[13,68,14,68],[13,65,14,65],[4,1,7,1],[54,1,56,1],[16,66,17,66],[16,67,17,67]]}
[null,null,null,null,null,null,null,null,null,null,null,null,null,null,null,null,null,null,null,null,{"$f":"'Грошові потоки _ Cash flows'!$G$7","v":2024},null,null,null,null,null,null,null,null,null,null,null,null,{"$f":"U1+1","v":2025},null,null,null,null,null,null,null,null,null,null,null,null,{"$f":"AH1+1","v":2026},null,null,null,null,null,null,null,null,null,null,null,null,{"$f":"AU1+1","v":2027}]
[null,"ПЛАН ФІНАНСУВАННЯ / FUNDING PLAN",{"$f":"CONCATENATE(Головна_Summary!A2,\" / \",Головна_Summary!K2)","v":"Будівництво СЕС 10 МВт / Project name"}]
[null,null,{"$f":"CONCATENATE(Головна_Summary!G13,\"/\",Головна_Summary!Q13)","v":"Фінансування/Financing"},{"$f":"CONCATENATE(Головна_Summary!H13,\"/\",Головна_Summary!R13)","v":"Кредитні кошти/"},null,"Кредитні кошти/Loans",null,{"$f":"Головна_Summary!AD5","v":"тис.US$/ ths.US$"},null,null,null,null,null,null,null,null,null,null,null,null,{"$f":"H3","v":"тис.US$/ ths.US$"},null,null,null,null,null,null,null,null,null,null,null,null,{"$f":"H3","v":"тис.US$/ ths.US$"},null,null,null,null,null,null,null,null,null,null,null,null,{"$f":"H3","v":"тис.US$/ ths.US$"},null,null,null,null,null,null,null,null,null,null,null,null,{"$f":"H3","v":"тис.US$/ ths.US$"}]
[null,"Етап / Phase","Відповідальний / Responsible","Джерело фінансування/Source of financing","Початок / Start","Тривалість / Duration","Кінець / End","Сума за весь період / Whole period amount",{"$f":"DATE(Головна_Summary!$E$7,1,1)","v":"2024-01-01"},{"$f":"DATE(Головна_Summary!$E$7,2,1)","v":"2024-02-01"},{"$f":"DATE(Головна_Summary!$E$7,3,1)","v":"2024-03-01"},{"$f":"DATE(Головна_Summary!$E$7,4,1)","v":"2024-04-01"},{"$f":"DATE(Головна_Summary!$E$7,5,1)","v":"2024-05-01"},{"$f":"DATE(Головна_Summary!$E$7,6,1)","v":"2024-06-01"},{"$f":"DATE(Головна_Summary!$E$7,7,1)","v":"2024-07-01"},{"$f":"DATE(Головна_Summary!$E$7,8,1)","v":"2024-08-01"},{"$f":"DATE(Головна_Summary!$E$7,9,1)","v":"2024-09-01"},{"$f":"DATE(Головна_Summary!$E$7,10,1)","v":"2024-10-01"},{"$f":"DATE(Головна_Summary!$E$7,11,1)","v":"2024-11-01"},{"$f":"DATE(Головна_Summary!$E$7,12,1)","v":"2024-12-01"},{"$f":"CONCATENATE(\"Всього за \", \"/ overall during \",  'Грошові потоки _ Cash flows'!$G$7, \" рік\")","v":"Всього за / overall during 2024 рік"},{"$f":"DATE(Головна_Summary!$E$7+1,1,1)","v":"2025-01-01"},{"$f":"DATE(Головна_Summary!$E$7+1,2,1)","v":"2025-02-01"},{"$f":"DATE(Головна_Summary!$E$7+1,3,1)","v":"2025-03-01"},{"$f":"DATE(Головна_Summary!$E$7+1,4,1)","v":"2025-04-01"},{"$f":"DATE(Головна_Summary!$E$7+1,5,1)","v":"2025-05-01"},{"$f":"DATE(Головна_Summary!$E$7+1,6,1)","v":"2025-06-01"},{"$f":"DATE(Головна_Summary!$E$7+1,7,1)","v":"2025-07-01"},{"$f":"DATE(Головна_Summary!$E$7+1,8,1)","v":"2025-08-01"},{"$f":"DATE(Головна_Summary!$E$7+1,9,1)","v":"2025-09-01"},{"$f":"DATE(Головна_Summary!$E$7+1,10,1)","v":"2025-10-01"},{"$f":"DATE(Головна_Summary!$E$7+1,11,1)","v":"2025-11-01"},{"$f":"DATE(Головна_Summary!$E$7+1,12,1)","v":"2025-12-01"},{"$f":"CONCATENATE(\"Всього за \", \"/ overall during\", 'Грошові потоки _ Cash flows'!$G$7+1, \" рік\")","v":"Всього за / overall during2025 рік"},{"$f":"DATE(Головна_Summary!E7+2,1,1)","v":"2026-01-01"},{"$f":"DATE(Головна_Summary!$E$7+2,2,1)","v":"2026-02-01"},{"$f":"DATE(Головна_Summary!$E$7+2,3,1)","v":"2026-03-01"},{"$f":"DATE(Головна_Summary!$E$7+2,4,1)","v":"2026-04-01"},{"$f":"DATE(Головна_Summary!$E$7+2,5,1)","v":"2026-05-01"},{"$f":"DATE(Головна_Summary!$E$7+2,6,1)","v":"2026-06-01"},{"$f":"DATE(Головна_Summary!$E$7+2,7,1)","v":"2026-07-01"},{"$f":"DATE(Головна_Summary!$E$7+2,8,1)","v":"2026-08-01"},{"$f":"DATE(Головна_Summary!$E$7+2,9,1)","v":"2026-09-01"},{"$f":"DATE(Головна_Summary!$E$7+2,10,1)","v":"2026-10-01"},{"$f":"DATE(Головна_Summary!$E$7+2,11,1)","v":"2026-11-01"},{"$f":"DATE(Головна_Summary!$E$7+2,12,1)","v":"2026-12-01"},{"$f":"CONCATENATE(\"Всього за \", \"/ overall during\",   'Грошові потоки _ Cash flows'!$G$7+2, \" рік\")","v":"Всього за / overall during2026 рік"},{"$f":"DATE(Головна_Summary!$E$7+3,1,1)","v":"2027-01-01"},{"$f":"DATE(Головна_Summary!$E$7+3,2,1)","v":"2027-02-01"},{"$f":"DATE(Головна_Summary!$E$7+3,3,1)","v":"2027-03-01"},{"$f":"DATE(Головна_Summary!$E$7+3,4,1)","v":"2027-04-01"},{"$f":"DATE(Головна_Summary!$E$7+3,5,1)","v":"2027-05-01"},{"$f":"DATE(Головна_Summary!$E$7+3,6,1)","v":"2027-06-01"},{"$f":"DATE(Головна_Summary!$E$7+3,7,1)","v":"2027-07-01"},{"$f":"DATE(Головна_Summary!$E$7+3,8,1)","v":"2027-08-01"},{"$f":"DATE(Головна_Summary!$E$7+3,9,1)","v":"2027-09-01"},{"$f":"DATE(Головна_Summary!$E$7+3,10,1)","v":"2027-10-01"},{"$f":"DATE(Головна_Summary!$E$7+3,11,1)","v":"2027-11-01"},{"$f":"DATE(Головна_Summary!$E$7+3,12,1)","v":"2027-12-01"},{"$f":"CONCATENATE(\"Всього за \", \"/ overall during\",  'Грошові потоки _ Cash flows'!$G$7+3, \" рік\")","v":"Всього за / overall during2027 рік"}]
[null,"Фінансування проєкту всього/  Finansing total ",null,"Всього/Total",{"$f":"IF(SUM(E10,E16,E20,E25,E30,E35,E40,E45)=0,\"\",MIN(E10,E16,E20,E25,E30,E35,E40,E45))","v":"2024-06-01"},{"$f":"IFERROR(NETWORKDAYS(E5,G5,0),\"\")","v":152},{"$f":"IF(SUM(G10,G16,G20,G25,G30,G35,G40,G45)=0,\"\",MAX(G10,G16,G20,G25,G30,G35,G40,G45))","v":"2024-12-31"},{"$f":"H6+H7+H8","v":4278.8149935014299},{"$f":"I6+I7+I8","v":0},{"$f":"J6+J7+J8","v":0},0,0,0,0,4278.8149935014299,0,0,0,0,0,4278.8149935014299,0,0,0,0,0,0,0,0,0,0,0,0,0,0,0,0,0,0,0,0,0,0,0,0,0,0,0,0,0,0,0,0,0,0,0,0,0,0,0]
[null,null,null,"Кредитні кошти/Loans",null,{"$f":"NETWORKDAYS(E6,G6,0)","v":0},null,{"$f":"U6+AH6+AU6+BH6","v":4278.8149935014299},{"$f":"SUMIF($D$10:$D$49,$D$6,I10:I49)","v":0},{"$f":"SUMIF($D$10:$D$49,$D$6,J10:J49)","v":0},0,0,0,0,4278.8149935014299,0,0,0,0,0,4278.8149935014299,0,0,0,0,0,0,0,0,0,0,0,0,0,0,0,0,0,0,0,0,0,0,0,0,0,0,0,0,0,0,0,0,0,0,0,0,0,0,0]
[null,null,null,"Власні кошти/ Own funds",null,{"$f":"NETWORKDAYS(E7,G7,0)","v":0},null,{"$f":"U7+AH7+AU7+BH7","v":0},{"$f":"SUMIF($D$10:$D$49,$D$7,I10:I49)","v":0},{"$f":"SUMIF($D$10:$D$49,$D$7,J10:J49)","v":0},0,0,0,0,0,0,0,0,0,0,0,0,0,0,0,0,0,0,0,0,0,0,0,0,0,0,0,0,0,0,0,0,0,0,0,0,0,0,0,0,0,0,0,0,0,0,0,0,0,0]
[null,null,null,"Грантові/Grant funds",null,{"$f":"NETWORKDAYS(E8,G8,0)","v":0},null,{"$f":"U8+AH8+AU8+BH8","v":0},{"$f":"SUMIF($D$10:$D$49,$D$8,I10:I49)","v":0},{"$f":"SUMIF($D$10:$D$49,$D$8,J10:J49)","v":0},0,0,0,0,0,0,0,0,0,0,0,0,0,0,0,0,0,0,0,0,0,0,0,0,0,0,0,0,0,0,0,0,0,0,0,0,0,0,0,0,0,0,0,0,0,0,0,0,0,0]
[null,"Проверка",null,null,null,null,null,null,{"$f":"I10+I16+I20+I25+I30+I35+I40+I45","v":0},{"$f":"J10+J16+J20+J25+J30+J35+J40+J45","v":0},0,0,0,0,4278.8149935014299,0,0,0,0,0,4278.8149935014299,0,0,0,0,0,0,0,0,0,0,0,0,0,0,0,0,0,0,0,0,0,0,0,0,0,0,0,0,0,0,0,0,0,0,0,0,0,0,0]
[null,"Етап 1 / Phase 1",null,null,{"$f":"IF(SUM(E11:E15)=0,\"\",MIN(E11:E15))","v":"2024-06-01"},{"$f":"IFERROR(NETWORKDAYS(E10,G10,0),\"\")","v":152},{"$f":"IF(SUM(G11:G15)=0,\"\",MAX(G11:G15))","v":"2024-12-31"},{"$f":"U10+AH10+AU10+BH10","v":4278.8149935014299},{"$f":"SUM(I11:I15)","v":0},{"$f":"SUM(J11:J15)","v":0},0,0,0,0,4278.8149935014299,0,0,0,0,0,{"$f":"SUM(I10:T10)","v":4278.8149935014299},{"$f":"SUM(V11:V15)","v":0},{"$f":"SUM(W11:W15)","v":0},0,0,0,0,0,0,0,0,0,0,{"$f":"SUM(V10:AG10)","v":0},{"$f":"SUM(AI11:AI15)","v":0},{"$f":"SUM(AJ11:AJ15)","v":0},0,0,0,0,0,0,0,0,0,0,{"$f":"SUM(AI10:AT10)","v":0},{"$f":"SUM(AV11:AV15)","v":0},{"$f":"SUM(AW11:AW15)","v":0},0,0,0,0,0,0,0,0,0,0,{"$f":"SUM(AV10:BG10)","v":0}]
[null,"Операція 1/ Operation 1",null,"Кредитні кошти/Loans","2024-06-01",{"$f":"NETWORKDAYS(E11,G11,0)","v":152},"2024-12-31",{"$f":"U11+AH11+AU11+BH11","v":4278.8149935014299},null,null,null,null,null,null,{"$f":"Припущення_Assumptions!G18","v":4278.8149935014299},null,null,null,null,null,{"$f":"SUM(I11:T11)","v":4278.8149935014299},null,null,null,null,null,null,null,null,null,null,null,null,0,null,null,null,null,null,null,null,null,null,null,null,null,0,null,null,null,null,null,null,null,null,null,null,null,null,0]
[null,"Операція 2/ Operation 2",null,null,null,0,null,0,null,null,null,null,null,null,null,null,null,null,null,null,{"$f":"SUM(I12:T12)","v":0},null,null,null,null,null,null,null,null,null,null,null,null,0,null,null,null,null,null,null,null,null,null,null,null,null,0,null,null,null,null,null,null,null,null,null,null,null,null,0]
[null,"Операція 3/ Operation 3",null,null,null,0,null,0,null,null,null,null,null,null,null,null,null,null,null,null,{"$f":"SUM(I13:T13)","v":0},null,null,null,null,null,null,null,null,null,null,null,null,0,null,null,null,null,null,null,null,null,null,null,null,null,0,null,null,null,null,null,null,null,null,null,null,null,null,0]
[null,"Операція 4/ Operation 4",null,null,null,0,null,0,null,null,null,null,null,null,null,null,null,null,null,null,0,null,null,null,null,null,null,null,null,null,null,null,null,0,null,null,null,null,null,null,null,null,null,null,null,null,0,null,null,null,null,null,null,null,null,null,null,null,null,0]
[null,"Операція 5/ Operation 5",null,null,null,{"$f":"NETWORKDAYS(E15,G15,0)","v":0},null,0,null,null,null,null,null,null,null,null,null,null,null,null,0,null,null,null,null,null,null,null,null,null,null,null,null,0,null,null,null,null,null,null,null,null,null,null,null,null,0,null,null,null,null,null,null,null,null,null,null,null,null,0]
[null,"Етап 2 / Phase 2",null,null,{"$f":"IF(SUM(E17:E19)=0,\"\",MIN(E17:E19))","v":""},{"$f":"IFERROR(NETWORKDAYS(E16,G16,0),\"\")","v":""},{"$f":"IF(SUM(G17:G19)=0,\"\",MAX(G17:G19))","v":""},0,{"$f":"SUM(I17:I19)","v":0},{"$f":"SUM(J17:J19)","v":0},0,0,0,0,0,0,0,0,0,0,0,{"$f":"SUM(V17:V19)","v":0},{"$f":"SUM(W17:W19)","v":0},0,0,0,0,0,0,0,0,0,0,0,0,{"$f":"SUM(AJ17:AJ19)","v":0},{"$f":"SUM(AK17:AK19)","v":0},{"$f":"SUM(AL17:AL19)","v":0},{"$f":"SUM(AM17:AM19)","v":0},{"$f":"SUM(AN17:AN19)","v":0},{"$f":"SUM(AO17:AO19)","v":0},{"$f":"SUM(AP17:AP19)","v":0},{"$f":"SUM(AQ17:AQ19)","v":0},{"$f":"SUM(AR17:AR19)","v":0},{"$f":"SUM(AS17:AS19)","v":0},{"$f":"SUM(AT17:AT19)","v":0},0,{"$f":"SUM(AV17:AV19)","v":0},{"$f":"SUM(AW17:AW19)","v":0},0,0,0,0,0,0,0,0,0,0,0]
[null,"Операція 1/ Operation 1",null,null,null,{"$f":"NETWORKDAYS(E17,G17,0)","v":0},null,0,null,null,null,null,null,null,null,null,null,null,null,null,0,null,null,null,null,null,null,null,null,null,null,null,null,0,null,null,null,null,null,null,null,null,null,null,null,null,0,null,null,null,null,null,null,null,null,null,null,null,null,0]
[null,"Операція 2/ Operation 2",null,null,null,0,null,0,null,null,null,null,null,null,null,null,null,null,null,null,0,null,null,null,null,null,null,null,null,null,null,null,null,0,null,null,null,null,null,null,null,null,null,null,null,null,0,null,null,null,null,null,null,null,null,null,null,null,null,0]
[null,"Операція 3/ Operation 3",null,null,null,0,null,0,null,null,null,null,null,null,null,null,null,null,null,null,0,null,null,null,null,null,null,null,null,null,null,null,null,0,null,null,null,null,null,null,null,null,null,null,null,null,0,null,null,null,null,null,null,null,null,null,null,null,null,0]
[null,"Етап 3 / Phase 3",null,null,{"$f":"IF(SUM(E21:E24)=0,\"\",MIN(E21:E24))","v":""},{"$f":"IFERROR(NETWORKDAYS(E20,G20,0),\"\")","v":""},{"$f":"IF(SUM(G21:G24)=0,\"\",MAX(G21:G24))","v":""},0,{"$f":"SUM(I21:I24)","v":0},{"$f":"SUM(J21:J24)","v":0},0,0,0,0,0,0,0,0,0,0,0,{"$f":"SUM(V21:V24)","v":0},{"$f":"SUM(W21:W24)","v":0},0,0,0,0,0,0,0,0,0,0,0,0,{"$f":"SUM(AJ21:AJ24)","v":0},{"$f":"SUM(AK21:AK24)","v":0},{"$f":"SUM(AL21:AL24)","v":0},{"$f":"SUM(AM21:AM24)","v":0},{"$f":"SUM(AN21:AN24)","v":0},{"$f":"SUM(AO21:AO24)","v":0},{"$f":"SUM(AP21:AP24)","v":0},{"$f":"SUM(AQ21:AQ24)","v":0},{"$f":"SUM(AR21:AR24)","v":0},{"$f":"SUM(AS21:AS24)","v":0},{"$f":"SUM(AT21:AT24)","v":0},0,0,{"$f":"SUM(AW21:AW24)","v":0},{"$f":"SUM(AX21:AX24)","v":0},{"$f":"SUM(AY21:AY24)","v":0},{"$f":"SUM(AZ21:AZ24)","v":0},{"$f":"SUM(BA21:BA24)","v":0},{"$f":"SUM(BB21:BB24)","v":0},{"$f":"SUM(BC21:BC24)","v":0},{"$f":"SUM(BD21:BD24)","v":0},{"$f":"SUM(BE21:BE24)","v":0},{"$f":"SUM(BF21:BF24)","v":0},{"$f":"SUM(BG21:BG24)","v":0},0]
[null,"Операція 1/ Operation 1",null,null,null,{"$f":"NETWORKDAYS(E21,G21,0)","v":0},null,0,null,null,null,null,null,null,null,null,null,null,null,null,0,null,null,null,null,null,null,null,null,null,null,null,null,0,null,null,null,null,null,null,null,null,null,null,null,null,0,null,null,null,null,null,null,null,null,null,null,null,null,0]
[null,"Операція 2/ Operation 2",null,null,null,0,null,0,null,null,null,null,null,null,null,null,null,null,null,null,0,null,null,null,null,null,null,null,null,null,null,null,null,0,null,null,null,null,null,null,null,null,null,null,null,null,0,null,null,null,null,null,null,null,null,null,null,null,null,0]
[null,"Операція 3/ Operation 3",null,null,null,0,null,0,null,null,null,null,null,null,null,null,null,null,null,null,0,null,null,null,null,null,null,null,null,null,null,null,null,0,null,null,null,null,null,null,null,null,null,null,null,null,0,null,null,null,null,null,null,null,null,null,null,null,null,0]
[null,"Операція 4/ Operation 4",null,null,null,0,null,0,null,null,null,null,null,null,null,null,null,null,null,null,0,null,null,null,null,null,null,null,null,null,null,null,null,0,null,null,null,null,null,null,null,null,null,null,null,null,0,null,null,null,null,null,null,null,null,null,null,null,null,0]
[null,"Етап 4 / Phase 4",null,null,{"$f":"IF(SUM(E26:E29)=0,\"\",MIN(E26:E29))","v":""},{"$f":"IFERROR(NETWORKDAYS(E25,G25,0),\"\")","v":""},{"$f":"IF(SUM(G26:G29)=0,\"\",MAX(G26:G29))","v":""},0,{"$f":"SUM(I26:I29)","v":0},{"$f":"SUM(J26:J29)","v":0},0,0,0,0,0,0,0,0,0,0,0,0,{"$f":"SUM(W26:W29)","v":0},{"$f":"SUM(X26:X29)","v":0},{"$f":"SUM(Y26:Y29)","v":0},{"$f":"SUM(Z26:Z29)","v":0},{"$f":"SUM(AA26:AA29)","v":0},{"$f":"SUM(AB26:AB29)","v":0},{"$f":"SUM(AC26:AC29)","v":0},{"$f":"SUM(AD26:AD29)","v":0},{"$f":"SUM(AE26:AE29)","v":0},{"$f":"SUM(AF26:AF29)","v":0},{"$f":"SUM(AG26:AG29)","v":0},0,0,{"$f":"SUM(AJ26:AJ29)","v":0},{"$f":"SUM(AK26:AK29)","v":0},{"$f":"SUM(AL26:AL29)","v":0},{"$f":"SUM(AM26:AM29)","v":0},{"$f":"SUM(AN26:AN29)","v":0},{"$f":"SUM(AO26:AO29)","v":0},{"$f":"SUM(AP26:AP29)","v":0},{"$f":"SUM(AQ26:AQ29)","v":0},{"$f":"SUM(AR26:AR29)","v":0},{"$f":"SUM(AS26:AS29)","v":0},{"$f":"SUM(AT26:AT29)","v":0},0,0,{"$f":"SUM(AW26:AW29)","v":0},{"$f":"SUM(AX26:AX29)","v":0},{"$f":"SUM(AY26:AY29)","v":0},{"$f":"SUM(AZ26:AZ29)","v":0},{"$f":"SUM(BA26:BA29)","v":0},{"$f":"SUM(BB26:BB29)","v":0},{"$f":"SUM(BC26:BC29)","v":0},{"$f":"SUM(BD26:BD29)","v":0},{"$f":"SUM(BE26:BE29)","v":0},{"$f":"SUM(BF26:BF29)","v":0},{"$f":"SUM(BG26:BG29)","v":0},0]
[null,"Операція 1/ Operation 1",null,null,null,{"$f":"NETWORKDAYS(E26,G26,0)","v":0},null,0,null,null,null,null,null,null,null,null,null,null,null,null,0,null,null,null,null,null,null,null,null,null,null,null,null,0,null,null,null,null,null,null,null,null,null,null,null,null,0,null,null,null,null,null,null,null,null,null,null,null,null,0]
[null,"Операція 2/ Operation 2",null,null,null,0,null,0,null,null,null,null,null,null,null,null,null,null,null,null,0,null,null,null,null,null,null,null,null,null,null,null,null,0,null,null,null,null,null,null,null,null,null,null,null,null,0,null,null,null,null,null,null,null,null,null,null,null,null,0]
[null,"Операція 3/ Operation 3",null,null,null,0,null,0,null,null,null,null,null,null,null,null,null,null,null,null,0,null,null,null,null,null,null,null,null,null,null,null,null,0,null,null,null,null,null,null,null,null,null,null,null,null,0,null,null,null,null,null,null,null,null,null,null,null,null,0]
[null,"Операція 4/ Operation 4",null,null,null,0,null,0,null,null,null,null,null,null,null,null,null,null,null,null,0,null,null,null,null,null,null,null,null,null,null,null,null,0,null,null,null,null,null,null,null,null,null,null,null,null,0,null,null,null,null,null,null,null,null,null,null,null,null,0]
[null,"Етап 5 / Phase 5",null,null,{"$f":"IF(SUM(E31:E34)=0,\"\",MIN(E31:E34))","v":""},{"$f":"IFERROR(NETWORKDAYS(E30,G30,0),\"\")","v":""},{"$f":"IF(SUM(G31:G34)=0,\"\",MAX(G31:G34))","v":""},0,{"$f":"SUM(I31:I34)","v":0},{"$f":"SUM(J31:J34)","v":0},0,0,0,0,0,0,0,0,0,0,0,{"$f":"SUM(V31:V34)","v":0},{"$f":"SUM(W31:W34)","v":0},0,0,0,0,0,0,0,0,0,0,0,0,{"$f":"SUM(AJ31:AJ34)","v":0},{"$f":"SUM(AK31:AK34)","v":0},{"$f":"SUM(AL31:AL34)","v":0},{"$f":"SUM(AM31:AM34)","v":0},{"$f":"SUM(AN31:AN34)","v":0},{"$f":"SUM(AO31:AO34)","v":0},{"$f":"SUM(AP31:AP34)","v":0},{"$f":"SUM(AQ31:AQ34)","v":0},{"$f":"SUM(AR31:AR34)","v":0},{"$f":"SUM(AS31:AS34)","v":0},{"$f":"SUM(AT31:AT34)","v":0},0,0,{"$f":"SUM(AW31:AW34)","v":0},{"$f":"SUM(AX31:AX34)","v":0},{"$f":"SUM(AY31:AY34)","v":0},{"$f":"SUM(AZ31:AZ34)","v":0},{"$f":"SUM(BA31:BA34)","v":0},{"$f":"SUM(BB31:BB34)","v":0},{"$f":"SUM(BC31:BC34)","v":0},{"$f":"SUM(BD31:BD34)","v":0},{"$f":"SUM(BE31:BE34)","v":0},{"$f":"SUM(BF31:BF34)","v":0},{"$f":"SUM(BG31:BG34)","v":0},0]
[null,"Операція 1/ Operation 1",null,null,null,{"$f":"NETWORKDAYS(E31,G31,0)","v":0},null,0,null,null,null,null,null,null,null,null,null,null,null,null,0,null,null,null,null,null,null,null,null,null,null,null,null,0,null,null,null,null,null,null,null,null,null,null,null,null,0,null,null,null,null,null,null,null,null,null,null,null,null,0]
[null,"Операція 2/ Operation 2",null,null,null,0,null,0,null,null,null,null,null,null,null,null,null,null,null,null,0,null,null,null,null,null,null,null,null,null,null,null,null,0,null,null,null,null,null,null,null,null,null,null,null,null,0,null,null,null,null,null,null,null,null,null,null,null,null,0]
[null,"Операція 3/ Operation 3",null,null,null,0,null,0,null,null,null,null,null,null,null,null,null,null,null,null,0,null,null,null,null,null,null,null,null,null,null,null,null,0,null,null,null,null,null,null,null,null,null,null,null,null,0,null,null,null,null,null,null,null,null,null,null,null,null,0]
[null,"Операція 4/ Operation 4",null,null,null,0,null,0,null,null,null,null,null,null,null,null,null,null,null,null,0,null,null,null,null,null,null,null,null,null,null,null,null,0,null,null,null,null,null,null,null,null,null,null,null,null,0,null,null,null,null,null,null,null,null,null,null,null,null,0]
[null,"Етап 6 / Phase 6",null,null,{"$f":"IF(SUM(E36:E39)=0,\"\",MIN(E36:E39))","v":""},{"$f":"IFERROR(NETWORKDAYS(E35,G35,0),\"\")","v":""},{"$f":"IF(SUM(G36:G39)=0,\"\",MAX(G36:G39))","v":""},0,{"$f":"SUM(I36:I39)","v":0},{"$f":"SUM(J36:J39)","v":0},0,0,0,0,0,0,0,0,0,0,0,0,{"$f":"SUM(W36:W39)","v":0},{"$f":"SUM(X36:X39)","v":0},{"$f":"SUM(Y36:Y39)","v":0},{"$f":"SUM(Z36:Z39)","v":0},{"$f":"SUM(AA36:AA39)","v":0},{"$f":"SUM(AB36:AB39)","v":0},{"$f":"SUM(AC36:AC39)","v":0},{"$f":"SUM(AD36:AD39)","v":0},{"$f":"SUM(AE36:AE39)","v":0},{"$f":"SUM(AF36:AF39)","v":0},{"$f":"SUM(AG36:AG39)","v":0},0,0,{"$f":"SUM(AJ36:AJ39)","v":0},{"$f":"SUM(AK36:AK39)","v":0},{"$f":"SUM(AL36:AL39)","v":0},{"$f":"SUM(AM36:AM39)","v":0},{"$f":"SUM(AN36:AN39)","v":0},{"$f":"SUM(AO36:AO39)","v":0},{"$f":"SUM(AP36:AP39)","v":0},{"$f":"SUM(AQ36:AQ39)","v":0},{"$f":"SUM(AR36:AR39)","v":0},{"$f":"SUM(AS36:AS39)","v":0},{"$f":"SUM(AT36:AT39)","v":0},0,0,{"$f":"SUM(AW36:AW39)","v":0},{"$f":"SUM(AX36:AX39)","v":0},{"$f":"SUM(AY36:AY39)","v":0},{"$f":"SUM(AZ36:AZ39)","v":0},{"$f":"SUM(BA36:BA39)","v":0},{"$f":"SUM(BB36:BB39)","v":0},{"$f":"SUM(BC36:BC39)","v":0},{"$f":"SUM(BD36:BD39)","v":0},{"$f":"SUM(BE36:BE39)","v":0},{"$f":"SUM(BF36:BF39)","v":0},{"$f":"SUM(BG36:BG39)","v":0},0]
[null,"Операція 1/ Operation 1",null,null,null,{"$f":"NETWORKDAYS(E36,G36,0)","v":0},null,0,null,null,null,null,null,null,null,null,null,null,null,null,{"$f":"SUM(I36:T36)","v":0},null,null,null,null,null,null,null,null,null,null,null,null,0,null,null,null,null,null,null,null,null,null,null,null,null,0,null,null,null,null,null,null,null,null,null,null,null,null,0]
[null,"Операція 2/ Operation 2",null,null,null,0,null,0,null,null,null,null,null,null,null,null,null,null,null,null,0,null,null,null,null,null,null,null,null,null,null,null,null,0,null,null,null,null,null,null,null,null,null,null,null,null,0,null,null,null,null,null,null,null,null,null,null,null,null,0]
[null,"Операція 3/ Operation 3",null,null,null,0,null,0,null,null,null,null,null,null,null,null,null,null,null,null,0,null,null,null,null,null,null,null,null,null,null,null,null,0,null,null,null,null,null,null,null,null,null,null,null,null,0,null,null,null,null,null,null,null,null,null,null,null,null,0]
[null,"Операція 4/ Operation 4",null,null,null,0,null,0,null,null,null,null,null,null,null,null,null,null,null,null,0,null,null,null,null,null,null,null,null,null,null,null,null,0,null,null,null,null,null,null,null,null,null,null,null,null,0,null,null,null,null,null,null,null,null,null,null,null,null,0]
[null,"Етап 7 / Phase 7",null,null,{"$f":"IF(SUM(E41:E44)=0,\"\",MIN(E41:E44))","v":""},{"$f":"IFERROR(NETWORKDAYS(E40,G40,0),\"\")","v":""},{"$f":"IF(SUM(G41:G44)=0,\"\",MAX(G41:G44))","v":""},0,{"$f":"SUM(I41:I44)","v":0},{"$f":"SUM(J41:J44)","v":0},0,0,0,0,0,0,0,0,0,0,0,0,{"$f":"SUM(W41:W44)","v":0},{"$f":"SUM(X41:X44)","v":0},{"$f":"SUM(Y41:Y44)","v":0},{"$f":"SUM(Z41:Z44)","v":0},{"$f":"SUM(AA41:AA44)","v":0},{"$f":"SUM(AB41:AB44)","v":0},{"$f":"SUM(AC41:AC44)","v":0},{"$f":"SUM(AD41:AD44)","v":0},{"$f":"SUM(AE41:AE44)","v":0},{"$f":"SUM(AF41:AF44)","v":0},{"$f":"SUM(AG41:AG44)","v":0},{"$f":"SUM(V40:AF40)","v":0},0,{"$f":"SUM(AJ41:AJ44)","v":0},{"$f":"SUM(AK41:AK44)","v":0},{"$f":"SUM(AL41:AL44)","v":0},{"$f":"SUM(AM41:AM44)","v":0},{"$f":"SUM(AN41:AN44)","v":0},{"$f":"SUM(AO41:AO44)","v":0},{"$f":"SUM(AP41:AP44)","v":0},{"$f":"SUM(AQ41:AQ44)","v":0},{"$f":"SUM(AR41:AR44)","v":0},{"$f":"SUM(AS41:AS44)","v":0},{"$f":"SUM(AT41:AT44)","v":0},0,0,{"$f":"SUM(AW41:AW44)","v":0},{"$f":"SUM(AX41:AX44)","v":0},{"$f":"SUM(AY41:AY44)","v":0},{"$f":"SUM(AZ41:AZ44)","v":0},{"$f":"SUM(BA41:BA44)","v":0},{"$f":"SUM(BB41:BB44)","v":0},{"$f":"SUM(BC41:BC44)","v":0},{"$f":"SUM(BD41:BD44)","v":0},{"$f":"SUM(BE41:BE44)","v":0},{"$f":"SUM(BF41:BF44)","v":0},{"$f":"SUM(BG41:BG44)","v":0},0]
[null,"Операція 1/ Operation 1",null,null,null,{"$f":"NETWORKDAYS(E41,G41,0)","v":0},null,0,null,null,null,null,null,null,null,null,null,null,null,null,0,null,null,null,null,null,null,null,null,null,null,null,null,{"$f":"SUM(V41:AG41)","v":0},null,null,null,null,null,null,null,null,null,null,null,null,0,null,null,null,null,null,null,null,null,null,null,null,null,0]
[null,"Операція 2/ Operation 2",null,null,null,0,null,0,null,null,null,null,null,null,null,null,null,null,null,null,0,null,null,null,null,null,null,null,null,null,null,null,null,{"$f":"SUM(V42:AG42)","v":0},null,null,null,null,null,null,null,null,null,null,null,null,0,null,null,null,null,null,null,null,null,null,null,null,null,0]
[null,"Операція 3/ Operation 3",null,null,null,0,null,0,null,null,null,null,null,null,null,null,null,null,null,null,0,null,null,null,null,null,null,null,null,null,null,null,null,{"$f":"SUM(V43:AG43)","v":0},null,null,null,null,null,null,null,null,null,null,null,null,0,null,null,null,null,null,null,null,null,null,null,null,null,0]
[null,"Операція 4/ Operation 4",null,null,null,0,null,0,null,null,null,null,null,null,null,null,null,null,null,null,0,null,null,null,null,null,null,null,null,null,null,null,null,{"$f":"SUM(V44:AG44)","v":0},null,null,null,null,null,null,null,null,null,null,null,null,0,null,null,null,null,null,null,null,null,null,null,null,null,0]
[null,"Етап 8 / Phase 8",null,null,{"$f":"IF(SUM(E46:E49)=0,\"\",MIN(E46:E49))","v":""},{"$f":"IFERROR(NETWORKDAYS(E45,G45,0),\"\")","v":""},{"$f":"IF(SUM(G46:G49)=0,\"\",MAX(G46:G49))","v":""},{"$f":"U45+AH45+AU45+BH45","v":0},{"$f":"SUM(I46:I49)","v":0},{"$f":"SUM(J46:J49)","v":0},0,0,0,0,0,0,0,0,0,0,0,0,0,0,0,0,0,0,0,0,0,0,0,0,0,0,0,0,0,0,0,0,0,0,0,0,0,0,0,0,0,0,0,0,0,0,0,0,0,0]
[null,"Операція 1/ Operation 1",null,null,null,{"$f":"NETWORKDAYS(E46,G46,0)","v":0},null,0,null,null,null,null,null,null,null,null,null,null,null,null,0,null,null,null,null,null,null,null,null,null,null,null,null,{"$f":"SUM(V46:AG46)","v":0},null,null,null,null,null,null,null,null,null,null,null,null,{"$f":"SUM(AI46:AT46)","v":0},null,null,null,null,null,null,null,null,null,null,null,null,{"$f":"SUM(AV46:BG46)","v":0}]
[null,"Операція 2/ Operation 2",null,null,null,0,null,0,null,null,null,null,null,null,null,null,null,null,null,null,0,null,null,null,null,null,null,null,null,null,null,null,null,{"$f":"SUM(V47:AG47)","v":0},null,null,null,null,null,null,null,null,null,null,null,null,{"$f":"SUM(AI47:AT47)","v":0},null,null,null,null,null,null,null,null,null,null,null,null,{"$f":"SUM(AV47:BG47)","v":0}]
[null,"Операція 3/ Operation 3",null,null,null,0,null,{"$f":"U48+AH48+AU48+BH48","v":0},null,null,null,null,null,null,null,null,null,null,null,null,{"$f":"SUM(I48:T48)","v":0},null,null,null,null,null,null,null,null,null,null,null,null,{"$f":"SUM(V48:AG48)","v":0},null,null,null,null,null,null,null,null,null,null,null,null,{"$f":"SUM(AI48:AT48)","v":0},null,null,null,null,null,null,null,null,null,null,null,null,{"$f":"SUM(AV48:BG48)","v":0}]
[null,"Операція 4/ Operation 4",null,null,null,0,null,{"$f":"U49+AH49+AU49+BH49","v":0},null,null,null,null,null,null,null,null,null,null,null,null,{"$f":"SUM(I49:T49)","v":0},null,null,null,null,null,null,null,null,null,null,null,null,{"$f":"SUM(V49:AG49)","v":0},null,null,null,null,null,null,null,null,null,null,null,null,{"$f":"SUM(AI49:AT49)","v":0},null,null,null,null,null,null,null,null,null,null,null,null,{"$f":"SUM(AV49:BG49)","v":0}]
[null,null,null,null,null,null,null,null,null,null,null,null,null,{"$f":"CONCATENATE(\"I півріччя/ half a year\",U1)","v":"I півріччя/ half a year2024"},null,null,null,null,null,{"$f":"CONCATENATE(\"II півріччя/ half a year\",U1)","v":"II півріччя/ half a year2024"},null,null,null,null,null,null,{"$f":"CONCATENATE(\"I півріччя/ half a year\",AH1)","v":"I півріччя/ half a year2025"},null,null,null,null,null,{"$f":"CONCATENATE(\"II півріччя/ half a year\",AH1)","v":"II півріччя/ half a year2025"},null,null,null,null,null,null,{"$f":"CONCATENATE(\"I півріччя/ half a year\",AU1)","v":"I півріччя/ half a year2026"},null,null,null,null,null,{"$f":"CONCATENATE(\"II півріччя/ half a year\",AU1)","v":"II півріччя/ half a year2026"},null,null,null,null,null,null,{"$f":"CONCATENATE(\"I півріччя/ half a year\",BH1)","v":"I півріччя/ half a year2027"},null,null,null,null,null,{"$f":"CONCATENATE(\"II півріччя/ half a year\",BH1)","v":"II півріччя/ half a year2027"}]
[null,null,null,null,null,null,null,null,null,null,null,null,null,{"$f":"SUM(I6:N6)","v":0},null,null,null,null,null,{"$f":"SUM(O6:T6)","v":4278.8149935014299},null,null,null,null,null,null,{"$f":"SUM(V6:AA6)","v":0},null,null,null,null,null,{"$f":"SUM(AB6:AG6)","v":0},null,null,null,null,null,null,{"$f":"SUM(AI6:AN6)","v":0},null,null,null,null,null,{"$f":"SUM(AO6:AT6)","v":0},null,null,null,null,null,null,{"$f":"SUM(AV6:BA6)","v":0},null,null,null,null,null,{"$f":"SUM(BB6:BG6)","v":0}]
[null,"ПЛАН ОСВОЄННЯ / DEVELOPMENT PLAN"]
[null,null,null,null,null,null,null,{"$f":"H3","v":"тис.US$/ ths.US$"},{"$f":"I55=I58","v":true},null,null,null,null,null,null,null,null,null,null,null,{"$f":"H3","v":"тис.US$/ ths.US$"},null,null,null,null,null,null,null,null,null,null,null,null,{"$f":"H3","v":"тис.US$/ ths.US$"},null,null,null,null,null,null,null,null,null,null,null,null,{"$f":"H3","v":"тис.US$/ ths.US$"},null,null,null,null,null,null,null,null,null,null,null,null,{"$f":"H3","v":"тис.US$/ ths.US$"}]
[null,{"$f":"B4","v":"Етап / Phase"},"Відповідальний / Responsible","Джерело фінансування/Source of financing","Початок / Start","Тривалість / Duration","Кінець / End",{"$f":"H4","v":"Сума за весь період / Whole period amount"},{"$f":"DATE(Головна_Summary!$E$7,1,1)","v":"2024-01-01"},{"$f":"DATE(Головна_Summary!$E$7,2,1)","v":"2024-02-01"},{"$f":"DATE(Головна_Summary!$E$7,3,1)","v":"2024-03-01"},{"$f":"DATE(Головна_Summary!$E$7,4,1)","v":"2024-04-01"},{"$f":"DATE(Головна_Summary!$E$7,5,1)","v":"2024-05-01"},{"$f":"DATE(Головна_Summary!$E$7,6,1)","v":"2024-06-01"},{"$f":"DATE(Головна_Summary!$E$7,7,1)","v":"2024-07-01"},{"$f":"DATE(Головна_Summary!$E$7,8,1)","v":"2024-08-01"},{"$f":"DATE(Головна_Summary!$E$7,9,1)","v":"2024-09-01"},{"$f":"DATE(Головна_Summary!$E$7,10,1)","v":"2024-10-01"},{"$f":"DATE(Головна_Summary!$E$7,11,1)","v":"2024-11-01"},{"$f":"DATE(Головна_Summary!$E$7,12,1)","v":"2024-12-01"},{"$f":"U4","v":"Всього за / overall during 2024 рік"},{"$f":"DATE(Головна_Summary!$E$7+1,1,1)","v":"2025-01-01"},{"$f":"DATE(Головна_Summary!$E$7+1,2,1)","v":"2025-02-01"},{"$f":"DATE(Головна_Summary!$E$7+1,3,1)","v":"2025-03-01"},{"$f":"DATE(Головна_Summary!$E$7+1,4,1)","v":"2025-04-01"},{"$f":"DATE(Головна_Summary!$E$7+1,5,1)","v":"2025-05-01"},{"$f":"DATE(Головна_Summary!$E$7+1,6,1)","v":"2025-06-01"},{"$f":"DATE(Головна_Summary!$E$7+1,7,1)","v":"2025-07-01"},{"$f":"DATE(Головна_Summary!$E$7+1,8,1)","v":"2025-08-01"},{"$f":"DATE(Головна_Summary!$E$7+1,9,1)","v":"2025-09-01"},{"$f":"DATE(Головна_Summary!$E$7+1,10,1)","v":"2025-10-01"},{"$f":"DATE(Головна_Summary!$E$7+1,11,1)","v":"2025-11-01"},{"$f":"DATE(Головна_Summary!$E$7+1,12,1)","v":"2025-12-01"},{"$f":"AH4","v":"Всього за / overall during2025 рік"},{"$f":"DATE(Головна_Summary!E59+2,1,1)","v":"1902-01-01"},{"$f":"DATE(Головна_Summary!$E$7+2,2,1)","v":"2026-02-01"},{"$f":"DATE(Головна_Summary!$E$7+2,3,1)","v":"2026-03-01"},{"$f":"DATE(Головна_Summary!$E$7+2,4,1)","v":"2026-04-01"},{"$f":"DATE(Головна_Summary!$E$7+2,5,1)","v":"2026-05-01"},{"$f":"DATE(Головна_Summary!$E$7+2,6,1)","v":"2026-06-01"},{"$f":"DATE(Головна_Summary!$E$7+2,7,1)","v":"2026-07-01"},{"$f":"DATE(Головна_Summary!$E$7+2,8,1)","v":"2026-08-01"},{"$f":"DATE(Головна_Summary!$E$7+2,9,1)","v":"2026-09-01"},{"$f":"DATE(Головна_Summary!$E$7+2,10,1)","v":"2026-10-01"},{"$f":"DATE(Головна_Summary!$E$7+2,11,1)","v":"2026-11-01"},{"$f":"DATE(Головна_Summary!$E$7+2,12,1)","v":"2026-12-01"},{"$f":"AU4","v":"Всього за / overall during2026 рік"},{"$f":"DATE(Головна_Summary!$E$7+3,1,1)","v":"2027-01-01"},{"$f":"DATE(Головна_Summary!$E$7+3,2,1)","v":"2027-02-01"},{"$f":"DATE(Головна_Summary!$E$7+3,3,1)","v":"2027-03-01"},{"$f":"DATE(Головна_Summary!$E$7+3,4,1)","v":"2027-04-01"},{"$f":"DATE(Головна_Summary!$E$7+3,5,1)","v":"2027-05-01"},{"$f":"DATE(Головна_Summary!$E$7+3,6,1)","v":"2027-06-01"},{"$f":"DATE(Головна_Summary!$E$7+3,7,1)","v":"2027-07-01"},{"$f":"DATE(Головна_Summary!$E$7+3,8,1)","v":"2027-08-01"},{"$f":"DATE(Головна_Summary!$E$7+3,9,1)","v":"2027-09-01"},{"$f":"DATE(Головна_Summary!$E$7+3,10,1)","v":"2027-10-01"},{"$f":"DATE(Головна_Summary!$E$7+3,11,1)","v":"2027-11-01"},{"$f":"DATE(Головна_Summary!$E$7+3,12,1)","v":"2027-12-01"},{"$f":"BH4","v":"Всього за / overall during2027 рік"}]
[null,"Освоєння проєкту всього/  Development total ",null,"Всього/Total",{"$f":"IF(SUM(E59,E65,E69,E74,E79,E84,E89,E94)=0,\"\",MIN(E59,E65,E69,E74,E79,E84,E89,E94))","v":"2024-05-01"},{"$f":"IFERROR(NETWORKDAYS(E55,G55,0),\"\")","v":175},{"$f":"IF(SUM(G59,G65,G69,G74,G79,G84,G89,G94)=0,\"\",MAX(G59,G65,G69,G74,G79,G84,G89,G94))","v":"2024-12-31"},{"$f":"H56+H57","v":4278.8149935014299},{"$f":"I56+I57","v":0},{"$f":"J56+J57","v":0},{"$f":"K56+K57","v":0},{"$f":"L56+L57","v":0},{"$f":"M56+M57","v":4278.8149935014299},{"$f":"N56+N57","v":0},{"$f":"O56+O57","v":0},{"$f":"P56+P57","v":0},{"$f":"Q56+Q57","v":0},{"$f":"R56+R57","v":0},{"$f":"S56+S57","v":0},{"$f":"T56+T57","v":0},{"$f":"U56+U57","v":4278.8149935014299},{"$f":"V56+V57","v":0},{"$f":"W56+W57","v":0},{"$f":"X56+X57","v":0},{"$f":"Y56+Y57","v":0},{"$f":"Z56+Z57","v":0},{"$f":"AA56+AA57","v":0},{"$f":"AB56+AB57","v":0},{"$f":"AC56+AC57","v":0},{"$f":"AD56+AD57","v":0},{"$f":"AE56+AE57","v":0},{"$f":"AF56+AF57","v":0},{"$f":"AG56+AG57","v":0},{"$f":"AH56+AH57","v":0},{"$f":"AI56+AI57","v":0},{"$f":"AJ56+AJ57","v":0},{"$f":"AK56+AK57","v":0},{"$f":"AL56+AL57","v":0},{"$f":"AM56+AM57","v":0},{"$f":"AN56+AN57","v":0},{"$f":"AO56+AO57","v":0},{"$f":"AP56+AP57","v":0},{"$f":"AQ56+AQ57","v":0},{"$f":"AR56+AR57","v":0},{"$f":"AS56+AS57","v":0},{"$f":"AT56+AT57","v":0},{"$f":"AU56+AU57","v":0},{"$f":"AV56+AV57","v":0},{"$f":"AW56+AW57","v":0},{"$f":"AX56+AX57","v":0},{"$f":"AY56+AY57","v":0},{"$f":"AZ56+AZ57","v":0},{"$f":"BA56+BA57","v":0},{"$f":"BB56+BB57","v":0},{"$f":"BC56+BC57","v":0},{"$f":"BD56+BD57","v":0},{"$f":"BE56+BE57","v":0},{"$f":"BF56+BF57","v":0},{"$f":"BG56+BG57","v":0},{"$f":"BH56+BH57","v":0}]
[null,null,null,"Кредитні кошти/Loans",null,{"$f":"NETWORKDAYS(E56,G56,0)","v":0},null,{"$f":"U56+AH56+AU56+BH56","v":4278.8149935014299},{"$f":"SUMIF($D$59:$D$98,$D$6,I59:I98)","v":0},{"$f":"SUMIF($D$59:$D$98,$D$6,J59:J98)","v":0},0,0,4278.8149935014299,0,0,0,0,0,0,0,4278.8149935014299,0,0,0,0,0,0,0,{"$f":"SUMIF($D$59:$D$98,$D$6,AC59:AC98)","v":0},0,0,0,0,0,0,0,0,0,0,0,0,0,0,0,0,0,0,0,0,0,0,0,0,0,0,0,0,0,0,0]
[null,null,null,"Власні кошти/ Own funds",null,{"$f":"NETWORKDAYS(E57,G57,0)","v":0},null,{"$f":"U57+AH57+AU57+BH57","v":0},{"$f":"SUMIF($D$59:$D$98,$D$57,I59:I98)","v":0},{"$f":"SUMIF($D$59:$D$98,$D$57,J59:J98)","v":0},{"$f":"SUMIF($D$59:$D$98,$D$57,K59:K98)","v":0},0,0,{"$f":"SUMIF($D$59:$D$98,$D$57,N59:N98)","v":0},0,0,0,0,0,0,0,0,0,0,0,0,0,0,0,0,0,0,0,0,0,0,0,0,0,0,0,0,0,0,0,0,0,0,0,0,0,0,0,0,0,0,0,0,0,0]
[null,null,null,null,null,null,null,null,{"$f":"I59+I65+I69+I74+I79+I84+I89+I94","v":0},{"$f":"J59+J65+J69+J74+J79+J84+J89+J94","v":0},{"$f":"K59+K65+K69+K74+K79+K84+K89+K94","v":0},{"$f":"L59+L65+L69+L74+L79+L84+L89+L94","v":0},{"$f":"M59+M65+M69+M74+M79+M84+M89+M94","v":4278.8149935014299},{"$f":"N59+N65+N69+N74+N79+N84+N89+N94","v":0},{"$f":"O59+O65+O69+O74+O79+O84+O89+O94","v":0},{"$f":"P59+P65+P69+P74+P79+P84+P89+P94","v":0},{"$f":"Q59+Q65+Q69+Q74+Q79+Q84+Q89+Q94","v":0},{"$f":"R59+R65+R69+R74+R79+R84+R89+R94","v":0},{"$f":"S59+S65+S69+S74+S79+S84+S89+S94","v":0},{"$f":"T59+T65+T69+T74+T79+T84+T89+T94","v":0},{"$f":"U59+U65+U69+U74+U79+U84+U89+U94","v":4278.8149935014299},{"$f":"V59+V65+V69+V74+V79+V84+V89+V94","v":0},{"$f":"W59+W65+W69+W74+W79+W84+W89+W94","v":0},{"$f":"X59+X65+X69+X74+X79+X84+X89+X94","v":0},{"$f":"Y59+Y65+Y69+Y74+Y79+Y84+Y89+Y94","v":0},{"$f":"Z59+Z65+Z69+Z74+Z79+Z84+Z89+Z94","v":0},{"$f":"AA59+AA65+AA69+AA74+AA79+AA84+AA89+AA94","v":0},{"$f":"AB59+AB65+AB69+AB74+AB79+AB84+AB89+AB94","v":0},{"$f":"AC59+AC65+AC69+AC74+AC79+AC84+AC89+AC94","v":0},{"$f":"AD59+AD65+AD69+AD74+AD79+AD84+AD89+AD94","v":0},{"$f":"AE59+AE65+AE69+AE74+AE79+AE84+AE89+AE94","v":0},{"$f":"AF59+AF65+AF69+AF74+AF79+AF84+AF89+AF94","v":0},{"$f":"AG59+AG65+AG69+AG74+AG79+AG84+AG89+AG94","v":0},{"$f":"AH59+AH65+AH69+AH74+AH79+AH84+AH89+AH94","v":0},{"$f":"AI59+AI65+AI69+AI74+AI79+AI84+AI89+AI94","v":0},{"$f":"AJ59+AJ65+AJ69+AJ74+AJ79+AJ84+AJ89+AJ94","v":0},{"$f":"AK59+AK65+AK69+AK74+AK79+AK84+AK89+AK94","v":0},{"$f":"AL59+AL65+AL69+AL74+AL79+AL84+AL89+AL94","v":0},{"$f":"AM59+AM65+AM69+AM74+AM79+AM84+AM89+AM94","v":0},{"$f":"AN59+AN65+AN69+AN74+AN79+AN84+AN89+AN94","v":0},{"$f":"AO59+AO65+AO69+AO74+AO79+AO84+AO89+AO94","v":0},{"$f":"AP59+AP65+AP69+AP74+AP79+AP84+AP89+AP94","v":0},{"$f":"AQ59+AQ65+AQ69+AQ74+AQ79+AQ84+AQ89+AQ94","v":0},{"$f":"AR59+AR65+AR69+AR74+AR79+AR84+AR89+AR94","v":0},{"$f":"AS59+AS65+AS69+AS74+AS79+AS84+AS89+AS94","v":0},{"$f":"AT59+AT65+AT69+AT74+AT79+AT84+AT89+AT94","v":0},{"$f":"AU59+AU65+AU69+AU74+AU79+AU84+AU89+AU94","v":0},{"$f":"AV59+AV65+AV69+AV74+AV79+AV84+AV89+AV94","v":0},{"$f":"AW59+AW65+AW69+AW74+AW79+AW84+AW89+AW94","v":0},{"$f":"AX59+AX65+AX69+AX74+AX79+AX84+AX89+AX94","v":0},{"$f":"AY59+AY65+AY69+AY74+AY79+AY84+AY89+AY94","v":0},{"$f":"AZ59+AZ65+AZ69+AZ74+AZ79+AZ84+AZ89+AZ94","v":0},{"$f":"BA59+BA65+BA69+BA74+BA79+BA84+BA89+BA94","v":0},{"$f":"BB59+BB65+BB69+BB74+BB79+BB84+BB89+BB94","v":0},{"$f":"BC59+BC65+BC69+BC74+BC79+BC84+BC89+BC94","v":0},{"$f":"BD59+BD65+BD69+BD74+BD79+BD84+BD89+BD94","v":0},{"$f":"BE59+BE65+BE69+BE74+BE79+BE84+BE89+BE94","v":0},{"$f":"BF59+BF65+BF69+BF74+BF79+BF84+BF89+BF94","v":0},{"$f":"BG59+BG65+BG69+BG74+BG79+BG84+BG89+BG94","v":0},{"$f":"BH59+BH65+BH69+BH74+BH79+BH84+BH89+BH94","v":0}]
[null,{"$f":"B10","v":"Етап 1 / Phase 1"},null,null,{"$f":"IF(SUM(E60:E64)=0,\"\",MIN(E60:E64))","v":"2024-05-01"},{"$f":"IFERROR(NETWORKDAYS(E59,G59,0),\"\")","v":175},{"$f":"IF(SUM(G60:G64)=0,\"\",MAX(G60:G64))","v":"2024-12-31"},{"$f":"U59+AH59+AU59+BH59","v":4278.8149935014299},{"$f":"SUM(I60:I64)","v":0},{"$f":"SUM(J60:J64)","v":0},0,0,4278.8149935014299,0,0,0,0,0,0,0,{"$f":"SUM(I59:T59)","v":4278.8149935014299},0,{"$f":"SUM(W60:W64)","v":0},{"$f":"SUM(X60:X64)","v":0},{"$f":"SUM(Y60:Y64)","v":0},{"$f":"SUM(Z60:Z64)","v":0},{"$f":"SUM(AA60:AA64)","v":0},{"$f":"SUM(AB60:AB64)","v":0},{"$f":"SUM(AC60:AC64)","v":0},{"$f":"SUM(AD60:AD64)","v":0},{"$f":"SUM(AE60:AE64)","v":0},{"$f":"SUM(AF60:AF64)","v":0},{"$f":"SUM(AG60:AG64)","v":0},{"$f":"SUM(V59:AG59)","v":0},0,{"$f":"SUM(AJ60:AJ64)","v":0},{"$f":"SUM(AK60:AK64)","v":0},{"$f":"SUM(AL60:AL64)","v":0},{"$f":"SUM(AM60:AM64)","v":0},{"$f":"SUM(AN60:AN64)","v":0},{"$f":"SUM(AO60:AO64)","v":0},{"$f":"SUM(AP60:AP64)","v":0},{"$f":"SUM(AQ60:AQ64)","v":0},{"$f":"SUM(AR60:AR64)","v":0},{"$f":"SUM(AS60:AS64)","v":0},{"$f":"SUM(AT60:AT64)","v":0},{"$f":"SUM(AI59:AT59)","v":0},0,{"$f":"SUM(AW60:AW64)","v":0},{"$f":"SUM(AX60:AX64)","v":0},{"$f":"SUM(AY60:AY64)","v":0},{"$f":"SUM(AZ60:AZ64)","v":0},{"$f":"SUM(BA60:BA64)","v":0},{"$f":"SUM(BB60:BB64)","v":0},{"$f":"SUM(BC60:BC64)","v":0},{"$f":"SUM(BD60:BD64)","v":0},{"$f":"SUM(BE60:BE64)","v":0},{"$f":"SUM(BF60:BF64)","v":0},{"$f":"SUM(BG60:BG64)","v":0},{"$f":"SUM(AV59:BG59)","v":0}]
[null,{"$f":"B11","v":"Операція 1/ Operation 1"},null,{"$f":"D11","v":"Кредитні кошти/Loans"},"2024-05-01",{"$f":"NETWORKDAYS(E60,G60,0)","v":175},"2024-12-31",{"$f":"U60+AH60+AU60+BH60","v":4278.8149935014299},null,null,null,null,{"$f":"O11","v":4278.8149935014299},null,null,null,null,null,null,null,{"$f":"SUM(I60:T60)","v":4278.8149935014299},null,null,null,null,null,null,null,null,null,null,null,null,0,null,null,null,null,null,null,null,null,null,null,null,null,0,null,null,null,null,null,null,null,null,null,null,null,null,0]
[null,"Операція 2/ Operation 2",null,{"$f":"D12","v":0},null,0,null,{"$f":"U61+AH61+AU61+BH61","v":0},null,null,null,null,null,null,null,null,null,null,null,null,0,null,null,null,null,null,null,null,null,null,null,null,null,0,null,null,null,null,null,null,null,null,null,null,null,null,0,null,null,null,null,null,null,null,null,null,null,null,null,0]
[null,"Операція 3/ Operation 3",null,0,null,0,null,0,null,null,null,null,null,null,null,null,null,null,null,null,{"$f":"SUM(I62:T62)","v":0},null,null,null,null,null,null,null,null,null,null,null,null,0,null,null,null,null,null,null,null,null,null,null,null,null,0,null,null,null,null,null,null,null,null,null,null,null,null,0]
[null,"Операція 4/ Operation 4",null,0,null,0,null,0,null,null,null,null,null,null,null,null,null,null,null,null,0,null,null,null,null,null,null,null,null,null,null,null,null,0,null,null,null,null,null,null,null,null,null,null,null,null,0,null,null,null,null,null,null,null,null,null,null,null,null,0]
[null,"Операція 5/ Operation 5",null,0,null,{"$f":"NETWORKDAYS(E64,G64,0)","v":0},null,{"$f":"U64+AH64+AU64+BH64","v":0},null,null,null,null,null,null,null,null,null,null,null,null,{"$f":"SUM(I64:T64)","v":0},null,null,null,null,null,null,null,null,null,null,null,null,0,null,null,null,null,null,null,null,null,null,null,null,null,0,null,null,null,null,null,null,null,null,null,null,null,null,0]
[null,"Етап 2 / Phase 2",null,null,{"$f":"IF(SUM(E66:E68)=0,\"\",MIN(E66:E68))","v":""},{"$f":"IFERROR(NETWORKDAYS(E65,G65,0),\"\")","v":""},{"$f":"IF(SUM(G66:G68)=0,\"\",MAX(G66:G68))","v":""},{"$f":"H16","v":0},{"$f":"SUM(I66:I68)","v":0},{"$f":"SUM(J66:J68)","v":0},0,0,0,0,0,0,0,0,0,0,0,0,{"$f":"SUM(W66:W68)","v":0},{"$f":"SUM(X66:X68)","v":0},{"$f":"SUM(Y66:Y68)","v":0},{"$f":"SUM(Z66:Z68)","v":0},{"$f":"SUM(AA66:AA68)","v":0},{"$f":"SUM(AB66:AB68)","v":0},{"$f":"SUM(AC66:AC68)","v":0},{"$f":"SUM(AD66:AD68)","v":0},{"$f":"SUM(AE66:AE68)","v":0},{"$f":"SUM(AF66:AF68)","v":0},{"$f":"SUM(AG66:AG68)","v":0},0,{"$f":"SUM(AI66:AI68)","v":0},{"$f":"SUM(AJ66:AJ68)","v":0},0,0,0,0,0,0,0,0,0,0,0,0,{"$f":"SUM(AW66:AW68)","v":0},{"$f":"SUM(AX66:AX68)","v":0},{"$f":"SUM(AY66:AY68)","v":0},{"$f":"SUM(AZ66:AZ68)","v":0},{"$f":"SUM(BA66:BA68)","v":0},{"$f":"SUM(BB66:BB68)","v":0},{"$f":"SUM(BC66:BC68)","v":0},{"$f":"SUM(BD66:BD68)","v":0},{"$f":"SUM(BE66:BE68)","v":0},{"$f":"SUM(BF66:BF68)","v":0},{"$f":"SUM(BG66:BG68)","v":0},0]
[null,"Операція 1/ Operation 1",null,0,null,{"$f":"NETWORKDAYS(E66,G66,0)","v":0},null,0,null,null,null,null,null,null,null,null,null,null,null,null,0,null,null,null,null,null,null,null,null,null,null,null,null,0,null,null,null,null,null,null,null,null,null,null,null,null,0,null,null,null,null,null,null,null,null,null,null,null,null,0]
[null,"Операція 2/ Operation 2",null,0,null,0,null,0,null,null,null,null,null,null,null,null,null,null,null,null,0,null,null,null,null,null,null,null,null,null,null,null,null,0,null,null,null,null,null,null,null,null,null,null,null,null,0,null,null,null,null,null,null,null,null,null,null,null,null,0]
[null,"Операція 3/ Operation 3",null,0,null,0,null,0,null,null,null,null,null,null,null,null,null,null,null,null,0,null,null,null,null,null,null,null,null,null,null,null,null,0,null,null,null,null,null,null,null,null,null,null,null,null,0,null,null,null,null,null,null,null,null,null,null,null,null,0]
[null,"Етап 3 / Phase 3",null,null,{"$f":"IF(SUM(E70:E73)=0,\"\",MIN(E70:E73))","v":""},{"$f":"IFERROR(NETWORKDAYS(E69,G69,0),\"\")","v":""},{"$f":"IF(SUM(G70:G73)=0,\"\",MAX(G70:G73))","v":""},{"$f":"U69+AH69+AU69+BH69","v":0},{"$f":"SUM(I70:I73)","v":0},{"$f":"SUM(J70:J73)","v":0},0,0,0,0,0,0,0,0,0,0,{"$f":"SUM(I69:T69)","v":0},{"$f":"SUM(V70:V73)","v":0},{"$f":"SUM(W70:W73)","v":0},0,0,0,0,0,0,0,0,0,0,0,0,{"$f":"SUM(AJ70:AJ73)","v":0},{"$f":"SUM(AK70:AK73)","v":0},{"$f":"SUM(AL70:AL73)","v":0},{"$f":"SUM(AM70:AM73)","v":0},{"$f":"SUM(AN70:AN73)","v":0},{"$f":"SUM(AO70:AO73)","v":0},{"$f":"SUM(AP70:AP73)","v":0},{"$f":"SUM(AQ70:AQ73)","v":0},{"$f":"SUM(AR70:AR73)","v":0},{"$f":"SUM(AS70:AS73)","v":0},{"$f":"SUM(AT70:AT73)","v":0},0,0,{"$f":"SUM(AW70:AW73)","v":0},{"$f":"SUM(AX70:AX73)","v":0},{"$f":"SUM(AY70:AY73)","v":0},{"$f":"SUM(AZ70:AZ73)","v":0},{"$f":"SUM(BA70:BA73)","v":0},{"$f":"SUM(BB70:BB73)","v":0},{"$f":"SUM(BC70:BC73)","v":0},{"$f":"SUM(BD70:BD73)","v":0},{"$f":"SUM(BE70:BE73)","v":0},{"$f":"SUM(BF70:BF73)","v":0},{"$f":"SUM(BG70:BG73)","v":0},0]
[null,"Операція 1/ Operation 1",null,0,null,{"$f":"NETWORKDAYS(E70,G70,0)","v":0},null,0,null,null,null,null,null,null,null,null,null,null,null,null,0,null,null,null,null,null,null,null,null,null,null,null,null,0,null,null,null,null,null,null,null,null,null,null,null,null,0,null,null,null,null,null,null,null,null,null,null,null,null,0]
[null,"Операція 2/ Operation 2",null,0,null,0,null,0,null,null,null,null,null,null,null,null,null,null,null,null,0,null,null,null,null,null,null,null,null,null,null,null,null,0,null,null,null,null,null,null,null,null,null,null,null,null,0,null,null,null,null,null,null,null,null,null,null,null,null,0]
[null,"Операція 3/ Operation 3",null,0,null,0,null,0,null,null,null,null,null,null,null,null,null,null,null,null,0,null,null,null,null,null,null,null,null,null,null,null,null,0,null,null,null,null,null,null,null,null,null,null,null,null,0,null,null,null,null,null,null,null,null,null,null,null,null,0]
[null,"Операція 4/ Operation 4",null,0,null,0,null,0,null,null,null,null,null,null,null,null,null,null,null,null,0,null,null,null,null,null,null,null,null,null,null,null,null,0,null,null,null,null,null,null,null,null,null,null,null,null,0,null,null,null,null,null,null,null,null,null,null,null,null,0]
[null,"Етап 4 / Phase 4",null,null,{"$f":"IF(SUM(E75:E78)=0,\"\",MIN(E75:E78))","v":""},{"$f":"IFERROR(NETWORKDAYS(E74,G74,0),\"\")","v":""},{"$f":"IF(SUM(G75:G78)=0,\"\",MAX(G75:G78))","v":""},{"$f":"U74+AH74+AU74+BH74","v":0},{"$f":"SUM(I75:I78)","v":0},{"$f":"SUM(J75:J78)","v":0},0,0,0,0,0,0,0,0,0,0,{"$f":"SUM(I74:T74)","v":0},0,{"$f":"SUM(W75:W78)","v":0},{"$f":"SUM(X75:X78)","v":0},{"$f":"SUM(Y75:Y78)","v":0},{"$f":"SUM(Z75:Z78)","v":0},{"$f":"SUM(AA75:AA78)","v":0},{"$f":"SUM(AB75:AB78)","v":0},{"$f":"SUM(AC75:AC78)","v":0},{"$f":"SUM(AD75:AD78)","v":0},{"$f":"SUM(AE75:AE78)","v":0},{"$f":"SUM(AF75:AF78)","v":0},{"$f":"SUM(AG75:AG78)","v":0},0,0,{"$f":"SUM(AJ75:AJ78)","v":0},{"$f":"SUM(AK75:AK78)","v":0},{"$f":"SUM(AL75:AL78)","v":0},{"$f":"SUM(AM75:AM78)","v":0},{"$f":"SUM(AN75:AN78)","v":0},{"$f":"SUM(AO75:AO78)","v":0},{"$f":"SUM(AP75:AP78)","v":0},{"$f":"SUM(AQ75:AQ78)","v":0},{"$f":"SUM(AR75:AR78)","v":0},{"$f":"SUM(AS75:AS78)","v":0},{"$f":"SUM(AT75:AT78)","v":0},0,0,{"$f":"SUM(AW75:AW78)","v":0},{"$f":"SUM(AX75:AX78)","v":0},{"$f":"SUM(AY75:AY78)","v":0},{"$f":"SUM(AZ75:AZ78)","v":0},{"$f":"SUM(BA75:BA78)","v":0},{"$f":"SUM(BB75:BB78)","v":0},{"$f":"SUM(BC75:BC78)","v":0},{"$f":"SUM(BD75:BD78)","v":0},{"$f":"SUM(BE75:BE78)","v":0},{"$f":"SUM(BF75:BF78)","v":0},{"$f":"SUM(BG75:BG78)","v":0},0]
[null,"Операція 1/ Operation 1",null,0,null,{"$f":"NETWORKDAYS(E75,G75,0)","v":0},null,0,null,null,null,null,null,null,null,null,null,null,null,null,0,null,null,null,null,null,null,null,null,null,null,null,null,0,null,null,null,null,null,null,null,null,null,null,null,null,0,null,null,null,null,null,null,null,null,null,null,null,null,0]
[null,"Операція 2/ Operation 2",null,0,null,0,null,0,null,null,null,null,null,null,null,null,null,null,null,null,0,null,null,null,null,null,null,null,null,null,null,null,null,0,null,null,null,null,null,null,null,null,null,null,null,null,0,null,null,null,null,null,null,null,null,null,null,null,null,0]
[null,"Операція 3/ Operation 3",null,0,null,0,null,0,null,null,null,null,null,null,null,null,null,null,null,null,0,null,null,null,null,null,null,null,null,null,null,null,null,0,null,null,null,null,null,null,null,null,null,null,null,null,0,null,null,null,null,null,null,null,null,null,null,null,null,0]
[null,"Операція 4/ Operation 4",null,0,null,0,null,0,null,null,null,null,null,null,null,null,null,null,null,null,0,null,null,null,null,null,null,null,null,null,null,null,null,0,null,null,null,null,null,null,null,null,null,null,null,null,0,null,null,null,null,null,null,null,null,null,null,null,null,0]
[null,"Етап 5 / Phase 5",null,null,{"$f":"IF(SUM(E80:E83)=0,\"\",MIN(E80:E83))","v":""},{"$f":"IFERROR(NETWORKDAYS(E79,G79,0),\"\")","v":""},{"$f":"IF(SUM(G80:G83)=0,\"\",MAX(G80:G83))","v":""},{"$f":"U79+AH79+AU79+BH79","v":0},{"$f":"SUM(I80:I83)","v":0},{"$f":"SUM(J80:J83)","v":0},0,0,0,0,0,0,0,0,0,0,{"$f":"SUM(I79:T79)","v":0},0,{"$f":"SUM(W80:W83)","v":0},{"$f":"SUM(X80:X83)","v":0},{"$f":"SUM(Y80:Y83)","v":0},{"$f":"SUM(Z80:Z83)","v":0},{"$f":"SUM(AA80:AA83)","v":0},{"$f":"SUM(AB80:AB83)","v":0},{"$f":"SUM(AC80:AC83)","v":0},{"$f":"SUM(AD80:AD83)","v":0},{"$f":"SUM(AE80:AE83)","v":0},{"$f":"SUM(AF80:AF83)","v":0},{"$f":"SUM(AG80:AG83)","v":0},0,0,{"$f":"SUM(AJ80:AJ83)","v":0},{"$f":"SUM(AK80:AK83)","v":0},{"$f":"SUM(AL80:AL83)","v":0},{"$f":"SUM(AM80:AM83)","v":0},{"$f":"SUM(AN80:AN83)","v":0},{"$f":"SUM(AO80:AO83)","v":0},{"$f":"SUM(AP80:AP83)","v":0},{"$f":"SUM(AQ80:AQ83)","v":0},{"$f":"SUM(AR80:AR83)","v":0},{"$f":"SUM(AS80:AS83)","v":0},{"$f":"SUM(AT80:AT83)","v":0},0,0,{"$f":"SUM(AW80:AW83)","v":0},{"$f":"SUM(AX80:AX83)","v":0},{"$f":"SUM(AY80:AY83)","v":0},{"$f":"SUM(AZ80:AZ83)","v":0},{"$f":"SUM(BA80:BA83)","v":0},{"$f":"SUM(BB80:BB83)","v":0},{"$f":"SUM(BC80:BC83)","v":0},{"$f":"SUM(BD80:BD83)","v":0},{"$f":"SUM(BE80:BE83)","v":0},{"$f":"SUM(BF80:BF83)","v":0},{"$f":"SUM(BG80:BG83)","v":0},0]
[null,"Операція 1/ Operation 1",null,0,null,{"$f":"NETWORKDAYS(E80,G80,0)","v":0},null,0,null,null,null,null,null,null,null,null,null,null,null,null,0,null,null,null,null,null,null,null,null,null,null,null,null,0,null,null,null,null,null,null,null,null,null,null,null,null,0,null,null,null,null,null,null,null,null,null,null,null,null,0]
[null,"Операція 2/ Operation 2",null,0,null,0,null,0,null,null,null,null,null,null,null,null,null,null,null,null,0,null,null,null,null,null,null,null,null,null,null,null,null,0,null,null,null,null,null,null,null,null,null,null,null,null,0,null,null,null,null,null,null,null,null,null,null,null,null,0]
[null,"Операція 3/ Operation 3",null,0,null,0,null,0,null,null,null,null,null,null,null,null,null,null,null,null,0,null,null,null,null,null,null,null,null,null,null,null,null,0,null,null,null,null,null,null,null,null,null,null,null,null,0,null,null,null,null,null,null,null,null,null,null,null,null,0]
[null,"Операція 4/ Operation 4",null,0,null,0,null,0,null,null,null,null,null,null,null,null,null,null,null,null,0,null,null,null,null,null,null,null,null,null,null,null,null,0,null,null,null,null,null,null,null,null,null,null,null,null,0,null,null,null,null,null,null,null,null,null,null,null,null,0]
[null,"Етап 6 / Phase 6",null,null,{"$f":"IF(SUM(E85:E88)=0,\"\",MIN(E85:E88))","v":""},{"$f":"IFERROR(NETWORKDAYS(E84,G84,0),\"\")","v":""},{"$f":"IF(SUM(G85:G88)=0,\"\",MAX(G85:G88))","v":""},{"$f":"U84+AH84+AU84+BH84","v":0},{"$f":"SUM(I85:I88)","v":0},{"$f":"SUM(J85:J88)","v":0},0,0,0,0,0,0,0,0,0,0,{"$f":"SUM(I84:T84)","v":0},0,{"$f":"SUM(W85:W88)","v":0},{"$f":"SUM(X85:X88)","v":0},{"$f":"SUM(Y85:Y88)","v":0},{"$f":"SUM(Z85:Z88)","v":0},{"$f":"SUM(AA85:AA88)","v":0},{"$f":"SUM(AB85:AB88)","v":0},{"$f":"SUM(AC85:AC88)","v":0},{"$f":"SUM(AD85:AD88)","v":0},{"$f":"SUM(AE85:AE88)","v":0},{"$f":"SUM(AF85:AF88)","v":0},{"$f":"SUM(AG85:AG88)","v":0},0,0,{"$f":"SUM(AJ85:AJ88)","v":0},{"$f":"SUM(AK85:AK88)","v":0},{"$f":"SUM(AL85:AL88)","v":0},{"$f":"SUM(AM85:AM88)","v":0},{"$f":"SUM(AN85:AN88)","v":0},{"$f":"SUM(AO85:AO88)","v":0},{"$f":"SUM(AP85:AP88)","v":0},{"$f":"SUM(AQ85:AQ88)","v":0},{"$f":"SUM(AR85:AR88)","v":0},{"$f":"SUM(AS85:AS88)","v":0},{"$f":"SUM(AT85:AT88)","v":0},0,0,{"$f":"SUM(AW85:AW88)","v":0},{"$f":"SUM(AX85:AX88)","v":0},{"$f":"SUM(AY85:AY88)","v":0},{"$f":"SUM(AZ85:AZ88)","v":0},{"$f":"SUM(BA85:BA88)","v":0},{"$f":"SUM(BB85:BB88)","v":0},{"$f":"SUM(BC85:BC88)","v":0},{"$f":"SUM(BD85:BD88)","v":0},{"$f":"SUM(BE85:BE88)","v":0},{"$f":"SUM(BF85:BF88)","v":0},{"$f":"SUM(BG85:BG88)","v":0},0]
[null,"Операція 1/ Operation 1",null,0,null,{"$f":"NETWORKDAYS(E85,G85,0)","v":0},null,0,null,null,null,null,null,null,null,null,null,null,null,null,0,null,null,null,null,null,null,null,null,null,null,null,null,0,null,null,null,null,null,null,null,null,null,null,null,null,0,null,null,null,null,null,null,null,null,null,null,null,null,0]
[null,"Операція 2/ Operation 2",null,0,null,0,null,0,null,null,null,null,null,null,null,null,null,null,null,null,0,null,null,null,null,null,null,null,null,null,null,null,null,0,null,null,null,null,null,null,null,null,null,null,null,null,0,null,null,null,null,null,null,null,null,null,null,null,null,0]
[null,"Операція 3/ Operation 3",null,0,null,0,null,0,null,null,null,null,null,null,null,null,null,null,null,null,0,null,null,null,null,null,null,null,null,null,null,null,null,0,null,null,null,null,null,null,null,null,null,null,null,null,0,null,null,null,null,null,null,null,null,null,null,null,null,0]
[null,"Операція 4/ Operation 4",null,0,null,0,null,0,null,null,null,null,null,null,null,null,null,null,null,null,0,null,null,null,null,null,null,null,null,null,null,null,null,0,null,null,null,null,null,null,null,null,null,null,null,null,0,null,null,null,null,null,null,null,null,null,null,null,null,0]
[null,"Етап 7 / Phase 7",null,null,{"$f":"IF(SUM(E90:E93)=0,\"\",MIN(E90:E93))","v":""},{"$f":"IFERROR(NETWORKDAYS(E89,G89,0),\"\")","v":""},{"$f":"IF(SUM(G90:G93)=0,\"\",MAX(G90:G93))","v":""},{"$f":"U89+AH89+AU89+BH89","v":0},{"$f":"SUM(I90:I93)","v":0},{"$f":"SUM(J90:J93)","v":0},0,0,0,0,0,0,0,0,0,0,{"$f":"SUM(I89:T89)","v":0},0,{"$f":"SUM(W90:W93)","v":0},{"$f":"SUM(X90:X93)","v":0},{"$f":"SUM(Y90:Y93)","v":0},{"$f":"SUM(Z90:Z93)","v":0},{"$f":"SUM(AA90:AA93)","v":0},{"$f":"SUM(AB90:AB93)","v":0},{"$f":"SUM(AC90:AC93)","v":0},{"$f":"SUM(AD90:AD93)","v":0},{"$f":"SUM(AE90:AE93)","v":0},{"$f":"SUM(AF90:AF93)","v":0},{"$f":"SUM(AG90:AG93)","v":0},{"$f":"SUM(V89:AF89)","v":0},{"$f":"SUM(AI90:AI93)","v":0},{"$f":"SUM(AJ90:AJ93)","v":0},{"$f":"SUM(AK90:AK93)","v":0},{"$f":"SUM(AL90:AL93)","v":0},{"$f":"SUM(AM90:AM93)","v":0},{"$f":"SUM(AN90:AN93)","v":0},{"$f":"SUM(AO90:AO93)","v":0},{"$f":"SUM(AP90:AP93)","v":0},{"$f":"SUM(AQ90:AQ93)","v":0},{"$f":"SUM(AR90:AR93)","v":0},{"$f":"SUM(AS90:AS93)","v":0},{"$f":"SUM(AT90:AT93)","v":0},0,0,{"$f":"SUM(AW90:AW93)","v":0},{"$f":"SUM(AX90:AX93)","v":0},{"$f":"SUM(AY90:AY93)","v":0},{"$f":"SUM(AZ90:AZ93)","v":0},{"$f":"SUM(BA90:BA93)","v":0},{"$f":"SUM(BB90:BB93)","v":0},{"$f":"SUM(BC90:BC93)","v":0},{"$f":"SUM(BD90:BD93)","v":0},{"$f":"SUM(BE90:BE93)","v":0},{"$f":"SUM(BF90:BF93)","v":0},{"$f":"SUM(BG90:BG93)","v":0},0]
[null,"Операція 1/ Operation 1",null,0,null,{"$f":"NETWORKDAYS(E90,G90,0)","v":0},null,0,null,null,null,null,null,null,null,null,null,null,null,null,0,null,null,null,null,null,null,null,null,null,null,null,null,{"$f":"SUM(V90:AG90)","v":0},null,null,null,null,null,null,null,null,null,null,null,null,0,null,null,null,null,null,null,null,null,null,null,null,null,0]
[null,"Операція 2/ Operation 2",null,0,null,0,null,0,null,null,null,null,null,null,null,null,null,null,null,null,0,null,null,null,null,null,null,null,null,null,null,null,null,0,null,null,null,null,null,null,null,null,null,null,null,null,0,null,null,null,null,null,null,null,null,null,null,null,null,0]
[null,"Операція 3/ Operation 3",null,0,null,0,null,0,null,null,null,null,null,null,null,null,null,null,null,null,0,null,null,null,null,null,null,null,null,null,null,null,null,0,null,null,null,null,null,null,null,null,null,null,null,null,0,null,null,null,null,null,null,null,null,null,null,null,null,0]
[null,"Операція 4/ Operation 4",null,0,null,0,null,0,null,null,null,null,null,null,null,null,null,null,null,null,0,null,null,null,null,null,null,null,null,null,null,null,null,0,null,null,null,null,null,null,null,null,null,null,null,null,0,null,null,null,null,null,null,null,null,null,null,null,null,0]
[null,"Етап 8 / Phase 8",null,null,{"$f":"IF(SUM(E95:E98)=0,\"\",MIN(E95:E98))","v":""},{"$f":"IFERROR(NETWORKDAYS(E94,G94,0),\"\")","v":""},{"$f":"IF(SUM(G95:G98)=0,\"\",MAX(G95:G98))","v":""},{"$f":"U94+AH94+AU94+BH94","v":0},{"$f":"SUM(I95:I98)","v":0},{"$f":"SUM(J95:J98)","v":0},0,0,0,0,0,0,0,0,0,0,{"$f":"SUM(I94:T94)","v":0},0,{"$f":"SUM(W95:W98)","v":0},{"$f":"SUM(X95:X98)","v":0},{"$f":"SUM(Y95:Y98)","v":0},{"$f":"SUM(Z95:Z98)","v":0},{"$f":"SUM(AA95:AA98)","v":0},{"$f":"SUM(AB95:AB98)","v":0},{"$f":"SUM(AC95:AC98)","v":0},{"$f":"SUM(AD95:AD98)","v":0},{"$f":"SUM(AE95:AE98)","v":0},{"$f":"SUM(AF95:AF98)","v":0},{"$f":"SUM(AG95:AG98)","v":0},0,{"$f":"SUM(AI95:AI98)","v":0},{"$f":"SUM(AJ95:AJ98)","v":0},{"$f":"SUM(AK95:AK98)","v":0},{"$f":"SUM(AL95:AL98)","v":0},{"$f":"SUM(AM95:AM98)","v":0},{"$f":"SUM(AN95:AN98)","v":0},{"$f":"SUM(AO95:AO98)","v":0},{"$f":"SUM(AP95:AP98)","v":0},{"$f":"SUM(AQ95:AQ98)","v":0},{"$f":"SUM(AR95:AR98)","v":0},{"$f":"SUM(AS95:AS98)","v":0},{"$f":"SUM(AT95:AT98)","v":0},0,0,{"$f":"SUM(AW95:AW98)","v":0},{"$f":"SUM(AX95:AX98)","v":0},{"$f":"SUM(AY95:AY98)","v":0},{"$f":"SUM(AZ95:AZ98)","v":0},{"$f":"SUM(BA95:BA98)","v":0},{"$f":"SUM(BB95:BB98)","v":0},{"$f":"SUM(BC95:BC98)","v":0},{"$f":"SUM(BD95:BD98)","v":0},{"$f":"SUM(BE95:BE98)","v":0},{"$f":"SUM(BF95:BF98)","v":0},{"$f":"SUM(BG95:BG98)","v":0},0]
[null,"Операція 1/ Operation 1",null,0,null,{"$f":"NETWORKDAYS(E95,G95,0)","v":0},null,0,null,null,null,null,null,null,null,null,null,null,null,null,0,null,null,null,null,null,null,null,null,null,null,null,null,0,null,null,null,null,null,null,null,null,null,null,null,null,0,null,null,null,null,null,null,null,null,null,null,null,null,0]
[null,"Операція 2/ Operation 2",null,0,null,0,null,0,null,null,null,null,null,null,null,null,null,null,null,null,0,null,null,null,null,null,null,null,null,null,null,null,null,0,null,null,null,null,null,null,null,null,null,null,null,null,0,null,null,null,null,null,null,null,null,null,null,null,null,0]
[null,"Операція 3/ Operation 3",null,0,null,0,null,0,null,null,null,null,null,null,null,null,null,null,null,null,0,null,null,null,null,null,null,null,null,null,null,null,null,0,null,null,null,null,null,null,null,null,null,null,null,null,0,null,null,null,null,null,null,null,null,null,null,null,null,0]
[null,"Операція 4/ Operation 4",null,0,null,0,null,0,null,null,null,null,null,null,null,null,null,null,null,null,0,null,null,null,null,null,null,null,null,null,null,null,null,0,null,null,null,null,null,null,null,null,null,null,null,null,0,null,null,null,null,null,null,null,null,null,null,null,null,0]
[null,null,null,{"$f":"D50","v":0}]

{"sheet":"Фінансування_Financing (CFI)","index":3,"n_rows":37,"n_cols":60,"rows_kept":37,"cut":false,"hidden":false,"merged":[[7,19,7,20],[24,27,24,28],[10,27,10,28],[13,27,13,28],[16,27,16,28],[1,27,1,28],[31,27,31,28],[34,27,34,28],[16,29,16,31],[29,29,29,31],[1,29,1,30],[34,21,34,22],[13,19,13,20],[34,2,34,4],[35,2,35,4],[34,5,34,6],[35,5,35,6],[34,7,34,8],[35,7,35,8],[22,2,22,4],[23,2,23,4],[22,5,22,6],[23,5,23,6],[22,7,22,8],[23,7,23,8],[31,7,31,8],[30,7,30,8],[29,7,29,8],[26,1,26,4],[28,1,28,4],[28,5,28,6],[28,7,28,8],[33,7,33,8],[32,7,32,8],[30,2,30,4],[33,2,33,4],[32,2,32,4],[1,0,1,4],[1,5,1,10],[6,9,6,10],[6,7,6,8],[6,1,6,4],[4,1,4,4],[6,5,6,6],[19,7,19,8],[24,2,24,4],[16,1,16,4],[17,1,17,4],[18,5,18,6],[19,5,19,6],[20,5,20,6],[21,5,21,6],[18,2,18,4],[8,7,8,8],[9,7,9,8],[10,7,10,8],[11,7,11,8],[12,7,12,8],[13,7,13,8],[7,7,7,8],[7,2,7,4],[29,2,29,4],[31,2,31,4],[19,2,19,4],[20,2,20,4],[21,2,21,4],[17,5,17,6],[1,12,1,16],[1,17,1,22],[4,13,4,16],[6,13,6,16],[6,17,6,18],[6,19,6,20],[6,21,6,22],[14,9,14,10],[14,21,14,22],[16,13,16,16],[17,13,17,16],[17,17,17,18],[17,19,17,20],[17,21,17,22],[18,14,18,16],[18,17,18,18],[18,19,18,20],[18,21,18,22],[33,5,33,6],[32,5,32,6],[31,5,31,6],[30,5,30,6],[29,5,29,6],[17,7,17,8],[24,5,24,6],[18,7,18,8],[24,7,24,8],[21,7,21,8],[20,7,20,8],[36,9,36,10],[25,9,25,10],[33,9,33,10],[32,9,32,10],[31,9,31,10],[30,9,30,10],[29,9,29,10],[28,9,28,10],[17,9,17,10],[34,9,34,10],[35,9,35,10],[24,9,24,10],[21,9,21,10],[20,9,20,10],[19,9,19,10],[18,9,18,10],[23,9,23,10],[22,9,22,10],[19,14,19,16],[19,17,19,18],[19,19,19,20],[19,21,19,22],[20,14,20,16],[20,17,20,18],[20,19,20,20],[20,21,20,22],[21,14,21,16],[21,17,21,18],[21,19,21,20],[21,21,21,22],[22,14,22,16],[22,17,22,18],[22,19,22,20],[22,21,22,22],[23,14,23,16],[23,17,23,18],[23,19,23,20],[23,21,23,22],[30,14,30,16],[30,17,30,18],[30,19,30,20],[30,21,30,22],[29,14,29,16],[29,17,29,18],[29,19,29,20],[29,21,29,22],[31,17,31,18],[31,19,31,20],[31,21,31,22],[24,14,24,16],[24,17,24,18],[24,19,24,20],[24,21,24,22],[25,21,25,22],[26,13,26,16],[28,13,28,16],[28,17,28,18],[28,19,28,20],[28,21,28,22],[8,2,8,4],[7,14,7,16],[8,5,8,6],[10,5,10,6],[15,25,25,25],[0,25,14,25],[26,25,37,25],[35,14,35,16],[35,17,35,18],[35,19,35,20],[35,21,35,22],[36,21,36,22],[32,14,32,16],[32,17,32,18],[32,19,32,20],[32,21,32,22],[33,14,33,16],[33,17,33,18],[33,19,33,20],[33,21,33,22],[34,14,34,16],[34,17,34,18],[34,19,34,20],[31,14,31,16],[12,5,12,6],[8,14,8,16],[8,17,8,18],[8,19,8,20],[9,19,9,20],[10,17,10,18],[10,19,10,20],[11,19,11,20],[12,17,12,18],[12,19,12,20]]}
[null,"UKR",null,null,null,null,null,null,null,null,null,null,null,"ENG",null,null,null,null,null,null,null,null,null,null,null,"ГРАФІК ФІНАНСУВАННЯ/ \nFINANCING SCHEDULE"]
["ФІНАНСОВІ ВИТРАТИ ПО ПРОЕКТУ",null,null,null,null,{"$f":"Головна_Summary!A2","v":"Будівництво СЕС 10 МВт"},null,null,null,null,null,null,"FINANCIAL COSTS OF THE PROJECT",null,null,null,null,{"$f":"Головна_Summary!K2","v":"Project name"},null,null,null,null,null,null,null,null,null,"Інвестиційні витрати / Investment costs",null,{"$f":"Головна_Summary!AD5","v":"тис.US$/ ths.US$"}]
[]
[null,null,null,null,null,null,null,null,null,null,null,null,null,null,null,null,null,null,null,null,null,null,null,null,null,null,null,null,null,"Січень / Jan","Лютий / Feb","Березень / Mar","Квітень / Apr","Травень / May","Червень / Jun","Липень / Jul","Серпень / Aug","Вересень / Sep","Жовтень / Oct","Листопад / Nov","Грудень / Dec","Разом / Total"]
[null,"Інвестиційні витрати по проекту",null,null,null,null,null,null,null,null,null,null,null,"Investment costs of the project",null,null,null,null,null,null,null,null,null,null,null,null,null,null,{"$f":"'Грошові потоки _ Cash flows'!G7","v":2024},{"$f":"'План фінансування_Funding plan'!I5","v":0},{"$f":"'План фінансування_Funding plan'!J5","v":0},{"$f":"'План фінансування_Funding plan'!K5","v":0},{"$f":"'План фінансування_Funding plan'!L5","v":0},{"$f":"'План фінансування_Funding plan'!M5","v":0},{"$f":"'План фінансування_Funding plan'!N5","v":0},{"$f":"'План фінансування_Funding plan'!O5","v":4278.8149935014299},{"$f":"'План фінансування_Funding plan'!P5","v":0},{"$f":"'План фінансування_Funding plan'!Q5","v":0},{"$f":"'План фінансування_Funding plan'!R5","v":0},{"$f":"'План фінансування_Funding plan'!S5","v":0},{"$f":"'План фінансування_Funding plan'!T5","v":0},{"$f":"SUM(AD5:AO5)","v":4278.8149935014299}]
[]
[null,"Найменування об'єкту",null,null,null,"Кількість",null,"Одн.виміру",null,"Сума",null,null,null,"Object name",null,null,null,"Amount",null,"Unit",null,"Sum",null,null,null,null,null,null,null,{"$f":"AC5","v":2024},{"$f":"AD7+1","v":2025},{"$f":"AE7+1","v":2026},{"$f":"AF7+1","v":2027},{"$f":"AG7+1","v":2028},{"$f":"AH7+1","v":2029},2030,2031,2032,2033,2034,2035,{"$f":"AO7+1","v":2036},{"$f":"AP7+1","v":2037},{"$f":"AQ7+1","v":2038},{"$f":"AR7+1","v":2039},{"$f":"AS7+1","v":2040},2041,{"$f":"AU7+1","v":2042},{"$f":"AV7+1","v":2043},{"$f":"AW7+1","v":2044},{"$f":"AX7+1","v":2045},{"$f":"AY7+1","v":2046},{"$f":"AZ7+1","v":2047},{"$f":"BA7+1","v":2048},{"$f":"BB7+1","v":2049},{"$f":"BC7+1","v":2050},{"$f":"BD7+1","v":2051},{"$f":"BE7+1","v":2052},{"$f":"BF7+1","v":2053},{"$f":"AP4","v":"Разом / Total"}]
[null,1,"Будівництво СЕС",null,null,null,null,null,null,{"$f":"Припущення_Assumptions!G18","v":4278.8149935014299},null,1,null,{"$f":"B8","v":1},null,null,null,null,null,null,null,{"$f":"J8","v":4278.8149935014299},null,1,null,null,null,null,null,{"$f":"'План фінансування_Funding plan'!U5","v":4278.8149935014299},{"$f":"'План фінансування_Funding plan'!AH5","v":0},{"$f":"'План фінансування_Funding plan'!AU5","v":0},{"$f":"'План фінансування_Funding plan'!BH5","v":0},null,null,null,null,null,null,null,null,null,null,null,null,null,null,null,null,null,null,null,null,null,null,null,null,null,null,{"$f":"SUM(AD8:BG8)","v":4278.8149935014299}]
[null,2,null,null,null,null,null,null,null,null,null,0,null,2,null,null,null,null,null,null,null,0,null,0]
[null,3,null,null,null,null,null,null,null,null,null,1,null,3,null,null,null,null,null,null,null,0,null,1,null,null,null,null,null,{"$f":"AC5","v":2024},{"$f":"AD10+1","v":2025},{"$f":"AE10+1","v":2026},{"$f":"AF10+1","v":2027},{"$f":"AG10+1","v":2028},{"$f":"AH10+1","v":2029},2030,2031,2032,2033,2034,2035,{"$f":"AO10+1","v":2036},{"$f":"AP10+1","v":2037},{"$f":"AQ10+1","v":2038},{"$f":"AR10+1","v":2039},{"$f":"AS10+1","v":2040},2041,{"$f":"AU10+1","v":2042},{"$f":"AV10+1","v":2043},{"$f":"AW10+1","v":2044},{"$f":"AX10+1","v":2045},{"$f":"AY10+1","v":2046},{"$f":"AZ10+1","v":2047},{"$f":"BA10+1","v":2048},{"$f":"BB10+1","v":2049},{"$f":"BC10+1","v":2050},{"$f":"BD10+1","v":2051},{"$f":"BE10+1","v":2052},{"$f":"BF10+1","v":2053},{"$f":"BH7","v":"Разом / Total"}]
[null,4,null,null,null,null,null,null,null,null,null,0,null,4,null,null,null,null,null,null,null,0,null,0,null,null,null,"Капітальні ремонти / Overhauls",null,null,null,null,null,null,null,null,null,null,null,null,null,null,null,null,null,null,null,null,null,null,null,null,null,null,null,null,null,null,null,{"$f":"SUM(AD11:BG11)","v":0}]
[null,5,null,null,null,null,null,null,null,null,null,0,null,5,null,null,null,null,null,null,null,0,null,0]
[null,6,null,null,null,null,null,null,null,null,null,1,null,6,null,null,null,null,null,null,null,0,null,1,null,null,null,null,null,{"$f":"AC5","v":2024},{"$f":"AD13+1","v":2025},{"$f":"AE13+1","v":2026},{"$f":"AF13+1","v":2027},{"$f":"AG13+1","v":2028},{"$f":"AH13+1","v":2029},2030,2031,2032,2033,2034,2035,{"$f":"AO13+1","v":2036},{"$f":"AP13+1","v":2037},{"$f":"AQ13+1","v":2038},{"$f":"AR13+1","v":2039},{"$f":"AS13+1","v":2040},2041,{"$f":"AU13+1","v":2042},{"$f":"AV13+1","v":2043},{"$f":"AW13+1","v":2044},{"$f":"AX13+1","v":2045},{"$f":"AY13+1","v":2046},{"$f":"AZ13+1","v":2047},{"$f":"BA13+1","v":2048},{"$f":"BB13+1","v":2049},{"$f":"BC13+1","v":2050},{"$f":"BD13+1","v":2051},{"$f":"BE13+1","v":2052},{"$f":"BF13+1","v":2053},{"$f":"BH10","v":"Разом / Total"}]
[null,7,null,null,null,null,null,null,null,null,null,0,null,7,null,null,null,null,null,null,null,0,null,0,null,null,null,"Операційні витрати / Operating costs ",null,null,null,null,null,null,null,null,null,null,null,null,null,null,null,null,null,null,null,null,null,null,null,null,null,null,null,null,null,null,null,{"$f":"SUM(AD14:BG14)","v":0}]
[null,null,null,null,null,null,null,null,"Всього",{"$f":"SUM(J8:J14)","v":4278.8149935014299},null,{"$f":"COUNTIF(L8:L14,1)","v":3},null,null,null,null,null,null,null,null,"Total",{"$f":"SUM(V8:V14)","v":4278.8149935014299},null,{"$f":"COUNTIF(X8:X14,1)","v":3}]
[null,null,null,null,null,null,null,null,null,null,null,null,null,null,null,null,null,null,null,null,null,null,null,null,null,"ГРАФІК ОСВОЕННЯ/ \nCAPITALIZATION SCHEDULE"]
[null,"Капітальні ремонти під час експлуатації",null,null,null,null,null,null,null,null,null,null,null,"Overhauls during comissioning",null,null,null,null,null,null,null,null,null,null,null,null,null,"Інвестиційні витрати / Investment costs",null,{"$f":"AD2","v":"тис.US$/ ths.US$"}]
[null,"Найменування об'єкту",null,null,null,"Кількість",null,"Одн.виміру",null,"Сума",null,null,null,{"$f":"N7","v":"Object name"},null,null,null,{"$f":"R7","v":"Amount"},null,{"$f":"T7","v":"Unit"},null,{"$f":"V7","v":"Sum"}]
[null,1,null,null,null,null,null,null,null,null,null,null,null,1,null,null,null,{"$f":"F19","v":0},null,{"$f":"H19","v":0},null,{"$f":"J19","v":0},null,null,null,null,null,null,null,{"$f":"AD4","v":"Січень / Jan"},"Лютий / Feb","Березень / Mar","Квітень / Apr","Травень / May","Червень / Jun","Липень / Jul","Серпень / Aug","Вересень / Sep","Жовтень / Oct","Листопад / Nov","Грудень / Dec","Разом / Total"]
[null,2,null,null,null,null,null,null,null,null,null,null,null,2,null,null,null,{"$f":"F20","v":0},null,{"$f":"H20","v":0},null,{"$f":"J20","v":0},null,null,null,null,null,null,{"$f":"AC5","v":2024},{"$f":"'План фінансування_Funding plan'!I55","v":0},{"$f":"'План фінансування_Funding plan'!J55","v":0},{"$f":"'План фінансування_Funding plan'!K55","v":0},{"$f":"'План фінансування_Funding plan'!L55","v":0},{"$f":"'План фінансування_Funding plan'!M55","v":4278.8149935014299},{"$f":"'План фінансування_Funding plan'!N55","v":0},{"$f":"'План фінансування_Funding plan'!O55","v":0},{"$f":"'План фінансування_Funding plan'!P55","v":0},{"$f":"'План фінансування_Funding plan'!Q55","v":0},{"$f":"'План фінансування_Funding plan'!R55","v":0},{"$f":"'План фінансування_Funding plan'!S55","v":0},{"$f":"'План фінансування_Funding plan'!T55","v":0},{"$f":"SUM(AD20:AO20)","v":4278.8149935014299}]
[null,3,null,null,null,null,null,null,null,null,null,null,null,3,null,null,null,0,null,0,null,0,null,null,null,null,null,null,null,{"$f":"AC20","v":2024},{"$f":"AD21+1","v":2025},{"$f":"AE21+1","v":2026},{"$f":"AF21+1","v":2027},{"$f":"AG21+1","v":2028},{"$f":"AH21+1","v":2029},2030,2031,2032,2033,2034,2035,{"$f":"AO21+1","v":2036},{"$f":"AP21+1","v":2037},{"$f":"AQ21+1","v":2038},{"$f":"AR21+1","v":2039},{"$f":"AS21+1","v":2040},2041,{"$f":"AU21+1","v":2042},{"$f":"AV21+1","v":2043},{"$f":"AW21+1","v":2044},{"$f":"AX21+1","v":2045},{"$f":"AY21+1","v":2046},{"$f":"AZ21+1","v":2047},{"$f":"BA21+1","v":2048},{"$f":"BB21+1","v":2049},{"$f":"BC21+1","v":2050},{"$f":"BD21+1","v":2051},{"$f":"BE21+1","v":2052},{"$f":"BF21+1","v":2053},{"$f":"BH13","v":"Разом / Total"}]
[null,4,null,null,null,null,null,null,null,null,null,null,null,4,null,null,null,0,null,0,null,0,null,null,null,null,null,null,null,{"$f":"AP20","v":4278.8149935014299},{"$f":"'План фінансування_Funding plan'!AH55","v":0},{"$f":"'План фінансування_Funding plan'!AU55","v":0},{"$f":"'План фінансування_Funding plan'!BH55","v":0},null,null,null,null,null,null,null,null,null,null,null,null,null,null,null,null,null,null,null,null,null,null,null,null,null,null,{"$f":"SUM(AD22:BG22)","v":4278.8149935014299}]
[null,5,null,null,null,null,null,null,null,null,null,null,null,5,null,null,null,0,null,0,null,0]
[null,6,null,null,null,null,null,null,null,null,null,null,null,6,null,null,null,0,null,0,null,0,null,null,null,null,null,null,null,{"$f":"AC20","v":2024},{"$f":"AD24+1","v":2025},{"$f":"AE24+1","v":2026},{"$f":"AF24+1","v":2027},{"$f":"AG24+1","v":2028},{"$f":"AH24+1","v":2029},2030,2031,2032,2033,2034,2035,{"$f":"AO24+1","v":2036},{"$f":"AP24+1","v":2037},{"$f":"AQ24+1","v":2038},{"$f":"AR24+1","v":2039},{"$f":"AS24+1","v":2040},2041,{"$f":"AU24+1","v":2042},{"$f":"AV24+1","v":2043},{"$f":"AW24+1","v":2044},{"$f":"AX24+1","v":2045},{"$f":"AY24+1","v":2046},{"$f":"AZ24+1","v":2047},{"$f":"BA24+1","v":2048},{"$f":"BB24+1","v":2049},{"$f":"BC24+1","v":2050},{"$f":"BD24+1","v":2051},{"$f":"BE24+1","v":2052},{"$f":"BF24+1","v":2053},{"$f":"BH13","v":"Разом / Total"}]
[null,7,null,null,null,null,null,null,null,null,null,null,null,7,null,null,null,0,null,0,null,0,null,null,null,null,null,"Капітальні ремонти / Overhauls",null,null,null,null,null,null,null,null,null,null,null,null,null,null,null,null,null,null,null,null,null,null,null,null,null,null,null,null,null,null,null,{"$f":"SUM(AD25:BG25)","v":0}]
[null,null,null,null,null,null,null,null,"Всього",{"$f":"SUM(J19:K25)","v":0},null,null,null,null,null,null,null,null,null,null,{"$f":"U15","v":"Total"},{"$f":"SUM(V19:W25)","v":0}]
[null,"Операційні витрати на проект",null,null,null,null,null,null,null,null,null,null,null,"Operating costs of the project",null,null,null,null,null,null,null,null,null,null,null,"ВВЕДЕННЯ В ЕКСПЛУАТАЦІЮ/ \nCOMMISSIONING"]
[]
[null,"Найменування об'єкту",null,null,null,"Кількість",null,"Одн.виміру",null,"Сума",null,null,null,{"$f":"N18","v":"Object name"},null,null,null,{"$f":"R18","v":"Amount"},null,{"$f":"T18","v":"Unit"},null,{"$f":"V18","v":"Sum"}]
[null,1,null,null,null,null,null,null,null,null,null,null,null,1,null,null,null,{"$f":"F30","v":0},null,{"$f":"H30","v":0},null,{"$f":"J30","v":0},null,null,null,null,null,null,null,{"$f":"AD17","v":"тис.US$/ ths.US$"}]
[null,2,null,null,null,null,null,null,null,null,null,null,null,2,null,null,null,{"$f":"F31","v":0},null,0,null,{"$f":"J31","v":0},null,null,null,null,null,null,null,{"$f":"AC20","v":2024},{"$f":"AD31+1","v":2025},{"$f":"AE31+1","v":2026},{"$f":"AF31+1","v":2027},{"$f":"AG31+1","v":2028},{"$f":"AH31+1","v":2029},2030,2031,2032,2033,2034,2035,{"$f":"AO31+1","v":2036},{"$f":"AP31+1","v":2037},{"$f":"AQ31+1","v":2038},{"$f":"AR31+1","v":2039},{"$f":"AS31+1","v":2040},2041,{"$f":"AU31+1","v":2042},{"$f":"AV31+1","v":2043},{"$f":"AW31+1","v":2044},{"$f":"AX31+1","v":2045},{"$f":"AY31+1","v":2046},{"$f":"AZ31+1","v":2047},{"$f":"BA31+1","v":2048},{"$f":"BB31+1","v":2049},{"$f":"BC31+1","v":2050},{"$f":"BD31+1","v":2051},{"$f":"BE31+1","v":2052},{"$f":"BF31+1","v":2053},{"$f":"BH24","v":"Разом / Total"}]
[null,3,null,null,null,null,null,null,null,null,null,null,null,3,null,null,null,0,null,0,null,0,null,null,null,null,null,"Введення об'екта / Commissioning",null,{"$f":"IF(AD31='Грошові потоки _ Cash flows'!$E$13,Головна_Summary!$AB$15,0)","v":0},{"$f":"IF(AE31='Грошові потоки _ Cash flows'!$E$13,Головна_Summary!$AB$15,0)","v":4278.8149935014299},{"$f":"IF(AF31='Грошові потоки _ Cash flows'!$E$13,Головна_Summary!$AB$15,0)","v":0},{"$f":"IF(AG31='Грошові потоки _ Cash flows'!$E$13,Головна_Summary!$AB$15,0)","v":0},{"$f":"IF(AH31='Грошові потоки _ Cash flows'!$E$13,Головна_Summary!$AB$15,0)","v":0},{"$f":"IF(AI31='Грошові потоки _ Cash flows'!$E$13,Головна_Summary!$AB$15,0)","v":0},{"$f":"IF(AJ31='Грошові потоки _ Cash flows'!$E$13,Головна_Summary!$AB$15,0)","v":0},{"$f":"IF(AK31='Грошові потоки _ Cash flows'!$E$13,Головна_Summary!$AB$15,0)","v":0},{"$f":"IF(AL31='Грошові потоки _ Cash flows'!$E$13,Головна_Summary!$AB$15,0)","v":0},{"$f":"IF(AM31='Грошові потоки _ Cash flows'!$E$13,Головна_Summary!$AB$15,0)","v":0},{"$f":"IF(AN31='Грошові потоки _ Cash flows'!$E$13,Головна_Summary!$AB$15,0)","v":0},{"$f":"IF(AO31='Грошові потоки _ Cash flows'!$E$13,Головна_Summary!$AB$15,0)","v":0},{"$f":"IF(AP31='Грошові потоки _ Cash flows'!$E$13,Головна_Summary!$AB$15,0)","v":0},{"$f":"IF(AQ31='Грошові потоки _ Cash flows'!$E$13,Головна_Summary!$AB$15,0)","v":0},{"$f":"IF(AR31='Грошові потоки _ Cash flows'!$E$13,Головна_Summary!$AB$15,0)","v":0},{"$f":"IF(AS31='Грошові потоки _ Cash flows'!$E$13,Головна_Summary!$AB$15,0)","v":0},{"$f":"IF(AT31='Грошові потоки _ Cash flows'!$E$13,Головна_Summary!$AB$15,0)","v":0},{"$f":"IF(AU31='Грошові потоки _ Cash flows'!$E$13,Головна_Summary!$AB$15,0)","v":0},{"$f":"IF(AV31='Грошові потоки _ Cash flows'!$E$13,Головна_Summary!$AB$15,0)","v":0},{"$f":"IF(AW31='Грошові потоки _ Cash flows'!$E$13,Головна_Summary!$AB$15,0)","v":0},{"$f":"IF(AX31='Грошові потоки _ Cash flows'!$E$13,Головна_Summary!$AB$15,0)","v":0},{"$f":"IF(AY31='Грошові потоки _ Cash flows'!$E$13,Головна_Summary!$AB$15,0)","v":0},{"$f":"IF(AZ31='Грошові потоки _ Cash flows'!$E$13,Головна_Summary!$AB$15,0)","v":0},{"$f":"IF(BA31='Грошові потоки _ Cash flows'!$E$13,Головна_Summary!$AB$15,0)","v":0},{"$f":"IF(BB31='Грошові потоки _ Cash flows'!$E$13,Головна_Summary!$AB$15,0)","v":0},{"$f":"IF(BC31='Грошові потоки _ Cash flows'!$E$13,Головна_Summary!$AB$15,0)","v":0},{"$f":"IF(BD31='Грошові потоки _ Cash flows'!$E$13,Головна_Summary!$AB$15,0)","v":0},{"$f":"IF(BE31='Грошові потоки _ Cash flows'!$E$13,Головна_Summary!$AB$15,0)","v":0},{"$f":"IF(BF31='Грошові потоки _ Cash flows'!$E$13,Головна_Summary!$AB$15,0)","v":0},{"$f":"IF(BG31='Грошові потоки _ Cash flows'!$E$13,Головна_Summary!$AB$15,0)","v":0},{"$f":"SUM(AD32:BG32)","v":4278.8149935014299}]
[null,4,null,null,null,null,null,null,null,null,null,null,null,4,null,null,null,0,null,0,null,0]
[null,5,null,null,null,null,null,null,null,null,null,null,null,5,null,null,null,0,null,0,null,0,null,null,null,null,null,null,null,{"$f":"AD24","v":2024},{"$f":"AD34+1","v":2025},{"$f":"AE34+1","v":2026},{"$f":"AF34+1","v":2027},{"$f":"AG34+1","v":2028},{"$f":"AH34+1","v":2029},2030,2031,2032,2033,2034,2035,{"$f":"AO34+1","v":2036},{"$f":"AP34+1","v":2037},{"$f":"AQ34+1","v":2038},{"$f":"AR34+1","v":2039},{"$f":"AS34+1","v":2040},2041,{"$f":"AU34+1","v":2042},{"$f":"AV34+1","v":2043},{"$f":"AW34+1","v":2044},{"$f":"AX34+1","v":2045},{"$f":"AY34+1","v":2046},{"$f":"AZ34+1","v":2047},{"$f":"BA34+1","v":2048},{"$f":"BB34+1","v":2049},{"$f":"BC34+1","v":2050},{"$f":"BD34+1","v":2051},{"$f":"BE34+1","v":2052},{"$f":"BF34+1","v":2053},{"$f":"BH31","v":"Разом / Total"}]
[null,6,null,null,null,null,null,null,null,null,null,null,null,6,null,null,null,0,null,0,null,0,null,null,null,null,null,"Капітальні ремонти / Overhauls",null,{"$f":"IF(AD34=AD10,AD11,0)","v":0},0,0,0,0,0,0,0,0,0,0,0,0,0,0,0,0,0,0,0,0,0,0,0,0,0,0,0,0,0,{"$f":"SUM(AD35:BG35)","v":0}]
[null,7,null,null,null,null,null,null,null,null,null,null,null,7,null,null,null,0,null,0,null,0]
[null,null,null,null,null,null,null,null,"Всього",{"$f":"J15","v":4278.8149935014299},null,null,null,null,null,null,null,null,null,null,{"$f":"U26","v":"Total"},{"$f":"SUM(V8:W14)","v":4278.8149935014299}]

{"sheet":"Грошові потоки _ Cash flows","index":4,"n_rows":57,"n_cols":39,"rows_kept":57,"cut":false,"hidden":false,"merged":[[49,2,49,6],[28,2,28,3],[30,2,30,3],[44,1,44,3],[47,2,47,6],[31,2,31,6],[35,2,35,6],[38,2,38,6],[37,1,37,3],[48,2,48,6],[34,1,34,6],[29,3,29,4],[16,15,17,17],[6,15,6,17],[16,18,17,18],[27,2,27,4],[23,1,23,6],[24,2,24,6],[6,2,6,3],[8,2,8,3],[10,2,10,3],[16,2,16,3],[25,2,25,6],[12,2,12,3],[14,2,14,3],[21,0,22,7],[18,2,18,3],[4,15,4,19],[4,8,4,14],[14,15,14,17],[12,15,12,17],[10,15,10,17],[8,15,8,17]]}
[]
[]
["РОЗРАХУНОК ГРОШОВИХ ПОТОКІВ І ЕКОНОМІЧНОГО ЕФЕКТУ / CALCULATION OF CASH FLOWS AND ECONOMIC EFFECT"]
[null,null,null,null,null,null,null,null,null,null,null,null,null,{"$f":"IF(Головна_Summary!H13=\"Власні кошти\",1,0)","v":0}]
[null,null,"ВХІДНІ ДАННІ / DATA",null,null,null,null,null,"ПОКАЗНИКИ ЕКОНОМІЧНОЇ ЕФЕКТИВНОСТІ ПРОЕКТУ / INDICATORS OF ECONOMIC EFFICIENCY OF THE PROJECT",null,null,null,null,null,null,"ДОДАТКОВА ІНФОРМАЦІЯ ПРО ПРОЕКТ / EXTRA PROJECT INFO"]
[null,null,null,null,"місяць / month",null,"рік / year"]
[null,null,"Початок витрат за проектом / \nStart of project expenses",null,7,null,{"$f":"Головна_Summary!E7","v":2024},null,null,"NPV  із залишковою вартістю / \nwith residual value",{"$f":"AM49+S11","v":1479.2847079935079},{"$f":"Головна_Summary!AD5","v":"тис.US$/ ths.US$"},"PI",{"$f":"IF(SUMPRODUCT(I38:AL38,I48:AL48)=0,\"-\",K7/SUMPRODUCT(I38:AL38,I48:AL48)+1)","v":1.5068266306842686},null,"Початкова вартість / Initial cost",null,null,{"$f":"Амортизація_Depreciation!AJ5+Амортизація_Depreciation!AJ27","v":4278.8149935014299},{"$f":"Головна_Summary!AD5","v":"тис.US$/ ths.US$"}]
[]
[null,null,"Розрахунок грошових потоків на / \nCash flow calculation",null,15,null,"років/ years",null,null,"NPV без залишкової вартості / \nwithout residual value",{"$f":"AM49","v":1479.2847079935079},{"$f":"Головна_Summary!AD5","v":"тис.US$/ ths.US$"},"DPP",{"$f":"IF(K7>0,IF(SUM(J52:AL52)=0,\"<12\",SUM(I52:AL52)),\"Не окуповується/ Doesn't pay off\")","v":90.602256811061238}," міс.","Залишкова вартість / Residual value",null,null,{"$f":"IF(E17=\"Ліквідаційна\",IF(S13>S15,S13-(S13-S15)*HLOOKUP(G7+E9,I22:AL54,32),'Грошові потоки _ Cash flows'!S13+('Грошові потоки _ Cash flows'!S15-'Грошові потоки _ Cash flows'!S13)*HLOOKUP(G7+E9,I22:AL54,32)),IF(E17=\"Подовжена\",S17,0))","v":1711.5259974005719},{"$f":"Головна_Summary!AD5","v":"тис.US$/ ths.US$"}]
[]
[null,null,"Ставка дисконтування / Discount rate",null,0.155,null,"%",null,null,"ROI",{"$f":"IFERROR(IF(Головна_Summary!H13=\"Кредитні кошти\",(SUMPRODUCT(I33:AL33,I48:AL48)-SUMPRODUCT(I57:AL57,I48:AL48))/SUMPRODUCT(I57:AL57,I48:AL48),IF(Головна_Summary!H13=\"Власні кошти\",(SUMPRODUCT(I33:AL33,I48:AL48)-SUMPRODUCT(I39:AL39,I48:AL48))/SUMPRODUCT(I39:AL39,I48:AL48),(SUMPRODUCT(I33:AL33,I48:AL48)-SUMPRODUCT(I55:AL55,I48:AL48))/SUMPRODUCT(I55:AL55,I48:AL48))),IF(Головна_Summary!H13=\"Грантові кошти\",(SUMPRODUCT(I33:AL33,I48:AL48)-SUMPRODUCT(I39:AL39,I48:AL48))/SUMPRODUCT(I39:AL39,I48:AL48),(SUMPRODUCT(I33:AL33,I48:AL48)-SUMPRODUCT(I56:AL56,I48:AL48))/SUMPRODUCT(I56:AL56,I48:AL48)))","v":0.11868912801197984},"%","PP",{"$f":"IF(K7>0,IF(SUM(J53:AL53)=0,\"<12\",SUM(I53:AL53)),\"Не окуповується/ Doesn't pay off\")","v":75.999728631563755}," міс.","Дисконтована залишкова вартість / \nDiscounted residual value",null,null,{"$f":"S9*HLOOKUP(E13+E9-1,I22:AL50,26,0)/(1+E11)","v":0},{"$f":"Головна_Summary!AD5","v":"тис.US$/ ths.US$"}]
[]
[null,null,"Рік введення в експлуатацію / \nYear of commissioning",null,{"$f":"Головна_Summary!G7","v":2025},null,null,null,null,null,0.3194902936128946,"%","BCR",{"$f":"IFERROR(IF(Головна_Summary!H13=\"Кредитні кошти\",(SUMPRODUCT(I25:AL25,I48:AL48)/SUMPRODUCT(I57:AL57,I48:AL48)),_xlfn.IFS(Головна_Summary!H13=\"Власні кошти\",(SUMPRODUCT(I25:AL25,I48:AL48)/SUMPRODUCT(I39:AL39,I48:AL48))*(SUMPRODUCT(I25:AL25,I48:AL48)/SUMPRODUCT(I55:AL55,I48:AL48)),Головна_Summary!H13=\"Грантові кошти\",(SUMPRODUCT(I25:AL25,I48:AL48)/SUMPRODUCT(I39:AL39,I48:AL48))*(SUMPRODUCT(I25:AL25,I48:AL48)/SUMPRODUCT(I56:AL56,I48:AL48)))),\"Н/Д\")","v":1.678559767478377},null,"Ринкова залишкова /Market residual value",null,null,{"$f":"IF(E15<E9,0,S7*(E15-E9)/E15)","v":1711.5259974005719},{"$f":"Головна_Summary!AD5","v":"тис.US$/ ths.US$"}]
[]
[null,null,"Макс.термін експлуатації об'єкта / max. service life ",null,25,null,"років/ years",null,null,null,null,null,null,null,null,"Бухгалтерська залишкова / Accounting residual value",null,null,{"$f":"IF(E9<=E15,HLOOKUP(E13+E9-1,Амортизація_Depreciation!F4:AI137,53,FALSE),HLOOKUP(E13+E15-1,Амортизація_Depreciation!F4:AI137,53,FALSE))","v":1711.5259974005721},{"$f":"Головна_Summary!AD5","v":"тис.US$/ ths.US$"},{"$f":"IFERROR(HLOOKUP(P6,'Грошові потоки _ Cash flows'!$A$22:$AL$26,5,FALSE)*Припущення_Assumptions!#REF!*'Тариф ОСП_Tariff'!$W$2,0)","v":0}]
[]
[null,null,"Залишкова вартість / Residual value",null,"Ліквідаційна",null,{"$f":"IF(E17=\"Ліквідаційна\",\"Liquidation\",IF(E17=\"Подовжена\",\"Elongated\",\"Missing\"))","v":"Liquidation"},null,null,null,null,null,null,null,null,"Подовжена вартість в пост-прогнозний період / Extended cost in the post-forecast period",null,null,{"$f":"HLOOKUP(E13+E9-1,I22:AL45,21,FALSE)*(1+E19)/(E11-E19)","v":0},{"$f":"Головна_Summary!AD5","v":"тис.US$/ ths.US$"}]
[]
[null,null,"Прогноз середньорічної зміни ВГП в період після розрахункових / Forecasted cash flow change",null,0,null,"%"]
[]
[]
[{"$f":"Головна_Summary!A2","v":"Будівництво СЕС 10 МВт"},null,null,null,null,null,null,null,{"$f":"G7","v":2024},{"$f":"IF(I22=0,0,IF(($E$13+$E$9-1)>=I22+1,I22+1,0))","v":2025},{"$f":"IF(J22=0,0,IF(($E$13+$E$9-1)>=J22+1,J22+1,0))","v":2026},2027,2028,2029,2030,2031,2032,2033,2034,2035,2036,2037,2038,2039,{"$f":"IF(X22=0,0,IF(($E$13+$E$9-1)>=X22+1,X22+1,0))","v":0},{"$f":"IF(Y22=0,0,IF(($E$13+$E$9-1)>=Y22+1,Y22+1,0))","v":0},{"$f":"IF(Z22=0,0,IF(($E$13+$E$9-1)>=Z22+1,Z22+1,0))","v":0},{"$f":"IF(AA22=0,0,IF(($E$13+$E$9-1)>=AA22+1,AA22+1,0))","v":0},{"$f":"IF(AB22=0,0,IF(($E$13+$E$9-1)>=AB22+1,AB22+1,0))","v":0},{"$f":"IF(AC22=0,0,IF(($E$13+$E$9-1)>=AC22+1,AC22+1,0))","v":0},{"$f":"IF(AD22=0,0,IF(($E$13+$E$9-1)>=AD22+1,AD22+1,0))","v":0},{"$f":"IF(AE22=0,0,IF(($E$13+$E$9-1)>=AE22+1,AE22+1,0))","v":0},{"$f":"IF(AF22=0,0,IF(($E$13+$E$9-1)>=AF22+1,AF22+1,0))","v":0},{"$f":"IF(AG22=0,0,IF(($E$13+$E$9-1)>=AG22+1,AG22+1,0))","v":0},{"$f":"IF(AH22=0,0,IF(($E$13+$E$9-1)>=AH22+1,AH22+1,0))","v":0},{"$f":"IF(AI22=0,0,IF(($E$13+$E$9-1)>=AI22+1,AI22+1,0))","v":0},{"$f":"IF(AJ22=0,0,IF(($E$13+$E$9-1)>=AJ22+1,AJ22+1,0))","v":0},0,"Разом / Total"]
[null,null,null,null,null,null,null,null,{"$f":"IF(I22>=$G$7,COUNT($I$22:I22),0)","v":1},{"$f":"IF(J22>=$G$7,COUNT($I$22:J22),0)","v":2},{"$f":"IF(K22>=$G$7,COUNT($I$22:K22),0)","v":3},{"$f":"IF(L22>=$G$7,COUNT($I$22:L22),0)","v":4},{"$f":"IF(M22>=$G$7,COUNT($I$22:M22),0)","v":5},{"$f":"IF(N22>=$G$7,COUNT($I$22:N22),0)","v":6},{"$f":"IF(O22>=$G$7,COUNT($I$22:O22),0)","v":7},{"$f":"IF(P22>=$G$7,COUNT($I$22:P22),0)","v":8},{"$f":"IF(Q22>=$G$7,COUNT($I$22:Q22),0)","v":9},{"$f":"IF(R22>=$G$7,COUNT($I$22:R22),0)","v":10},{"$f":"IF(S22>=$G$7,COUNT($I$22:S22),0)","v":11},{"$f":"IF(T22>=$G$7,COUNT($I$22:T22),0)","v":12},{"$f":"IF(U22>=$G$7,COUNT($I$22:U22),0)","v":13},{"$f":"IF(V22>=$G$7,COUNT($I$22:V22),0)","v":14},{"$f":"IF(W22>=$G$7,COUNT($I$22:W22),0)","v":15},{"$f":"IF(X22>=$G$7,COUNT($I$22:X22),0)","v":16},{"$f":"IF(Y22>=$G$7,COUNT($I$22:Y22),0)","v":0},{"$f":"IF(Z22>=$G$7,COUNT($I$22:Z22),0)","v":0},{"$f":"IF(AA22>=$G$7,COUNT($I$22:AA22),0)","v":0},{"$f":"IF(AB22>=$G$7,COUNT($I$22:AB22),0)","v":0},{"$f":"IF(AC22>=$G$7,COUNT($I$22:AC22),0)","v":0},{"$f":"IF(AD22>=$G$7,COUNT($I$22:AD22),0)","v":0},{"$f":"IF(AE22>=$G$7,COUNT($I$22:AE22),0)","v":0},{"$f":"IF(AF22>=$G$7,COUNT($I$22:AF22),0)","v":0},{"$f":"IF(AG22>=$G$7,COUNT($I$22:AG22),0)","v":0},{"$f":"IF(AH22>=$G$7,COUNT($I$22:AH22),0)","v":0},{"$f":"IF(AI22>=$G$7,COUNT($I$22:AI22),0)","v":0},{"$f":"IF(AJ22>=$G$7,COUNT($I$22:AJ22),0)","v":0},{"$f":"IF(AK22>=$G$7,COUNT($I$22:AK22),0)","v":0},{"$f":"IF(AL22>=$G$7,COUNT($I$22:AL22),0)","v":0}]
["1.","Операційні грошові потоки (CFO)"]
["1.1.","+","Операційні доходи / Operating income",null,null,null,null,null,{"$f":"IF(AND(I22>=$E$13,I22<=($E$13+$E$15)-1),HLOOKUP(I22,CFO!$B$4:$AL$6,2,FALSE),0)","v":0},{"$f":"IF(AND(J22>=$E$13,J22<=($E$13+$E$15)-1),HLOOKUP(J22,CFO!$B$4:$AL$6,2,FALSE),0)","v":1155.9681881985962},{"$f":"IF(AND(K22>=$E$13,K22<=($E$13+$E$15)-1),HLOOKUP(K22,CFO!$B$4:$AL$6,2,FALSE),0)","v":1155.9681881985962},{"$f":"IF(AND(L22>=$E$13,L22<=($E$13+$E$15)-1),HLOOKUP(L22,CFO!$B$4:$AL$6,2,FALSE),0)","v":1155.9681881985962},{"$f":"IF(AND(M22>=$E$13,M22<=($E$13+$E$15)-1),HLOOKUP(M22,CFO!$B$4:$AL$6,2,FALSE),0)","v":1155.9681881985962},{"$f":"IF(AND(N22>=$E$13,N22<=($E$13+$E$15)-1),HLOOKUP(N22,CFO!$B$4:$AL$6,2,FALSE),0)","v":1155.9681881985962},{"$f":"IF(AND(O22>=$E$13,O22<=($E$13+$E$15)-1),HLOOKUP(O22,CFO!$B$4:$AL$6,2,FALSE),0)","v":1155.9681881985962},{"$f":"IF(AND(P22>=$E$13,P22<=($E$13+$E$15)-1),HLOOKUP(P22,CFO!$B$4:$AL$6,2,FALSE),0)","v":1155.9681881985962},{"$f":"IF(AND(Q22>=$E$13,Q22<=($E$13+$E$15)-1),HLOOKUP(Q22,CFO!$B$4:$AL$6,2,FALSE),0)","v":1155.9681881985962},{"$f":"IF(AND(R22>=$E$13,R22<=($E$13+$E$15)-1),HLOOKUP(R22,CFO!$B$4:$AL$6,2,FALSE),0)","v":1155.9681881985962},{"$f":"IF(AND(S22>=$E$13,S22<=($E$13+$E$15)-1),HLOOKUP(S22,CFO!$B$4:$AL$6,2,FALSE),0)","v":1155.9681881985962},{"$f":"IF(AND(T22>=$E$13,T22<=($E$13+$E$15)-1),HLOOKUP(T22,CFO!$B$4:$AL$6,2,FALSE),0)","v":1155.9681881985962},{"$f":"IF(AND(U22>=$E$13,U22<=($E$13+$E$15)-1),HLOOKUP(U22,CFO!$B$4:$AL$6,2,FALSE),0)","v":1155.9681881985962},{"$f":"IF(AND(V22>=$E$13,V22<=($E$13+$E$15)-1),HLOOKUP(V22,CFO!$B$4:$AL$6,2,FALSE),0)","v":1155.9681881985962},{"$f":"IF(AND(W22>=$E$13,W22<=($E$13+$E$15)-1),HLOOKUP(W22,CFO!$B$4:$AL$6,2,FALSE),0)","v":1155.9681881985962},{"$f":"IF(AND(X22>=$E$13,X22<=($E$13+$E$15)-1),HLOOKUP(X22,CFO!$B$4:$AL$6,2,FALSE),0)","v":1155.9681881985962},{"$f":"IF(AND(Y22>=$E$13,Y22<=($E$13+$E$15)-1),HLOOKUP(Y22,CFO!$B$4:$AL$6,2,FALSE),0)","v":0},{"$f":"IF(AND(Z22>=$E$13,Z22<=($E$13+$E$15)-1),HLOOKUP(Z22,CFO!$B$4:$AL$6,2,FALSE),0)","v":0},{"$f":"IF(AND(AA22>=$E$13,AA22<=($E$13+$E$15)-1),HLOOKUP(AA22,CFO!$B$4:$AL$6,2,FALSE),0)","v":0},{"$f":"IF(AND(AB22>=$E$13,AB22<=($E$13+$E$15)-1),HLOOKUP(AB22,CFO!$B$4:$AL$6,2,FALSE),0)","v":0},{"$f":"IF(AND(AC22>=$E$13,AC22<=($E$13+$E$15)-1),HLOOKUP(AC22,CFO!$B$4:$AL$6,2,FALSE),0)","v":0},{"$f":"IF(AND(AD22>=$E$13,AD22<=($E$13+$E$15)-1),HLOOKUP(AD22,CFO!$B$4:$AL$6,2,FALSE),0)","v":0},{"$f":"IF(AND(AE22>=$E$13,AE22<=($E$13+$E$15)-1),HLOOKUP(AE22,CFO!$B$4:$AL$6,2,FALSE),0)","v":0},{"$f":"IF(AND(AF22>=$E$13,AF22<=($E$13+$E$15)-1),HLOOKUP(AF22,CFO!$B$4:$AL$6,2,FALSE),0)","v":0},{"$f":"IF(AND(AG22>=$E$13,AG22<=($E$13+$E$15)-1),HLOOKUP(AG22,CFO!$B$4:$AL$6,2,FALSE),0)","v":0},{"$f":"IF(AND(AH22>=$E$13,AH22<=($E$13+$E$15)-1),HLOOKUP(AH22,CFO!$B$4:$AL$6,2,FALSE),0)","v":0},{"$f":"IF(AND(AI22>=$E$13,AI22<=($E$13+$E$15)-1),HLOOKUP(AI22,CFO!$B$4:$AL$6,2,FALSE),0)","v":0},{"$f":"IF(AND(AJ22>=$E$13,AJ22<=($E$13+$E$15)-1),HLOOKUP(AJ22,CFO!$B$4:$AL$6,2,FALSE),0)","v":0},{"$f":"IF(AND(AK22>=$E$13,AK22<=($E$13+$E$15)-1),HLOOKUP(AK22,CFO!$B$4:$AL$6,2,FALSE),0)","v":0},{"$f":"IF(AND(AL22>=$E$13,AL22<=($E$13+$E$15)-1),HLOOKUP(AL22,CFO!$B$4:$AL$6,2,FALSE),0)","v":0},{"$f":"SUM(I25:AL25)","v":17339.522822978943}]
["1.2.","-","Операційні витрати / Operating expenses",null,null,null,null,null,{"$f":"IF(AND(I22>=$E$13,I22<=($E$13+$E$15)-1),HLOOKUP(I22,CFO!B4:AL6,3,FALSE),0)","v":0},{"$f":"IF(AND(J22>=$E$13,J22<=($E$13+$E$15)-1),HLOOKUP(J22,CFO!C4:AM6,3,FALSE),0)","v":75.342044465208588},{"$f":"IF(AND(K22>=$E$13,K22<=($E$13+$E$15)-1),HLOOKUP(K22,CFO!D4:AN6,3,FALSE),0)","v":73.315762221138513},{"$f":"IF(AND(L22>=$E$13,L22<=($E$13+$E$15)-1),HLOOKUP(L22,CFO!E4:AO6,3,FALSE),0)","v":71.446978947243196},{"$f":"IF(AND(M22>=$E$13,M22<=($E$13+$E$15)-1),HLOOKUP(M22,CFO!F4:AP6,3,FALSE),0)","v":69.730672743442128},{"$f":"IF(AND(N22>=$E$13,N22<=($E$13+$E$15)-1),HLOOKUP(N22,CFO!G4:AQ6,3,FALSE),0)","v":68.161193617091826},{"$f":"IF(AND(O22>=$E$13,O22<=($E$13+$E$15)-1),HLOOKUP(O22,CFO!H4:AR6,3,FALSE),0)","v":66.732336869230025},{"$f":"IF(AND(P22>=$E$13,P22<=($E$13+$E$15)-1),HLOOKUP(P22,CFO!I4:AS6,3,FALSE),0)","v":65.437422605443174},{"$f":"IF(AND(Q22>=$E$13,Q22<=($E$13+$E$15)-1),HLOOKUP(Q22,CFO!J4:AT6,3,FALSE),0)","v":64.269379927583216},{"$f":"IF(AND(R22>=$E$13,R22<=($E$13+$E$15)-1),HLOOKUP(R22,CFO!K4:AU6,3,FALSE),0)","v":63.22083392689116},{"$f":"IF(AND(S22>=$E$13,S22<=($E$13+$E$15)-1),HLOOKUP(S22,CFO!L4:AV6,3,FALSE),0)","v":62.284194236679333},{"$f":"IF(AND(T22>=$E$13,T22<=($E$13+$E$15)-1),HLOOKUP(T22,CFO!M4:AW6,3,FALSE),0)","v":61.451743165636529},{"$f":"IF(AND(U22>=$E$13,U22<=($E$13+$E$15)-1),HLOOKUP(U22,CFO!N4:AX6,3,FALSE),0)","v":60.715721719541996},{"$f":"IF(AND(V22>=$E$13,V22<=($E$13+$E$15)-1),HLOOKUP(V22,CFO!O4:AY6,3,FALSE),0)","v":60.068412132384594},{"$f":"IF(AND(W22>=$E$13,W22<=($E$13+$E$15)-1),HLOOKUP(W22,CFO!P4:AZ6,3,FALSE),0)","v":59.502215274749588},{"$f":"IF(AND(X22>=$E$13,X22<=($E$13+$E$15)-1),HLOOKUP(X22,CFO!Q4:BA6,3,FALSE),0)","v":59.009721580128996},{"$f":"IF(AND(Y22>=$E$13,Y22<=($E$13+$E$15)-1),HLOOKUP(Y22,CFO!R4:BB6,3,FALSE),0)","v":0},{"$f":"IF(AND(Z22>=$E$13,Z22<=($E$13+$E$15)-1),HLOOKUP(Z22,CFO!S4:BC6,3,FALSE),0)","v":0},{"$f":"IF(AND(AA22>=$E$13,AA22<=($E$13+$E$15)-1),HLOOKUP(AA22,CFO!T4:BD6,3,FALSE),0)","v":0},{"$f":"IF(AND(AB22>=$E$13,AB22<=($E$13+$E$15)-1),HLOOKUP(AB22,CFO!U4:BE6,3,FALSE),0)","v":0},{"$f":"IF(AND(AC22>=$E$13,AC22<=($E$13+$E$15)-1),HLOOKUP(AC22,CFO!V4:BF6,3,FALSE),0)","v":0},{"$f":"IF(AND(AD22>=$E$13,AD22<=($E$13+$E$15)-1),HLOOKUP(AD22,CFO!W4:BG6,3,FALSE),0)","v":0},{"$f":"IF(AND(AE22>=$E$13,AE22<=($E$13+$E$15)-1),HLOOKUP(AE22,CFO!X4:BH6,3,FALSE),0)","v":0},{"$f":"IF(AND(AF22>=$E$13,AF22<=($E$13+$E$15)-1),HLOOKUP(AF22,CFO!Y4:BI6,3,FALSE),0)","v":0},{"$f":"IF(AND(AG22>=$E$13,AG22<=($E$13+$E$15)-1),HLOOKUP(AG22,CFO!Z4:BJ6,3,FALSE),0)","v":0},{"$f":"IF(AND(AH22>=$E$13,AH22<=($E$13+$E$15)-1),HLOOKUP(AH22,CFO!AA4:BK6,3,FALSE),0)","v":0},{"$f":"IF(AND(AI22>=$E$13,AI22<=($E$13+$E$15)-1),HLOOKUP(AI22,CFO!AB4:BL6,3,FALSE),0)","v":0},{"$f":"IF(AND(AJ22>=$E$13,AJ22<=($E$13+$E$15)-1),HLOOKUP(AJ22,CFO!AC4:BM6,3,FALSE),0)","v":0},{"$f":"IF(AND(AK22>=$E$13,AK22<=($E$13+$E$15)-1),HLOOKUP(AK22,CFO!AD4:BN6,3,FALSE),0)","v":0},{"$f":"IF(AND(AL22>=$E$13,AL22<=($E$13+$E$15)-1),HLOOKUP(AL22,CFO!AE4:BO6,3,FALSE),0)","v":0},{"$f":"SUM(I26:AL26)","v":980.68863343239286}]
[]
[null,null,"Операційний прибуток / Operating profit",null,null,null,null,null,{"$f":"I25-I26","v":0},{"$f":"J25-J26","v":1080.6261437333876},{"$f":"K25-K26","v":1082.6524259774576},{"$f":"L25-L26","v":1084.521209251353},1086.2375154551542,1087.8069945815043,1089.2358513293661,1090.5307655931531,1091.6988082710129,1092.747354271705,1093.6839939619169,1094.5164450329596,1095.2524664790542,1095.8997760662116,1096.4659729238465,{"$f":"X25-X26","v":1096.9584666184671},{"$f":"Y25-Y26","v":0},{"$f":"Z25-Z26","v":0},0,0,0,0,0,0,0,0,0,0,0,0,{"$f":"SUM(I28:AL28)","v":16358.834189546549}]
[]
[null,null,"Амортизація / Depretiation ",null,null,null,null,null,{"$f":"IF(I22=0,0,Амортизація_Depreciation!F115)","v":0},{"$f":"IF(J22=0,0,Амортизація_Depreciation!G115)","v":171.15259974005718},{"$f":"IF(K22=0,0,Амортизація_Depreciation!H115)","v":171.15259974005718},{"$f":"IF(L22=0,0,Амортизація_Depreciation!I115)","v":171.15259974005718},{"$f":"IF(M22=0,0,Амортизація_Depreciation!J115)","v":171.15259974005718},{"$f":"IF(N22=0,0,Амортизація_Depreciation!K115)","v":171.15259974005718},{"$f":"IF(O22=0,0,Амортизація_Depreciation!L115)","v":171.15259974005718},{"$f":"IF(P22=0,0,Амортизація_Depreciation!M115)","v":171.15259974005718},{"$f":"IF(Q22=0,0,Амортизація_Depreciation!N115)","v":171.15259974005718},{"$f":"IF(R22=0,0,Амортизація_Depreciation!O115)","v":171.15259974005718},{"$f":"IF(S22=0,0,Амортизація_Depreciation!P115)","v":171.15259974005718},{"$f":"IF(T22=0,0,Амортизація_Depreciation!Q115)","v":171.15259974005718},{"$f":"IF(U22=0,0,Амортизація_Depreciation!R115)","v":171.15259974005718},{"$f":"IF(V22=0,0,Амортизація_Depreciation!S115)","v":171.15259974005718},{"$f":"IF(W22=0,0,Амортизація_Depreciation!T115)","v":171.15259974005718},{"$f":"IF(X22=0,0,Амортизація_Depreciation!U115)","v":171.15259974005718},{"$f":"IF(Y22=0,0,Амортизація_Depreciation!V115)","v":0},{"$f":"IF(Z22=0,0,Амортизація_Depreciation!W115)","v":0},{"$f":"IF(AA22=0,0,Амортизація_Depreciation!X115)","v":0},{"$f":"IF(AB22=0,0,Амортизація_Depreciation!Y115)","v":0},{"$f":"IF(AC22=0,0,Амортизація_Depreciation!Z115)","v":0},{"$f":"IF(AD22=0,0,Амортизація_Depreciation!AA115)","v":0},{"$f":"IF(AE22=0,0,Амортизація_Depreciation!AB115)","v":0},{"$f":"IF(AF22=0,0,Амортизація_Depreciation!AC115)","v":0},{"$f":"IF(AG22=0,0,Амортизація_Depreciation!AD115)","v":0},{"$f":"IF(AH22=0,0,Амортизація_Depreciation!AE115)","v":0},{"$f":"IF(AI22=0,0,Амортизація_Depreciation!AF115)","v":0},{"$f":"IF(AJ22=0,0,Амортизація_Depreciation!AG115)","v":0},{"$f":"IF(AK22=0,0,Амортизація_Depreciation!AH115)","v":0},{"$f":"IF(AL22=0,0,Амортизація_Depreciation!AI115)","v":0},{"$f":"SUM(I30:AL30)","v":2567.2889961008577}]
[]
[null,"-","Податок на прибуток від реалізації проекту з поправкою на амортизацію / Income tax on project implementation adjusted for depreciation",null,null,null,null,null,{"$f":"IF(I28<=0,0,(I28-I36-I30)*IF(I22=0,0,I54))","v":0},{"$f":"IF(J28<=0,0,(J28-J36-J30)*IF(J22=0,0,J54))","v":90.965383029275188},108.44537380721351,125.8970147705204,143.32120986121032,160.7189760779591,165.25498528607565,165.48806985355731,165.69831753557207,165.88705581569664,166.05565095993481,166.20549215272248,166.3379760130195,166.45449173870784,166.55640717308211,166.64505603811384,0,0,0,0,0,0,0,0,0,0,0,0,0,0,{"$f":"SUM(I32:AL32)","v":2289.9314601126612}]
[null,null,"Приросний прибуток після сплати податків / Income after taxes ",null,null,null,null,null,{"$f":"I25-I26-I36-I32","v":-213.94074967507152},{"$f":"J25-J26-J36-J32","v":585.55045576231078},665.18152486180747,744.68344480576104,824.06033355223735,903.31682409520408,923.98086604329046,{"$f":"P25-P26-P36-P32","v":925.04269573959573},926.00049073544085,926.86029845600842,927.6283430019821,928.3109528802371,928.91449046603475,929.44528432750383,929.90956575076439,930.31341058035332,0,0,0,0,0,0,0,0,0,0,0,0,0,0,{"$f":"SUM(I33:AL33)","v":12785.258231383459}]
[]
["3.","Фінансовий грошовий потік (CFF)"]
["3.1.","-","Відсотки за кредит / Interests",null,null,null,null,null,{"$f":"IFERROR(IF(CFF!E25=0,0,IF(I22=0,0,HLOOKUP(I22,CFF!$B$25:$CH$34,10,FALSE))),0)","v":213.94074967507152},{"$f":"IFERROR(IF(CFF!G25=0,0,IF(J22=0,0,HLOOKUP(J22,CFF!$B$25:$CH$34,10,FALSE))),0)","v":404.1103049418017},{"$f":"IFERROR(IF(CFF!I25=0,0,IF(K22=0,0,HLOOKUP(K22,CFF!$B$25:$CH$34,10,FALSE))),0)","v":309.02552730843661},{"$f":"IF(CFF!K25=0,0,IF(L22=0,0,HLOOKUP(L22,CFF!$B$25:$CH$34,10,FALSE)))","v":213.94074967507152},{"$f":"IF(CFF!M25=0,0,IF(M22=0,0,HLOOKUP(M22,CFF!$B$25:$CH$34,10,FALSE)))","v":118.85597204170638},{"$f":"IF(CFF!O25=0,0,IF(N22=0,0,HLOOKUP(N22,CFF!$B$25:$CH$34,10,FALSE)))","v":23.771194408341263},{"$f":"IF(CFF!Q25=0,0,IF(O22=0,0,HLOOKUP(O22,CFF!$B$25:$CH$34,10,FALSE)))","v":0},{"$f":"IF(CFF!S25=0,0,IF(P22=0,0,HLOOKUP(P22,CFF!$B$25:$CH$34,10,FALSE)))","v":0},{"$f":"IF(CFF!U25=0,0,IF(Q22=0,0,HLOOKUP(Q22,CFF!$B$25:$CH$34,10,FALSE)))","v":0},{"$f":"IF(CFF!W25=0,0,IF(R22=0,0,HLOOKUP(R22,CFF!$B$25:$CH$34,10,FALSE)))","v":0},{"$f":"IF(CFF!Y25=0,0,IF(S22=0,0,HLOOKUP(S22,CFF!$B$25:$CH$34,10,FALSE)))","v":0},{"$f":"IF(CFF!AA25=0,0,IF(T22=0,0,HLOOKUP(T22,CFF!$B$25:$CH$34,10,FALSE)))","v":0},{"$f":"IFERROR(IF(CFF!AC25=0,0,IF(U22=0,0,HLOOKUP(U22,CFF!$B$25:$CH$34,10,FALSE))),0)","v":0},{"$f":"IFERROR(IF(CFF!AE25=0,0,IF(V22=0,0,HLOOKUP(V22,CFF!$B$25:$CH$34,10,FALSE))),0)","v":0},{"$f":"IFERROR(IF(CFF!AG25=0,0,IF(W22=0,0,HLOOKUP(W22,CFF!$B$25:$CH$34,10,FALSE))),0)","v":0},{"$f":"IFERROR(IF(CFF!AI25=0,0,IF(X22=0,0,HLOOKUP(X22,CFF!$B$25:$CH$34,10,FALSE))),0)","v":0},{"$f":"IFERROR(IF(CFF!AI25=0,0,IF(Y22=0,0,HLOOKUP(Y22,CFF!$B$25:$CH$34,10,FALSE))),0)","v":0},{"$f":"IFERROR(IF(CFF!AM25=0,0,IF(Z22=0,0,HLOOKUP(Z22,CFF!$B$25:$CH$34,10,FALSE))),0)","v":0},{"$f":"IFERROR(IF(CFF!AO25=0,0,IF(AA22=0,0,HLOOKUP(AA22,CFF!$B$25:$CH$34,10,FALSE))),0)","v":0},{"$f":"IFERROR(IF(CFF!AQ25=0,0,IF(AB22=0,0,HLOOKUP(AB22,CFF!$B$25:$CH$34,10,FALSE))),0)","v":0},{"$f":"IF(CFF!AS25=0,0,IF(AC22=0,0,HLOOKUP(AC22,CFF!$B$25:$CH$34,10,FALSE)))","v":0},{"$f":"IF(CFF!AU25=0,0,IF(AD22=0,0,HLOOKUP(AD22,CFF!$B$25:$CH$34,10,FALSE)))","v":0},{"$f":"IF(CFF!AW25=0,0,IF(AE22=0,0,HLOOKUP(AE22,CFF!$B$25:$CH$34,10,FALSE)))","v":0},{"$f":"IF(CFF!AY25=0,0,IF(AF22=0,0,HLOOKUP(AF22,CFF!$B$25:$CH$34,10,FALSE)))","v":0},{"$f":"IF(CFF!BA25=0,0,IF(AG22=0,0,HLOOKUP(AG22,CFF!$B$25:$CH$34,10,FALSE)))","v":0},{"$f":"IF(CFF!BC25=0,0,IF(AH22=0,0,HLOOKUP(AH22,CFF!$B$25:$CH$34,10,FALSE)))","v":0},{"$f":"IF(CFF!BE25=0,0,IF(AI22=0,0,HLOOKUP(AI22,CFF!$B$25:$CH$34,10,FALSE)))","v":0},{"$f":"IF(CFF!BG25=0,0,IF(AJ22=0,0,HLOOKUP(AJ22,CFF!$B$25:$CH$34,10,FALSE)))","v":0},{"$f":"IF(CFF!BI25=0,0,IF(AK22=0,0,HLOOKUP(AK22,CFF!$B$25:$CH$34,10,FALSE)))","v":0},{"$f":"IF(CFF!BK25=0,0,IF(AL22=0,0,HLOOKUP(AL22,CFF!$B$25:$CH$34,10,FALSE)))","v":0},{"$f":"SUM(I36:AL36)","v":1283.6444980504289}]
[]
["4.","Інвестиційний грошовий потік (CFI)",null,null,null,null,null,null,{"$f":"I39+I43","v":0},{"$f":"J39+J43","v":950.84777633365104},950.84777633365115,950.84777633365115,950.84777633365093,475.42388816682524,0,0,0,0,0,0,0,0,0,0,0,0,0,0,0,0,0,0,0,0,0,0,0,0]
["4.1.","-","Бюджет проекту  / Project budjet",null,null,null,null,null,{"$f":"(I40+I41+I42)*'Аналіз чутливості_Sensitivity'!$F$9","v":0},{"$f":"(J40+J41+J42)*'Аналіз чутливості_Sensitivity'!$F$9","v":950.84777633365104},{"$f":"(K40+K41+K42)*'Аналіз чутливості_Sensitivity'!$F$9","v":950.84777633365115},{"$f":"(L40+L41+L42)*'Аналіз чутливості_Sensitivity'!$F$9","v":950.84777633365115},{"$f":"(M40+M41+M42)*'Аналіз чутливості_Sensitivity'!$F$9","v":950.84777633365093},{"$f":"(N40+N41+N42)*'Аналіз чутливості_Sensitivity'!$F$9","v":475.42388816682524},{"$f":"(O40+O41+O42)*'Аналіз чутливості_Sensitivity'!$F$9","v":0},{"$f":"(P40+P41+P42)*'Аналіз чутливості_Sensitivity'!$F$9","v":0},{"$f":"(Q40+Q41+Q42)*'Аналіз чутливості_Sensitivity'!$F$9","v":0},{"$f":"(R40+R41+R42)*'Аналіз чутливості_Sensitivity'!$F$9","v":0},{"$f":"(S40+S41+S42)*'Аналіз чутливості_Sensitivity'!$F$9","v":0},{"$f":"(T40+T41+T42)*'Аналіз чутливості_Sensitivity'!$F$9","v":0},{"$f":"(U40+U41+U42)*'Аналіз чутливості_Sensitivity'!$F$9","v":0},{"$f":"(V40+V41+V42)*'Аналіз чутливості_Sensitivity'!$F$9","v":0},{"$f":"(W40+W41+W42)*'Аналіз чутливості_Sensitivity'!$F$9","v":0},{"$f":"(X40+X41+X42)*'Аналіз чутливості_Sensitivity'!$F$9","v":0},{"$f":"(Y40+Y41+Y42)*'Аналіз чутливості_Sensitivity'!$F$9","v":0},{"$f":"(Z40+Z41+Z42)*'Аналіз чутливості_Sensitivity'!$F$9","v":0},{"$f":"(AA40+AA41+AA42)*'Аналіз чутливості_Sensitivity'!$F$9","v":0},{"$f":"(AB40+AB41+AB42)*'Аналіз чутливості_Sensitivity'!$F$9","v":0},{"$f":"(AC40+AC41+AC42)*'Аналіз чутливості_Sensitivity'!$F$9","v":0},{"$f":"(AD40+AD41+AD42)*'Аналіз чутливості_Sensitivity'!$F$9","v":0},{"$f":"(AE40+AE41+AE42)*'Аналіз чутливості_Sensitivity'!$F$9","v":0},{"$f":"(AF40+AF41+AF42)*'Аналіз чутливості_Sensitivity'!$F$9","v":0},{"$f":"(AG40+AG41+AG42)*'Аналіз чутливості_Sensitivity'!$F$9","v":0},{"$f":"(AH40+AH41+AH42)*'Аналіз чутливості_Sensitivity'!$F$9","v":0},{"$f":"(AI40+AI41+AI42)*'Аналіз чутливості_Sensitivity'!$F$9","v":0},{"$f":"(AJ40+AJ41+AJ42)*'Аналіз чутливості_Sensitivity'!$F$9","v":0},{"$f":"(AK40+AK41+AK42)*'Аналіз чутливості_Sensitivity'!$F$9","v":0},{"$f":"(AL40+AL41+AL42)*'Аналіз чутливості_Sensitivity'!$F$9","v":0},{"$f":"SUM(I39:AL39)","v":4278.8149935014299}]
["4.1.1.",null,"Кредитні кошти/Loans",null,null,null,null,null,{"$f":"IFERROR(IF(Головна_Summary!$C$5=\"Погашення тіла кредиту\",HLOOKUP(I22,CFF!$E$25:$CH$45,11,FALSE),HLOOKUP(I22,CFF!$E$25:$CH$45,12,FALSE)),0)","v":0},{"$f":"IFERROR(IF(Головна_Summary!$C$5=\"Погашення тіла кредиту\",HLOOKUP(J22,CFF!$E$25:$CH$45,11,FALSE),HLOOKUP(J22,CFF!$E$25:$CH$45,12,FALSE)),0)","v":950.84777633365104},{"$f":"IFERROR(IF(Головна_Summary!$C$5=\"Погашення тіла кредиту\",HLOOKUP(K22,CFF!$E$25:$CH$45,11,FALSE),HLOOKUP(K22,CFF!$E$25:$CH$45,12,FALSE)),0)","v":950.84777633365115},{"$f":"IFERROR(IF(Головна_Summary!$C$5=\"Погашення тіла кредиту\",HLOOKUP(L22,CFF!$E$25:$CH$45,11,FALSE),HLOOKUP(L22,CFF!$E$25:$CH$45,12,FALSE)),0)","v":950.84777633365115},{"$f":"IFERROR(IF(Головна_Summary!$C$5=\"Погашення тіла кредиту\",HLOOKUP(M22,CFF!$E$25:$CH$45,11,FALSE),HLOOKUP(M22,CFF!$E$25:$CH$45,12,FALSE)),0)","v":950.84777633365093},{"$f":"IFERROR(IF(Головна_Summary!$C$5=\"Погашення тіла кредиту\",HLOOKUP(N22,CFF!$E$25:$CH$45,11,FALSE),HLOOKUP(N22,CFF!$E$25:$CH$45,12,FALSE)),0)","v":475.42388816682524},{"$f":"IFERROR(IF(Головна_Summary!$C$5=\"Погашення тіла кредиту\",HLOOKUP(O22,CFF!$E$25:$CH$45,11,FALSE),HLOOKUP(O22,CFF!$E$25:$CH$45,12,FALSE)),0)","v":0},{"$f":"IFERROR(IF(Головна_Summary!$C$5=\"Погашення тіла кредиту\",HLOOKUP(P22,CFF!$E$25:$CH$45,11,FALSE),HLOOKUP(P22,CFF!$E$25:$CH$45,12,FALSE)),0)","v":0},{"$f":"IFERROR(IF(Головна_Summary!$C$5=\"Погашення тіла кредиту\",HLOOKUP(Q22,CFF!$E$25:$CH$45,11,FALSE),HLOOKUP(Q22,CFF!$E$25:$CH$45,12,FALSE)),0)","v":0},{"$f":"IFERROR(IF(Головна_Summary!$C$5=\"Погашення тіла кредиту\",HLOOKUP(R22,CFF!$E$25:$CH$45,11,FALSE),HLOOKUP(R22,CFF!$E$25:$CH$45,12,FALSE)),0)","v":0},{"$f":"IFERROR(IF(Головна_Summary!$C$5=\"Погашення тіла кредиту\",HLOOKUP(S22,CFF!$E$25:$CH$45,11,FALSE),HLOOKUP(S22,CFF!$E$25:$CH$45,12,FALSE)),0)","v":0},{"$f":"IFERROR(IF(Головна_Summary!$C$5=\"Погашення тіла кредиту\",HLOOKUP(T22,CFF!$E$25:$CH$45,11,FALSE),HLOOKUP(T22,CFF!$E$25:$CH$45,12,FALSE)),0)","v":0},{"$f":"IFERROR(IF(Головна_Summary!$C$5=\"Погашення тіла кредиту\",HLOOKUP(U22,CFF!$E$25:$CH$45,11,FALSE),HLOOKUP(U22,CFF!$E$25:$CH$45,12,FALSE)),0)","v":0},{"$f":"IFERROR(IF(Головна_Summary!$C$5=\"Погашення тіла кредиту\",HLOOKUP(V22,CFF!$E$25:$CH$45,11,FALSE),HLOOKUP(V22,CFF!$E$25:$CH$45,12,FALSE)),0)","v":0},{"$f":"IFERROR(IF(Головна_Summary!$C$5=\"Погашення тіла кредиту\",HLOOKUP(W22,CFF!$E$25:$CH$45,11,FALSE),HLOOKUP(W22,CFF!$E$25:$CH$45,12,FALSE)),0)","v":0},{"$f":"IFERROR(IF(Головна_Summary!$C$5=\"Погашення тіла кредиту\",HLOOKUP(X22,CFF!$E$25:$CH$45,11,FALSE),HLOOKUP(X22,CFF!$E$25:$CH$45,12,FALSE)),0)","v":0},{"$f":"IFERROR(IF(Головна_Summary!$C$5=\"Погашення тіла кредиту\",HLOOKUP(Y22,CFF!$E$25:$CH$45,11,FALSE),HLOOKUP(Y22,CFF!$E$25:$CH$45,12,FALSE)),0)","v":0},{"$f":"IFERROR(IF(Головна_Summary!$C$5=\"Погашення тіла кредиту\",HLOOKUP(Z22,CFF!$E$25:$CH$45,11,FALSE),HLOOKUP(Z22,CFF!$E$25:$CH$45,12,FALSE)),0)","v":0},{"$f":"IFERROR(IF(Головна_Summary!$C$5=\"Погашення тіла кредиту\",HLOOKUP(AA22,CFF!$E$25:$CH$45,11,FALSE),HLOOKUP(AA22,CFF!$E$25:$CH$45,12,FALSE)),0)","v":0},{"$f":"IFERROR(IF(Головна_Summary!$C$5=\"Погашення тіла кредиту\",HLOOKUP(AB22,CFF!$E$25:$CH$45,11,FALSE),HLOOKUP(AB22,CFF!$E$25:$CH$45,12,FALSE)),0)","v":0},{"$f":"IFERROR(IF(Головна_Summary!$C$5=\"Погашення тіла кредиту\",HLOOKUP(AC22,CFF!$E$25:$CH$45,11,FALSE),HLOOKUP(AC22,CFF!$E$25:$CH$45,12,FALSE)),0)","v":0},{"$f":"IFERROR(IF(Головна_Summary!$C$5=\"Погашення тіла кредиту\",HLOOKUP(AD22,CFF!$E$25:$CH$45,11,FALSE),HLOOKUP(AD22,CFF!$E$25:$CH$45,12,FALSE)),0)","v":0},{"$f":"IFERROR(IF(Головна_Summary!$C$5=\"Погашення тіла кредиту\",HLOOKUP(AE22,CFF!$E$25:$CH$45,11,FALSE),HLOOKUP(AE22,CFF!$E$25:$CH$45,12,FALSE)),0)","v":0},{"$f":"IFERROR(IF(Головна_Summary!$C$5=\"Погашення тіла кредиту\",HLOOKUP(AF22,CFF!$E$25:$CH$45,11,FALSE),HLOOKUP(AF22,CFF!$E$25:$CH$45,12,FALSE)),0)","v":0},{"$f":"IFERROR(IF(Головна_Summary!$C$5=\"Погашення тіла кредиту\",HLOOKUP(AG22,CFF!$E$25:$CH$45,11,FALSE),HLOOKUP(AG22,CFF!$E$25:$CH$45,12,FALSE)),0)","v":0},{"$f":"IFERROR(IF(Головна_Summary!$C$5=\"Погашення тіла кредиту\",HLOOKUP(AH22,CFF!$E$25:$CH$45,11,FALSE),HLOOKUP(AH22,CFF!$E$25:$CH$45,12,FALSE)),0)","v":0},{"$f":"IFERROR(IF(Головна_Summary!$C$5=\"Погашення тіла кредиту\",HLOOKUP(AI22,CFF!$E$25:$CH$45,11,FALSE),HLOOKUP(AI22,CFF!$E$25:$CH$45,12,FALSE)),0)","v":0},{"$f":"IFERROR(IF(Головна_Summary!$C$5=\"Погашення тіла кредиту\",HLOOKUP(AJ22,CFF!$E$25:$CH$45,11,FALSE),HLOOKUP(AJ22,CFF!$E$25:$CH$45,12,FALSE)),0)","v":0},{"$f":"IFERROR(IF(Головна_Summary!$C$5=\"Погашення тіла кредиту\",HLOOKUP(AK22,CFF!$E$25:$CH$45,11,FALSE),HLOOKUP(AK22,CFF!$E$25:$CH$45,12,FALSE)),0)","v":0},{"$f":"IFERROR(IF(Головна_Summary!$C$5=\"Погашення тіла кредиту\",HLOOKUP(AL22,CFF!$E$25:$CH$45,11,FALSE),HLOOKUP(AL22,CFF!$E$25:$CH$45,12,FALSE)),0)","v":0}]
["4.1.2.",null,"Власні кошти/ Own funds",null,null,null,null,null,{"$f":"IFERROR(HLOOKUP(I22,'План фінансування_Funding plan'!$C$1:$BH$8,7,FALSE),0)","v":0},{"$f":"IFERROR(HLOOKUP(J22,'План фінансування_Funding plan'!$C$1:$BH$8,7,FALSE),0)","v":0},{"$f":"IFERROR(HLOOKUP(K22,'План фінансування_Funding plan'!$C$1:$BH$8,7,FALSE),0)","v":0},{"$f":"IFERROR(HLOOKUP(L22,'План фінансування_Funding plan'!$C$1:$BH$8,7,FALSE),0)","v":0},{"$f":"IFERROR(HLOOKUP(M22,'План фінансування_Funding plan'!$C$1:$BH$8,7,FALSE),0)","v":0},{"$f":"IFERROR(HLOOKUP(N22,'План фінансування_Funding plan'!$C$1:$BH$8,7,FALSE),0)","v":0},{"$f":"IFERROR(HLOOKUP(O22,'План фінансування_Funding plan'!$C$1:$BH$8,7,FALSE),0)","v":0},{"$f":"IFERROR(HLOOKUP(P22,'План фінансування_Funding plan'!$C$1:$BH$8,7,FALSE),0)","v":0},{"$f":"IFERROR(HLOOKUP(Q22,'План фінансування_Funding plan'!$C$1:$BH$8,7,FALSE),0)","v":0},{"$f":"IFERROR(HLOOKUP(R22,'План фінансування_Funding plan'!$C$1:$BH$8,7,FALSE),0)","v":0},{"$f":"IFERROR(HLOOKUP(S22,'План фінансування_Funding plan'!$C$1:$BH$8,7,FALSE),0)","v":0},{"$f":"IFERROR(HLOOKUP(T22,'План фінансування_Funding plan'!$C$1:$BH$8,7,FALSE),0)","v":0},{"$f":"IFERROR(HLOOKUP(U22,'План фінансування_Funding plan'!$C$1:$BH$8,7,FALSE),0)","v":0},{"$f":"IFERROR(HLOOKUP(V22,'План фінансування_Funding plan'!$C$1:$BH$8,7,FALSE),0)","v":0},{"$f":"IFERROR(HLOOKUP(W22,'План фінансування_Funding plan'!$C$1:$BH$8,7,FALSE),0)","v":0},{"$f":"IFERROR(HLOOKUP(X22,'План фінансування_Funding plan'!$C$1:$BH$8,7,FALSE),0)","v":0},{"$f":"IFERROR(HLOOKUP(Y22,'План фінансування_Funding plan'!$C$1:$BH$8,7,FALSE),0)","v":0},{"$f":"IFERROR(HLOOKUP(Z22,'План фінансування_Funding plan'!$C$1:$BH$8,7,FALSE),0)","v":0},{"$f":"IFERROR(HLOOKUP(AA22,'План фінансування_Funding plan'!$C$1:$BH$8,7,FALSE),0)","v":0},{"$f":"IFERROR(HLOOKUP(AB22,'План фінансування_Funding plan'!$C$1:$BH$8,7,FALSE),0)","v":0},{"$f":"IFERROR(HLOOKUP(AC22,'План фінансування_Funding plan'!$C$1:$BH$8,7,FALSE),0)","v":0},{"$f":"IFERROR(HLOOKUP(AD22,'План фінансування_Funding plan'!$C$1:$BH$8,7,FALSE),0)","v":0},{"$f":"IFERROR(HLOOKUP(AE22,'План фінансування_Funding plan'!$C$1:$BH$8,7,FALSE),0)","v":0},{"$f":"IFERROR(HLOOKUP(AF22,'План фінансування_Funding plan'!$C$1:$BH$8,7,FALSE),0)","v":0},{"$f":"IFERROR(HLOOKUP(AG22,'План фінансування_Funding plan'!$C$1:$BH$8,7,FALSE),0)","v":0},{"$f":"IFERROR(HLOOKUP(AH22,'План фінансування_Funding plan'!$C$1:$BH$8,7,FALSE),0)","v":0},{"$f":"IFERROR(HLOOKUP(AI22,'План фінансування_Funding plan'!$C$1:$BH$8,7,FALSE),0)","v":0},{"$f":"IFERROR(HLOOKUP(AJ22,'План фінансування_Funding plan'!$C$1:$BH$8,7,FALSE),0)","v":0},{"$f":"IFERROR(HLOOKUP(AK22,'План фінансування_Funding plan'!$C$1:$BH$8,7,FALSE),0)","v":0},{"$f":"IFERROR(HLOOKUP(AL22,'План фінансування_Funding plan'!$C$1:$BH$8,7,FALSE),0)","v":0}]
["4.1.3.",null,"Грантові кошти/Grant funds",null,null,null,null,null,{"$f":"IFERROR(HLOOKUP(I22,'План фінансування_Funding plan'!$C$1:$BH$8,8,FALSE),0)","v":0},{"$f":"IFERROR(HLOOKUP(J22,'План фінансування_Funding plan'!$C$1:$BH$8,8,FALSE),0)","v":0},{"$f":"IFERROR(HLOOKUP(K22,'План фінансування_Funding plan'!$C$1:$BH$8,8,FALSE),0)","v":0},{"$f":"IFERROR(HLOOKUP(L22,'План фінансування_Funding plan'!$C$1:$BH$8,8,FALSE),0)","v":0},{"$f":"IFERROR(HLOOKUP(M22,'План фінансування_Funding plan'!$C$1:$BH$8,8,FALSE),0)","v":0},{"$f":"IFERROR(HLOOKUP(N22,'План фінансування_Funding plan'!$C$1:$BH$8,8,FALSE),0)","v":0},{"$f":"IFERROR(HLOOKUP(O22,'План фінансування_Funding plan'!$C$1:$BH$8,8,FALSE),0)","v":0},{"$f":"IFERROR(HLOOKUP(P22,'План фінансування_Funding plan'!$C$1:$BH$8,8,FALSE),0)","v":0},{"$f":"IFERROR(HLOOKUP(Q22,'План фінансування_Funding plan'!$C$1:$BH$8,8,FALSE),0)","v":0},{"$f":"IFERROR(HLOOKUP(R22,'План фінансування_Funding plan'!$C$1:$BH$8,8,FALSE),0)","v":0},{"$f":"IFERROR(HLOOKUP(S22,'План фінансування_Funding plan'!$C$1:$BH$8,8,FALSE),0)","v":0},{"$f":"IFERROR(HLOOKUP(T22,'План фінансування_Funding plan'!$C$1:$BH$8,8,FALSE),0)","v":0},{"$f":"IFERROR(HLOOKUP(U22,'План фінансування_Funding plan'!$C$1:$BH$8,8,FALSE),0)","v":0},{"$f":"IFERROR(HLOOKUP(V22,'План фінансування_Funding plan'!$C$1:$BH$8,8,FALSE),0)","v":0},{"$f":"IFERROR(HLOOKUP(W22,'План фінансування_Funding plan'!$C$1:$BH$8,8,FALSE),0)","v":0},{"$f":"IFERROR(HLOOKUP(X22,'План фінансування_Funding plan'!$C$1:$BH$8,8,FALSE),0)","v":0},{"$f":"IFERROR(HLOOKUP(Y22,'План фінансування_Funding plan'!$C$1:$BH$8,8,FALSE),0)","v":0},{"$f":"IFERROR(HLOOKUP(Z22,'План фінансування_Funding plan'!$C$1:$BH$8,8,FALSE),0)","v":0},{"$f":"IFERROR(HLOOKUP(AA22,'План фінансування_Funding plan'!$C$1:$BH$8,8,FALSE),0)","v":0},{"$f":"IFERROR(HLOOKUP(AB22,'План фінансування_Funding plan'!$C$1:$BH$8,8,FALSE),0)","v":0},{"$f":"IFERROR(HLOOKUP(AC22,'План фінансування_Funding plan'!$C$1:$BH$8,8,FALSE),0)","v":0},{"$f":"IFERROR(HLOOKUP(AD22,'План фінансування_Funding plan'!$C$1:$BH$8,8,FALSE),0)","v":0},{"$f":"IFERROR(HLOOKUP(AE22,'План фінансування_Funding plan'!$C$1:$BH$8,8,FALSE),0)","v":0},{"$f":"IFERROR(HLOOKUP(AF22,'План фінансування_Funding plan'!$C$1:$BH$8,8,FALSE),0)","v":0},{"$f":"IFERROR(HLOOKUP(AG22,'План фінансування_Funding plan'!$C$1:$BH$8,8,FALSE),0)","v":0},{"$f":"IFERROR(HLOOKUP(AH22,'План фінансування_Funding plan'!$C$1:$BH$8,8,FALSE),0)","v":0},{"$f":"IFERROR(HLOOKUP(AI22,'План фінансування_Funding plan'!$C$1:$BH$8,8,FALSE),0)","v":0},{"$f":"IFERROR(HLOOKUP(AJ22,'План фінансування_Funding plan'!$C$1:$BH$8,8,FALSE),0)","v":0},{"$f":"IFERROR(HLOOKUP(AK22,'План фінансування_Funding plan'!$C$1:$BH$8,8,FALSE),0)","v":0},{"$f":"IFERROR(HLOOKUP(AL22,'План фінансування_Funding plan'!$C$1:$BH$8,8,FALSE),0)","v":0}]
["4.2.","-","Капітальні ремонти / Overhauls",null,null,null,null,null,{"$f":"'Фінансування_Financing (CFI)'!AD11","v":0},{"$f":"'Фінансування_Financing (CFI)'!AE11","v":0},{"$f":"'Фінансування_Financing (CFI)'!AF11","v":0},{"$f":"'Фінансування_Financing (CFI)'!AG11","v":0},{"$f":"'Фінансування_Financing (CFI)'!AH11","v":0},{"$f":"'Фінансування_Financing (CFI)'!AI11","v":0},{"$f":"'Фінансування_Financing (CFI)'!AJ11","v":0},{"$f":"'Фінансування_Financing (CFI)'!AK11","v":0},{"$f":"'Фінансування_Financing (CFI)'!AL11","v":0},{"$f":"'Фінансування_Financing (CFI)'!AM11","v":0},{"$f":"'Фінансування_Financing (CFI)'!AN11","v":0},{"$f":"'Фінансування_Financing (CFI)'!AO11","v":0},{"$f":"'Фінансування_Financing (CFI)'!AP11","v":0},{"$f":"'Фінансування_Financing (CFI)'!AQ11","v":0},{"$f":"'Фінансування_Financing (CFI)'!AR11","v":0},{"$f":"'Фінансування_Financing (CFI)'!AS11","v":0},{"$f":"'Фінансування_Financing (CFI)'!AT11","v":0},{"$f":"'Фінансування_Financing (CFI)'!AU11","v":0},{"$f":"'Фінансування_Financing (CFI)'!AV11","v":0},{"$f":"'Фінансування_Financing (CFI)'!AW11","v":0},{"$f":"'Фінансування_Financing (CFI)'!AX11","v":0},{"$f":"'Фінансування_Financing (CFI)'!AY11","v":0},{"$f":"'Фінансування_Financing (CFI)'!AZ11","v":0},{"$f":"'Фінансування_Financing (CFI)'!BA11","v":0},{"$f":"'Фінансування_Financing (CFI)'!BB11","v":0},{"$f":"'Фінансування_Financing (CFI)'!BC11","v":0},{"$f":"'Фінансування_Financing (CFI)'!BD11","v":0},{"$f":"'Фінансування_Financing (CFI)'!BE11","v":0},{"$f":"'Фінансування_Financing (CFI)'!BF11","v":0},{"$f":"'Фінансування_Financing (CFI)'!BG11","v":0},{"$f":"SUM(I43:AL43)","v":0}]
[]
[5,"Вільний грошовий потік / FCF",null,null,null,null,null,null,{"$f":"IF(I22=0,0,I33-I39-I43)","v":-213.94074967507152},{"$f":"IF(J22=0,0,J33-J39-J43)","v":-365.29732057134026},{"$f":"IF(K22=0,0,K33-K39-K43)","v":-285.66625147184368},{"$f":"IF(L22=0,0,L33-L39-L43)","v":-206.16433152789011},{"$f":"IF(M22=0,0,M33-M39-M43)","v":-126.78744278141357},{"$f":"IF(N22=0,0,N33-N39-N43)","v":427.89293592837885},923.98086604329046,925.04269573959573,926.00049073544085,926.86029845600842,927.6283430019821,928.3109528802371,{"$f":"IF(U22=0,0,U33-U39-U43)","v":928.91449046603475},929.44528432750383,929.90956575076439,930.31341058035332,{"$f":"IF(Y22=0,0,Y33-Y39-Y43)","v":0},{"$f":"IF(Z22=0,0,Z33-Z39-Z43)","v":0},0,0,0,0,0,0,0,0,0,0,0,{"$f":"IF(AL22=0,0,AL33-AL39-AL43)","v":0},{"$f":"SUM(I45:AL45)","v":8506.4432378820311}]
["5.1.","Вільний грошовий потік накопиченим підсумком / FCF accumulated",null,null,null,null,null,null,{"$f":"I45","v":-213.94074967507152},{"$f":"I46+J45","v":-579.23807024641178},-864.90432171825546,-1071.0686532461455,-1197.856096027559,-769.96316009918019,154.01770594411028,1079.060401683706,2005.060892419147,2931.9211908751554,3859.5495338771375,4787.8604867573749,5716.7749772234092,6646.2202615509132,7576.1298273016773,8506.4432378820311,8506.4432378820311,8506.4432378820311,8506.4432378820311,8506.4432378820311,8506.4432378820311,8506.4432378820311,8506.4432378820311,8506.4432378820311,8506.4432378820311,8506.4432378820311,8506.4432378820311,8506.4432378820311,8506.4432378820311,8506.4432378820311]
[]
[7,null,"Коефіцієнт дисконтування / Discount rate",null,null,null,null,null,{"$f":"1/((1+$E$11)^(1/12))^0","v":1},{"$f":"I48/(1+$E$11)","v":0.86580086580086579},{"$f":"J48/(1+$E$11)","v":0.74961113922152878},{"$f":"K48/(1+$E$11)","v":0.64901397335197297},0.56191686004499819,{"$f":"M48/(1+$E$11)","v":0.48650810393506333},0.4212191376061154,0.36469189403126873,0.31575055760283005,0.2733771061496364,0.23669013519449039,{"$f":"S48/(1+$E$11)","v":0.20492652397791375},0.1774255618856396,0.15361520509579185,0.13300017757211416,0.11515166889360533,{"$f":"X48/(1+$E$11)","v":9.9698414626498116E-2},{"$f":"Y48/(1+$E$11)","v":8.6318973702595767E-2},{"$f":"Z48/(1+$E$11)","v":7.4735042166749574E-2},{"$f":"AA48/(1+$E$11)","v":6.4705664213635994E-2},5.6022220098386144E-2,4.850408666526939E-2,4.1994880229670468E-2,3.635920366205235E-2,3.1479830010434931E-2,2.725526407829864E-2,2.3597631236622198E-2,2.0430849555517053E-2,1.7689047234213898E-2,{"$f":"AK48/(1+$E$11)","v":1.5315192410574803E-2}]
[8,null,"Дисконтований вільний грошовий поток / DCF",null,null,null,null,null,{"$f":"IF(I48=\"\",\"\",I48*I45)","v":-213.94074967507152},{"$f":"IF(J48=\"\",\"\",J48*J45)","v":-316.27473642540281},{"$f":"IF(K48=\"\",\"\",K48*K45)","v":-214.13860420295245},-133.80353196836938,-71.244001740866793,208.17338094572312,389.19842355930643,337.35557276906383,292.38517129020971,253.38238619689187,219.56047791538026,190.23553674437187,164.81317541464881,142.77692797728608,123.67813737085923,{"$f":"IF(X48=\"\",\"\",X48*X45)","v":107.12714182242955},{"$f":"IF(Y48=\"\",\"\",Y48*Y45)","v":0},{"$f":"IF(Z48=\"\",\"\",Z48*Z45)","v":0},0,0,0,0,0,0,0,0,0,0,0,{"$f":"IF(AL48=\"\",\"\",AL48*AL45)","v":0},{"$f":"SUM(I49:AL49)","v":1479.2847079935079}]
[9,null,"DCF накопиченим підсумком / DCF accumulated",null,null,null,null,null,{"$f":"I49","v":-213.94074967507152},{"$f":"I50+J49","v":-530.21548610047432},-744.3540903034268,-878.15762227179619,-949.40162401266298,-741.22824306693985,-352.02981950763342,-14.674246738569593,277.71092455164012,531.09331074853196,750.65378866391222,940.88932540828409,1105.702500822933,1248.479428800219,1372.1575661710783,1479.2847079935079,1479.2847079935079,1479.2847079935079,1479.2847079935079,1479.2847079935079,1479.2847079935079,1479.2847079935079,1479.2847079935079,1479.2847079935079,1479.2847079935079,1479.2847079935079,1479.2847079935079,1479.2847079935079,1479.2847079935079,1479.2847079935079]
[]
[10,null,"Розрахунок DPP / DPP Calculation",null,null,null,null,null,{"$f":"13-E7","v":6},{"$f":"IF(J50<0,12,IF(K50<0,12,IF(I50>0,0, -I50/J49*12)))","v":12},{"$f":"IF(K50<0,12,IF(L50<0,12,IF(J50>0,0,-J50/K49*12)))","v":12},{"$f":"IF(L50<0,12,IF(M50<0,12,IF(K50>0,0,-K50/L49*12)))","v":12},{"$f":"IF(M50<0,12,IF(N50<0,12,IF(L50>0,0,-L50/M49*12)))","v":12},{"$f":"IF(N50<0,12,IF(O50<0,12,IF(M50>0,0,-M50/N49*12)))","v":12},{"$f":"IF(O50<0,12,IF(P50<0,12,IF(N50>0,0,-N50/O49*12)))","v":12},{"$f":"IF(P50<0,12,IF(Q50<0,12,IF(O50>0,0,-O50/P49*12)))","v":12},0.60225681106123652,0,0,0,0,0,0,{"$f":"IF(X50<0,12,IF(Y50<0,12,IF(W50>0,0,-W50/X49*12)))","v":0},{"$f":"IF(Y50<0,12,IF(Z50<0,12,IF(X50>0,0,-X50/Y49*12)))","v":0},{"$f":"IF(Z50<0,12,IF(AA50<0,12,IF(Y50>0,0,-Y50/Z49*12)))","v":0},{"$f":"IF(AA50<0,12,IF(AB50<0,12,IF(Z50>0,0,-Z50/AA49*12)))","v":0},0,{"$f":"IF(AC50<0,12,IF(AD50<0,12,IF(AB50>0,0,-AB50/AC49*12)))","v":0},0,0,0,{"$f":"IF(AG50<0,12,IF(AH50<0,12,IF(AF50>0,0,-AF50/AG49*12)))","v":0},0,0,0,{"$f":"IF(AK50<0,12,IF(AL50<0,12,IF(AJ50>0,0,-AJ50/AK49*12)))","v":0},{"$f":"IF(AL50<0,12,IF(AM50<0,12,IF(AK50>0,0,-AK50/AL49*12)))","v":0}]
[11,null,"Розрахунок PP / PP Calculation",null,null,null,null,null,{"$f":"13-E7","v":6},{"$f":"IF(J46<0,12,IF(K46<0,12,IF(I46>0,0,-I46/J45*12)))","v":12},{"$f":"IF(K46<0,12,IF(L46<0,12,IF(J46>0,0,-J46/K45*12)))","v":12},{"$f":"IF(L46<0,12,IF(M46<0,12,IF(K46>0,0,-K46/L45*12)))","v":12},{"$f":"IF(M46<0,12,IF(N46<0,12,IF(L46>0,0,-L46/M45*12)))","v":12},{"$f":"IF(N46<0,12,IF(O46<0,12,IF(M46>0,0,-M46/N45*12)))","v":12},{"$f":"IF(O46<0,12,IF(P46<0,12,IF(N46>0,0,-N46/O45*12)))","v":9.9997286315637499},0,0,0,{"$f":"IF(S46<0,12,IF(T46<0,12,IF(R46>0,0,-R46/S45*12)))","v":0},{"$f":"IF(T46<0,12,IF(U46<0,12,IF(S46>0,0,-S46/T45*12)))","v":0},0,{"$f":"IF(V46<0,12,IF(W46<0,12,IF(U46>0,0,-U46/V45*12)))","v":0},{"$f":"IF(W46<0,12,IF(X46<0,12,IF(V46>0,0,-V46/W45*12)))","v":0},{"$f":"IF(X46<0,12,IF(Y46<0,12,IF(W46>0,0,-W46/X45*12)))","v":0},{"$f":"IF(Y46<0,12,IF(Z46<0,12,IF(X46>0,0,-X46/Y45*12)))","v":0},0,0,{"$f":"IF(AB46<0,12,IF(AC46<0,12,IF(AA46>0,0,-AA46/AB45*12)))","v":0},0,0,{"$f":"IF(AE46<0,12,IF(AF46<0,12,IF(AD46>0,0,-AD46/AE45*12)))","v":0},0,{"$f":"IF(AG46<0,12,IF(AH46<0,12,IF(AF46>0,0,-AF46/AG45*12)))","v":0},0,0,0,{"$f":"IF(AK46<0,12,IF(AL46<0,12,IF(AJ46>0,0,-AJ46/AK45*12)))","v":0},{"$f":"IF(AL46<0,12,IF(AM46<0,12,IF(AK46>0,0,-AK46/AL45*12)))","v":0}]
[12,null,"Податок на прибуток / Income tax",null,null,null,null,null,{"$f":"1-0.82","v":0.18000000000000005},{"$f":"1-0.82","v":0.18000000000000005},0.18000000000000005,0.18000000000000005,0.18000000000000005,0.18000000000000005,0.18000000000000005,0.18000000000000005,0.18000000000000005,0.18000000000000005,0.18000000000000005,0.18000000000000005,0.18000000000000005,0.18000000000000005,0.18000000000000005,0.18000000000000005,0.18000000000000005,0.18000000000000005,0.18000000000000005,0.18000000000000005,0.18000000000000005,0.18000000000000005,0.18000000000000005,0.18000000000000005,0.18000000000000005,0.18000000000000005,0.18000000000000005,0.18000000000000005,0.18000000000000005,0.18000000000000005]
[null,null,null,null,null,null,null,null,{"$f":"I57+I41","v":213.94074967507152},{"$f":"J57+J41","v":1354.9580812754527},{"$f":"K57+K41","v":1259.8733036420876},1164.7885260087228,1069.7037483753572,499.19508257516651,0,0,0,0,0,0,0,0,0,0,0,0,0,0,0,0,0,0,0,0,0,0,0,0]
[null,null,null,null,null,null,null,null,{"$f":"I57+I42","v":213.94074967507152},1354.9580812754527,1259.8733036420876,1164.7885260087228,1069.7037483753572,499.19508257516651,0,0,0,0,0,0,0,0,0,0,0,0,0,0,0,0,0,0,0,0,0,0,0,0]
[null,null,null,null,null,null,null,null,{"$f":"IFERROR(I36+I40+HLOOKUP(I22,CFF!$25:$37,13,0),0)","v":213.94074967507152},{"$f":"IFERROR(J36+J40+HLOOKUP(J22,CFF!$25:$37,13,0),0)","v":1354.9580812754527},{"$f":"IFERROR(K36+K40+HLOOKUP(K22,CFF!$25:$37,13,0),0)","v":1259.8733036420876},{"$f":"IFERROR(L36+L40+HLOOKUP(L22,CFF!$25:$37,13,0),0)","v":1164.7885260087228},{"$f":"IFERROR(M36+M40+HLOOKUP(M22,CFF!$25:$37,13,0),0)","v":1069.7037483753572},{"$f":"IFERROR(N36+N40+HLOOKUP(N22,CFF!$25:$37,13,0),0)","v":499.19508257516651},{"$f":"IFERROR(O36+O40+HLOOKUP(O22,CFF!$25:$37,13,0),0)","v":0},{"$f":"IFERROR(P36+P40+HLOOKUP(P22,CFF!$25:$37,13,0),0)","v":0},{"$f":"IFERROR(Q36+Q40+HLOOKUP(Q22,CFF!$25:$37,13,0),0)","v":0},{"$f":"IFERROR(R36+R40+HLOOKUP(R22,CFF!$25:$37,13,0),0)","v":0},{"$f":"IFERROR(S36+S40+HLOOKUP(S22,CFF!$25:$37,13,0),0)","v":0},{"$f":"IFERROR(T36+T40+HLOOKUP(T22,CFF!$25:$37,13,0),0)","v":0},{"$f":"IFERROR(U36+U40+HLOOKUP(U22,CFF!$25:$37,13,0),0)","v":0},{"$f":"IFERROR(V36+V40+HLOOKUP(V22,CFF!$25:$37,13,0),0)","v":0},{"$f":"IFERROR(W36+W40+HLOOKUP(W22,CFF!$25:$37,13,0),0)","v":0},{"$f":"IFERROR(X36+X40+HLOOKUP(X22,CFF!$25:$37,13,0),0)","v":0},{"$f":"IFERROR(Y36+Y40+HLOOKUP(Y22,CFF!$25:$37,13,0),0)","v":0},{"$f":"IFERROR(Z36+Z40+HLOOKUP(Z22,CFF!$25:$37,13,0),0)","v":0},{"$f":"IFERROR(AA36+AA40+HLOOKUP(AA22,CFF!$25:$37,13,0),0)","v":0},{"$f":"IFERROR(AB36+AB40+HLOOKUP(AB22,CFF!$25:$37,13,0),0)","v":0},{"$f":"IFERROR(AC36+AC40+HLOOKUP(AC22,CFF!$25:$37,13,0),0)","v":0},{"$f":"IFERROR(AD36+AD40+HLOOKUP(AD22,CFF!$25:$37,13,0),0)","v":0},{"$f":"IFERROR(AE36+AE40+HLOOKUP(AE22,CFF!$25:$37,13,0),0)","v":0},{"$f":"IFERROR(AF36+AF40+HLOOKUP(AF22,CFF!$25:$37,13,0),0)","v":0},{"$f":"IFERROR(AG36+AG40+HLOOKUP(AG22,CFF!$25:$37,13,0),0)","v":0},{"$f":"IFERROR(AH36+AH40+HLOOKUP(AH22,CFF!$25:$37,13,0),0)","v":0},{"$f":"IFERROR(AI36+AI40+HLOOKUP(AI22,CFF!$25:$37,13,0),0)","v":0},{"$f":"IFERROR(AJ36+AJ40+HLOOKUP(AJ22,CFF!$25:$37,13,0),0)","v":0},{"$f":"IFERROR(AK36+AK40+HLOOKUP(AK22,CFF!$25:$37,13,0),0)","v":0},{"$f":"IFERROR(AL36+AL40+HLOOKUP(AL22,CFF!$25:$37,13,0),0)","v":0}]

{"sheet":"Припущення_Assumptions","index":5,"n_rows":83,"n_cols":15,"rows_kept":83,"cut":false,"hidden":false,"merged":[[42,10,42,11],[34,2,34,3],[35,2,35,3],[12,2,12,3],[13,2,13,3],[18,2,18,3],[27,2,27,3],[17,2,17,3],[20,2,20,3],[23,2,23,3],[30,2,30,3],[21,2,21,3],[28,2,28,3],[12,10,12,11],[13,10,13,11],[15,10,15,11],[43,10,43,11],[45,10,45,11],[1,11,1,13],[1,2,1,5],[1,9,1,10],[39,10,39,11],[41,10,41,11],[30,10,30,11],[31,10,31,11],[19,10,19,11],[20,10,20,11],[38,2,38,3],[38,10,38,11],[22,10,22,11],[29,2,29,3],[29,10,29,11],[1,0,1,1],[10,10,10,11],[11,10,11,11],[3,1,4,3],[3,5,4,5],[3,4,4,4],[6,2,6,3],[7,2,7,3],[8,2,8,3],[9,2,9,3],[10,2,10,3],[11,2,11,3],[8,10,8,11],[3,9,4,11],[52,1,53,5],[50,1,51,5],[41,2,41,3],[39,2,39,3],[31,2,31,3],[15,2,15,3],[3,13,4,13],[3,12,4,12],[6,10,6,11],[7,10,7,11],[9,10,9,11],[3,6,4,6],[14,2,14,3],[5,2,5,3],[16,2,16,3],[32,2,32,3],[33,2,33,3],[23,10,23,11],[19,2,19,3],[22,2,22,3],[28,10,28,11],[24,2,24,3],[40,10,40,11],[25,2,25,3],[26,2,26,3],[35,10,35,11],[40,2,40,3],[34,10,34,11],[36,2,36,3],[36,10,36,11],[37,10,37,11],[37,2,37,3],[3,14,4,14],[26,10,26,11],[27,10,27,11],[32,10,32,11],[33,10,33,11],[14,10,14,11],[16,10,16,11],[21,10,21,11],[24,10,24,11],[25,10,25,11],[17,10,17,11],[18,10,18,11],[5,10,5,11]]}
[null,"UKR",null,null,null,null,null,null,null,"ENG"]
["ПРИПУЩЕННЯ",null,{"$f":"Головна_Summary!A2","v":"Будівництво СЕС 10 МВт"},null,null,null,null,null,null,"Assumptions",null,{"$f":"Головна_Summary!K2","v":"Project name"}]
[]
[null,"Показник",null,null,"Джерело","Од.вим.","Значення",null,null,"Indicator",null,null,"Source","Unit","Value"]
[]
[null,null,"Використання індексів у розрахунку",null,null,null,"НІ",null,null,null,"The use of indeces in the calculation",null,null,null,"NO"]
[null,null,"Прогнозний курс грн/долл на 2023",null,"НБУ","грн/долл",38.47,null,null,null,"Exchange rate (on the date of calculation)",null,null,"UAH/US$",{"$f":"G7","v":38.47}]
[null,null,"Прогнозний курс грн/євро на 2023",null,"НБУ","грн/євро",41.66,null,null,null,"Exchange rate (on the date of calculation)",null,null,"UAH/EUR",41.66]
[null,null,"Індекс цін виробників",null,"Держстат",null,{"$f":"IF(G6=\"ТАК\",1.08,1)","v":1},null,null,null,"Producer price index",null,null,null,1]
[null,null,"Індекс споживчих цін (індекс інфляції)",null,"Держстат",null,{"$f":"IF(G6=\"ТАК\",1.067,1)","v":1},null,null,null,"Consumer price index",null,null,null,1]
[null,null,"Індекс зростання заробітної плати",null,"Держстат",null,{"$f":"IF(G6=\"ТАК\",1.07,1)","v":1},null,null,null,"Wage growth index",null,null,null,1]
[null,null,"Ціна електроенергії на РДН (показник за травень 2024)",null,"Оператор ринку","грн/МВт*год",3489,null,null,null,"DAM Price, 2022",null,null,"UAH/MWh",3489]
[null,null,"Річна заробітна плата працівнику",null,"Експертна думка","тис.грн.",125.8,null,null,null,"The employee's annual salary",null,null,"ths.UAH",125.8]
[null,null,"Щорічне збільшення попиту на е/е (зростання споживання)",null,null,null,1.01,null,null,null,"Annual increase in demand for e/e (consumption growth)",null,null,null,1.01]
[null,null,null,null,null,null,null,null,null,null,null,null,null,null,0]
[null,null,"CAPEX будівництва 1 МВт потужності",null,"Каталог","тис.грн",16460.601279999999,null,null,null,null,null,null,null,16460.601279999999]
[null,null,"Номінальна потужність",null,"Проєктна","МВт",10,null,null,null,null,null,null,null,10]
[null,null,"Вартість будівництва СЕС",null,"Розрахунок","тис.долл.",{"$f":"G16*G17/G7","v":4278.8149935014299},null,null,null,null,null,null,null,4278.8149935014299]
[null,null,"Середньорічні умовно-постійні витрати (25 років)",null,"Каталог","тис.грн/МВт/рік",{"$f":"AVERAGE(Дані_каталог!D10:AB10)","v":237.74390437440002},null,null,null,null,null,null,null,{"$f":"G19","v":237.74390437440002}]
[null,null,"Середньорічні змінні витрати (25 років)",null,"Каталог","тис.грн/МВт·год",{"$f":"AVERAGE(Дані_каталог!D14:AB14)/1000","v":1.2387333822399997E-3},null,null,null,null,null,null,null,1.2387333822399997E-3]
[null,null,null,null,null,null,null,null,null,null,null,null,null,null,0]
[null,null,"Максимальний коефіцієнт використання встановленої потужності",null,"Каталог",null,0.97,null,null,null,null,null,null,null,{"$f":"G22","v":0.97}]
[null,null,"Коефіцієнт роботи СЕС на рік",null,"Експертна думка",null,0.15,null,null,null,null,null,null,null,0.15]
[null,null,null,null,null,null,null,null,null,null,null,null,null,null,0]
[null,null,"Денний об'єм генерації (звіт, літо)",null,null,"МВт*год",87.200130378096489,null,null,null,null,null,null,null,{"$f":"G25","v":87.200130378096489}]
[null,null,"Днів у році",null,null,"днів",365,null,null,null,null,null,null,null,365]
[null,null,"Річний об'єм генерації (звіт)",null,null,"МВт*год",{"$f":"G26*G25*G23","v":4774.2071382007825},null,null,null,null,null,null,null,4774.2071382007825]
[null,null,"ОБРАТИ ВИД РОЗРАХУНКУ",null,null,null,"Розрахунок",null,null,null,null,null,null,null,"Розрахунок"]
[null,null,"Річний об'єм генерації (розрахунковий)",null,null,"МВт*год",{"$f":"G17*G22*G23*24*G26","v":12745.799999999997},null,null,null,null,null,null,null,12745.799999999997]
[null,null,null,null,null,null,null,null,null,null,null,null,null,null,0]
[null,null,null,null,null,null,{"$f":"G26*24","v":8760},null,null,null,null,null,null,null,8760]
[null,null,null,null,null,null,{"$f":"G22*G23*10*G31","v":12745.8},null,null,null,null,null,null,null,12745.8]
[null,null,null,null,null,null,null,null,null,null,null,null,null,null,0]
[null,null,null,null,null,null,null,null,null,null,null,null,null,null,0]
[null,null,null,null,null,null,null,null,null,null,null,null,null,null,0]
[null,null,null,null,null,null,null,null,null,null,null,null,null,null,0]
[null,null,null,null,null,null,null,null,null,null,null,null,null,null,{"$f":"O33+O35","v":0}]
[null,null,null,null,null,null,null,null,null,null,null,null,null,null,{"$f":"O34+O36","v":0}]
[null,null,null,null,null,null,null,null,null,null,null,null,null,null,0]
[null,null,null,null,null,null,null,null,null,null,null,null,null,null,0]
[null,null,null,null,null,null,null,null,null,null,null,null,null,null,0]
[null,null,null,null,null,null,null,null,null,null,null,null,null,null,0]
[null,31,null,null,null,null,null,null,null,31]
[null,32,null,null,null,null,null,null,null,32]
[null,33,null,null,null,null,null,null,null,33]
[null,34,null,null,null,null,null,null,null,34]
[null,35,null,null,null,null,null,null,null,35]
[]
[]
[]
[null,"ПІДКАЗКА"]
[]
[null,"Можливі факотри отримання техніко-економічного ефекту        "]
[]
[null,null,"1.","Додатні грошові потоки"]
[null,null,null,"Приросні операційні доходи/Додатковий прибуток, отриманий від: "]
[null,null,"+","збільшення корисного відпуску електроенергії"]
[null,null,"+","зменшення втрат в мережі навантаження "]
[null,null,"+","плати за приєднання"]
[null,null,"+","сдачі старого обладнання на металолом "]
[null,null,"+","реалізації старого обладнання"]
[null,null,"+","зменшення кількості ремонтів та техобслуговування"]
[null,null,"+","зменшення кількості працюючих на підстанції"]
[null,null,"+","попередження санкцій за недотримання природоохоронного законодавства"]
[null,null,"+","енергозберігання"]
[null,null,"+","збільшення тарифного доходу"]
[]
[null,null,"2.","Від'ємні грошові потоки"]
[null,null,"2.1.","Операційні витрати/втрати на реалізацію проєкту "]
[null,null,"-","проведення науково-дослідних робіт"]
[null,null,"-","закупка, доставка, митне оформлення"]
[null,null,"-","будівельно-монтажні роботи"]
[null,null,"-","зупинка роботи, яка була викликана необхідністю  монтажну додаткового обладнання "]
[null,null,"-","сертифікація обладнання оформлення необхідних дозволів"]
[null,null,"-","навчання персоналу"]
[]
[null,null,"2.2.","Пиросні операційні витрати "]
[null,null,"-","скророчення виробітку  іншого обладнання при роботі встановленого"]
[null,null,"-","основні матеріали та енергоресурси, необхідні для роботи обладнання"]
[null,null,"-","додатковий персонал"]
[null,null,"-","утилізація відходів"]
[null,null,"-","підтримка роботи та оновлення програмного забезпечення"]
[null,null,"-","ТО"]

{"sheet":"Дані_каталог","index":6,"n_rows":14,"n_cols":29,"rows_kept":14,"cut":false,"hidden":false,"merged":[]}
["Показник",null,2024,2025,2026,2027,2028,2029,2030,2031,2032,2033,2034,2035,2036,2037,2038,2039,2040,2041,2042,2043,2044,2045,2046,2047,2048,2049,2050]
["Номінальна потужність","МВт",12.5,12.5,12.5,12.5,12.5,12.5,12.5,12.5,12.5,12.5,12.5,12.5,12.5,12.5,12.5,12.5,12.5,12.5,12.5,12.5,12.5,12.5,12.5,12.5,12.5,12.5,12.5]
["Умовно-постійні витрати","грн/кВт/рік",370.36352870000002,359.91087679999998,350.23127460000001,341.30404900000002,333.10521030000001,325.60776829999998,318.782083,312.59624439999999,307.01647459999998,302.0075435,297.53319169999997,293.55655159999998,290.04055829999999,286.94834379999998,284.24360689999997,281.8909519,279.85619179999998,278.10661140000002,276.61118679999998,275.34076019999998,274.26817,273.36833539999998,272.61829970000002,271.99723289999997,271.48639960000003,271.06909519999999,270.7305561]
["Максимальний коефіцієнт використання встановленої потужності","%",97,97,97,97,97,97,97,97,97,97,97,97,97,97,97,97,97,97,97,97,97,97,97,97,97,97,97]
["Вартість будівництва","грн/кВт",20575.7516,19995.048709999999,19457.293030000001,18961.336050000002,18505.845010000001,18089.320459999999,17710.115720000002,17366.458019999998,17056.470809999999,16778.19686,16529.621760000002,16308.69731,16113.36435,15941.57466,15791.31149,15660.60844,15547.566210000001,15450.3673,15367.28815,15296.7089,15237.12055,15187.12974,15145.461090000001,15110.95738,15082.57776,15059.394179999999,15040.586450000001]
["Очікуваний термін експлуатації (життєвий цикл)","років",25,25,25,25,25,25,25,25,25,25,25,25,25,25,25,25,25,25,25,25,25,25,25,25,25,25,25]
["Змінні витрати","грн/МВт·год",1.9297304989999999,1.8752683409999999,1.824834048,1.7783199270000001,1.735600947,1.6965365109999999,1.660972179,1.6287416669999999,1.5996690099999999,1.573570624,1.5502576029999999,1.529537846,1.5112182199999999,1.4951066559999999,1.481013983,1.4687557849999999,1.458153934,1.449037954,1.4412462530000001,1.4346268529999999,1.4290382589999999,1.4243497839999999,1.420441823,1.41720585,1.4145442159999999,1.4123699220000001,1.410606013]
[]
["Номінальна потужність","МВт",10,10,10,10,10,10,10,10,10,10,10,10,10,10,10,10,10,10,10,10,10,10,10,10,10,10,10]
["Умовно-постійні витрати","грн/кВт/рік",{"$f":"C3/C2*C9","v":296.29082296000001},287.92870144,280.18501967999998,273.04323920000002,266.48416824000003,260.48621463999996,255.02566640000001,250.07699551999997,245.61317967999997,241.60603479999997,238.02655335999998,234.84524127999998,232.03244663999999,229.55867503999997,227.39488551999997,225.51276152,223.88495344,222.48528912,221.28894943999998,220.27260815999998,219.414536,218.69466831999998,218.09463976000004,217.59778631999995,217.18911968,216.85527615999999,216.58444488000001]
["Максимальний коефіцієнт використання встановленої потужності","%",97,97,97,97,97,97,97,97,97,97,97,97,97,97,97,97,97,97,97,97,97,97,97,97,97,97,97]
["Вартість будівництва","грн/кВт",{"$f":"C5/C2*C9","v":16460.601280000003},15996.038968000001,15565.834424000001,15169.068840000002,14804.676008000002,14471.456367999999,14168.092576000001,13893.166416,13645.176647999999,13422.557488,13223.697408,13046.957848,12890.691480000001,12753.259728000001,12633.049192,12528.486751999999,12438.052968000002,12360.293839999998,12293.830520000001,12237.367119999999,12189.69644,12149.703792,12116.368872000001,12088.765904,12066.062208000001,12047.515343999999,12032.469160000001]
["Очікуваний термін експлуатації (життєвий цикл)","років",25,25,25,25,25,25,25,25,25,25,25,25,25,25,25,25,25,25,25,25,25,25,25,25,25,25,25]
["Змінні витрати","грн/МВт·год",{"$f":"C7/C2*C9","v":1.5437843992},1.5002146727999999,1.4598672384,1.4226559416,1.3884807576,1.3572292087999998,1.3287777432000001,1.3029933335999999,1.279735208,1.2588564992000002,1.2402060823999999,1.2236302768,1.2089745759999999,1.1960853247999998,1.1848111863999999,1.1750046279999999,1.1665231471999999,1.1592303632000001,1.1529970024,1.1477014824,1.1432306072,1.1394798272,1.1363534583999999,1.1337646799999999,1.1316353727999999,1.1298959376000002,1.1284848104]

{"sheet":"CFO","index":7,"n_rows":86,"n_cols":38,"rows_kept":86,"cut":false,"hidden":false,"merged":[[39,2,39,3],[29,4,29,5],[31,4,31,5],[53,8,53,12],[35,4,35,5],[35,2,35,3],[51,8,52,12],[47,4,47,5],[48,4,48,5],[49,1,50,7],[48,2,48,3],[51,1,52,3],[51,4,52,7],[41,4,41,5],[42,4,42,5],[39,4,39,5],[40,4,40,5],[37,4,37,5],[36,2,36,3],[37,2,37,3],[46,4,46,5],[45,2,45,3],[38,2,38,3],[41,2,41,3],[42,2,42,3],[46,2,46,3],[40,2,40,3],[23,2,23,3],[15,4,15,5],[13,4,13,5],[45,4,45,5],[33,4,33,5],[25,4,25,5],[38,4,38,5],[36,4,36,5],[43,4,43,5],[44,4,44,5],[30,4,30,5],[34,2,34,3],[33,2,33,3],[24,4,24,5],[27,2,27,3],[25,2,25,3],[26,2,26,3],[28,2,28,3],[24,2,24,3],[31,2,31,3],[32,2,32,3],[29,2,29,3],[3,1,3,3],[19,4,19,5],[18,4,18,5],[10,2,10,3],[1,8,1,13],[10,4,10,5],[6,4,6,5],[5,4,5,5],[14,2,14,3],[19,2,19,3],[15,2,15,3],[18,2,18,3],[14,4,14,5],[16,4,16,5],[17,4,17,5],[12,4,12,5],[3,4,3,5],[5,2,5,3],[6,2,6,3],[17,2,17,3],[16,2,16,3],[54,4,54,7],[62,5,62,7],[58,5,58,7],[23,4,23,5],[4,4,4,5],[22,4,22,5],[21,4,21,5],[12,2,12,3],[13,2,13,3],[4,2,4,3],[20,2,20,3],[11,2,11,3],[7,2,7,3],[8,2,8,3],[9,2,9,3],[7,4,7,5],[20,4,20,5],[44,2,44,3],[34,4,34,5],[47,2,47,3],[43,2,43,3],[30,2,30,3],[21,2,21,3],[22,2,22,3],[71,5,71,7],[72,5,72,7],[76,5,76,7],[77,5,77,7],[71,9,71,12],[75,8,75,12],[76,9,76,12],[77,9,77,12],[55,9,58,12],[55,8,56,8],[83,9,83,12],[84,9,84,12],[85,9,85,12],[66,8,67,12],[78,9,78,12],[79,9,79,12],[80,9,80,12],[81,9,81,12],[82,9,82,12]]}
[]
[null,"РОЗРАХУНОК ОПЕРАЦІЙНОГО ГРОШОВОГО ПОТОКУ /CASH FLOW OPERATION CALCULATION",null,null,null,null,null,null,{"$f":"CONCATENATE(Головна_Summary!A2,\" / \",Головна_Summary!K2)","v":"Будівництво СЕС 10 МВт / Project name"}]
[]
[null,"Показник",null,null,"Indicator",null,"Одиниці виміру / Unit",{"$f":"'Грошові потоки _ Cash flows'!$I$22","v":2024},{"$f":"IF(H4=0,0,IF(('Грошові потоки _ Cash flows'!$E$13+'Грошові потоки _ Cash flows'!$E$15-1)>=H4+1,H4+1,0))","v":2025},{"$f":"IF(I4=0,0,IF(('Грошові потоки _ Cash flows'!$E$13+'Грошові потоки _ Cash flows'!$E$15-1)>=I4+1,I4+1,0))","v":2026},{"$f":"IF(J4=0,0,IF(('Грошові потоки _ Cash flows'!$E$13+'Грошові потоки _ Cash flows'!$E$15-1)>=J4+1,J4+1,0))","v":2027},{"$f":"IF(K4=0,0,IF(('Грошові потоки _ Cash flows'!$E$13+'Грошові потоки _ Cash flows'!$E$15-1)>=K4+1,K4+1,0))","v":2028},{"$f":"IF(L4=0,0,IF(('Грошові потоки _ Cash flows'!$E$13+'Грошові потоки _ Cash flows'!$E$15-1)>=L4+1,L4+1,0))","v":2029},{"$f":"IF(M4=0,0,IF(('Грошові потоки _ Cash flows'!$E$13+'Грошові потоки _ Cash flows'!$E$15-1)>=M4+1,M4+1,0))","v":2030},{"$f":"IF(N4=0,0,IF(('Грошові потоки _ Cash flows'!$E$13+'Грошові потоки _ Cash flows'!$E$15-1)>=N4+1,N4+1,0))","v":2031},{"$f":"IF(O4=0,0,IF(('Грошові потоки _ Cash flows'!$E$13+'Грошові потоки _ Cash flows'!$E$15-1)>=O4+1,O4+1,0))","v":2032},{"$f":"IF(P4=0,0,IF(('Грошові потоки _ Cash flows'!$E$13+'Грошові потоки _ Cash flows'!$E$15-1)>=P4+1,P4+1,0))","v":2033},{"$f":"IF(Q4=0,0,IF(('Грошові потоки _ Cash flows'!$E$13+'Грошові потоки _ Cash flows'!$E$15-1)>=Q4+1,Q4+1,0))","v":2034},{"$f":"IF(R4=0,0,IF(('Грошові потоки _ Cash flows'!$E$13+'Грошові потоки _ Cash flows'!$E$15-1)>=R4+1,R4+1,0))","v":2035},{"$f":"IF(S4=0,0,IF(('Грошові потоки _ Cash flows'!$E$13+'Грошові потоки _ Cash flows'!$E$15-1)>=S4+1,S4+1,0))","v":2036},{"$f":"IF(T4=0,0,IF(('Грошові потоки _ Cash flows'!$E$13+'Грошові потоки _ Cash flows'!$E$15-1)>=T4+1,T4+1,0))","v":2037},{"$f":"IF(U4=0,0,IF(('Грошові потоки _ Cash flows'!$E$13+'Грошові потоки _ Cash flows'!$E$15-1)>=U4+1,U4+1,0))","v":2038},{"$f":"IF(V4=0,0,IF(('Грошові потоки _ Cash flows'!$E$13+'Грошові потоки _ Cash flows'!$E$15-1)>=V4+1,V4+1,0))","v":2039},{"$f":"IF(W4=0,0,IF(('Грошові потоки _ Cash flows'!$E$13+'Грошові потоки _ Cash flows'!$E$15-1)>=W4+1,W4+1,0))","v":2040},{"$f":"IF(X4=0,0,IF(('Грошові потоки _ Cash flows'!$E$13+'Грошові потоки _ Cash flows'!$E$15-1)>=X4+1,X4+1,0))","v":2041},{"$f":"IF(Y4=0,0,IF(('Грошові потоки _ Cash flows'!$E$13+'Грошові потоки _ Cash flows'!$E$15-1)>=Y4+1,Y4+1,0))","v":2042},{"$f":"IF(Z4=0,0,IF(('Грошові потоки _ Cash flows'!$E$13+'Грошові потоки _ Cash flows'!$E$15-1)>=Z4+1,Z4+1,0))","v":2043},{"$f":"IF(AA4=0,0,IF(('Грошові потоки _ Cash flows'!$E$13+'Грошові потоки _ Cash flows'!$E$15-1)>=AA4+1,AA4+1,0))","v":2044},{"$f":"IF(AB4=0,0,IF(('Грошові потоки _ Cash flows'!$E$13+'Грошові потоки _ Cash flows'!$E$15-1)>=AB4+1,AB4+1,0))","v":2045},{"$f":"IF(AC4=0,0,IF(('Грошові потоки _ Cash flows'!$E$13+'Грошові потоки _ Cash flows'!$E$15-1)>=AC4+1,AC4+1,0))","v":2046},{"$f":"IF(AD4=0,0,IF(('Грошові потоки _ Cash flows'!$E$13+'Грошові потоки _ Cash flows'!$E$15-1)>=AD4+1,AD4+1,0))","v":2047},{"$f":"IF(AE4=0,0,IF(('Грошові потоки _ Cash flows'!$E$13+'Грошові потоки _ Cash flows'!$E$15-1)>=AE4+1,AE4+1,0))","v":2048},{"$f":"IF(AF4=0,0,IF(('Грошові потоки _ Cash flows'!$E$13+'Грошові потоки _ Cash flows'!$E$15-1)>=AF4+1,AF4+1,0))","v":2049},{"$f":"IF(AG4=0,0,IF(('Грошові потоки _ Cash flows'!$E$13+'Грошові потоки _ Cash flows'!$E$15-1)>=AG4+1,AG4+1,0))","v":0},{"$f":"IF(AH4=0,0,IF(('Грошові потоки _ Cash flows'!$E$13+'Грошові потоки _ Cash flows'!$E$15-1)>=AH4+1,AH4+1,0))","v":0},{"$f":"IF(AI4=0,0,IF(('Грошові потоки _ Cash flows'!$E$13+'Грошові потоки _ Cash flows'!$E$15-1)>=AI4+1,AI4+1,0))","v":0},{"$f":"IF(AJ4=0,0,IF(('Грошові потоки _ Cash flows'!$E$13+'Грошові потоки _ Cash flows'!$E$15-1)>=AJ4+1,AJ4+1,0))","v":0},"Разом / Total"]
[null,null,"Приросні операційні доходи",null,"Additional income received",null,{"$f":"Головна_Summary!AD5","v":"тис.US$/ ths.US$"},{"$f":"H25","v":0},{"$f":"I25","v":1155.9681881985962},1155.9681881985962,1155.9681881985962,1155.9681881985962,1155.9681881985962,1155.9681881985962,1155.9681881985962,1155.9681881985962,1155.9681881985962,1155.9681881985962,1155.9681881985962,1155.9681881985962,1155.9681881985962,1155.9681881985962,1155.9681881985962,1155.9681881985962,1155.9681881985962,1155.9681881985962,1155.9681881985962,1155.9681881985962,1155.9681881985962,1155.9681881985962,1155.9681881985962,1155.9681881985962,1155.9681881985962,null,null,null,null,{"$f":"SUM(I5:AK5)","v":28899.204704964905}]
[null,null,"Приросні операційні витрати",null,"Operating costs",null,{"$f":"Головна_Summary!AD5","v":"тис.US$/ ths.US$"},{"$f":"H19","v":0},{"$f":"I19","v":75.342044465208588},73.315762221138513,71.446978947243196,69.730672743442128,68.161193617091826,66.732336869230025,65.437422605443174,64.269379927583216,63.22083392689116,62.284194236679333,61.451743165636529,60.715721719541996,60.068412132384594,59.502215274749588,59.009721580128996,58.583774502978478,{"$f":"Y19","v":58.217525593014685},57.904480467720042,57.638535356235344,57.414004384539901,57.225637254523669,57.068628321031326,56.938617131747947,56.831681698326861,56.744325168740886,null,null,null,null,{"$f":"SUM(I6:AK6)","v":1555.2558433112522}]
[null,null,"Ефективність проекту",null,"Project efficiency",null,{"$f":"Головна_Summary!AD5","v":"тис.US$/ ths.US$"},{"$f":"H5-H6","v":0},{"$f":"I5-I6","v":1080.6261437333876},{"$f":"J5-J6","v":1082.6524259774576},1084.521209251353,1086.2375154551542,1087.8069945815043,1089.2358513293661,1090.5307655931531,1091.6988082710129,1092.747354271705,1093.6839939619169,1094.5164450329596,1095.2524664790542,1095.8997760662116,1096.4659729238465,1096.9584666184671,1097.3844136956177,{"$f":"Y5-Y6","v":1097.7506626055815},1098.0637077308761,1098.3296528423609,1098.5541838140564,1098.7425509440725,1098.8995598775648,1099.0295710668483,1099.1365065002692,1099.2238630298552,null,null,null,null,{"$f":"AL5-AL6","v":27343.948861653651}]
[null,null,"Економічний ефект, який 100% впливає на тариф на передачу*",null,"Economic effect that 100% affect tariff for electricity transmission",null,{"$f":"Головна_Summary!AD5","v":"тис.US$/ ths.US$"},0,0,0,0,0,0,0,0,0,0,0,0,0,0,0,0,0]
[null,null,"Економічний ефект, який 100% впливає на тариф на диспетчеризацію**",null,"Economic effect that 100% affect dispatching tariff",null,{"$f":"Головна_Summary!AD5","v":"тис.US$/ ths.US$"},0,0,0,0,0,0,0,0,0,0,0,0,0,0,0,0,0]
[null,null,"Економічний ефект, який на 80% впливає на тариф на передачу, на 20% на тариф на диспетчеризацію***",null,"Economic effect that 80% affect tariff for electricity transmission, 20% affect dispatching tariff",null,{"$f":"Головна_Summary!AD5","v":"тис.US$/ ths.US$"},0,0,0,0,0,0,0,0,0,0,0,0,0,0,0,0,0]
[null,null,"Додатковий випуск е/е в мережу",null,"Additional electricity output to the grid",null,"МВт*год/MWh",0,0,0,0,0,0,0,0,0,0,0,0,0,0,0,0,0,null,null,null,null,null,null,null,null,null,null,null,null,null,{"$f":"SUM(I11:AK11)","v":0}]
[null,null,"Додатковий імпорт е/е ",null,"Additional electricity import",null,"МВт*год/MWh",0,0,0,0,0,0,0,0,0,0,0,0,0,0,0,0,0]
[null,null,"Курс валют UAH/US$","UAH/US$","UAH/US$ Exchange rate",null,"грн./долл./UAH/US$",{"$f":"IF(Припущення_Assumptions!$G$6=\"ТАК\",HLOOKUP(H4,TenYearsMarket!$C$1:$V$43,41,FALSE),Припущення_Assumptions!$G$7)","v":38.47},{"$f":"IF(Припущення_Assumptions!$G$6=\"ТАК\",HLOOKUP(I4,TenYearsMarket!$C$1:$V$43,41,FALSE),Припущення_Assumptions!$G$7)","v":38.47},{"$f":"IF(Припущення_Assumptions!$G$6=\"ТАК\",HLOOKUP(J4,TenYearsMarket!$C$1:$V$43,41,FALSE),Припущення_Assumptions!$G$7)","v":38.47},{"$f":"IF(Припущення_Assumptions!$G$6=\"ТАК\",HLOOKUP(K4,TenYearsMarket!$C$1:$V$43,41,FALSE),Припущення_Assumptions!$G$7)","v":38.47},{"$f":"IF(Припущення_Assumptions!$G$6=\"ТАК\",HLOOKUP(L4,TenYearsMarket!$C$1:$V$43,41,FALSE),Припущення_Assumptions!$G$7)","v":38.47},{"$f":"IF(Припущення_Assumptions!$G$6=\"ТАК\",HLOOKUP(M4,TenYearsMarket!$C$1:$V$43,41,FALSE),Припущення_Assumptions!$G$7)","v":38.47},{"$f":"IF(Припущення_Assumptions!$G$6=\"ТАК\",HLOOKUP(N4,TenYearsMarket!$C$1:$V$43,41,FALSE),Припущення_Assumptions!$G$7)","v":38.47},{"$f":"IF(Припущення_Assumptions!$G$6=\"ТАК\",HLOOKUP(O4,TenYearsMarket!$C$1:$V$43,41,FALSE),Припущення_Assumptions!$G$7)","v":38.47},{"$f":"IF(Припущення_Assumptions!$G$6=\"ТАК\",HLOOKUP(P4,TenYearsMarket!$C$1:$V$43,41,FALSE),Припущення_Assumptions!$G$7)","v":38.47},{"$f":"IF(Припущення_Assumptions!$G$6=\"ТАК\",HLOOKUP(Q4,TenYearsMarket!$C$1:$V$43,41,FALSE),Припущення_Assumptions!$G$7)","v":38.47},{"$f":"IF(Припущення_Assumptions!$G$6=\"ТАК\",HLOOKUP(R4,TenYearsMarket!$C$1:$V$43,41,FALSE),Припущення_Assumptions!$G$7)","v":38.47},{"$f":"IF(Припущення_Assumptions!$G$6=\"ТАК\",HLOOKUP(S4,TenYearsMarket!$C$1:$V$43,41,FALSE),Припущення_Assumptions!$G$7)","v":38.47},{"$f":"IF(Припущення_Assumptions!$G$6=\"ТАК\",HLOOKUP(T4,TenYearsMarket!$C$1:$V$43,41,FALSE),Припущення_Assumptions!$G$7)","v":38.47},{"$f":"IF(Припущення_Assumptions!$G$6=\"ТАК\",HLOOKUP(U4,TenYearsMarket!$C$1:$V$43,41,FALSE),Припущення_Assumptions!$G$7)","v":38.47},{"$f":"IF(Припущення_Assumptions!$G$6=\"ТАК\",HLOOKUP(V4,TenYearsMarket!$C$1:$V$43,41,FALSE),Припущення_Assumptions!$G$7)","v":38.47},{"$f":"IF(Припущення_Assumptions!$G$6=\"ТАК\",HLOOKUP(W4,TenYearsMarket!$C$1:$V$43,41,FALSE),Припущення_Assumptions!$G$7)","v":38.47},{"$f":"IF(Припущення_Assumptions!$G$6=\"ТАК\",HLOOKUP(X4,TenYearsMarket!$C$1:$V$43,41,FALSE),Припущення_Assumptions!$G$7)","v":38.47},{"$f":"IF(Припущення_Assumptions!$G$6=\"ТАК\",HLOOKUP(Y4,TenYearsMarket!$C$1:$V$43,41,FALSE),Припущення_Assumptions!$G$7)","v":38.47},{"$f":"IF(Припущення_Assumptions!$G$6=\"ТАК\",HLOOKUP(Z4,TenYearsMarket!$C$1:$V$43,41,FALSE),Припущення_Assumptions!$G$7)","v":38.47},{"$f":"IF(Припущення_Assumptions!$G$6=\"ТАК\",HLOOKUP(AA4,TenYearsMarket!$C$1:$V$43,41,FALSE),Припущення_Assumptions!$G$7)","v":38.47},{"$f":"IF(Припущення_Assumptions!$G$6=\"ТАК\",HLOOKUP(AB4,TenYearsMarket!$C$1:$V$43,41,FALSE),Припущення_Assumptions!$G$7)","v":38.47},{"$f":"IF(Припущення_Assumptions!$G$6=\"ТАК\",HLOOKUP(AC4,TenYearsMarket!$C$1:$V$43,41,FALSE),Припущення_Assumptions!$G$7)","v":38.47},{"$f":"IF(Припущення_Assumptions!$G$6=\"ТАК\",HLOOKUP(AD4,TenYearsMarket!$C$1:$V$43,41,FALSE),Припущення_Assumptions!$G$7)","v":38.47},{"$f":"IF(Припущення_Assumptions!$G$6=\"ТАК\",HLOOKUP(AE4,TenYearsMarket!$C$1:$V$43,41,FALSE),Припущення_Assumptions!$G$7)","v":38.47},{"$f":"IF(Припущення_Assumptions!$G$6=\"ТАК\",HLOOKUP(AF4,TenYearsMarket!$C$1:$V$43,41,FALSE),Припущення_Assumptions!$G$7)","v":38.47},{"$f":"IF(Припущення_Assumptions!$G$6=\"ТАК\",HLOOKUP(AG4,TenYearsMarket!$C$1:$V$43,41,FALSE),Припущення_Assumptions!$G$7)","v":38.47}]
[null,null,"Курс валют UAH/EUR","UAH/EUR","UAH/EUR Exchange rate",null,"грн./євро/UAH/EUR",{"$f":"IF(Припущення_Assumptions!$G$6=\"ТАК\",HLOOKUP(H4,TenYearsMarket!$C$1:$V$43,43,FALSE),Припущення_Assumptions!$G$8)","v":41.66},{"$f":"IF(Припущення_Assumptions!$G$6=\"ТАК\",HLOOKUP(I4,TenYearsMarket!$C$1:$V$43,43,FALSE),Припущення_Assumptions!$G$8)","v":41.66},{"$f":"IF(Припущення_Assumptions!$G$6=\"ТАК\",HLOOKUP(J4,TenYearsMarket!$C$1:$V$43,43,FALSE),Припущення_Assumptions!$G$8)","v":41.66},{"$f":"IF(Припущення_Assumptions!$G$6=\"ТАК\",HLOOKUP(K4,TenYearsMarket!$C$1:$V$43,43,FALSE),Припущення_Assumptions!$G$8)","v":41.66},{"$f":"IF(Припущення_Assumptions!$G$6=\"ТАК\",HLOOKUP(L4,TenYearsMarket!$C$1:$V$43,43,FALSE),Припущення_Assumptions!$G$8)","v":41.66},{"$f":"IF(Припущення_Assumptions!$G$6=\"ТАК\",HLOOKUP(M4,TenYearsMarket!$C$1:$V$43,43,FALSE),Припущення_Assumptions!$G$8)","v":41.66},{"$f":"IF(Припущення_Assumptions!$G$6=\"ТАК\",HLOOKUP(N4,TenYearsMarket!$C$1:$V$43,43,FALSE),Припущення_Assumptions!$G$8)","v":41.66},{"$f":"IF(Припущення_Assumptions!$G$6=\"ТАК\",HLOOKUP(O4,TenYearsMarket!$C$1:$V$43,43,FALSE),Припущення_Assumptions!$G$8)","v":41.66},{"$f":"IF(Припущення_Assumptions!$G$6=\"ТАК\",HLOOKUP(P4,TenYearsMarket!$C$1:$V$43,43,FALSE),Припущення_Assumptions!$G$8)","v":41.66},{"$f":"IF(Припущення_Assumptions!$G$6=\"ТАК\",HLOOKUP(Q4,TenYearsMarket!$C$1:$V$43,43,FALSE),Припущення_Assumptions!$G$8)","v":41.66},{"$f":"IF(Припущення_Assumptions!$G$6=\"ТАК\",HLOOKUP(R4,TenYearsMarket!$C$1:$V$43,43,FALSE),Припущення_Assumptions!$G$8)","v":41.66},{"$f":"IF(Припущення_Assumptions!$G$6=\"ТАК\",HLOOKUP(S4,TenYearsMarket!$C$1:$V$43,43,FALSE),Припущення_Assumptions!$G$8)","v":41.66},{"$f":"IF(Припущення_Assumptions!$G$6=\"ТАК\",HLOOKUP(T4,TenYearsMarket!$C$1:$V$43,43,FALSE),Припущення_Assumptions!$G$8)","v":41.66},{"$f":"IF(Припущення_Assumptions!$G$6=\"ТАК\",HLOOKUP(U4,TenYearsMarket!$C$1:$V$43,43,FALSE),Припущення_Assumptions!$G$8)","v":41.66},{"$f":"IF(Припущення_Assumptions!$G$6=\"ТАК\",HLOOKUP(V4,TenYearsMarket!$C$1:$V$43,43,FALSE),Припущення_Assumptions!$G$8)","v":41.66},{"$f":"IF(Припущення_Assumptions!$G$6=\"ТАК\",HLOOKUP(W4,TenYearsMarket!$C$1:$V$43,43,FALSE),Припущення_Assumptions!$G$8)","v":41.66},{"$f":"IF(Припущення_Assumptions!$G$6=\"ТАК\",HLOOKUP(X4,TenYearsMarket!$C$1:$V$43,43,FALSE),Припущення_Assumptions!$G$8)","v":41.66},{"$f":"IF(Припущення_Assumptions!$G$6=\"ТАК\",HLOOKUP(Y4,TenYearsMarket!$C$1:$V$43,43,FALSE),Припущення_Assumptions!$G$8)","v":41.66},{"$f":"IF(Припущення_Assumptions!$G$6=\"ТАК\",HLOOKUP(Z4,TenYearsMarket!$C$1:$V$43,43,FALSE),Припущення_Assumptions!$G$8)","v":41.66},{"$f":"IF(Припущення_Assumptions!$G$6=\"ТАК\",HLOOKUP(AA4,TenYearsMarket!$C$1:$V$43,43,FALSE),Припущення_Assumptions!$G$8)","v":41.66},{"$f":"IF(Припущення_Assumptions!$G$6=\"ТАК\",HLOOKUP(AB4,TenYearsMarket!$C$1:$V$43,43,FALSE),Припущення_Assumptions!$G$8)","v":41.66},{"$f":"IF(Припущення_Assumptions!$G$6=\"ТАК\",HLOOKUP(AC4,TenYearsMarket!$C$1:$V$43,43,FALSE),Припущення_Assumptions!$G$8)","v":41.66},{"$f":"IF(Припущення_Assumptions!$G$6=\"ТАК\",HLOOKUP(AD4,TenYearsMarket!$C$1:$V$43,43,FALSE),Припущення_Assumptions!$G$8)","v":41.66},{"$f":"IF(Припущення_Assumptions!$G$6=\"ТАК\",HLOOKUP(AE4,TenYearsMarket!$C$1:$V$43,43,FALSE),Припущення_Assumptions!$G$8)","v":41.66},{"$f":"IF(Припущення_Assumptions!$G$6=\"ТАК\",HLOOKUP(AF4,TenYearsMarket!$C$1:$V$43,43,FALSE),Припущення_Assumptions!$G$8)","v":41.66},{"$f":"IF(Припущення_Assumptions!$G$6=\"ТАК\",HLOOKUP(AG4,TenYearsMarket!$C$1:$V$43,43,FALSE),Припущення_Assumptions!$G$8)","v":41.66}]
[null,null,"Ціна РДН",null,"DAM Price",null,"грн./МВт*год\nUAH/MWh",{"$f":"Припущення_Assumptions!G12","v":3489},{"$f":"H15*Припущення_Assumptions!$G$9","v":3489},{"$f":"I15*Припущення_Assumptions!$G$9","v":3489},{"$f":"J15*Припущення_Assumptions!$G$9","v":3489},{"$f":"K15*Припущення_Assumptions!$G$9","v":3489},{"$f":"L15*Припущення_Assumptions!$G$9","v":3489},{"$f":"M15*Припущення_Assumptions!$G$9","v":3489},{"$f":"N15*Припущення_Assumptions!$G$9","v":3489},{"$f":"O15*Припущення_Assumptions!$G$9","v":3489},{"$f":"P15*Припущення_Assumptions!$G$9","v":3489},{"$f":"Q15*Припущення_Assumptions!$G$9","v":3489},{"$f":"R15*Припущення_Assumptions!$G$9","v":3489},{"$f":"S15*Припущення_Assumptions!$G$9","v":3489},{"$f":"T15*Припущення_Assumptions!$G$9","v":3489},{"$f":"U15*Припущення_Assumptions!$G$9","v":3489},{"$f":"V15*Припущення_Assumptions!$G$9","v":3489},{"$f":"W15*Припущення_Assumptions!$G$9","v":3489},{"$f":"X15*Припущення_Assumptions!$G$9","v":3489},{"$f":"Y15*Припущення_Assumptions!$G$9","v":3489},{"$f":"Z15*Припущення_Assumptions!$G$9","v":3489},{"$f":"AA15*Припущення_Assumptions!$G$9","v":3489},{"$f":"AB15*Припущення_Assumptions!$G$9","v":3489},{"$f":"AC15*Припущення_Assumptions!$G$9","v":3489},{"$f":"AD15*Припущення_Assumptions!$G$9","v":3489},{"$f":"AE15*Припущення_Assumptions!$G$9","v":3489},{"$f":"AF15*Припущення_Assumptions!$G$9","v":3489}]
[]
[null,3,"Річна заробітна плата працівнику",null,"Annual salary per employee",null,"тис.грн./ths. UAH",{"$f":"Припущення_Assumptions!G13","v":125.8},{"$f":"H17*Припущення_Assumptions!$G$11","v":125.8},{"$f":"I17*Припущення_Assumptions!$G$11","v":125.8},{"$f":"J17*Припущення_Assumptions!$G$11","v":125.8},{"$f":"K17*Припущення_Assumptions!$G$11","v":125.8},{"$f":"L17*Припущення_Assumptions!$G$11","v":125.8},{"$f":"M17*Припущення_Assumptions!$G$11","v":125.8},{"$f":"N17*Припущення_Assumptions!$G$11","v":125.8},{"$f":"O17*Припущення_Assumptions!$G$11","v":125.8},{"$f":"P17*Припущення_Assumptions!$G$11","v":125.8},{"$f":"Q17*Припущення_Assumptions!$G$11","v":125.8},{"$f":"R17*Припущення_Assumptions!$G$11","v":125.8},{"$f":"S17*Припущення_Assumptions!$G$11","v":125.8},{"$f":"T17*Припущення_Assumptions!$G$11","v":125.8},{"$f":"U17*Припущення_Assumptions!$G$11","v":125.8},{"$f":"V17*Припущення_Assumptions!$G$11","v":125.8},{"$f":"W17*Припущення_Assumptions!$G$11","v":125.8},{"$f":"X17*Припущення_Assumptions!$G$11","v":125.8},{"$f":"Y17*Припущення_Assumptions!$G$11","v":125.8},{"$f":"Z17*Припущення_Assumptions!$G$11","v":125.8},{"$f":"AA17*Припущення_Assumptions!$G$11","v":125.8},{"$f":"AB17*Припущення_Assumptions!$G$11","v":125.8},{"$f":"AC17*Припущення_Assumptions!$G$11","v":125.8},{"$f":"AD17*Припущення_Assumptions!$G$11","v":125.8},{"$f":"AE17*Припущення_Assumptions!$G$11","v":125.8},{"$f":"AF17*Припущення_Assumptions!$G$11","v":125.8}]
[]
[null,null,"Витрати",null,null,null,null,{"$f":"SUM(H20:H21)","v":0},{"$f":"SUM(I20:I21)","v":75.342044465208588},73.315762221138513,71.446978947243196,69.730672743442128,68.161193617091826,66.732336869230025,65.437422605443174,64.269379927583216,63.22083392689116,62.284194236679333,61.451743165636529,60.715721719541996,60.068412132384594,59.502215274749588,59.009721580128996,58.583774502978478,{"$f":"SUM(Y20:Y21)","v":58.217525593014685},{"$f":"SUM(Z20:Z21)","v":57.904480467720042},{"$f":"SUM(AA20:AA21)","v":57.638535356235344},{"$f":"SUM(AB20:AB21)","v":57.414004384539901},{"$f":"SUM(AC20:AC21)","v":57.225637254523669},{"$f":"SUM(AD20:AD21)","v":57.068628321031326},{"$f":"SUM(AE20:AE21)","v":56.938617131747947},{"$f":"SUM(AF20:AF21)","v":56.831681698326861},{"$f":"SUM(AG20:AG21)","v":56.744325168740886}]
[null,null,"Умовно-постійні",null,null,null,"тис.дол/рік",0,{"$f":"IFERROR(Дані_каталог!D10/I13,\"\")*Припущення_Assumptions!$G$17","v":74.844996475175464},{"$f":"IFERROR(Дані_каталог!E10/J13,\"\")*Припущення_Assumptions!$G$17","v":72.832082058747076},{"$f":"IFERROR(Дані_каталог!F10/K13,\"\")*Припущення_Assumptions!$G$17","v":70.975627553938139},{"$f":"IFERROR(Дані_каталог!G10/L13,\"\")*Припущення_Assumptions!$G$17","v":69.270644200675861},{"$f":"IFERROR(Дані_каталог!H10/M13,\"\")*Припущення_Assumptions!$G$17","v":67.711519272160118},{"$f":"IFERROR(Дані_каталог!I10/N13,\"\")*Припущення_Assumptions!$G$17","v":66.29208900441904},{"$f":"IFERROR(Дані_каталог!J10/O13,\"\")*Припущення_Assumptions!$G$17","v":65.005717577332987},{"$f":"IFERROR(Дані_каталог!K10/P13,\"\")*Припущення_Assumptions!$G$17","v":63.845380733038724},{"$f":"IFERROR(Дані_каталог!L10/Q13,\"\")*Припущення_Assumptions!$G$17","v":62.803752222511037},{"$f":"IFERROR(Дані_каталог!M10/R13,\"\")*Припущення_Assumptions!$G$17","v":61.873291749415131},{"$f":"IFERROR(Дані_каталог!N10/S13,\"\")*Припущення_Assumptions!$G$17","v":61.046332539641277},{"$f":"IFERROR(Дані_каталог!O10/T13,\"\")*Припущення_Assumptions!$G$17","v":60.315166789706261},{"$f":"IFERROR(Дані_каталог!P10/U13,\"\")*Припущення_Assumptions!$G$17","v":59.672127642318678},{"$f":"IFERROR(Дані_каталог!Q10/V13,\"\")*Припущення_Assumptions!$G$17","v":59.109666108656086},{"$f":"IFERROR(Дані_каталог!R10/W13,\"\")*Припущення_Assumptions!$G$17","v":58.620421502469462},{"$f":"IFERROR(Дані_каталог!S10/X13,\"\")*Припущення_Assumptions!$G$17","v":58.197284491811807},{"$f":"IFERROR(Дані_каталог!T10/Y13,\"\")*Припущення_Assumptions!$G$17","v":57.83345181180141},{"$f":"IFERROR(Дані_каталог!U10/Z13,\"\")*Припущення_Assumptions!$G$17","v":57.522471910579675},{"$f":"IFERROR(Дані_каталог!V10/AA13,\"\")*Припущення_Assumptions!$G$17","v":57.258281299714056},{"$f":"IFERROR(Дані_каталог!W10/AB13,\"\")*Припущення_Assumptions!$G$17","v":57.035231609046015},{"$f":"IFERROR(Дані_каталог!X10/AC13,\"\")*Припущення_Assumptions!$G$17","v":56.848107179620477},{"$f":"IFERROR(Дані_каталог!Y10/AD13,\"\")*Припущення_Assumptions!$G$17","v":56.692134068105027},{"$f":"IFERROR(Дані_каталог!Z10/AE13,\"\")*Припущення_Assumptions!$G$17","v":56.562980587470747},{"$f":"IFERROR(Дані_каталог!AA10/AF13,\"\")*Припущення_Assumptions!$G$17","v":56.456750631661038},{"$f":"IFERROR(Дані_каталог!AB10/AG13,\"\")*Припущення_Assumptions!$G$17","v":56.369970408110213}]
[null,null,"Змінні витрати",null,null,null,"тис.дол",0,{"$f":"Дані_каталог!D14/CFO!I13/1000*CFO!I23","v":0.49704799003312283},{"$f":"Дані_каталог!E14/CFO!J13/1000*CFO!J23","v":0.48368016239144046},{"$f":"Дані_каталог!F14/CFO!K13/1000*CFO!K23","v":0.4713513933050501},{"$f":"Дані_каталог!G14/CFO!L13/1000*CFO!L23","v":0.46002854276626137},{"$f":"Дані_каталог!H14/CFO!M13/1000*CFO!M23","v":0.44967434493171393},{"$f":"Дані_каталог!I14/CFO!N13/1000*CFO!N23","v":0.4402478648109841},{"$f":"Дані_каталог!J14/CFO!O13/1000*CFO!O23","v":0.43170502811018657},{"$f":"Дані_каталог!K14/CFO!P13/1000*CFO!P23","v":0.42399919454448654},{"$f":"Дані_каталог!L14/CFO!Q13/1000*CFO!Q23","v":0.41708170438012376},{"$f":"Дані_каталог!M14/CFO!R13/1000*CFO!R23","v":0.41090248726420364},{"$f":"Дані_каталог!N14/CFO!S13/1000*CFO!S23","v":0.4054106259952544},{"$f":"Дані_каталог!O14/CFO!T13/1000*CFO!T23","v":0.40055492983573682},{"$f":"Дані_каталог!P14/CFO!U13/1000*CFO!U23","v":0.39628449006591726},{"$f":"Дані_каталог!Q14/CFO!V13/1000*CFO!V23","v":0.39254916609350443},{"$f":"Дані_каталог!R14/CFO!W13/1000*CFO!W23","v":0.38930007765953717},{"$f":"Дані_каталог!S14/CFO!X13/1000*CFO!X23","v":0.38649001116666903},{"$f":"Дані_каталог!T14/CFO!Y13/1000*CFO!Y23","v":0.38407378121327157},{"$f":"Дані_каталог!U14/CFO!Z13/1000*CFO!Z23","v":0.38200855714036697},{"$f":"Дані_каталог!V14/CFO!AA13/1000*CFO!AA23","v":0.38025405652128719},{"$f":"Дані_каталог!W14/CFO!AB13/1000*CFO!AB23","v":0.37877277549388499},{"$f":"Дані_каталог!X14/CFO!AC13/1000*CFO!AC23","v":0.37753007490319096},{"$f":"Дані_каталог!Y14/CFO!AD13/1000*CFO!AD23","v":0.37649425292629884},{"$f":"Дані_каталог!Z14/CFO!AE13/1000*CFO!AE23","v":0.37563654427720289},{"$f":"Дані_каталог!AA14/CFO!AF13/1000*CFO!AF23","v":0.37493106666582365},{"$f":"Дані_каталог!AB14/CFO!AG13/1000*CFO!AG23","v":0.37435476063067535}]
[]
[null,null,"Річний об'єм генерації",null,null,null,"МВт*год",0,{"$f":"IF(Припущення_Assumptions!$G$28=\"Звіт\",Припущення_Assumptions!$G$27,IF(Припущення_Assumptions!$G$28=\"Розрахунок\",Припущення_Assumptions!$G$29,0))","v":12745.799999999997},{"$f":"IF(Припущення_Assumptions!$G$28=\"Звіт\",Припущення_Assumptions!$G$27,IF(Припущення_Assumptions!$G$28=\"Розрахунок\",Припущення_Assumptions!$G$29,0))","v":12745.799999999997},{"$f":"IF(Припущення_Assumptions!$G$28=\"Звіт\",Припущення_Assumptions!$G$27,IF(Припущення_Assumptions!$G$28=\"Розрахунок\",Припущення_Assumptions!$G$29,0))","v":12745.799999999997},{"$f":"IF(Припущення_Assumptions!$G$28=\"Звіт\",Припущення_Assumptions!$G$27,IF(Припущення_Assumptions!$G$28=\"Розрахунок\",Припущення_Assumptions!$G$29,0))","v":12745.799999999997},{"$f":"IF(Припущення_Assumptions!$G$28=\"Звіт\",Припущення_Assumptions!$G$27,IF(Припущення_Assumptions!$G$28=\"Розрахунок\",Припущення_Assumptions!$G$29,0))","v":12745.799999999997},{"$f":"IF(Припущення_Assumptions!$G$28=\"Звіт\",Припущення_Assumptions!$G$27,IF(Припущення_Assumptions!$G$28=\"Розрахунок\",Припущення_Assumptions!$G$29,0))","v":12745.799999999997},{"$f":"IF(Припущення_Assumptions!$G$28=\"Звіт\",Припущення_Assumptions!$G$27,IF(Припущення_Assumptions!$G$28=\"Розрахунок\",Припущення_Assumptions!$G$29,0))","v":12745.799999999997},{"$f":"IF(Припущення_Assumptions!$G$28=\"Звіт\",Припущення_Assumptions!$G$27,IF(Припущення_Assumptions!$G$28=\"Розрахунок\",Припущення_Assumptions!$G$29,0))","v":12745.799999999997},{"$f":"IF(Припущення_Assumptions!$G$28=\"Звіт\",Припущення_Assumptions!$G$27,IF(Припущення_Assumptions!$G$28=\"Розрахунок\",Припущення_Assumptions!$G$29,0))","v":12745.799999999997},{"$f":"IF(Припущення_Assumptions!$G$28=\"Звіт\",Припущення_Assumptions!$G$27,IF(Припущення_Assumptions!$G$28=\"Розрахунок\",Припущення_Assumptions!$G$29,0))","v":12745.799999999997},{"$f":"IF(Припущення_Assumptions!$G$28=\"Звіт\",Припущення_Assumptions!$G$27,IF(Припущення_Assumptions!$G$28=\"Розрахунок\",Припущення_Assumptions!$G$29,0))","v":12745.799999999997},{"$f":"IF(Припущення_Assumptions!$G$28=\"Звіт\",Припущення_Assumptions!$G$27,IF(Припущення_Assumptions!$G$28=\"Розрахунок\",Припущення_Assumptions!$G$29,0))","v":12745.799999999997},{"$f":"IF(Припущення_Assumptions!$G$28=\"Звіт\",Припущення_Assumptions!$G$27,IF(Припущення_Assumptions!$G$28=\"Розрахунок\",Припущення_Assumptions!$G$29,0))","v":12745.799999999997},{"$f":"IF(Припущення_Assumptions!$G$28=\"Звіт\",Припущення_Assumptions!$G$27,IF(Припущення_Assumptions!$G$28=\"Розрахунок\",Припущення_Assumptions!$G$29,0))","v":12745.799999999997},{"$f":"IF(Припущення_Assumptions!$G$28=\"Звіт\",Припущення_Assumptions!$G$27,IF(Припущення_Assumptions!$G$28=\"Розрахунок\",Припущення_Assumptions!$G$29,0))","v":12745.799999999997},{"$f":"IF(Припущення_Assumptions!$G$28=\"Звіт\",Припущення_Assumptions!$G$27,IF(Припущення_Assumptions!$G$28=\"Розрахунок\",Припущення_Assumptions!$G$29,0))","v":12745.799999999997},{"$f":"IF(Припущення_Assumptions!$G$28=\"Звіт\",Припущення_Assumptions!$G$27,IF(Припущення_Assumptions!$G$28=\"Розрахунок\",Припущення_Assumptions!$G$29,0))","v":12745.799999999997},{"$f":"IF(Припущення_Assumptions!$G$28=\"Звіт\",Припущення_Assumptions!$G$27,IF(Припущення_Assumptions!$G$28=\"Розрахунок\",Припущення_Assumptions!$G$29,0))","v":12745.799999999997},{"$f":"IF(Припущення_Assumptions!$G$28=\"Звіт\",Припущення_Assumptions!$G$27,IF(Припущення_Assumptions!$G$28=\"Розрахунок\",Припущення_Assumptions!$G$29,0))","v":12745.799999999997},{"$f":"IF(Припущення_Assumptions!$G$28=\"Звіт\",Припущення_Assumptions!$G$27,IF(Припущення_Assumptions!$G$28=\"Розрахунок\",Припущення_Assumptions!$G$29,0))","v":12745.799999999997},{"$f":"IF(Припущення_Assumptions!$G$28=\"Звіт\",Припущення_Assumptions!$G$27,IF(Припущення_Assumptions!$G$28=\"Розрахунок\",Припущення_Assumptions!$G$29,0))","v":12745.799999999997},{"$f":"IF(Припущення_Assumptions!$G$28=\"Звіт\",Припущення_Assumptions!$G$27,IF(Припущення_Assumptions!$G$28=\"Розрахунок\",Припущення_Assumptions!$G$29,0))","v":12745.799999999997},{"$f":"IF(Припущення_Assumptions!$G$28=\"Звіт\",Припущення_Assumptions!$G$27,IF(Припущення_Assumptions!$G$28=\"Розрахунок\",Припущення_Assumptions!$G$29,0))","v":12745.799999999997},{"$f":"IF(Припущення_Assumptions!$G$28=\"Звіт\",Припущення_Assumptions!$G$27,IF(Припущення_Assumptions!$G$28=\"Розрахунок\",Припущення_Assumptions!$G$29,0))","v":12745.799999999997},{"$f":"IF(Припущення_Assumptions!$G$28=\"Звіт\",Припущення_Assumptions!$G$27,IF(Припущення_Assumptions!$G$28=\"Розрахунок\",Припущення_Assumptions!$G$29,0))","v":12745.799999999997}]
[]
[null,null,"Доходи",null,null,null,"тис.дол",{"$f":"SUM(H26)","v":0},{"$f":"SUM(I26)","v":1155.9681881985962},{"$f":"SUM(J26)","v":1155.9681881985962},1155.9681881985962,1155.9681881985962,1155.9681881985962,1155.9681881985962,1155.9681881985962,1155.9681881985962,1155.9681881985962,1155.9681881985962,1155.9681881985962,1155.9681881985962,1155.9681881985962,1155.9681881985962,1155.9681881985962,1155.9681881985962,1155.9681881985962,1155.9681881985962,1155.9681881985962,1155.9681881985962,1155.9681881985962,1155.9681881985962,1155.9681881985962,1155.9681881985962,1155.9681881985962]
[null,null,"Дохід від генерації",null,null,null,"тис.дол*рік",0,{"$f":"I23*(I15/I13)/1000","v":1155.9681881985962},{"$f":"J23*(J15/J13)/1000","v":1155.9681881985962},1155.9681881985962,1155.9681881985962,1155.9681881985962,1155.9681881985962,1155.9681881985962,1155.9681881985962,1155.9681881985962,1155.9681881985962,1155.9681881985962,1155.9681881985962,1155.9681881985962,1155.9681881985962,1155.9681881985962,1155.9681881985962,1155.9681881985962,1155.9681881985962,1155.9681881985962,1155.9681881985962,1155.9681881985962,1155.9681881985962,1155.9681881985962,1155.9681881985962,1155.9681881985962]
[]
[]
[]
[]
[]
[]
[]
[]
[]
[]
[]
[]
[null,null,null,null,null,null,{"$f":"4.3/I7","v":3.9791745044629396E-3},{"$f":"G39/12","v":3.3159787537191161E-4}]
[]
[]
[]
[]
[]
[]
[]
[]
[]
[]
[null,"ПІДКАЗКА/ TIP"]
[]
[null,"Можливі факотри отримання техніко-економічного ефекту        ",null,null,"Possible factors of technical and economic effect",null,null,null,"Приклади операційних витрат та доходів залежно від впливу на тариф"]
[]
[null,null,"1.","Додатні грошові потоки","                                                                                         1.","Positive cash flows",null,null,"Приклади операційних витрат та доходів, які впливають лише на тариф на передачу"]
[null,null,null,"Приросні операційні доходи/Додатковий прибуток, отриманий від: ","Incremental operating income / Additional income received from:"]
[null,null,"+","збільшення корисного відпуску електроенергії","                                                                                      +","increase in useful electricity supply",null,null," - ","пов'язані з купівлею електричної енергії з метою компенсації технологічних витрат електричної енергії"]
[null,null,"+","зменшення втрат в мережі навантаження ","                                                                                      +","reduction of network load losses"]
[null,null,"+","плати за приєднання","                                                                                      +","connection fees"]
[null,null,"+","сдачі старого обладнання на металолом ","                                                                                      +","delivery of old equipment on scrap metal  / Recycle"]
[null,null,"+","реалізації старого обладнання","                                                                                      +","sale of old equipment"]
[null,null,"+","зменшення кількості ремонтів та техобслуговування","                                                                                      +","reducing the number of repairs and maintenance"]
[null,null,"+","зменшення кількості працюючих на підстанції","                                                                                      +","reducing the number of workers at the substation"]
[null,null,"+","попередження санкцій за недотримання природоохоронного законодавства","                                                                                      +","prevention of sanctions for non-compliance with environmental legislation"]
[null,null,"+","енергозберігання","                                                                                      +","energy saving"]
[null,null,"+","збільшення тарифного доходу","                                                                                      +","increase in tariff income"]
[]
[null,null,"2.","Від'ємні грошові потоки","                                                                                      2.","Negative Cash flows",null,null,"Приклади операційних витрат та доходів, які впливають лише на тариф на диспетчеризацію"]
[null,null,"2.1.","Операційні витрати/втрати на реалізацію проєкту ","                                                                                  2.1.","Operating costs / losses for project implementation"]
[null,null,"-","проведення науково-дослідних робіт","                                                                                    -","conducting research work",null,null," - ","послуги адміністратора розрахунків"]
[null,null,"-","закупка, доставка, митне оформлення","                                                                                    -","purchase, delivery, customs clearance",null,null," - ","послуги комерційного обліку"]
[null,null,"-","будівельно-монтажні роботи","                                                                                    -","construction and installation work",null,null," - ","врегулювання системних обмежень"]
[null,null,"-","зупинка роботи, яка була викликана необхідністю  монтажну додаткового обладнання ","                                                                                    -","stoppage of work, which was caused by the need to install additional equipment",null,null," - ","придбання допоміжних послуг"]
[null,null,"-","сертифікація обладнання оформлення необхідних дозволів","                                                                                    -","certification of equipment for the issuance of necessary permits"]
[null,null,"-","навчання персоналу","                                                                                    -","staff training"]
[]
[null,null,"2.2.","Пиросні операційні витрати ","                                                                                 2.2.","Increasing operating costs",null,null,"Приклади операційних витрат та доходів, які впливають на тарифи 80/20"]
[null,null,"-","скророчення виробітку  іншого обладнання при роботі встановленого","                                                                                   -","reduction of production of other equipment at work of the established",null,null," - ","обслуговування виробничого процесу"]
[null,null,"-","основні матеріали та енергоресурси, необхідні для роботи обладнання","                                                                                   -","basic materials and energy resources required for the operation of the equipment",null,null," - ","вартість виконаних робіт"]
[null,null,"-","додатковий персонал","                                                                                   -","additional staff",null,null," - ","сировина та допоміжні матеріали"]
[null,null,"-","утилізація відходів","                                                                                   -","waste disposal",null,null," - ","ремонт, електричну енергію для господарчих потреб"]
[null,null,"-","підтримка роботи та оновлення програмного забезпечення","                                                                                   -","support and software updates",null,null," - ","оплату праці"]
[null,null,"-","ТО","                                                                                   -","Technical inspection",null,null," - ","оренда, плата за землю"]
[null,null,null,null,null,null,null,null," - ","інформаційно-консультаційні послуги"]
[null,null,null,null,null,null,null,null," - ","юридичні, аудиторські, експертні послуги тощо"]
[null,null,null,null,null,null,null,null," - ","погашення кредитів та виплату відсотків"]
[null,null,null,null,null,null,null,null," - ","капітальні інвестиції"]

{"sheet":"CFF","index":8,"n_rows":54,"n_cols":87,"rows_kept":54,"cut":false,"hidden":false,"merged":[[1,19,1,25],[3,14,3,15],[7,21,7,22],[7,14,7,15],[9,20,9,22],[11,14,11,15],[11,21,11,22],[13,14,13,15],[13,20,13,22],[15,14,15,15],[15,20,15,22],[17,14,17,15],[17,21,17,22],[19,14,19,15],[19,21,19,22],[21,14,21,15],[21,20,21,22],[33,16,33,17],[33,14,33,15],[33,84,33,85],[33,82,33,83],[33,80,33,81],[33,78,33,79],[33,76,33,77],[33,74,33,75],[33,72,33,73],[33,12,33,13],[33,10,33,11],[33,58,33,59],[33,56,33,57],[33,38,33,39],[33,36,33,37],[33,34,33,35],[33,32,33,33],[33,30,33,31],[33,28,33,29],[33,26,33,27],[33,20,33,21],[33,18,33,19],[24,80,24,81],[33,46,33,47],[33,44,33,45],[33,42,33,43],[33,40,33,41],[1,5,1,11],[19,7,19,8],[17,7,17,8],[15,6,15,8],[13,6,13,8],[11,7,11,8],[33,24,33,25],[33,22,33,23],[33,4,33,5],[9,6,9,8],[7,7,7,8],[33,54,33,55],[33,52,33,53],[33,50,33,51],[33,48,33,49],[33,70,33,71],[33,68,33,69],[33,66,33,67],[33,64,33,65],[24,82,24,83],[24,84,24,85],[24,70,24,71],[24,72,24,73],[24,74,24,75],[24,76,24,77],[24,4,24,5],[24,62,24,63],[24,42,24,43],[24,44,24,45],[24,46,24,47],[24,48,24,49],[24,50,24,51],[24,52,24,53],[24,54,24,55],[24,56,24,57],[24,14,24,15],[24,16,24,17],[24,18,24,19],[24,20,24,21],[24,22,24,23],[24,60,24,61],[24,24,24,25],[24,26,24,27],[33,6,33,7],[34,4,34,5],[24,78,24,79],[30,1,30,3],[24,6,24,7],[24,36,24,37],[24,38,24,39],[24,40,24,41],[24,8,24,9],[26,1,26,3],[24,10,24,11],[24,12,24,13],[24,64,24,65],[24,66,24,67],[24,68,24,69],[25,1,25,2],[24,28,24,29],[24,30,24,31],[24,32,24,33],[24,34,24,35],[24,58,24,59],[33,62,33,63],[33,60,33,61],[34,24,34,25],[47,1,47,3],[48,1,48,3],[49,1,49,2],[50,1,50,2],[46,1,46,3],[21,0,21,1],[3,0,3,1],[13,0,13,1],[7,0,7,1],[11,0,11,1],[15,0,15,1],[17,0,17,1],[19,0,19,1],[32,1,32,3],[27,1,27,3],[28,1,28,3],[29,1,29,3],[31,1,31,3],[24,1,24,2],[34,1,34,3],[36,1,36,3],[34,26,34,27],[34,28,34,29],[34,30,34,31],[34,32,34,33],[34,34,34,35],[34,36,34,37],[34,38,34,39],[34,6,34,7],[34,8,34,9],[34,10,34,11],[34,12,34,13],[34,14,34,15],[34,16,34,17],[34,18,34,19],[34,20,34,21],[34,40,34,41],[34,42,34,43],[34,44,34,45],[34,46,34,47],[34,48,34,49],[34,50,34,51],[34,52,34,53],[34,54,34,55],[34,74,34,75],[34,76,34,77],[34,78,34,79],[34,80,34,81],[34,82,34,83],[34,84,34,85],[34,56,34,57],[34,58,34,59],[34,60,34,61],[34,62,34,63],[34,64,34,65],[34,66,34,67],[34,68,34,69],[34,70,34,71],[34,72,34,73],[42,24,42,25],[42,26,42,27],[37,1,37,2],[38,1,38,3],[39,1,39,3],[40,1,40,3],[42,1,42,3],[42,4,42,5],[42,6,42,7],[42,8,42,9],[42,60,42,61],[42,62,42,63],[42,28,42,29],[42,30,42,31],[42,32,42,33],[42,34,42,35],[42,36,42,37],[42,38,42,39],[42,40,42,41],[42,42,42,43],[42,44,42,45],[42,84,42,85],[43,1,43,3],[41,1,41,3],[5,0,5,1],[5,6,5,8],[5,14,5,15],[5,20,5,22],[9,0,9,1],[42,64,42,65],[42,66,42,67],[42,68,42,69],[42,70,42,71],[42,72,42,73],[42,74,42,75],[42,78,42,79],[42,80,42,81],[42,82,42,83],[42,46,42,47],[42,48,42,49],[42,50,42,51],[42,52,42,53],[42,54,42,55],[42,56,42,57],[42,58,42,59],[3,6,3,8],[9,14,9,15],[3,21,3,22],[44,1,44,2],[44,4,44,5],[44,6,44,7],[44,8,44,9],[44,10,44,11],[44,12,44,13],[44,14,44,15],[44,16,44,17],[44,18,44,19],[44,20,44,21],[44,22,44,23],[42,10,42,11],[42,12,42,13],[42,14,42,15],[42,16,42,17],[42,18,42,19],[42,20,42,21],[42,22,42,23],[34,22,34,23],[21,6,21,8],[33,8,33,9],[44,24,44,25],[44,26,44,27],[44,28,44,29],[44,30,44,31],[44,32,44,33],[44,34,44,35],[44,36,44,37],[44,38,44,39],[44,40,44,41],[44,42,44,43],[44,44,44,45],[44,46,44,47],[44,48,44,49],[44,50,44,51],[44,52,44,53],[44,54,44,55],[44,56,44,57],[44,58,44,59],[44,78,44,79],[44,80,44,81],[44,82,44,83],[44,84,44,85],[44,60,44,61],[44,62,44,63],[44,64,44,65],[44,66,44,67],[44,68,44,69],[44,70,44,71],[44,72,44,73],[44,74,44,75],[44,76,44,77],[35,4,35,5],[35,6,35,7],[35,8,35,9],[35,10,35,11],[35,12,35,13],[35,14,35,15],[35,16,35,17],[35,18,35,19],[35,20,35,21],[35,56,35,57],[35,22,35,23],[35,24,35,25],[35,26,35,27],[35,28,35,29],[35,30,35,31],[35,32,35,33],[35,34,35,35],[35,36,35,37],[35,38,35,39],[35,76,35,77],[35,78,35,79],[35,80,35,81],[35,82,35,83],[35,84,35,85],[35,1,35,3],[33,1,33,3],[35,58,35,59],[35,60,35,61],[35,62,35,63],[35,64,35,65],[35,66,35,67],[35,68,35,69],[35,70,35,71],[35,72,35,73],[35,74,35,75],[35,40,35,41],[35,42,35,43],[35,44,35,45],[35,46,35,47],[35,48,35,49],[35,50,35,51],[35,52,35,53],[35,54,35,55],[36,4,36,5],[36,6,36,7],[36,8,36,9],[36,10,36,11],[36,12,36,13],[36,14,36,15],[36,16,36,17],[36,18,36,19],[36,20,36,21],[36,22,36,23],[36,24,36,25],[36,26,36,27],[36,28,36,29],[36,30,36,31],[36,32,36,33],[36,34,36,35],[36,36,36,37],[36,38,36,39],[36,40,36,41],[36,42,36,43],[36,44,36,45],[36,46,36,47],[36,48,36,49],[36,50,36,51],[36,52,36,53],[36,54,36,55],[36,56,36,57],[36,76,36,77],[36,78,36,79],[36,80,36,81],[36,82,36,83],[36,84,36,85],[36,58,36,59],[36,60,36,61],[36,62,36,63],[36,64,36,65],[36,66,36,67],[36,68,36,69],[36,70,36,71],[36,72,36,73],[36,74,36,75]]}
[null,"УКР",null,null,null,null,null,null,null,null,null,null,null,null,"ENG"]
["РОЗРАХУНОК  ВИПЛАТИ КРЕДИТУ",null,null,null,null,{"$f":"Головна_Summary!A2","v":"Будівництво СЕС 10 МВт"},null,null,null,null,null,null,null,null,"CALCULATION OF LOAN PAYMENT",null,null,null,null,{"$f":"Головна_Summary!K2","v":"Project name"}]
[null,null,null,null,"рік",null,null,null,null,null,null,null,null,null,null,null,null,null,"years"]
["Дата надання кредиту ",null,"ІІ півріччя",null,2024,null,"Ставка відсотків для власних коштів",null,null,0,null,null,null,null,"Date of loan",null,{"$f":"IF(C4=B53,C53,C54)","v":"II half a year"},null,{"$f":"E4","v":2024},null,null,"Interest rate for own funds",null,{"$f":"J4","v":0}]
[]
["Доля кредитних коштів",null,1,null,null,null,"Ставка дисконтування",null,null,{"$f":"'Грошові потоки _ Cash flows'!E11","v":0.155},null,null,null,null,"The share of Loan amount",null,{"$f":"C6","v":1},null,null,null,"Discount rate",null,null,{"$f":"J6","v":0.155}]
[]
["Сума кредиту",null,{"$f":"ROUND(C6*'Фінансування_Financing (CFI)'!J15,2)","v":4278.8100000000004},null,{"$f":"Головна_Summary!AD5","v":"тис.US$/ ths.US$"},null,null,"Всього",null,{"$f":"J16+J14+J12+J10+J18","v":5562.4594915518592},{"$f":"Головна_Summary!AD5","v":"тис.US$/ ths.US$"},null,null,null,"Loan amount",null,{"$f":"C8","v":4278.8100000000004},null,{"$f":"E8","v":"тис.US$/ ths.US$"},null,null,"Total",null,{"$f":"X16+X14+X12+X10+X18","v":5562.4594915518592},{"$f":"K8","v":"тис.US$/ ths.US$"}]
[]
["Сума власних/грантових коштів",null,{"$f":"IF(Головна_Summary!H13=\"Кредитні кошти\",('Фінансування_Financing (CFI)'!J15:K15)*0,IF(Головна_Summary!H13=\"Власні кошти\",'Фінансування_Financing (CFI)'!J15:K15*1,'Фінансування_Financing (CFI)'!J15:K15*(1-CFF!C6)))","v":0},0,{"$f":"E8","v":"тис.US$/ ths.US$"},null,"Всього відсотків банку",null,null,{"$f":"SUM(E31:CH31)","v":1283.6444980504289},{"$f":"Головна_Summary!AD5","v":"тис.US$/ ths.US$"},null,null,null,"Own funds",null,{"$f":"C10","v":0},null,{"$f":"S8","v":"тис.US$/ ths.US$"},null,"Total bank interest",null,null,{"$f":"SUM(E31:CH31)","v":1283.6444980504289},{"$f":"K10","v":"тис.US$/ ths.US$"}]
[]
["Термін надання кредиту",null,5,null,"роки",null,null,"Всього комісія за зобов'язання ",null,{"$f":"SUM(E32:CH32)","v":0},{"$f":"Головна_Summary!AD5","v":"тис.US$/ ths.US$"},null,null,null,"Loan term",null,{"$f":"C12","v":5},null,"years",null,null,"Total obligations fee",null,{"$f":"SUM(S32:CV32)","v":0},{"$f":"K12","v":"тис.US$/ ths.US$"}]
[]
["Пільговий період",null,0,null,"роки",null,"Всього маржа МФУ",null,null,{"$f":"SUM(E33:CH33)","v":0},{"$f":"Головна_Summary!AD5","v":"тис.US$/ ths.US$"},null,null,null,"Privilege period",null,{"$f":"C14","v":0},null,"years",null,"Total state guarantee fee",null,null,{"$f":"SUM(E33:CH33)","v":0},{"$f":"K14","v":"тис.US$/ ths.US$"}]
[]
["Ставка відсотків",null,0.1,null,"річних",null,"Всього використання коштів",null,null,{"$f":"SUM(E30:CH30)","v":4278.8149935014299},{"$f":"Головна_Summary!AD5","v":"тис.US$/ ths.US$"},null,null,null,"Interest rate",null,{"$f":"C16","v":0.1},null,"annual",null,"Total use of funds",null,null,{"$f":"SUM(E30:CH30)","v":4278.8149935014299},{"$f":"K16","v":"тис.US$/ ths.US$"}]
[]
["Ставка одноразової комісії",null,0,null,"річних",null,null,"Одноразова комісія",null,{"$f":"SUM(E29:CH29)","v":0},null,null,null,null,"One-time fee rate",null,{"$f":"C18","v":0},null,"annual",null,null,"One-time fee",null,{"$f":"SUM(S29:CV29)","v":0}]
[]
["Ставка комісійних відсотків",null,0,null,"річних",null,null,"Кількість періодів",null,{"$f":"(C12-C14)*2","v":10},null,null,null,null,"Commission interest rate",null,{"$f":"C20","v":0},null,"annual",null,null,"Period ",null,{"$f":"(Q12-Q14)*2","v":10}]
[null,null,null,null,null,null,null,null,null,"кредит","власні","загальна",null,null,null,null,null,null,null,null,null,null,null,"Loan","Own funds","Total"]
["Ставка плати за надання державної гарантії ",null,0,null,"річних",null,"Ефективна ставка",null,null,{"$f":"IFERROR(MODE(F51:CG51),\"-\")","v":0.10250058284337826},{"$f":"IFERROR((SUM(E44:CH44)-SUM(E39:CH39))/SUM(E39:CH39),\"Н/Д\")","v":"Н/Д"},{"$f":"IFERROR(J22*C6+(1-C6)*K22,\"-\")","v":"-"},null,null,"The interest rate  for the state guarantee",null,{"$f":"C22","v":0},null,"annual",null,"Effective rate ",null,null,{"$f":"J22","v":0.10250058284337826},{"$f":"K22","v":"Н/Д"},{"$f":"L22","v":"-"}]
[null,null,null,null,{"$f":"CONCATENATE(E26,E25)","v":"02024"},{"$f":"CONCATENATE(F26,E25)","v":"II півріччя/ half a year2024"},{"$f":"CONCATENATE(G26,G25)","v":"I півріччя/ half a year2025"},{"$f":"CONCATENATE(H26,G25)","v":"II півріччя/ half a year2025"},{"$f":"CONCATENATE(I26,I25)","v":"I півріччя/ half a year2026"},{"$f":"CONCATENATE(J26,I25)","v":"II півріччя/ half a year2026"},{"$f":"CONCATENATE(K26,K25)","v":"I півріччя/ half a year2027"},{"$f":"CONCATENATE(L26,K25)","v":"II півріччя/ half a year2027"},{"$f":"CONCATENATE(M26,M25)","v":"I півріччя/ half a year2028"},{"$f":"CONCATENATE(N26,M25)","v":"II півріччя/ half a year2028"},{"$f":"CONCATENATE(O26,O25)","v":"I півріччя/ half a year2029"},{"$f":"CONCATENATE(P26,O25)","v":"II півріччя/ half a year2029"},{"$f":"CONCATENATE(Q26,Q25)","v":"I півріччя/ half a year0"},{"$f":"CONCATENATE(R26,Q25)","v":"II півріччя/ half a year0"},{"$f":"CONCATENATE(S26,S25)","v":"I півріччя/ half a year0"},{"$f":"CONCATENATE(T26,S25)","v":"II півріччя/ half a year0"},{"$f":"CONCATENATE(U26,U25)","v":"I півріччя/ half a year0"},{"$f":"CONCATENATE(V26,U25)","v":"II півріччя/ half a year0"},{"$f":"CONCATENATE(W26,W25)","v":"I півріччя/ half a year0"},{"$f":"CONCATENATE(X26,W25)","v":"II півріччя/ half a year0"},{"$f":"CONCATENATE(Y26,Y25)","v":"I півріччя/ half a year0"},{"$f":"CONCATENATE(Z26,Y25)","v":"II півріччя/ half a year0"},"I півріччя/ half a year","II півріччя/ half a year","I півріччя/ half a year","II півріччя/ half a year0","I півріччя/ half a year0","II півріччя/ half a year0","I півріччя/ half a year","II півріччя/ half a year","I півріччя/ half a year","II півріччя/ half a year0","I півріччя/ half a year0","II півріччя/ half a year0","I півріччя/ half a year","II півріччя/ half a year","I півріччя/ half a year","II півріччя/ half a year0","I півріччя/ half a year0","II півріччя/ half a year0","I півріччя/ half a year","II півріччя/ half a year","I півріччя/ half a year","II півріччя/ half a year0","I півріччя/ half a year0","II півріччя/ half a year0","I півріччя/ half a year","II півріччя/ half a year","I півріччя/ half a year","II півріччя/ half a year0","I півріччя/ half a year0","II півріччя/ half a year0","I півріччя/ half a year","II півріччя/ half a year","I півріччя/ half a year","II півріччя/ half a year0","I півріччя/ half a year0","II півріччя/ half a year0","I півріччя/ half a year","II півріччя/ half a year","I півріччя/ half a year","II півріччя/ half a year0","I півріччя/ half a year0","II півріччя/ half a year0","I півріччя/ half a year","II півріччя/ half a year","I півріччя/ half a year","II півріччя/ half a year0","I півріччя/ half a year0","II півріччя/ half a year0","I півріччя/ half a year","II півріччя/ half a year","I півріччя/ half a year","II півріччя/ half a year0","I півріччя/ half a year0","II півріччя/ half a year0","I півріччя/ half a year","II півріччя/ half a year","I півріччя/ half a year","II півріччя/ half a year0","I півріччя/ half a year0","II півріччя/ half a year0"]
[null,null,null,null,0,{"$f":"IF(SUM($E$24:E24)=0,IF((COUNTA($E$26:E26)-COUNTIF($E$26:E26,0))<$C$14*2,0,$J$20),IF(COUNTIF($E$24:E24,\">0\")<$J$20,E24-1,0))","v":10},{"$f":"IF(SUM($E$24:F24)=0,IF((COUNTA($E$26:F26)-COUNTIF($E$26:F26,0))<$C$14*2,0,$J$20),IF(COUNTIF($E$24:F24,\">0\")<$J$20,F24-1,0))","v":9},{"$f":"IF(SUM($E$24:G24)=0,IF((COUNTA($E$26:G26)-COUNTIF($E$26:G26,0))<$C$14*2,0,$J$20),IF(COUNTIF($E$24:G24,\">0\")<$J$20,G24-1,0))","v":8},{"$f":"IF(SUM($E$24:H24)=0,IF((COUNTA($E$26:H26)-COUNTIF($E$26:H26,0))<$C$14*2,0,$J$20),IF(COUNTIF($E$24:H24,\">0\")<$J$20,H24-1,0))","v":7},{"$f":"IF(SUM($E$24:I24)=0,IF((COUNTA($E$26:I26)-COUNTIF($E$26:I26,0))<$C$14*2,0,$J$20),IF(COUNTIF($E$24:I24,\">0\")<$J$20,I24-1,0))","v":6},{"$f":"IF(SUM($E$24:J24)=0,IF((COUNTA($E$26:J26)-COUNTIF($E$26:J26,0))<$C$14*2,0,$J$20),IF(COUNTIF($E$24:J24,\">0\")<$J$20,J24-1,0))","v":5},{"$f":"IF(SUM($E$24:K24)=0,IF((COUNTA($E$26:K26)-COUNTIF($E$26:K26,0))<$C$14*2,0,$J$20),IF(COUNTIF($E$24:K24,\">0\")<$J$20,K24-1,0))","v":4},{"$f":"IF(SUM($E$24:L24)=0,IF((COUNTA($E$26:L26)-COUNTIF($E$26:L26,0))<$C$14*2,0,$J$20),IF(COUNTIF($E$24:L24,\">0\")<$J$20,L24-1,0))","v":3},{"$f":"IF(SUM($E$24:M24)=0,IF((COUNTA($E$26:M26)-COUNTIF($E$26:M26,0))<$C$14*2,0,$J$20),IF(COUNTIF($E$24:M24,\">0\")<$J$20,M24-1,0))","v":2},{"$f":"IF(SUM($E$24:N24)=0,IF((COUNTA($E$26:N26)-COUNTIF($E$26:N26,0))<$C$14*2,0,$J$20),IF(COUNTIF($E$24:N24,\">0\")<$J$20,N24-1,0))","v":1},{"$f":"IF(SUM($E$24:O24)=0,IF((COUNTA($E$26:O26)-COUNTIF($E$26:O26,0))<$C$14*2,0,$J$20),IF(COUNTIF($E$24:O24,\">0\")<$J$20,O24-1,0))","v":0},{"$f":"IF(SUM($E$24:P24)=0,IF((COUNTA($E$26:P26)-COUNTIF($E$26:P26,0))<$C$14*2,0,$J$20),IF(COUNTIF($E$24:P24,\">0\")<$J$20,P24-1,0))","v":0},{"$f":"IF(SUM($E$24:Q24)=0,IF((COUNTA($E$26:Q26)-COUNTIF($E$26:Q26,0))<$C$14*2,0,$J$20),IF(COUNTIF($E$24:Q24,\">0\")<$J$20,Q24-1,0))","v":0},{"$f":"IF(SUM($E$24:R24)=0,IF((COUNTA($E$26:R26)-COUNTIF($E$26:R26,0))<$C$14*2,0,$J$20),IF(COUNTIF($E$24:R24,\">0\")<$J$20,R24-1,0))","v":0},{"$f":"IF(SUM($E$24:S24)=0,IF((COUNTA($E$26:S26)-COUNTIF($E$26:S26,0))<$C$14*2,0,$J$20),IF(COUNTIF($E$24:S24,\">0\")<$J$20,S24-1,0))","v":0},{"$f":"IF(SUM($E$24:T24)=0,IF((COUNTA($E$26:T26)-COUNTIF($E$26:T26,0))<$C$14*2,0,$J$20),IF(COUNTIF($E$24:T24,\">0\")<$J$20,T24-1,0))","v":0},{"$f":"IF(SUM($E$24:U24)=0,IF((COUNTA($E$26:U26)-COUNTIF($E$26:U26,0))<$C$14*2,0,$J$20),IF(COUNTIF($E$24:U24,\">0\")<$J$20,U24-1,0))","v":0},{"$f":"IF(SUM($E$24:V24)=0,IF((COUNTA($E$26:V26)-COUNTIF($E$26:V26,0))<$C$14*2,0,$J$20),IF(COUNTIF($E$24:V24,\">0\")<$J$20,V24-1,0))","v":0},{"$f":"IF(SUM($E$24:W24)=0,IF((COUNTA($E$26:W26)-COUNTIF($E$26:W26,0))<$C$14*2,0,$J$20),IF(COUNTIF($E$24:W24,\">0\")<$J$20,W24-1,0))","v":0},{"$f":"IF(SUM($E$24:X24)=0,IF((COUNTA($E$26:X26)-COUNTIF($E$26:X26,0))<$C$14*2,0,$J$20),IF(COUNTIF($E$24:X24,\">0\")<$J$20,X24-1,0))","v":0},{"$f":"IF(SUM($E$24:Y24)=0,IF((COUNTA($E$26:Y26)-COUNTIF($E$26:Y26,0))<$C$14*2,0,$J$20),IF(COUNTIF($E$24:Y24,\">0\")<$J$20,Y24-1,0))","v":0},{"$f":"IF(SUM($E$24:Z24)=0,IF((COUNTA($E$26:Z26)-COUNTIF($E$26:Z26,0))<$C$14*2,0,$J$20),IF(COUNTIF($E$24:Z24,\">0\")<$J$20,Z24-1,0))","v":0},{"$f":"IF(SUM($E$24:AA24)=0,IF((COUNTA($E$26:AA26)-COUNTIF($E$26:AA26,0))<$C$14*2,0,$J$20),IF(COUNTIF($E$24:AA24,\">0\")<$J$20,AA24-1,0))","v":0},{"$f":"IF(SUM($E$24:AB24)=0,IF((COUNTA($E$26:AB26)-COUNTIF($E$26:AB26,0))<$C$14*2,0,$J$20),IF(COUNTIF($E$24:AB24,\">0\")<$J$20,AB24-1,0))","v":0},{"$f":"IF(SUM($E$24:AC24)=0,IF((COUNTA($E$26:AC26)-COUNTIF($E$26:AC26,0))<$C$14*2,0,$J$20),IF(COUNTIF($E$24:AC24,\">0\")<$J$20,AC24-1,0))","v":0},{"$f":"IF(SUM($E$24:AD24)=0,IF((COUNTA($E$26:AD26)-COUNTIF($E$26:AD26,0))<$C$14*2,0,$J$20),IF(COUNTIF($E$24:AD24,\">0\")<$J$20,AD24-1,0))","v":0},{"$f":"IF(SUM($E$24:AE24)=0,IF((COUNTA($E$26:AE26)-COUNTIF($E$26:AE26,0))<$C$14*2,0,$J$20),IF(COUNTIF($E$24:AE24,\">0\")<$J$20,AE24-1,0))","v":0},{"$f":"IF(SUM($E$24:AF24)=0,IF((COUNTA($E$26:AF26)-COUNTIF($E$26:AF26,0))<$C$14*2,0,$J$20),IF(COUNTIF($E$24:AF24,\">0\")<$J$20,AF24-1,0))","v":0},{"$f":"IF(SUM($E$24:AG24)=0,IF((COUNTA($E$26:AG26)-COUNTIF($E$26:AG26,0))<$C$14*2,0,$J$20),IF(COUNTIF($E$24:AG24,\">0\")<$J$20,AG24-1,0))","v":0},{"$f":"IF(SUM($E$24:AH24)=0,IF((COUNTA($E$26:AH26)-COUNTIF($E$26:AH26,0))<$C$14*2,0,$J$20),IF(COUNTIF($E$24:AH24,\">0\")<$J$20,AH24-1,0))","v":0},{"$f":"IF(SUM($E$24:AI24)=0,IF((COUNTA($E$26:AI26)-COUNTIF($E$26:AI26,0))<$C$14*2,0,$J$20),IF(COUNTIF($E$24:AI24,\">0\")<$J$20,AI24-1,0))","v":0},{"$f":"IF(SUM($E$24:AJ24)=0,IF((COUNTA($E$26:AJ26)-COUNTIF($E$26:AJ26,0))<$C$14*2,0,$J$20),IF(COUNTIF($E$24:AJ24,\">0\")<$J$20,AJ24-1,0))","v":0},{"$f":"IF(SUM($E$24:AK24)=0,IF((COUNTA($E$26:AK26)-COUNTIF($E$26:AK26,0))<$C$14*2,0,$J$20),IF(COUNTIF($E$24:AK24,\">0\")<$J$20,AK24-1,0))","v":0},{"$f":"IF(SUM($E$24:AL24)=0,IF((COUNTA($E$26:AL26)-COUNTIF($E$26:AL26,0))<$C$14*2,0,$J$20),IF(COUNTIF($E$24:AL24,\">0\")<$J$20,AL24-1,0))","v":0},{"$f":"IF(SUM($E$24:AM24)=0,IF((COUNTA($E$26:AM26)-COUNTIF($E$26:AM26,0))<$C$14*2,0,$J$20),IF(COUNTIF($E$24:AM24,\">0\")<$J$20,AM24-1,0))","v":0},{"$f":"IF(SUM($E$24:AN24)=0,IF((COUNTA($E$26:AN26)-COUNTIF($E$26:AN26,0))<$C$14*2,0,$J$20),IF(COUNTIF($E$24:AN24,\">0\")<$J$20,AN24-1,0))","v":0},{"$f":"IF(SUM($E$24:AO24)=0,IF((COUNTA($E$26:AO26)-COUNTIF($E$26:AO26,0))<$C$14*2,0,$J$20),IF(COUNTIF($E$24:AO24,\">0\")<$J$20,AO24-1,0))","v":0},{"$f":"IF(SUM($E$24:AP24)=0,IF((COUNTA($E$26:AP26)-COUNTIF($E$26:AP26,0))<$C$14*2,0,$J$20),IF(COUNTIF($E$24:AP24,\">0\")<$J$20,AP24-1,0))","v":0},{"$f":"IF(SUM($E$24:AQ24)=0,IF((COUNTA($E$26:AQ26)-COUNTIF($E$26:AQ26,0))<$C$14*2,0,$J$20),IF(COUNTIF($E$24:AQ24,\">0\")<$J$20,AQ24-1,0))","v":0},{"$f":"IF(SUM($E$24:AR24)=0,IF((COUNTA($E$26:AR26)-COUNTIF($E$26:AR26,0))<$C$14*2,0,$J$20),IF(COUNTIF($E$24:AR24,\">0\")<$J$20,AR24-1,0))","v":0},{"$f":"IF(SUM($E$24:AS24)=0,IF((COUNTA($E$26:AS26)-COUNTIF($E$26:AS26,0))<$C$14*2,0,$J$20),IF(COUNTIF($E$24:AS24,\">0\")<$J$20,AS24-1,0))","v":0},{"$f":"IF(SUM($E$24:AT24)=0,IF((COUNTA($E$26:AT26)-COUNTIF($E$26:AT26,0))<$C$14*2,0,$J$20),IF(COUNTIF($E$24:AT24,\">0\")<$J$20,AT24-1,0))","v":0},{"$f":"IF(SUM($E$24:AU24)=0,IF((COUNTA($E$26:AU26)-COUNTIF($E$26:AU26,0))<$C$14*2,0,$J$20),IF(COUNTIF($E$24:AU24,\">0\")<$J$20,AU24-1,0))","v":0},{"$f":"IF(SUM($E$24:AV24)=0,IF((COUNTA($E$26:AV26)-COUNTIF($E$26:AV26,0))<$C$14*2,0,$J$20),IF(COUNTIF($E$24:AV24,\">0\")<$J$20,AV24-1,0))","v":0},{"$f":"IF(SUM($E$24:AW24)=0,IF((COUNTA($E$26:AW26)-COUNTIF($E$26:AW26,0))<$C$14*2,0,$J$20),IF(COUNTIF($E$24:AW24,\">0\")<$J$20,AW24-1,0))","v":0},{"$f":"IF(SUM($E$24:AX24)=0,IF((COUNTA($E$26:AX26)-COUNTIF($E$26:AX26,0))<$C$14*2,0,$J$20),IF(COUNTIF($E$24:AX24,\">0\")<$J$20,AX24-1,0))","v":0},{"$f":"IF(SUM($E$24:AY24)=0,IF((COUNTA($E$26:AY26)-COUNTIF($E$26:AY26,0))<$C$14*2,0,$J$20),IF(COUNTIF($E$24:AY24,\">0\")<$J$20,AY24-1,0))","v":0},{"$f":"IF(SUM($E$24:AZ24)=0,IF((COUNTA($E$26:AZ26)-COUNTIF($E$26:AZ26,0))<$C$14*2,0,$J$20),IF(COUNTIF($E$24:AZ24,\">0\")<$J$20,AZ24-1,0))","v":0},{"$f":"IF(SUM($E$24:BA24)=0,IF((COUNTA($E$26:BA26)-COUNTIF($E$26:BA26,0))<$C$14*2,0,$J$20),IF(COUNTIF($E$24:BA24,\">0\")<$J$20,BA24-1,0))","v":0},{"$f":"IF(SUM($E$24:BB24)=0,IF((COUNTA($E$26:BB26)-COUNTIF($E$26:BB26,0))<$C$14*2,0,$J$20),IF(COUNTIF($E$24:BB24,\">0\")<$J$20,BB24-1,0))","v":0},{"$f":"IF(SUM($E$24:BC24)=0,IF((COUNTA($E$26:BC26)-COUNTIF($E$26:BC26,0))<$C$14*2,0,$J$20),IF(COUNTIF($E$24:BC24,\">0\")<$J$20,BC24-1,0))","v":0},{"$f":"IF(SUM($E$24:BD24)=0,IF((COUNTA($E$26:BD26)-COUNTIF($E$26:BD26,0))<$C$14*2,0,$J$20),IF(COUNTIF($E$24:BD24,\">0\")<$J$20,BD24-1,0))","v":0},{"$f":"IF(SUM($E$24:BE24)=0,IF((COUNTA($E$26:BE26)-COUNTIF($E$26:BE26,0))<$C$14*2,0,$J$20),IF(COUNTIF($E$24:BE24,\">0\")<$J$20,BE24-1,0))","v":0},{"$f":"IF(SUM($E$24:BF24)=0,IF((COUNTA($E$26:BF26)-COUNTIF($E$26:BF26,0))<$C$14*2,0,$J$20),IF(COUNTIF($E$24:BF24,\">0\")<$J$20,BF24-1,0))","v":0},{"$f":"IF(SUM($E$24:BG24)=0,IF((COUNTA($E$26:BG26)-COUNTIF($E$26:BG26,0))<$C$14*2,0,$J$20),IF(COUNTIF($E$24:BG24,\">0\")<$J$20,BG24-1,0))","v":0},{"$f":"IF(SUM($E$24:BH24)=0,IF((COUNTA($E$26:BH26)-COUNTIF($E$26:BH26,0))<$C$14*2,0,$J$20),IF(COUNTIF($E$24:BH24,\">0\")<$J$20,BH24-1,0))","v":0},{"$f":"IF(SUM($E$24:BI24)=0,IF((COUNTA($E$26:BI26)-COUNTIF($E$26:BI26,0))<$C$14*2,0,$J$20),IF(COUNTIF($E$24:BI24,\">0\")<$J$20,BI24-1,0))","v":0},{"$f":"IF(SUM($E$24:BJ24)=0,IF((COUNTA($E$26:BJ26)-COUNTIF($E$26:BJ26,0))<$C$14*2,0,$J$20),IF(COUNTIF($E$24:BJ24,\">0\")<$J$20,BJ24-1,0))","v":0},{"$f":"IF(SUM($E$24:BK24)=0,IF((COUNTA($E$26:BK26)-COUNTIF($E$26:BK26,0))<$C$14*2,0,$J$20),IF(COUNTIF($E$24:BK24,\">0\")<$J$20,BK24-1,0))","v":0},{"$f":"IF(SUM($E$24:BL24)=0,IF((COUNTA($E$26:BL26)-COUNTIF($E$26:BL26,0))<$C$14*2,0,$J$20),IF(COUNTIF($E$24:BL24,\">0\")<$J$20,BL24-1,0))","v":0},{"$f":"IF(SUM($E$24:BM24)=0,IF((COUNTA($E$26:BM26)-COUNTIF($E$26:BM26,0))<$C$14*2,0,$J$20),IF(COUNTIF($E$24:BM24,\">0\")<$J$20,BM24-1,0))","v":0},{"$f":"IF(SUM($E$24:BN24)=0,IF((COUNTA($E$26:BN26)-COUNTIF($E$26:BN26,0))<$C$14*2,0,$J$20),IF(COUNTIF($E$24:BN24,\">0\")<$J$20,BN24-1,0))","v":0},{"$f":"IF(SUM($E$24:BO24)=0,IF((COUNTA($E$26:BO26)-COUNTIF($E$26:BO26,0))<$C$14*2,0,$J$20),IF(COUNTIF($E$24:BO24,\">0\")<$J$20,BO24-1,0))","v":0},{"$f":"IF(SUM($E$24:BP24)=0,IF((COUNTA($E$26:BP26)-COUNTIF($E$26:BP26,0))<$C$14*2,0,$J$20),IF(COUNTIF($E$24:BP24,\">0\")<$J$20,BP24-1,0))","v":0},{"$f":"IF(SUM($E$24:BQ24)=0,IF((COUNTA($E$26:BQ26)-COUNTIF($E$26:BQ26,0))<$C$14*2,0,$J$20),IF(COUNTIF($E$24:BQ24,\">0\")<$J$20,BQ24-1,0))","v":0},{"$f":"IF(SUM($E$24:BR24)=0,IF((COUNTA($E$26:BR26)-COUNTIF($E$26:BR26,0))<$C$14*2,0,$J$20),IF(COUNTIF($E$24:BR24,\">0\")<$J$20,BR24-1,0))","v":0},{"$f":"IF(SUM($E$24:BS24)=0,IF((COUNTA($E$26:BS26)-COUNTIF($E$26:BS26,0))<$C$14*2,0,$J$20),IF(COUNTIF($E$24:BS24,\">0\")<$J$20,BS24-1,0))","v":0},{"$f":"IF(SUM($E$24:BT24)=0,IF((COUNTA($E$26:BT26)-COUNTIF($E$26:BT26,0))<$C$14*2,0,$J$20),IF(COUNTIF($E$24:BT24,\">0\")<$J$20,BT24-1,0))","v":0},{"$f":"IF(SUM($E$24:BU24)=0,IF((COUNTA($E$26:BU26)-COUNTIF($E$26:BU26,0))<$C$14*2,0,$J$20),IF(COUNTIF($E$24:BU24,\">0\")<$J$20,BU24-1,0))","v":0},{"$f":"IF(SUM($E$24:BV24)=0,IF((COUNTA($E$26:BV26)-COUNTIF($E$26:BV26,0))<$C$14*2,0,$J$20),IF(COUNTIF($E$24:BV24,\">0\")<$J$20,BV24-1,0))","v":0},{"$f":"IF(SUM($E$24:BW24)=0,IF((COUNTA($E$26:BW26)-COUNTIF($E$26:BW26,0))<$C$14*2,0,$J$20),IF(COUNTIF($E$24:BW24,\">0\")<$J$20,BW24-1,0))","v":0},{"$f":"IF(SUM($E$24:BX24)=0,IF((COUNTA($E$26:BX26)-COUNTIF($E$26:BX26,0))<$C$14*2,0,$J$20),IF(COUNTIF($E$24:BX24,\">0\")<$J$20,BX24-1,0))","v":0},{"$f":"IF(SUM($E$24:BY24)=0,IF((COUNTA($E$26:BY26)-COUNTIF($E$26:BY26,0))<$C$14*2,0,$J$20),IF(COUNTIF($E$24:BY24,\">0\")<$J$20,BY24-1,0))","v":0},{"$f":"IF(SUM($E$24:BZ24)=0,IF((COUNTA($E$26:BZ26)-COUNTIF($E$26:BZ26,0))<$C$14*2,0,$J$20),IF(COUNTIF($E$24:BZ24,\">0\")<$J$20,BZ24-1,0))","v":0},{"$f":"IF(SUM($E$24:CA24)=0,IF((COUNTA($E$26:CA26)-COUNTIF($E$26:CA26,0))<$C$14*2,0,$J$20),IF(COUNTIF($E$24:CA24,\">0\")<$J$20,CA24-1,0))","v":0},{"$f":"IF(SUM($E$24:CB24)=0,IF((COUNTA($E$26:CB26)-COUNTIF($E$26:CB26,0))<$C$14*2,0,$J$20),IF(COUNTIF($E$24:CB24,\">0\")<$J$20,CB24-1,0))","v":0},{"$f":"IF(SUM($E$24:CC24)=0,IF((COUNTA($E$26:CC26)-COUNTIF($E$26:CC26,0))<$C$14*2,0,$J$20),IF(COUNTIF($E$24:CC24,\">0\")<$J$20,CC24-1,0))","v":0},{"$f":"IF(SUM($E$24:CD24)=0,IF((COUNTA($E$26:CD26)-COUNTIF($E$26:CD26,0))<$C$14*2,0,$J$20),IF(COUNTIF($E$24:CD24,\">0\")<$J$20,CD24-1,0))","v":0},{"$f":"IF(SUM($E$24:CE24)=0,IF((COUNTA($E$26:CE26)-COUNTIF($E$26:CE26,0))<$C$14*2,0,$J$20),IF(COUNTIF($E$24:CE24,\">0\")<$J$20,CE24-1,0))","v":0},{"$f":"IF(SUM($E$24:CF24)=0,IF((COUNTA($E$26:CF26)-COUNTIF($E$26:CF26,0))<$C$14*2,0,$J$20),IF(COUNTIF($E$24:CF24,\">0\")<$J$20,CF24-1,0))","v":0},{"$f":"IF(SUM($E$24:CG24)=0,IF((COUNTA($E$26:CG26)-COUNTIF($E$26:CG26,0))<$C$14*2,0,$J$20),IF(COUNTIF($E$24:CG24,\">0\")<$J$20,CG24-1,0))","v":0}]
[null,null,null,null,{"$f":"E4","v":2024},null,{"$f":"IF(E25=0,0,IF(($E$4+$C$12+1)>E25+1,E25+1,0))","v":2025},null,{"$f":"IF(G25=0,0,IF(($E$4+$C$12+1)>G25+1,G25+1,0))","v":2026},null,{"$f":"IF(I25=0,0,IF(($E$4+$C$12+1)>I25+1,I25+1,0))","v":2027},null,{"$f":"IF(K25=0,0,IF(($E$4+$C$12+1)>K25+1,K25+1,0))","v":2028},null,{"$f":"IF(M25=0,0,IF(($E$4+$C$12+1)>M25+1,M25+1,0))","v":2029},null,{"$f":"IF(O25=0,0,IF(($E$4+$C$12+1)>O25+1,O25+1,0))","v":0},null,{"$f":"IF(Q25=0,0,IF(($E$4+$C$12+1)>Q25+1,Q25+1,0))","v":0},null,{"$f":"IF(S25=0,0,IF(($E$4+$C$12+1)>S25+1,S25+1,0))","v":0},null,{"$f":"IF(U25=0,0,IF(($E$4+$C$12+1)>U25+1,U25+1,0))","v":0},null,{"$f":"IF(W25=0,0,IF(($E$4+$C$12+1)>W25+1,W25+1,0))","v":0},null,{"$f":"IF(Y25=0,0,IF(($E$4+$C$12+1)>Y25+1,Y25+1,0))","v":0},null,{"$f":"IF(AA25=0,0,IF(($E$4+$C$12+1)>AA25+1,AA25+1,0))","v":0},null,{"$f":"IF(AC25=0,0,IF(($E$4+$C$12+1)>AC25+1,AC25+1,0))","v":0},null,{"$f":"IF(AE25=0,0,IF(($E$4+$C$12+1)>AE25+1,AE25+1,0))","v":0},null,{"$f":"IF(AG25=0,0,IF(($E$4+$C$12+1)>AG25+1,AG25+1,0))","v":0},null,{"$f":"IF(AI25=0,0,IF(($E$4+$C$12+1)>AI25+1,AI25+1,0))","v":0},null,{"$f":"IF(AK25=0,0,IF(($E$4+$C$12+1)>AK25+1,AK25+1,0))","v":0},null,{"$f":"IF(AM25=0,0,IF(($E$4+$C$12+1)>AM25+1,AM25+1,0))","v":0},null,{"$f":"IF(AO25=0,0,IF(($E$4+$C$12+1)>AO25+1,AO25+1,0))","v":0},null,{"$f":"IF(AQ25=0,0,IF(($E$4+$C$12+1)>AQ25+1,AQ25+1,0))","v":0},null,{"$f":"IF(AS25=0,0,IF(($E$4+$C$12+1)>AS25+1,AS25+1,0))","v":0},null,{"$f":"IF(AU25=0,0,IF(($E$4+$C$12+1)>AU25+1,AU25+1,0))","v":0},null,{"$f":"IF(AW25=0,0,IF(($E$4+$C$12+1)>AW25+1,AW25+1,0))","v":0},null,{"$f":"IF(AY25=0,0,IF(($E$4+$C$12+1)>AY25+1,AY25+1,0))","v":0},null,{"$f":"IF(BA25=0,0,IF(($E$4+$C$12+1)>BA25+1,BA25+1,0))","v":0},null,{"$f":"IF(BC25=0,0,IF(($E$4+$C$12+1)>BC25+1,BC25+1,0))","v":0},null,{"$f":"IF(BE25=0,0,IF(($E$4+$C$12+1)>BE25+1,BE25+1,0))","v":0},null,{"$f":"IF(BG25=0,0,IF(($E$4+$C$12+1)>BG25+1,BG25+1,0))","v":0},null,{"$f":"IF(BI25=0,0,IF(($E$4+$C$12+1)>BI25+1,BI25+1,0))","v":0},null,{"$f":"IF(BK25=0,0,IF(($E$4+$C$12+1)>BK25+1,BK25+1,0))","v":0},null,{"$f":"IF(BM25=0,0,IF(($E$4+$C$12+1)>BM25+1,BM25+1,0))","v":0},null,{"$f":"IF(BO25=0,0,IF(($E$4+$C$12+1)>BO25+1,BO25+1,0))","v":0},null,{"$f":"IF(BQ25=0,0,IF(($E$4+$C$12+1)>BQ25+1,BQ25+1,0))","v":0},null,{"$f":"IF(BS25=0,0,IF(($E$4+$C$12+1)>BS25+1,BS25+1,0))","v":0},null,{"$f":"IF(BU25=0,0,IF(($E$4+$C$12+1)>BU25+1,BU25+1,0))","v":0},null,{"$f":"IF(BW25=0,0,IF(($E$4+$C$12+1)>BW25+1,BW25+1,0))","v":0},null,{"$f":"IF(BY25=0,0,IF(($E$4+$C$12+1)>BY25+1,BY25+1,0))","v":0},null,{"$f":"IF(CA25=0,0,IF(($E$4+$C$12+1)>CA25+1,CA25+1,0))","v":0},null,{"$f":"IF(CC25=0,0,IF(($E$4+$C$12+1)>CC25+1,CC25+1,0))","v":0},null,{"$f":"IF(CE25=0,0,IF(($E$4+$C$12+1)>CE25+1,CE25+1,0))","v":0}]
[null,"Кредитні кошти",null,null,{"$f":"IF(C4=\"I півріччя\", \"I півріччя/ half a year\", \"0\")","v":"0"},{"$f":"IF(C4=\"I півріччя\", \"II півріччя/ half a year\", \"II півріччя/ half a year\")","v":"II півріччя/ half a year"},"I півріччя/ half a year",{"$f":"IF(E4=\"I півріччя/ half a year\", \"II півріччя/ half a year\", \"II півріччя/ half a year\")","v":"II півріччя/ half a year"},"I півріччя/ half a year",{"$f":"IF(G4=\"I півріччя/ half a year\", \"II півріччя/ half a year\", \"II півріччя/ half a year\")","v":"II півріччя/ half a year"},"I півріччя/ half a year",{"$f":"IF(I8=\"I півріччя/ half a year\", \"II півріччя/ half a year\", \"II півріччя/ half a year\")","v":"II півріччя/ half a year"},"I півріччя/ half a year",{"$f":"IF(K8=\"I півріччя/ half a year\", \"II півріччя/ half a year\", \"II півріччя/ half a year\")","v":"II півріччя/ half a year"},"I півріччя/ half a year",{"$f":"IF(M4=\"I півріччя/ half a year\", \"II півріччя/ half a year\", \"II півріччя/ half a year\")","v":"II півріччя/ half a year"},"I півріччя/ half a year",{"$f":"IF(O4=\"I півріччя/ half a year\", \"II півріччя/ half a year\", \"II півріччя/ half a year\")","v":"II півріччя/ half a year"},"I півріччя/ half a year",{"$f":"IF(Q4=\"I півріччя/ half a year\", \"II півріччя/ half a year\", \"II півріччя/ half a year\")","v":"II півріччя/ half a year"},"I півріччя/ half a year",{"$f":"IF(S4=\"I півріччя/ half a year\", \"II півріччя/ half a year\", \"II півріччя/ half a year\")","v":"II півріччя/ half a year"},"I півріччя/ half a year",{"$f":"IF(U4=\"I півріччя/ half a year\", \"II півріччя/ half a year\", \"II півріччя/ half a year\")","v":"II півріччя/ half a year"},"I півріччя/ half a year",{"$f":"IF(W8=\"I півріччя/ half a year\", \"II півріччя/ half a year\", \"II півріччя/ half a year\")","v":"II півріччя/ half a year"},"I півріччя/ half a year",{"$f":"IF(Y8=\"I півріччя/ half a year\", \"II півріччя/ half a year\", \"II півріччя/ half a year\")","v":"II півріччя/ half a year"},"I півріччя/ half a year",{"$f":"IF(AA4=\"I півріччя/ half a year\", \"II півріччя/ half a year\", \"II півріччя/ half a year\")","v":"II півріччя/ half a year"},"I півріччя/ half a year",{"$f":"IF(AC4=\"I півріччя/ half a year\", \"II півріччя/ half a year\", \"II півріччя/ half a year\")","v":"II півріччя/ half a year"},"I півріччя/ half a year",{"$f":"IF(AE4=\"I півріччя/ half a year\", \"II півріччя/ half a year\", \"II півріччя/ half a year\")","v":"II півріччя/ half a year"},"I півріччя/ half a year",{"$f":"IF(AG4=\"I півріччя/ half a year\", \"II півріччя/ half a year\", \"II півріччя/ half a year\")","v":"II півріччя/ half a year"},"I півріччя/ half a year",{"$f":"IF(AI4=\"I півріччя/ half a year\", \"II півріччя/ half a year\", \"II півріччя/ half a year\")","v":"II півріччя/ half a year"},"I півріччя/ half a year",{"$f":"IF(AK4=\"I півріччя/ half a year\", \"II півріччя/ half a year\", \"II півріччя/ half a year\")","v":"II півріччя/ half a year"},"I півріччя/ half a year",{"$f":"IF(AM4=\"I півріччя/ half a year\", \"II півріччя/ half a year\", \"II півріччя/ half a year\")","v":"II півріччя/ half a year"},"I півріччя/ half a year",{"$f":"IF(AO4=\"I півріччя/ half a year\", \"II півріччя/ half a year\", \"II півріччя/ half a year\")","v":"II півріччя/ half a year"},"I півріччя/ half a year",{"$f":"IF(AQ4=\"I півріччя/ half a year\", \"II півріччя/ half a year\", \"II півріччя/ half a year\")","v":"II півріччя/ half a year"},"I півріччя/ half a year",{"$f":"IF(AS4=\"I півріччя/ half a year\", \"II півріччя/ half a year\", \"II півріччя/ half a year\")","v":"II півріччя/ half a year"},"I півріччя/ half a year",{"$f":"IF(AU4=\"I півріччя/ half a year\", \"II півріччя/ half a year\", \"II півріччя/ half a year\")","v":"II півріччя/ half a year"},"I півріччя/ half a year",{"$f":"IF(AW4=\"I півріччя/ half a year\", \"II півріччя/ half a year\", \"II півріччя/ half a year\")","v":"II півріччя/ half a year"},"I півріччя/ half a year",{"$f":"IF(AY4=\"I півріччя/ half a year\", \"II півріччя/ half a year\", \"II півріччя/ half a year\")","v":"II півріччя/ half a year"},"I півріччя/ half a year",{"$f":"IF(BA4=\"I півріччя/ half a year\", \"II півріччя/ half a year\", \"II півріччя/ half a year\")","v":"II півріччя/ half a year"},"I півріччя/ half a year",{"$f":"IF(BC4=\"I півріччя/ half a year\", \"II півріччя/ half a year\", \"II півріччя/ half a year\")","v":"II півріччя/ half a year"},"I півріччя/ half a year",{"$f":"IF(BE4=\"I півріччя/ half a year\", \"II півріччя/ half a year\", \"II півріччя/ half a year\")","v":"II півріччя/ half a year"},"I півріччя/ half a year",{"$f":"IF(BG4=\"I півріччя/ half a year\", \"II півріччя/ half a year\", \"II півріччя/ half a year\")","v":"II півріччя/ half a year"},"I півріччя/ half a year",{"$f":"IF(BI4=\"I півріччя/ half a year\", \"II півріччя/ half a year\", \"II півріччя/ half a year\")","v":"II півріччя/ half a year"},"I півріччя/ half a year",{"$f":"IF(BK4=\"I півріччя/ half a year\", \"II півріччя/ half a year\", \"II півріччя/ half a year\")","v":"II півріччя/ half a year"},"I півріччя/ half a year",{"$f":"IF(BM4=\"I півріччя/ half a year\", \"II півріччя/ half a year\", \"II півріччя/ half a year\")","v":"II півріччя/ half a year"},"I півріччя/ half a year",{"$f":"IF(BO4=\"I півріччя/ half a year\", \"II півріччя/ half a year\", \"II півріччя/ half a year\")","v":"II півріччя/ half a year"},"I півріччя/ half a year",{"$f":"IF(BQ4=\"I півріччя/ half a year\", \"II півріччя/ half a year\", \"II півріччя/ half a year\")","v":"II півріччя/ half a year"},"I півріччя/ half a year",{"$f":"IF(BS4=\"I півріччя/ half a year\", \"II півріччя/ half a year\", \"II півріччя/ half a year\")","v":"II півріччя/ half a year"},"I півріччя/ half a year",{"$f":"IF(BU4=\"I півріччя/ half a year\", \"II півріччя/ half a year\", \"II півріччя/ half a year\")","v":"II півріччя/ half a year"},"I півріччя/ half a year",{"$f":"IF(BW4=\"I півріччя/ half a year\", \"II півріччя/ half a year\", \"II півріччя/ half a year\")","v":"II півріччя/ half a year"},"I півріччя/ half a year",{"$f":"IF(BY4=\"I півріччя/ half a year\", \"II півріччя/ half a year\", \"II півріччя/ half a year\")","v":"II півріччя/ half a year"},"I півріччя/ half a year",{"$f":"IF(CA4=\"I півріччя/ half a year\", \"II півріччя/ half a year\", \"II півріччя/ half a year\")","v":"II півріччя/ half a year"},"I півріччя/ half a year",{"$f":"IF(CC4=\"I півріччя/ half a year\", \"II півріччя/ half a year\", \"II півріччя/ half a year\")","v":"II півріччя/ half a year"},"I півріччя/ half a year",{"$f":"IF(CE4=\"I півріччя/ half a year\", \"II півріччя/ half a year\", \"II півріччя/ half a year\")","v":"II півріччя/ half a year"}]
[null,"Погашення / Repayment",null,null,0,0,{"$f":"IF(G24=0,0,(SUM($E$30:F30)-SUM($E$27:F27))/G24)","v":475.42388816682552},{"$f":"IF(H24=0,0,(SUM($E$30:G30)-SUM($E$27:G27))/H24)","v":475.42388816682552},{"$f":"IF(I24=0,0,(SUM($E$30:H30)-SUM($E$27:H27))/I24)","v":475.42388816682558},{"$f":"IF(J24=0,0,(SUM($E$30:I30)-SUM($E$27:I27))/J24)","v":475.42388816682552},{"$f":"IF(K24=0,0,(SUM($E$30:J30)-SUM($E$27:J27))/K24)","v":475.42388816682558},{"$f":"IF(L24=0,0,(SUM($E$30:K30)-SUM($E$27:K27))/L24)","v":475.42388816682558},{"$f":"IF(M24=0,0,(SUM($E$30:L30)-SUM($E$27:L27))/M24)","v":475.42388816682552},{"$f":"IF(N24=0,0,(SUM($E$30:M30)-SUM($E$27:M27))/N24)","v":475.42388816682546},{"$f":"IF(O24=0,0,(SUM($E$30:N30)-SUM($E$27:N27))/O24)","v":475.42388816682524},{"$f":"IF(P24=0,0,(SUM($E$30:O30)-SUM($E$27:O27))/P24)","v":0},{"$f":"IF(Q24=0,0,(SUM($E$30:P30)-SUM($E$27:P27))/Q24)","v":0},{"$f":"IF(R24=0,0,(SUM($E$30:Q30)-SUM($E$27:Q27))/R24)","v":0},{"$f":"IF(S24=0,0,(SUM($E$30:R30)-SUM($E$27:R27))/S24)","v":0},{"$f":"IF(T24=0,0,(SUM($E$30:S30)-SUM($E$27:S27))/T24)","v":0},{"$f":"IF(U24=0,0,(SUM($E$30:T30)-SUM($E$27:T27))/U24)","v":0},{"$f":"IF(V24=0,0,(SUM($E$30:U30)-SUM($E$27:U27))/V24)","v":0},{"$f":"IF(W24=0,0,(SUM($E$30:V30)-SUM($E$27:V27))/W24)","v":0},{"$f":"IF(X24=0,0,(SUM($E$30:W30)-SUM($E$27:W27))/X24)","v":0},{"$f":"IF(Y24=0,0,(SUM($E$30:X30)-SUM($E$27:X27))/Y24)","v":0},{"$f":"IF(Z24=0,0,(SUM($E$30:Y30)-SUM($E$27:Y27))/Z24)","v":0},{"$f":"IF(AA24=0,0,(SUM($E$30:Z30)-SUM($E$27:Z27))/AA24)","v":0},{"$f":"IF(AB24=0,0,(SUM($E$30:AA30)-SUM($E$27:AA27))/AB24)","v":0},{"$f":"IF(AC24=0,0,(SUM($E$30:AB30)-SUM($E$27:AB27))/AC24)","v":0},{"$f":"IF(AD24=0,0,(SUM($E$30:AC30)-SUM($E$27:AC27))/AD24)","v":0},{"$f":"IF(AE24=0,0,(SUM($E$30:AD30)-SUM($E$27:AD27))/AE24)","v":0},{"$f":"IF(AF24=0,0,(SUM($E$30:AE30)-SUM($E$27:AE27))/AF24)","v":0},{"$f":"IF(AG24=0,0,(SUM($E$30:AF30)-SUM($E$27:AF27))/AG24)","v":0},{"$f":"IF(AH24=0,0,(SUM($E$30:AG30)-SUM($E$27:AG27))/AH24)","v":0},{"$f":"IF(AI24=0,0,(SUM($E$30:AH30)-SUM($E$27:AH27))/AI24)","v":0},{"$f":"IF(AJ24=0,0,(SUM($E$30:AI30)-SUM($E$27:AI27))/AJ24)","v":0},{"$f":"IF(AK24=0,0,(SUM($E$30:AJ30)-SUM($E$27:AJ27))/AK24)","v":0},{"$f":"IF(AL24=0,0,(SUM($E$30:AK30)-SUM($E$27:AK27))/AL24)","v":0},{"$f":"IF(AM24=0,0,(SUM($E$30:AL30)-SUM($E$27:AL27))/AM24)","v":0},{"$f":"IF(AN24=0,0,(SUM($E$30:AM30)-SUM($E$27:AM27))/AN24)","v":0},{"$f":"IF(AO24=0,0,(SUM($E$30:AN30)-SUM($E$27:AN27))/AO24)","v":0},{"$f":"IF(AP24=0,0,(SUM($E$30:AO30)-SUM($E$27:AO27))/AP24)","v":0},{"$f":"IF(AQ24=0,0,(SUM($E$30:AP30)-SUM($E$27:AP27))/AQ24)","v":0},{"$f":"IF(AR24=0,0,(SUM($E$30:AQ30)-SUM($E$27:AQ27))/AR24)","v":0},{"$f":"IF(AS24=0,0,(SUM($E$30:AR30)-SUM($E$27:AR27))/AS24)","v":0},{"$f":"IF(AT24=0,0,(SUM($E$30:AS30)-SUM($E$27:AS27))/AT24)","v":0},{"$f":"IF(AU24=0,0,(SUM($E$30:AT30)-SUM($E$27:AT27))/AU24)","v":0},{"$f":"IF(AV24=0,0,(SUM($E$30:AU30)-SUM($E$27:AU27))/AV24)","v":0},{"$f":"IF(AW24=0,0,(SUM($E$30:AV30)-SUM($E$27:AV27))/AW24)","v":0},{"$f":"IF(AX24=0,0,(SUM($E$30:AW30)-SUM($E$27:AW27))/AX24)","v":0},{"$f":"IF(AY24=0,0,(SUM($E$30:AX30)-SUM($E$27:AX27))/AY24)","v":0},{"$f":"IF(AZ24=0,0,(SUM($E$30:AY30)-SUM($E$27:AY27))/AZ24)","v":0},{"$f":"IF(BA24=0,0,(SUM($E$30:AZ30)-SUM($E$27:AZ27))/BA24)","v":0},{"$f":"IF(BB24=0,0,(SUM($E$30:BA30)-SUM($E$27:BA27))/BB24)","v":0},{"$f":"IF(BC24=0,0,(SUM($E$30:BB30)-SUM($E$27:BB27))/BC24)","v":0},{"$f":"IF(BD24=0,0,(SUM($E$30:BC30)-SUM($E$27:BC27))/BD24)","v":0},{"$f":"IF(BE24=0,0,(SUM($E$30:BD30)-SUM($E$27:BD27))/BE24)","v":0},{"$f":"IF(BF24=0,0,(SUM($E$30:BE30)-SUM($E$27:BE27))/BF24)","v":0},{"$f":"IF(BG24=0,0,(SUM($E$30:BF30)-SUM($E$27:BF27))/BG24)","v":0},{"$f":"IF(BH24=0,0,(SUM($E$30:BG30)-SUM($E$27:BG27))/BH24)","v":0},{"$f":"IF(BI24=0,0,(SUM($E$30:BH30)-SUM($E$27:BH27))/BI24)","v":0},{"$f":"IF(BJ24=0,0,(SUM($E$30:BI30)-SUM($E$27:BI27))/BJ24)","v":0},{"$f":"IF(BK24=0,0,(SUM($E$30:BJ30)-SUM($E$27:BJ27))/BK24)","v":0},{"$f":"IF(BL24=0,0,(SUM($E$30:BK30)-SUM($E$27:BK27))/BL24)","v":0},{"$f":"IF(BM24=0,0,(SUM($E$30:BL30)-SUM($E$27:BL27))/BM24)","v":0},{"$f":"IF(BN24=0,0,(SUM($E$30:BM30)-SUM($E$27:BM27))/BN24)","v":0},{"$f":"IF(BO24=0,0,(SUM($E$30:BN30)-SUM($E$27:BN27))/BO24)","v":0},{"$f":"IF(BP24=0,0,(SUM($E$30:BO30)-SUM($E$27:BO27))/BP24)","v":0},{"$f":"IF(BQ24=0,0,(SUM($E$30:BP30)-SUM($E$27:BP27))/BQ24)","v":0},{"$f":"IF(BR24=0,0,(SUM($E$30:BQ30)-SUM($E$27:BQ27))/BR24)","v":0},{"$f":"IF(BS24=0,0,(SUM($E$30:BR30)-SUM($E$27:BR27))/BS24)","v":0},{"$f":"IF(BT24=0,0,(SUM($E$30:BS30)-SUM($E$27:BS27))/BT24)","v":0},{"$f":"IF(BU24=0,0,(SUM($E$30:BT30)-SUM($E$27:BT27))/BU24)","v":0},{"$f":"IF(BV24=0,0,(SUM($E$30:BU30)-SUM($E$27:BU27))/BV24)","v":0},{"$f":"IF(BW24=0,0,(SUM($E$30:BV30)-SUM($E$27:BV27))/BW24)","v":0},{"$f":"IF(BX24=0,0,(SUM($E$30:BW30)-SUM($E$27:BW27))/BX24)","v":0},{"$f":"IF(BY24=0,0,(SUM($E$30:BX30)-SUM($E$27:BX27))/BY24)","v":0},{"$f":"IF(BZ24=0,0,(SUM($E$30:BY30)-SUM($E$27:BY27))/BZ24)","v":0},{"$f":"IF(CA24=0,0,(SUM($E$30:BZ30)-SUM($E$27:BZ27))/CA24)","v":0},{"$f":"IF(CB24=0,0,(SUM($E$30:CA30)-SUM($E$27:CA27))/CB24)","v":0},{"$f":"IF(CC24=0,0,(SUM($E$30:CB30)-SUM($E$27:CB27))/CC24)","v":0},{"$f":"IF(CD24=0,0,(SUM($E$30:CC30)-SUM($E$27:CC27))/CD24)","v":0},{"$f":"IF(CE24=0,0,(SUM($E$30:CD30)-SUM($E$27:CD27))/CE24)","v":0},{"$f":"IF(CF24=0,0,(SUM($E$30:CE30)-SUM($E$27:CE27))/CF24)","v":0},{"$f":"IF(CG24=0,0,(SUM($E$30:CF30)-SUM($E$27:CF27))/CG24)","v":0},{"$f":"IF(CH24=0,0,(SUM($E$30:CG30)-SUM($E$27:CG27))/CH24)","v":0}]
[null,"Основна сума заборгованості / The main amount of debt",null,null,{"$f":"IF(AND(C4=\"I півріччя\",(E4+C12)>E25),C8,0)","v":0},{"$f":"IF((E4+C12)>=E25,C8,0)","v":4278.8100000000004},{"$f":"IF((E4+C12)>G25,F28-F27,0)","v":4278.8100000000004},{"$f":"IF(($E$4+$C$12)>G25,G28-G27,0)","v":3803.3861118331747},{"$f":"IF(($E$4+$C$12)>I25,H28-H27,0)","v":3327.962223666349},{"$f":"IF(($E$4+$C$12)>I25,I28-I27,0)","v":2852.5383354995233},{"$f":"IF(($E$4+$C$12)>K25,J28-J27,0)","v":2377.1144473326976},{"$f":"IF(($E$4+$C$12)>K25,K28-K27,0)","v":1901.6905591658719},{"$f":"IF(($E$4+$C$12)>M25,L28-L27,0)","v":1426.2666709990463},{"$f":"IF(($E$4+$C$12)>M25,M28-M27,0)","v":950.84278283222079},{"$f":"IF(($E$4+$C$12)>O25,N28-N27,0)","v":0},{"$f":"IF(($E$4+$C$12)>O25,O28-O27,0)","v":0},{"$f":"IF(($E$4+$C$12)>Q25,P28-P27,0)","v":0},{"$f":"IF(($E$4+$C$12)>Q25,Q28-Q27,0)","v":0},{"$f":"IF(($E$4+$C$12)>S25,R28-R27,0)","v":0},{"$f":"IF(($E$4+$C$12)>S25,S28-S27,0)","v":0},{"$f":"IF(($E$4+$C$12)>U25,T28-T27,0)","v":0},{"$f":"IF(($E$4+$C$12)>U25,U28-U27,0)","v":0},{"$f":"IF(($E$4+$C$12)>W25,V28-V27,0)","v":0},{"$f":"IF(($E$4+$C$12)>W25,W28-W27,0)","v":0},{"$f":"IF(($E$4+$C$12)>=Y25,X28-X27,0)","v":0},{"$f":"IF(($E$4+$C$12)>Y25,Y28-Y27,0)","v":0},{"$f":"IF(($E$4+$C$12)>AA25,Z28-Z27,0)","v":0},{"$f":"IF(($E$4+$C$12)>AA25,AA28-AA27,0)","v":0},{"$f":"IF(($E$4+$C$12)>AC25,AB28-AB27,0)","v":0},{"$f":"IF(($E$4+$C$12)>AC25,AC28-AC27,0)","v":0},{"$f":"IF(($E$4+$C$12)>AE25,AD28-AD27,0)","v":0},{"$f":"IF(($E$4+$C$12)>AE25,AE28-AE27,0)","v":0},{"$f":"IF(($E$4+$C$12)>AG25,AF28-AF27,0)","v":0},{"$f":"IF(($E$4+$C$12)>AG25,AG28-AG27,0)","v":0},{"$f":"IF(($E$4+$C$12)>AI25,AH28-AH27,0)","v":0},{"$f":"IF(($E$4+$C$12)>AI25,AI28-AI27,0)","v":0},{"$f":"IF(($E$4+$C$12)>AK25,AJ28-AJ27,0)","v":0},{"$f":"IF(($E$4+$C$12)>AK25,AK28-AK27,0)","v":0},{"$f":"IF(($E$4+$C$12)>AM25,AL28-AL27,0)","v":0},{"$f":"IF(($E$4+$C$12)>AM25,AM28-AM27,0)","v":0},{"$f":"IF(($E$4+$C$12)>AO25,AN28-AN27,0)","v":0},{"$f":"IF(($E$4+$C$12)>AO25,AO28-AO27,0)","v":0},{"$f":"IF(($E$4+$C$12)>AQ25,AP28-AP27,0)","v":0},{"$f":"IF(($E$4+$C$12)>AQ25,AQ28-AQ27,0)","v":0},{"$f":"IF(($E$4+$C$12)>AS25,AR28-AR27,0)","v":0},{"$f":"IF(($E$4+$C$12)>AS25,AS28-AS27,0)","v":0},{"$f":"IF(($E$4+$C$12)>AU25,AT28-AT27,0)","v":0},{"$f":"IF(($E$4+$C$12)>AU25,AU28-AU27,0)","v":0},{"$f":"IF(($E$4+$C$12)>AW25,AV28-AV27,0)","v":0},{"$f":"IF(($E$4+$C$12)>AW25,AW28-AW27,0)","v":0},{"$f":"IF(($E$4+$C$12)>AY25,AX28-AX27,0)","v":0},{"$f":"IF(($E$4+$C$12)>AY25,AY28-AY27,0)","v":0},{"$f":"IF(($E$4+$C$12)>BA25,AZ28-AZ27,0)","v":0},{"$f":"IF(($E$4+$C$12)>BA25,BA28-BA27,0)","v":0},{"$f":"IF(($E$4+$C$12)>BC25,BB28-BB27,0)","v":0},{"$f":"IF(($E$4+$C$12)>BC25,BC28-BC27,0)","v":0},{"$f":"IF(($E$4+$C$12)>BE25,BD28-BD27,0)","v":0},{"$f":"IF(($E$4+$C$12)>BE25,BE28-BE27,0)","v":0},{"$f":"IF(($E$4+$C$12)>BG25,BF28-BF27,0)","v":0},{"$f":"IF(($E$4+$C$12)>BG25,BG28-BG27,0)","v":0},{"$f":"IF(($E$4+$C$12)>BI25,BH28-BH27,0)","v":0},{"$f":"IF(($E$4+$C$12)>BI25,BI28-BI27,0)","v":0},{"$f":"IF(($E$4+$C$12)>BK25,BJ28-BJ27,0)","v":0},{"$f":"IF(($E$4+$C$12)>BK25,BK28-BK27,0)","v":0},{"$f":"IF(($E$4+$C$12)>BM25,BL28-BL27,0)","v":0},{"$f":"IF(($E$4+$C$12)>BM25,BM28-BM27,0)","v":0},{"$f":"IF(($E$4+$C$12)>BO25,BN28-BN27,0)","v":0},{"$f":"IF(($E$4+$C$12)>BO25,BO28-BO27,0)","v":0},{"$f":"IF(($E$4+$C$12)>BQ25,BP28-BP27,0)","v":0},{"$f":"IF(($E$4+$C$12)>BQ25,BQ28-BQ27,0)","v":0},{"$f":"IF(($E$4+$C$12)>BS25,BR28-BR27,0)","v":0},{"$f":"IF(($E$4+$C$12)>BS25,BS28-BS27,0)","v":0},{"$f":"IF(($E$4+$C$12)>BU25,BT28-BT27,0)","v":0},{"$f":"IF(($E$4+$C$12)>BU25,BU28-BU27,0)","v":0},{"$f":"IF(($E$4+$C$12)>BW25,BV28-BV27,0)","v":0},{"$f":"IF(($E$4+$C$12)>BW25,BW28-BW27,0)","v":0},{"$f":"IF(($E$4+$C$12)>BY25,BX28-BX27,0)","v":0},{"$f":"IF(($E$4+$C$12)>BY25,BY28-BY27,0)","v":0},{"$f":"IF(($E$4+$C$12)>CA25,BZ28-BZ27,0)","v":0},{"$f":"IF(($E$4+$C$12)>CA25,CA28-CA27,0)","v":0},{"$f":"IF(($E$4+$C$12)>CC25,CB28-CB27,0)","v":0},{"$f":"IF(($E$4+$C$12)>CC25,CC28-CC27,0)","v":0},{"$f":"IF(($E$4+$C$12)>CE25,CD28-CD27,0)","v":0},{"$f":"IF(($E$4+$C$12)>CE25,CE28-CE27,0)","v":0},{"$f":"IF(($E$4+$C$12)>CG25,CF28-CF27,0)","v":0},{"$f":"IF(($E$4+$C$12)>CG25,CG28-CG27,0)","v":0}]
[null,"Одноразова комісія / One-time fee",null,null,{"$f":"C18*C8","v":0},0,0,0,0,0,0,0,0,0,0,0,0,0,0,0,0,0,0,0,0,0,0,0,0,0,0,0,0,0,0,0,0,0,0,0,0,0,0,0,0,0,0,0,0,0,0,0,0,0,0,0,0,0,0,0,0,0,0,0,0,0,0,0,0,0,0,0,0,0,0,0,0,0,0,0,0,0,0,0,0,0]
[null,"Використання коштів / Use of funds",null,null,{"$f":"IFERROR(HLOOKUP(E23,'План фінансування_Funding plan'!$B$50:$BH$51,2,0),0)","v":0},{"$f":"IFERROR(HLOOKUP(F23,'План фінансування_Funding plan'!$B$50:$BH$51,2,0),0)","v":4278.8149935014299},{"$f":"IFERROR(HLOOKUP(G23,'План фінансування_Funding plan'!$B$50:$BH$51,2,0),0)","v":0},{"$f":"IFERROR(HLOOKUP(H23,'План фінансування_Funding plan'!$B$50:$BH$51,2,0),0)","v":0},{"$f":"IFERROR(HLOOKUP(I23,'План фінансування_Funding plan'!$B$50:$BH$51,2,0),0)","v":0},{"$f":"IFERROR(HLOOKUP(J23,'План фінансування_Funding plan'!$B$50:$BH$51,2,0),0)","v":0},{"$f":"IFERROR(HLOOKUP(K23,'План фінансування_Funding plan'!$B$50:$BH$51,2,0),0)","v":0},{"$f":"IFERROR(HLOOKUP(L23,'План фінансування_Funding plan'!$B$50:$BH$51,2,0),0)","v":0},{"$f":"IFERROR(HLOOKUP(M23,'План фінансування_Funding plan'!$B$50:$BH$51,2,0),0)","v":0},{"$f":"IFERROR(HLOOKUP(N23,'План фінансування_Funding plan'!$B$50:$BH$51,2,0),0)","v":0},{"$f":"IFERROR(HLOOKUP(O23,'План фінансування_Funding plan'!$B$50:$BH$51,2,0),0)","v":0},{"$f":"IFERROR(HLOOKUP(P23,'План фінансування_Funding plan'!$B$50:$BH$51,2,0),0)","v":0},{"$f":"IFERROR(HLOOKUP(Q23,'План фінансування_Funding plan'!$B$50:$BH$51,2,0),0)","v":0},{"$f":"IFERROR(HLOOKUP(R23,'План фінансування_Funding plan'!$B$50:$BH$51,2,0),0)","v":0},{"$f":"IFERROR(HLOOKUP(S23,'План фінансування_Funding plan'!$B$50:$BH$51,2,0),0)","v":0},{"$f":"IFERROR(HLOOKUP(T23,'План фінансування_Funding plan'!$B$50:$BH$51,2,0),0)","v":0},{"$f":"IFERROR(HLOOKUP(U23,'План фінансування_Funding plan'!$B$50:$BH$51,2,0),0)","v":0},{"$f":"IFERROR(HLOOKUP(V23,'План фінансування_Funding plan'!$B$50:$BH$51,2,0),0)","v":0},{"$f":"IFERROR(HLOOKUP(W23,'План фінансування_Funding plan'!$B$50:$BH$51,2,0),0)","v":0},{"$f":"IFERROR(HLOOKUP(X23,'План фінансування_Funding plan'!$B$50:$BH$51,2,0),0)","v":0},{"$f":"IFERROR(HLOOKUP(Y23,'План фінансування_Funding plan'!$B$50:$BH$51,2,0),0)","v":0},{"$f":"IFERROR(HLOOKUP(Z23,'План фінансування_Funding plan'!$B$50:$BH$51,2,0),0)","v":0},{"$f":"IFERROR(HLOOKUP(AA23,'План фінансування_Funding plan'!$B$50:$BH$51,2,0),0)","v":0},{"$f":"IFERROR(HLOOKUP(AB23,'План фінансування_Funding plan'!$B$50:$BH$51,2,0),0)","v":0},{"$f":"IFERROR(HLOOKUP(AC23,'План фінансування_Funding plan'!$B$50:$BH$51,2,0),0)","v":0},{"$f":"IFERROR(HLOOKUP(AD23,'План фінансування_Funding plan'!$B$50:$BH$51,2,0),0)","v":0},{"$f":"IFERROR(HLOOKUP(AE23,'План фінансування_Funding plan'!$B$50:$BH$51,2,0),0)","v":0},{"$f":"IFERROR(HLOOKUP(AF23,'План фінансування_Funding plan'!$B$50:$BH$51,2,0),0)","v":0},{"$f":"IFERROR(HLOOKUP(AG23,'План фінансування_Funding plan'!$B$50:$BH$51,2,0),0)","v":0},{"$f":"IFERROR(HLOOKUP(AH23,'План фінансування_Funding plan'!$B$50:$BH$51,2,0),0)","v":0},{"$f":"IFERROR(HLOOKUP(AI23,'План фінансування_Funding plan'!$B$50:$BH$51,2,0),0)","v":0},{"$f":"IFERROR(HLOOKUP(AJ23,'План фінансування_Funding plan'!$B$50:$BH$51,2,0),0)","v":0},{"$f":"IFERROR(HLOOKUP(AK23,'План фінансування_Funding plan'!$B$50:$BH$51,2,0),0)","v":0},{"$f":"IFERROR(HLOOKUP(AL23,'План фінансування_Funding plan'!$B$50:$BH$51,2,0),0)","v":0},{"$f":"IFERROR(HLOOKUP(AM23,'План фінансування_Funding plan'!$B$50:$BH$51,2,0),0)","v":0},{"$f":"IFERROR(HLOOKUP(AN23,'План фінансування_Funding plan'!$B$50:$BH$51,2,0),0)","v":0},{"$f":"IFERROR(HLOOKUP(AO23,'План фінансування_Funding plan'!$B$50:$BH$51,2,0),0)","v":0},{"$f":"IFERROR(HLOOKUP(AP23,'План фінансування_Funding plan'!$B$50:$BH$51,2,0),0)","v":0},{"$f":"IFERROR(HLOOKUP(AQ23,'План фінансування_Funding plan'!$B$50:$BH$51,2,0),0)","v":0},{"$f":"IFERROR(HLOOKUP(AR23,'План фінансування_Funding plan'!$B$50:$BH$51,2,0),0)","v":0},{"$f":"IFERROR(HLOOKUP(AS23,'План фінансування_Funding plan'!$B$50:$BH$51,2,0),0)","v":0},{"$f":"IFERROR(HLOOKUP(AT23,'План фінансування_Funding plan'!$B$50:$BH$51,2,0),0)","v":0},{"$f":"IFERROR(HLOOKUP(AU23,'План фінансування_Funding plan'!$B$50:$BH$51,2,0),0)","v":0},{"$f":"IFERROR(HLOOKUP(AV23,'План фінансування_Funding plan'!$B$50:$BH$51,2,0),0)","v":0},{"$f":"IFERROR(HLOOKUP(AW23,'План фінансування_Funding plan'!$B$50:$BH$51,2,0),0)","v":0},{"$f":"IFERROR(HLOOKUP(AX23,'План фінансування_Funding plan'!$B$50:$BH$51,2,0),0)","v":0},{"$f":"IFERROR(HLOOKUP(AY23,'План фінансування_Funding plan'!$B$50:$BH$51,2,0),0)","v":0},{"$f":"IFERROR(HLOOKUP(AZ23,'План фінансування_Funding plan'!$B$50:$BH$51,2,0),0)","v":0},{"$f":"IFERROR(HLOOKUP(BA23,'План фінансування_Funding plan'!$B$50:$BH$51,2,0),0)","v":0},{"$f":"IFERROR(HLOOKUP(BB23,'План фінансування_Funding plan'!$B$50:$BH$51,2,0),0)","v":0},{"$f":"IFERROR(HLOOKUP(BC23,'План фінансування_Funding plan'!$B$50:$BH$51,2,0),0)","v":0},{"$f":"IFERROR(HLOOKUP(BD23,'План фінансування_Funding plan'!$B$50:$BH$51,2,0),0)","v":0},{"$f":"IFERROR(HLOOKUP(BE23,'План фінансування_Funding plan'!$B$50:$BH$51,2,0),0)","v":0},{"$f":"IFERROR(HLOOKUP(BF23,'План фінансування_Funding plan'!$B$50:$BH$51,2,0),0)","v":0},{"$f":"IFERROR(HLOOKUP(BG23,'План фінансування_Funding plan'!$B$50:$BH$51,2,0),0)","v":0},{"$f":"IFERROR(HLOOKUP(BH23,'План фінансування_Funding plan'!$B$50:$BH$51,2,0),0)","v":0},{"$f":"IFERROR(HLOOKUP(BI23,'План фінансування_Funding plan'!$B$50:$BH$51,2,0),0)","v":0},{"$f":"IFERROR(HLOOKUP(BJ23,'План фінансування_Funding plan'!$B$50:$BH$51,2,0),0)","v":0},{"$f":"IFERROR(HLOOKUP(BK23,'План фінансування_Funding plan'!$B$50:$BH$51,2,0),0)","v":0},{"$f":"IFERROR(HLOOKUP(BL23,'План фінансування_Funding plan'!$B$50:$BH$51,2,0),0)","v":0},{"$f":"IFERROR(HLOOKUP(BM23,'План фінансування_Funding plan'!$B$50:$BH$51,2,0),0)","v":0},{"$f":"IFERROR(HLOOKUP(BN23,'План фінансування_Funding plan'!$B$50:$BH$51,2,0),0)","v":0},{"$f":"IFERROR(HLOOKUP(BO23,'План фінансування_Funding plan'!$B$50:$BH$51,2,0),0)","v":0},{"$f":"IFERROR(HLOOKUP(BP23,'План фінансування_Funding plan'!$B$50:$BH$51,2,0),0)","v":0},{"$f":"IFERROR(HLOOKUP(BQ23,'План фінансування_Funding plan'!$B$50:$BH$51,2,0),0)","v":0},{"$f":"IFERROR(HLOOKUP(BR23,'План фінансування_Funding plan'!$B$50:$BH$51,2,0),0)","v":0},{"$f":"IFERROR(HLOOKUP(BS23,'План фінансування_Funding plan'!$B$50:$BH$51,2,0),0)","v":0},{"$f":"IFERROR(HLOOKUP(BT23,'План фінансування_Funding plan'!$B$50:$BH$51,2,0),0)","v":0},{"$f":"IFERROR(HLOOKUP(BU23,'План фінансування_Funding plan'!$B$50:$BH$51,2,0),0)","v":0},{"$f":"IFERROR(HLOOKUP(BV23,'План фінансування_Funding plan'!$B$50:$BH$51,2,0),0)","v":0},{"$f":"IFERROR(HLOOKUP(BW23,'План фінансування_Funding plan'!$B$50:$BH$51,2,0),0)","v":0},{"$f":"IFERROR(HLOOKUP(BX23,'План фінансування_Funding plan'!$B$50:$BH$51,2,0),0)","v":0},{"$f":"IFERROR(HLOOKUP(BY23,'План фінансування_Funding plan'!$B$50:$BH$51,2,0),0)","v":0},{"$f":"IFERROR(HLOOKUP(BZ23,'План фінансування_Funding plan'!$B$50:$BH$51,2,0),0)","v":0},{"$f":"IFERROR(HLOOKUP(CA23,'План фінансування_Funding plan'!$B$50:$BH$51,2,0),0)","v":0},{"$f":"IFERROR(HLOOKUP(CB23,'План фінансування_Funding plan'!$B$50:$BH$51,2,0),0)","v":0},{"$f":"IFERROR(HLOOKUP(CC23,'План фінансування_Funding plan'!$B$50:$BH$51,2,0),0)","v":0},{"$f":"IFERROR(HLOOKUP(CD23,'План фінансування_Funding plan'!$B$50:$BH$51,2,0),0)","v":0},{"$f":"IFERROR(HLOOKUP(CE23,'План фінансування_Funding plan'!$B$50:$BH$51,2,0),0)","v":0},{"$f":"IFERROR(HLOOKUP(CF23,'План фінансування_Funding plan'!$B$50:$BH$51,2,0),0)","v":0},{"$f":"IFERROR(HLOOKUP(CG23,'План фінансування_Funding plan'!$B$50:$BH$51,2,0),0)","v":0},{"$f":"IFERROR(HLOOKUP(CH23,'План фінансування_Funding plan'!$B$50:$BH$51,2,0),0)","v":0}]
[null,"Відсотки банку / Bank interest",null,null,{"$f":"(E30)*C16/2","v":0},{"$f":"IF(COUNTA($E$24:E24)<=($C$12*2),(SUM($E$30:F30)-SUM($E$27:E27))*($C$16/2),0)","v":213.94074967507152},{"$f":"IF(COUNTA($E$24:F24)<=($C$12*2),(SUM($E$30:G30)-SUM($E$27:F27))*($C$16/2),0)","v":213.94074967507152},{"$f":"IF(COUNTA($E$24:G24)<=($C$12*2),(SUM($E$30:H30)-SUM($E$27:G27))*($C$16/2),0)","v":190.16955526673021},{"$f":"IF(COUNTA($E$24:H24)<=($C$12*2),(SUM($E$30:I30)-SUM($E$27:H27))*($C$16/2),0)","v":166.39836085838897},{"$f":"IF(COUNTA($E$24:I24)<=($C$12*2),(SUM($E$30:J30)-SUM($E$27:I27))*($C$16/2),0)","v":142.62716645004767},{"$f":"IF(COUNTA($E$24:J24)<=($C$12*2),(SUM($E$30:K30)-SUM($E$27:J27))*($C$16/2),0)","v":118.85597204170641},{"$f":"IF(COUNTA($E$24:K24)<=($C$12*2),(SUM($E$30:L30)-SUM($E$27:K27))*($C$16/2),0)","v":95.084777633365121},{"$f":"IF(COUNTA($E$24:L24)<=($C$12*2),(SUM($E$30:M30)-SUM($E$27:L27))*($C$16/2),0)","v":71.313583225023834},{"$f":"IF(COUNTA($E$24:M24)<=($C$12*2),(SUM($E$30:N30)-SUM($E$27:M27))*($C$16/2),0)","v":47.542388816682546},{"$f":"IF(COUNTA($E$24:N24)<=($C$12*2),(SUM($E$30:O30)-SUM($E$27:N27))*($C$16/2),0)","v":23.771194408341263},{"$f":"IF(COUNTA($E$24:O24)<=($C$12*2),(SUM($E$30:P30)-SUM($E$27:O27))*($C$16/2),0)","v":0},{"$f":"IF(COUNTA($E$24:P24)<=($C$12*2),(SUM($E$30:Q30)-SUM($E$27:P27))*($C$16/2),0)","v":0},{"$f":"IF(COUNTA($E$24:Q24)<=($C$12*2),(SUM($E$30:R30)-SUM($E$27:Q27))*($C$16/2),0)","v":0},{"$f":"IF(COUNTA($E$24:R24)<=($C$12*2),(SUM($E$30:S30)-SUM($E$27:R27))*($C$16/2),0)","v":0},{"$f":"IF(COUNTA($E$24:S24)<=($C$12*2),(SUM($E$30:T30)-SUM($E$27:S27))*($C$16/2),0)","v":0},{"$f":"IF(COUNTA($E$24:T24)<=($C$12*2),(SUM($E$30:U30)-SUM($E$27:T27))*($C$16/2),0)","v":0},{"$f":"IF(COUNTA($E$24:U24)<=($C$12*2),(SUM($E$30:V30)-SUM($E$27:U27))*($C$16/2),0)","v":0},{"$f":"IF(COUNTA($E$24:V24)<=($C$12*2),(SUM($E$30:W30)-SUM($E$27:V27))*($C$16/2),0)","v":0},{"$f":"IF(COUNTA($E$24:W24)<=($C$12*2),(SUM($E$30:X30)-SUM($E$27:W27))*($C$16/2),0)","v":0},{"$f":"IF(COUNTA($E$24:X24)<=($C$12*2),(SUM($E$30:Y30)-SUM($E$27:X27))*($C$16/2),0)","v":0},{"$f":"IF(COUNTA($E$24:Y24)<=($C$12*2),(SUM($E$30:Z30)-SUM($E$27:Y27))*($C$16/2),0)","v":0},{"$f":"IF(COUNTA($E$24:Z24)<=($C$12*2),(SUM($E$30:AA30)-SUM($E$27:Z27))*($C$16/2),0)","v":0},{"$f":"IF(COUNTA($E$24:AA24)<=($C$12*2),(SUM($E$30:AB30)-SUM($E$27:AA27))*($C$16/2),0)","v":0},{"$f":"IF(COUNTA($E$24:AB24)<=($C$12*2),(SUM($E$30:AC30)-SUM($E$27:AB27))*($C$16/2),0)","v":0},{"$f":"IF(COUNTA($E$24:AC24)<=($C$12*2),(SUM($E$30:AD30)-SUM($E$27:AC27))*($C$16/2),0)","v":0},{"$f":"IF(COUNTA($E$24:AD24)<=($C$12*2),(SUM($E$30:AE30)-SUM($E$27:AD27))*($C$16/2),0)","v":0},{"$f":"IF(COUNTA($E$24:AE24)<=($C$12*2),(SUM($E$30:AF30)-SUM($E$27:AE27))*($C$16/2),0)","v":0},{"$f":"IF(COUNTA($E$24:AF24)<=($C$12*2),(SUM($E$30:AG30)-SUM($E$27:AF27))*($C$16/2),0)","v":0},{"$f":"IF(COUNTA($E$24:AG24)<=($C$12*2),(SUM($E$30:AH30)-SUM($E$27:AG27))*($C$16/2),0)","v":0},{"$f":"IF(COUNTA($E$24:AH24)<=($C$12*2),(SUM($E$30:AI30)-SUM($E$27:AH27))*($C$16/2),0)","v":0},{"$f":"IF(COUNTA($E$24:AI24)<=($C$12*2),(SUM($E$30:AJ30)-SUM($E$27:AI27))*($C$16/2),0)","v":0},{"$f":"IF(COUNTA($E$24:AJ24)<=($C$12*2),(SUM($E$30:AK30)-SUM($E$27:AJ27))*($C$16/2),0)","v":0},{"$f":"IF(COUNTA($E$24:AK24)<=($C$12*2),(SUM($E$30:AL30)-SUM($E$27:AK27))*($C$16/2),0)","v":0},{"$f":"IF(COUNTA($E$24:AL24)<=($C$12*2),(SUM($E$30:AM30)-SUM($E$27:AL27))*($C$16/2),0)","v":0},{"$f":"IF(COUNTA($E$24:AM24)<=($C$12*2),(SUM($E$30:AN30)-SUM($E$27:AM27))*($C$16/2),0)","v":0},{"$f":"IF(COUNTA($E$24:AN24)<=($C$12*2),(SUM($E$30:AO30)-SUM($E$27:AN27))*($C$16/2),0)","v":0},{"$f":"IF(COUNTA($E$24:AO24)<=($C$12*2),(SUM($E$30:AP30)-SUM($E$27:AO27))*($C$16/2),0)","v":0},{"$f":"IF(COUNTA($E$24:AP24)<=($C$12*2),(SUM($E$30:AQ30)-SUM($E$27:AP27))*($C$16/2),0)","v":0},{"$f":"IF(COUNTA($E$24:AQ24)<=($C$12*2),(SUM($E$30:AR30)-SUM($E$27:AQ27))*($C$16/2),0)","v":0},{"$f":"IF(COUNTA($E$24:AR24)<=($C$12*2),(SUM($E$30:AS30)-SUM($E$27:AR27))*($C$16/2),0)","v":0},{"$f":"IF(COUNTA($E$24:AS24)<=($C$12*2),(SUM($E$30:AT30)-SUM($E$27:AS27))*($C$16/2),0)","v":0},{"$f":"IF(COUNTA($E$24:AT24)<=($C$12*2),(SUM($E$30:AU30)-SUM($E$27:AT27))*($C$16/2),0)","v":0},{"$f":"IF(COUNTA($E$24:AU24)<=($C$12*2),(SUM($E$30:AV30)-SUM($E$27:AU27))*($C$16/2),0)","v":0},{"$f":"IF(COUNTA($E$24:AV24)<=($C$12*2),(SUM($E$30:AW30)-SUM($E$27:AV27))*($C$16/2),0)","v":0},{"$f":"IF(COUNTA($E$24:AW24)<=($C$12*2),(SUM($E$30:AX30)-SUM($E$27:AW27))*($C$16/2),0)","v":0},{"$f":"IF(COUNTA($E$24:AX24)<=($C$12*2),(SUM($E$30:AY30)-SUM($E$27:AX27))*($C$16/2),0)","v":0},{"$f":"IF(COUNTA($E$24:AY24)<=($C$12*2),(SUM($E$30:AZ30)-SUM($E$27:AY27))*($C$16/2),0)","v":0},{"$f":"IF(COUNTA($E$24:AZ24)<=($C$12*2),(SUM($E$30:BA30)-SUM($E$27:AZ27))*($C$16/2),0)","v":0},{"$f":"IF(COUNTA($E$24:BA24)<=($C$12*2),(SUM($E$30:BB30)-SUM($E$27:BA27))*($C$16/2),0)","v":0},{"$f":"IF(COUNTA($E$24:BB24)<=($C$12*2),(SUM($E$30:BC30)-SUM($E$27:BB27))*($C$16/2),0)","v":0},{"$f":"IF(COUNTA($E$24:BC24)<=($C$12*2),(SUM($E$30:BD30)-SUM($E$27:BC27))*($C$16/2),0)","v":0},{"$f":"IF(COUNTA($E$24:BD24)<=($C$12*2),(SUM($E$30:BE30)-SUM($E$27:BD27))*($C$16/2),0)","v":0},{"$f":"IF(COUNTA($E$24:BE24)<=($C$12*2),(SUM($E$30:BF30)-SUM($E$27:BE27))*($C$16/2),0)","v":0},{"$f":"IF(COUNTA($E$24:BF24)<=($C$12*2),(SUM($E$30:BG30)-SUM($E$27:BF27))*($C$16/2),0)","v":0},{"$f":"IF(COUNTA($E$24:BG24)<=($C$12*2),(SUM($E$30:BH30)-SUM($E$27:BG27))*($C$16/2),0)","v":0},{"$f":"IF(COUNTA($E$24:BH24)<=($C$12*2),(SUM($E$30:BI30)-SUM($E$27:BH27))*($C$16/2),0)","v":0},{"$f":"IF(COUNTA($E$24:BI24)<=($C$12*2),(SUM($E$30:BJ30)-SUM($E$27:BI27))*($C$16/2),0)","v":0},{"$f":"IF(COUNTA($E$24:BJ24)<=($C$12*2),(SUM($E$30:BK30)-SUM($E$27:BJ27))*($C$16/2),0)","v":0},{"$f":"IF(COUNTA($E$24:BK24)<=($C$12*2),(SUM($E$30:BL30)-SUM($E$27:BK27))*($C$16/2),0)","v":0},{"$f":"IF(COUNTA($E$24:BL24)<=($C$12*2),(SUM($E$30:BM30)-SUM($E$27:BL27))*($C$16/2),0)","v":0},{"$f":"IF(COUNTA($E$24:BM24)<=($C$12*2),(SUM($E$30:BN30)-SUM($E$27:BM27))*($C$16/2),0)","v":0},{"$f":"IF(COUNTA($E$24:BN24)<=($C$12*2),(SUM($E$30:BO30)-SUM($E$27:BN27))*($C$16/2),0)","v":0},{"$f":"IF(COUNTA($E$24:BO24)<=($C$12*2),(SUM($E$30:BP30)-SUM($E$27:BO27))*($C$16/2),0)","v":0},{"$f":"IF(COUNTA($E$24:BP24)<=($C$12*2),(SUM($E$30:BQ30)-SUM($E$27:BP27))*($C$16/2),0)","v":0},{"$f":"IF(COUNTA($E$24:BQ24)<=($C$12*2),(SUM($E$30:BR30)-SUM($E$27:BQ27))*($C$16/2),0)","v":0},{"$f":"IF(COUNTA($E$24:BR24)<=($C$12*2),(SUM($E$30:BS30)-SUM($E$27:BR27))*($C$16/2),0)","v":0},{"$f":"IF(COUNTA($E$24:BS24)<=($C$12*2),(SUM($E$30:BT30)-SUM($E$27:BS27))*($C$16/2),0)","v":0},{"$f":"IF(COUNTA($E$24:BT24)<=($C$12*2),(SUM($E$30:BU30)-SUM($E$27:BT27))*($C$16/2),0)","v":0},{"$f":"IF(COUNTA($E$24:BU24)<=($C$12*2),(SUM($E$30:BV30)-SUM($E$27:BU27))*($C$16/2),0)","v":0},{"$f":"IF(COUNTA($E$24:BV24)<=($C$12*2),(SUM($E$30:BW30)-SUM($E$27:BV27))*($C$16/2),0)","v":0},{"$f":"IF(COUNTA($E$24:BW24)<=($C$12*2),(SUM($E$30:BX30)-SUM($E$27:BW27))*($C$16/2),0)","v":0},{"$f":"IF(COUNTA($E$24:BX24)<=($C$12*2),(SUM($E$30:BY30)-SUM($E$27:BX27))*($C$16/2),0)","v":0},{"$f":"IF(COUNTA($E$24:BY24)<=($C$12*2),(SUM($E$30:BZ30)-SUM($E$27:BY27))*($C$16/2),0)","v":0},{"$f":"IF(COUNTA($E$24:BZ24)<=($C$12*2),(SUM($E$30:CA30)-SUM($E$27:BZ27))*($C$16/2),0)","v":0},{"$f":"IF(COUNTA($E$24:CA24)<=($C$12*2),(SUM($E$30:CB30)-SUM($E$27:CA27))*($C$16/2),0)","v":0},{"$f":"IF(COUNTA($E$24:CB24)<=($C$12*2),(SUM($E$30:CC30)-SUM($E$27:CB27))*($C$16/2),0)","v":0},{"$f":"IF(COUNTA($E$24:CC24)<=($C$12*2),(SUM($E$30:CD30)-SUM($E$27:CC27))*($C$16/2),0)","v":0},{"$f":"IF(COUNTA($E$24:CD24)<=($C$12*2),(SUM($E$30:CE30)-SUM($E$27:CD27))*($C$16/2),0)","v":0},{"$f":"IF(COUNTA($E$24:CE24)<=($C$12*2),(SUM($E$30:CF30)-SUM($E$27:CE27))*($C$16/2),0)","v":0},{"$f":"IF(COUNTA($E$24:CF24)<=($C$12*2),(SUM($E$30:CG30)-SUM($E$27:CF27))*($C$16/2),0)","v":0},{"$f":"IF(COUNTA($E$24:CG24)<=($C$12*2),(SUM($E$30:CH30)-SUM($E$27:CG27))*($C$16/2),0)","v":0}]
[null,"Комісія за зобов'язання / Commitment fee",null,null,{"$f":"IF(COUNTA(D$24:$E24)<=($C$12*2),($C$8-SUM($E$30:E30))*$C$20/2,0)","v":0},{"$f":"IF(COUNTA($E$24:E24)<=($C$12*2),($C$8-SUM($E$30:F30))*$C$20/2,0)","v":0},{"$f":"IF(COUNTA($E$24:F24)<=($C$12*2),($C$8-SUM($E$30:G30))*$C$20/2,0)","v":0},{"$f":"IF(COUNTA($E$24:G24)<=($C$12*2),($C$8-SUM($E$30:H30))*$C$20/2,0)","v":0},{"$f":"IF(COUNTA($E$24:H24)<=($C$12*2),($C$8-SUM($E$30:I30))*$C$20/2,0)","v":0},{"$f":"IF(COUNTA($E$24:I24)<=($C$12*2),($C$8-SUM($E$30:J30))*$C$20/2,0)","v":0},{"$f":"IF(COUNTA($E$24:J24)<=($C$12*2),($C$8-SUM($E$30:K30))*$C$20/2,0)","v":0},{"$f":"IF(COUNTA($E$24:K24)<=($C$12*2),($C$8-SUM($E$30:L30))*$C$20/2,0)","v":0},{"$f":"IF(COUNTA($E$24:L24)<=($C$12*2),($C$8-SUM($E$30:M30))*$C$20/2,0)","v":0},{"$f":"IF(COUNTA($E$24:M24)<=($C$12*2),($C$8-SUM($E$30:N30))*$C$20/2,0)","v":0},{"$f":"IF(COUNTA($E$24:N24)<=($C$12*2),($C$8-SUM($E$30:O30))*$C$20/2,0)","v":0},{"$f":"IF(COUNTA($E$24:O24)<=($C$12*2),($C$8-SUM($E$30:P30))*$C$20/2,0)","v":0},{"$f":"IF(COUNTA($E$24:P24)<=($C$12*2),($C$8-SUM($E$30:Q30))*$C$20/2,0)","v":0},{"$f":"IF(COUNTA($E$24:Q24)<=($C$12*2),($C$8-SUM($E$30:R30))*$C$20/2,0)","v":0},{"$f":"IF(COUNTA($E$24:R24)<=($C$12*2),($C$8-SUM($E$30:S30))*$C$20/2,0)","v":0},{"$f":"IF(COUNTA($E$24:S24)<=($C$12*2),($C$8-SUM($E$30:T30))*$C$20/2,0)","v":0},{"$f":"IF(COUNTA($E$24:T24)<=($C$12*2),($C$8-SUM($E$30:U30))*$C$20/2,0)","v":0},{"$f":"IF(COUNTA($E$24:U24)<=($C$12*2),($C$8-SUM($E$30:V30))*$C$20/2,0)","v":0},{"$f":"IF(COUNTA($E$24:V24)<=($C$12*2),($C$8-SUM($E$30:W30))*$C$20/2,0)","v":0},{"$f":"IF(COUNTA($E$24:W24)<=($C$12*2),($C$8-SUM($E$30:X30))*$C$20/2,0)","v":0},{"$f":"IF(COUNTA($E$24:X24)<=($C$12*2),($C$8-SUM($E$30:Y30))*$C$20/2,0)","v":0},{"$f":"IF(COUNTA($E$24:Y24)<=($C$12*2),($C$8-SUM($E$30:Z30))*$C$20/2,0)","v":0},{"$f":"IF(COUNTA($E$24:Z24)<=($C$12*2),($C$8-SUM($E$30:AA30))*$C$20/2,0)","v":0},{"$f":"IF(COUNTA($E$24:AA24)<=($C$12*2),($C$8-SUM($E$30:AB30))*$C$20/2,0)","v":0},{"$f":"IF(COUNTA($E$24:AB24)<=($C$12*2),($C$8-SUM($E$30:AC30))*$C$20/2,0)","v":0},{"$f":"IF(COUNTA($E$24:AC24)<=($C$12*2),($C$8-SUM($E$30:AD30))*$C$20/2,0)","v":0},{"$f":"IF(COUNTA($E$24:AD24)<=($C$12*2),($C$8-SUM($E$30:AE30))*$C$20/2,0)","v":0},{"$f":"IF(COUNTA($E$24:AE24)<=($C$12*2),($C$8-SUM($E$30:AF30))*$C$20/2,0)","v":0},{"$f":"IF(COUNTA($E$24:AF24)<=($C$12*2),($C$8-SUM($E$30:AG30))*$C$20/2,0)","v":0},{"$f":"IF(COUNTA($E$24:AG24)<=($C$12*2),($C$8-SUM($E$30:AH30))*$C$20/2,0)","v":0},{"$f":"IF(COUNTA($E$24:AH24)<=($C$12*2),($C$8-SUM($E$30:AI30))*$C$20/2,0)","v":0},{"$f":"IF(COUNTA($E$24:AI24)<=($C$12*2),($C$8-SUM($E$30:AJ30))*$C$20/2,0)","v":0},{"$f":"IF(COUNTA($E$24:AJ24)<=($C$12*2),($C$8-SUM($E$30:AK30))*$C$20/2,0)","v":0},{"$f":"IF(COUNTA($E$24:AK24)<=($C$12*2),($C$8-SUM($E$30:AL30))*$C$20/2,0)","v":0},{"$f":"IF(COUNTA($E$24:AL24)<=($C$12*2),($C$8-SUM($E$30:AM30))*$C$20/2,0)","v":0},{"$f":"IF(COUNTA($E$24:AM24)<=($C$12*2),($C$8-SUM($E$30:AN30))*$C$20/2,0)","v":0},{"$f":"IF(COUNTA($E$24:AN24)<=($C$12*2),($C$8-SUM($E$30:AO30))*$C$20/2,0)","v":0},{"$f":"IF(COUNTA($E$24:AO24)<=($C$12*2),($C$8-SUM($E$30:AP30))*$C$20/2,0)","v":0},{"$f":"IF(COUNTA($E$24:AP24)<=($C$12*2),($C$8-SUM($E$30:AQ30))*$C$20/2,0)","v":0},{"$f":"IF(COUNTA($E$24:AQ24)<=($C$12*2),($C$8-SUM($E$30:AR30))*$C$20/2,0)","v":0},{"$f":"IF(COUNTA($E$24:AR24)<=($C$12*2),($C$8-SUM($E$30:AS30))*$C$20/2,0)","v":0},{"$f":"IF(COUNTA($E$24:AS24)<=($C$12*2),($C$8-SUM($E$30:AT30))*$C$20/2,0)","v":0},{"$f":"IF(COUNTA($E$24:AT24)<=($C$12*2),($C$8-SUM($E$30:AU30))*$C$20/2,0)","v":0},{"$f":"IF(COUNTA($E$24:AU24)<=($C$12*2),($C$8-SUM($E$30:AV30))*$C$20/2,0)","v":0},{"$f":"IF(COUNTA($E$24:AV24)<=($C$12*2),($C$8-SUM($E$30:AW30))*$C$20/2,0)","v":0},{"$f":"IF(COUNTA($E$24:AW24)<=($C$12*2),($C$8-SUM($E$30:AX30))*$C$20/2,0)","v":0},{"$f":"IF(COUNTA($E$24:AX24)<=($C$12*2),($C$8-SUM($E$30:AY30))*$C$20/2,0)","v":0},{"$f":"IF(COUNTA($E$24:AY24)<=($C$12*2),($C$8-SUM($E$30:AZ30))*$C$20/2,0)","v":0},{"$f":"IF(COUNTA($E$24:AZ24)<=($C$12*2),($C$8-SUM($E$30:BA30))*$C$20/2,0)","v":0},{"$f":"IF(COUNTA($E$24:BA24)<=($C$12*2),($C$8-SUM($E$30:BB30))*$C$20/2,0)","v":0},{"$f":"IF(COUNTA($E$24:BB24)<=($C$12*2),($C$8-SUM($E$30:BC30))*$C$20/2,0)","v":0},{"$f":"IF(COUNTA($E$24:BC24)<=($C$12*2),($C$8-SUM($E$30:BD30))*$C$20/2,0)","v":0},{"$f":"IF(COUNTA($E$24:BD24)<=($C$12*2),($C$8-SUM($E$30:BE30))*$C$20/2,0)","v":0},{"$f":"IF(COUNTA($E$24:BE24)<=($C$12*2),($C$8-SUM($E$30:BF30))*$C$20/2,0)","v":0},{"$f":"IF(COUNTA($E$24:BF24)<=($C$12*2),($C$8-SUM($E$30:BG30))*$C$20/2,0)","v":0},{"$f":"IF(COUNTA($E$24:BG24)<=($C$12*2),($C$8-SUM($E$30:BH30))*$C$20/2,0)","v":0},{"$f":"IF(COUNTA($E$24:BH24)<=($C$12*2),($C$8-SUM($E$30:BI30))*$C$20/2,0)","v":0},{"$f":"IF(COUNTA($E$24:BI24)<=($C$12*2),($C$8-SUM($E$30:BJ30))*$C$20/2,0)","v":0},{"$f":"IF(COUNTA($E$24:BJ24)<=($C$12*2),($C$8-SUM($E$30:BK30))*$C$20/2,0)","v":0},{"$f":"IF(COUNTA($E$24:BK24)<=($C$12*2),($C$8-SUM($E$30:BL30))*$C$20/2,0)","v":0},{"$f":"IF(COUNTA($E$24:BL24)<=($C$12*2),($C$8-SUM($E$30:BM30))*$C$20/2,0)","v":0},{"$f":"IF(COUNTA($E$24:BM24)<=($C$12*2),($C$8-SUM($E$30:BN30))*$C$20/2,0)","v":0},{"$f":"IF(COUNTA($E$24:BN24)<=($C$12*2),($C$8-SUM($E$30:BO30))*$C$20/2,0)","v":0},{"$f":"IF(COUNTA($E$24:BO24)<=($C$12*2),($C$8-SUM($E$30:BP30))*$C$20/2,0)","v":0},{"$f":"IF(COUNTA($E$24:BP24)<=($C$12*2),($C$8-SUM($E$30:BQ30))*$C$20/2,0)","v":0},{"$f":"IF(COUNTA($E$24:BQ24)<=($C$12*2),($C$8-SUM($E$30:BR30))*$C$20/2,0)","v":0},{"$f":"IF(COUNTA($E$24:BR24)<=($C$12*2),($C$8-SUM($E$30:BS30))*$C$20/2,0)","v":0},{"$f":"IF(COUNTA($E$24:BS24)<=($C$12*2),($C$8-SUM($E$30:BT30))*$C$20/2,0)","v":0},{"$f":"IF(COUNTA($E$24:BT24)<=($C$12*2),($C$8-SUM($E$30:BU30))*$C$20/2,0)","v":0},{"$f":"IF(COUNTA($E$24:BU24)<=($C$12*2),($C$8-SUM($E$30:BV30))*$C$20/2,0)","v":0},{"$f":"IF(COUNTA($E$24:BV24)<=($C$12*2),($C$8-SUM($E$30:BW30))*$C$20/2,0)","v":0},{"$f":"IF(COUNTA($E$24:BW24)<=($C$12*2),($C$8-SUM($E$30:BX30))*$C$20/2,0)","v":0},{"$f":"IF(COUNTA($E$24:BX24)<=($C$12*2),($C$8-SUM($E$30:BY30))*$C$20/2,0)","v":0},{"$f":"IF(COUNTA($E$24:BY24)<=($C$12*2),($C$8-SUM($E$30:BZ30))*$C$20/2,0)","v":0},{"$f":"IF(COUNTA($E$24:BZ24)<=($C$12*2),($C$8-SUM($E$30:CA30))*$C$20/2,0)","v":0},{"$f":"IF(COUNTA($E$24:CA24)<=($C$12*2),($C$8-SUM($E$30:CB30))*$C$20/2,0)","v":0},{"$f":"IF(COUNTA($E$24:CB24)<=($C$12*2),($C$8-SUM($E$30:CC30))*$C$20/2,0)","v":0},{"$f":"IF(COUNTA($E$24:CC24)<=($C$12*2),($C$8-SUM($E$30:CD30))*$C$20/2,0)","v":0},{"$f":"IF(COUNTA($E$24:CD24)<=($C$12*2),($C$8-SUM($E$30:CE30))*$C$20/2,0)","v":0},{"$f":"IF(COUNTA($E$24:CE24)<=($C$12*2),($C$8-SUM($E$30:CF30))*$C$20/2,0)","v":0},{"$f":"IF(COUNTA($E$24:CF24)<=($C$12*2),($C$8-SUM($E$30:CG30))*$C$20/2,0)","v":0},{"$f":"IF(COUNTA($E$24:CG24)<=($C$12*2),($C$8-SUM($E$30:CH30))*$C$20/2,0)","v":0},{"$f":"IF(COUNTA($E$24:CH24)<=($C$12*2),($C$8-SUM($E$30:CI30))*$C$20/2,0)","v":0}]
[null,"Плата МФУ за надання державної гарантії / State guarantee fee ",null,null,{"$f":"(E30)*C22/2","v":0},{"$f":"IF(COUNTA($E$24:E24)<=($C$12*2),((SUM($E$30:F30)-E27))*$C$22/2,0)","v":0},{"$f":"IF(COUNTA($E$24:F24)<=($C$12*2),(SUM($E$30:G30)-SUM($E$27:F27))*$C$22/2,0)","v":0},{"$f":"IF(COUNTA($E$24:G24)<=($C$12*2),(SUM($E$30:H30)-SUM($E$27:G27))*$C$22/2,0)","v":0},{"$f":"IF(COUNTA($E$24:H24)<=($C$12*2),(SUM($E$30:I30)-SUM($E$27:H27))*$C$22/2,0)","v":0},{"$f":"IF(COUNTA($E$24:I24)<=($C$12*2),(SUM($E$30:J30)-SUM($E$27:I27))*$C$22/2,0)","v":0},{"$f":"IF(COUNTA($E$24:J24)<=($C$12*2),(SUM($E$30:K30)-SUM($E$27:J27))*$C$22/2,0)","v":0},{"$f":"IF(COUNTA($E$24:K24)<=($C$12*2),(SUM($E$30:L30)-SUM($E$27:K27))*$C$22/2,0)","v":0},{"$f":"IF(COUNTA($E$24:L24)<=($C$12*2),(SUM($E$30:M30)-SUM($E$27:L27))*$C$22/2,0)","v":0},{"$f":"IF(COUNTA($E$24:M24)<=($C$12*2),(SUM($E$30:N30)-SUM($E$27:M27))*$C$22/2,0)","v":0},{"$f":"IF(COUNTA($E$24:N24)<=($C$12*2),(SUM($E$30:O30)-SUM($E$27:N27))*$C$22/2,0)","v":0},{"$f":"IF(COUNTA($E$24:O24)<=($C$12*2),(SUM($E$30:P30)-SUM($E$27:O27))*$C$22/2,0)","v":0},{"$f":"IF(COUNTA($E$24:P24)<=($C$12*2),(SUM($E$30:Q30)-SUM($E$27:P27))*$C$22/2,0)","v":0},{"$f":"IF(COUNTA($E$24:Q24)<=($C$12*2),(SUM($E$30:R30)-SUM($E$27:Q27))*$C$22/2,0)","v":0},{"$f":"IF(COUNTA($E$24:R24)<=($C$12*2),(SUM($E$30:S30)-SUM($E$27:R27))*$C$22/2,0)","v":0},{"$f":"IF(COUNTA($E$24:S24)<=($C$12*2),(SUM($E$30:T30)-SUM($E$27:S27))*$C$22/2,0)","v":0},{"$f":"IF(COUNTA($E$24:T24)<=($C$12*2),(SUM($E$30:U30)-SUM($E$27:T27))*$C$22/2,0)","v":0},{"$f":"IF(COUNTA($E$24:U24)<=($C$12*2),(SUM($E$30:V30)-SUM($E$27:U27))*$C$22/2,0)","v":0},{"$f":"IF(COUNTA($E$24:V24)<=($C$12*2),(SUM($E$30:W30)-SUM($E$27:V27))*$C$22/2,0)","v":0},{"$f":"IF(COUNTA($E$24:W24)<=($C$12*2),(SUM($E$30:X30)-SUM($E$27:W27))*$C$22/2,0)","v":0},{"$f":"IF(COUNTA($E$24:X24)<=($C$12*2),(SUM($E$30:Y30)-SUM($E$27:X27))*$C$22/2,0)","v":0},{"$f":"IF(COUNTA($E$24:Y24)<=($C$12*2),(SUM($E$30:Z30)-SUM($E$27:Y27))*$C$22/2,0)","v":0},{"$f":"IF(COUNTA($E$24:Z24)<=($C$12*2),(SUM($E$30:AA30)-SUM($E$27:Z27))*$C$22/2,0)","v":0},{"$f":"IF(COUNTA($E$24:AA24)<=($C$12*2),(SUM($E$30:AB30)-SUM($E$27:AA27))*$C$22/2,0)","v":0},{"$f":"IF(COUNTA($E$24:AB24)<=($C$12*2),(SUM($E$30:AC30)-SUM($E$27:AB27))*$C$22/2,0)","v":0},{"$f":"IF(COUNTA($E$24:AC24)<=($C$12*2),(SUM($E$30:AD30)-SUM($E$27:AC27))*$C$22/2,0)","v":0},{"$f":"IF(COUNTA($E$24:AD24)<=($C$12*2),(SUM($E$30:AE30)-SUM($E$27:AD27))*$C$22/2,0)","v":0},{"$f":"IF(COUNTA($E$24:AE24)<=($C$12*2),(SUM($E$30:AF30)-SUM($E$27:AE27))*$C$22/2,0)","v":0},{"$f":"IF(COUNTA($E$24:AF24)<=($C$12*2),(SUM($E$30:AG30)-SUM($E$27:AF27))*$C$22/2,0)","v":0},{"$f":"IF(COUNTA($E$24:AG24)<=($C$12*2),(SUM($E$30:AH30)-SUM($E$27:AG27))*$C$22/2,0)","v":0},{"$f":"IF(COUNTA($E$24:AH24)<=($C$12*2),(SUM($E$30:AI30)-SUM($E$27:AH27))*$C$22/2,0)","v":0},{"$f":"IF(COUNTA($E$24:AI24)<=($C$12*2),(SUM($E$30:AJ30)-SUM($E$27:AI27))*$C$22/2,0)","v":0},{"$f":"IF(COUNTA($E$24:AJ24)<=($C$12*2),(SUM($E$30:AK30)-SUM($E$27:AJ27))*$C$22/2,0)","v":0},{"$f":"IF(COUNTA($E$24:AK24)<=($C$12*2),(SUM($E$30:AL30)-SUM($E$27:AK27))*$C$22/2,0)","v":0},{"$f":"IF(COUNTA($E$24:AL24)<=($C$12*2),(SUM($E$30:AM30)-SUM($E$27:AL27))*$C$22/2,0)","v":0},{"$f":"IF(COUNTA($E$24:AM24)<=($C$12*2),(SUM($E$30:AN30)-SUM($E$27:AM27))*$C$22/2,0)","v":0},{"$f":"IF(COUNTA($E$24:AN24)<=($C$12*2),(SUM($E$30:AO30)-SUM($E$27:AN27))*$C$22/2,0)","v":0},{"$f":"IF(COUNTA($E$24:AO24)<=($C$12*2),(SUM($E$30:AP30)-SUM($E$27:AO27))*$C$22/2,0)","v":0},{"$f":"IF(COUNTA($E$24:AP24)<=($C$12*2),(SUM($E$30:AQ30)-SUM($E$27:AP27))*$C$22/2,0)","v":0},{"$f":"IF(COUNTA($E$24:AQ24)<=($C$12*2),(SUM($E$30:AR30)-SUM($E$27:AQ27))*$C$22/2,0)","v":0},{"$f":"IF(COUNTA($E$24:AR24)<=($C$12*2),(SUM($E$30:AS30)-SUM($E$27:AR27))*$C$22/2,0)","v":0},{"$f":"IF(COUNTA($E$24:AS24)<=($C$12*2),(SUM($E$30:AT30)-SUM($E$27:AS27))*$C$22/2,0)","v":0},{"$f":"IF(COUNTA($E$24:AT24)<=($C$12*2),(SUM($E$30:AU30)-SUM($E$27:AT27))*$C$22/2,0)","v":0},{"$f":"IF(COUNTA($E$24:AU24)<=($C$12*2),(SUM($E$30:AV30)-SUM($E$27:AU27))*$C$22/2,0)","v":0},{"$f":"IF(COUNTA($E$24:AV24)<=($C$12*2),(SUM($E$30:AW30)-SUM($E$27:AV27))*$C$22/2,0)","v":0},{"$f":"IF(COUNTA($E$24:AW24)<=($C$12*2),(SUM($E$30:AX30)-SUM($E$27:AW27))*$C$22/2,0)","v":0},{"$f":"IF(COUNTA($E$24:AX24)<=($C$12*2),(SUM($E$30:AY30)-SUM($E$27:AX27))*$C$22/2,0)","v":0},{"$f":"IF(COUNTA($E$24:AY24)<=($C$12*2),(SUM($E$30:AZ30)-SUM($E$27:AY27))*$C$22/2,0)","v":0},{"$f":"IF(COUNTA($E$24:AZ24)<=($C$12*2),(SUM($E$30:BA30)-SUM($E$27:AZ27))*$C$22/2,0)","v":0},{"$f":"IF(COUNTA($E$24:BA24)<=($C$12*2),(SUM($E$30:BB30)-SUM($E$27:BA27))*$C$22/2,0)","v":0},{"$f":"IF(COUNTA($E$24:BB24)<=($C$12*2),(SUM($E$30:BC30)-SUM($E$27:BB27))*$C$22/2,0)","v":0},{"$f":"IF(COUNTA($E$24:BC24)<=($C$12*2),(SUM($E$30:BD30)-SUM($E$27:BC27))*$C$22/2,0)","v":0},{"$f":"IF(COUNTA($E$24:BD24)<=($C$12*2),(SUM($E$30:BE30)-SUM($E$27:BD27))*$C$22/2,0)","v":0},{"$f":"IF(COUNTA($E$24:BE24)<=($C$12*2),(SUM($E$30:BF30)-SUM($E$27:BE27))*$C$22/2,0)","v":0},{"$f":"IF(COUNTA($E$24:BF24)<=($C$12*2),(SUM($E$30:BG30)-SUM($E$27:BF27))*$C$22/2,0)","v":0},{"$f":"IF(COUNTA($E$24:BG24)<=($C$12*2),(SUM($E$30:BH30)-SUM($E$27:BG27))*$C$22/2,0)","v":0},{"$f":"IF(COUNTA($E$24:BH24)<=($C$12*2),(SUM($E$30:BI30)-SUM($E$27:BH27))*$C$22/2,0)","v":0},{"$f":"IF(COUNTA($E$24:BI24)<=($C$12*2),(SUM($E$30:BJ30)-SUM($E$27:BI27))*$C$22/2,0)","v":0},{"$f":"IF(COUNTA($E$24:BJ24)<=($C$12*2),(SUM($E$30:BK30)-SUM($E$27:BJ27))*$C$22/2,0)","v":0},{"$f":"IF(COUNTA($E$24:BK24)<=($C$12*2),(SUM($E$30:BL30)-SUM($E$27:BK27))*$C$22/2,0)","v":0},{"$f":"IF(COUNTA($E$24:BL24)<=($C$12*2),(SUM($E$30:BM30)-SUM($E$27:BL27))*$C$22/2,0)","v":0},{"$f":"IF(COUNTA($E$24:BM24)<=($C$12*2),(SUM($E$30:BN30)-SUM($E$27:BM27))*$C$22/2,0)","v":0},{"$f":"IF(COUNTA($E$24:BN24)<=($C$12*2),(SUM($E$30:BO30)-SUM($E$27:BN27))*$C$22/2,0)","v":0},{"$f":"IF(COUNTA($E$24:BO24)<=($C$12*2),(SUM($E$30:BP30)-SUM($E$27:BO27))*$C$22/2,0)","v":0},{"$f":"IF(COUNTA($E$24:BP24)<=($C$12*2),(SUM($E$30:BQ30)-SUM($E$27:BP27))*$C$22/2,0)","v":0},{"$f":"IF(COUNTA($E$24:BQ24)<=($C$12*2),(SUM($E$30:BR30)-SUM($E$27:BQ27))*$C$22/2,0)","v":0},{"$f":"IF(COUNTA($E$24:BR24)<=($C$12*2),(SUM($E$30:BS30)-SUM($E$27:BR27))*$C$22/2,0)","v":0},{"$f":"IF(COUNTA($E$24:BS24)<=($C$12*2),(SUM($E$30:BT30)-SUM($E$27:BS27))*$C$22/2,0)","v":0},{"$f":"IF(COUNTA($E$24:BT24)<=($C$12*2),(SUM($E$30:BU30)-SUM($E$27:BT27))*$C$22/2,0)","v":0},{"$f":"IF(COUNTA($E$24:BU24)<=($C$12*2),(SUM($E$30:BV30)-SUM($E$27:BU27))*$C$22/2,0)","v":0},{"$f":"IF(COUNTA($E$24:BV24)<=($C$12*2),(SUM($E$30:BW30)-SUM($E$27:BV27))*$C$22/2,0)","v":0},{"$f":"IF(COUNTA($E$24:BW24)<=($C$12*2),(SUM($E$30:BX30)-SUM($E$27:BW27))*$C$22/2,0)","v":0},{"$f":"IF(COUNTA($E$24:BX24)<=($C$12*2),(SUM($E$30:BY30)-SUM($E$27:BX27))*$C$22/2,0)","v":0},{"$f":"IF(COUNTA($E$24:BY24)<=($C$12*2),(SUM($E$30:BZ30)-SUM($E$27:BY27))*$C$22/2,0)","v":0},{"$f":"IF(COUNTA($E$24:BZ24)<=($C$12*2),(SUM($E$30:CA30)-SUM($E$27:BZ27))*$C$22/2,0)","v":0},{"$f":"IF(COUNTA($E$24:CA24)<=($C$12*2),(SUM($E$30:CB30)-SUM($E$27:CA27))*$C$22/2,0)","v":0},{"$f":"IF(COUNTA($E$24:CB24)<=($C$12*2),(SUM($E$30:CC30)-SUM($E$27:CB27))*$C$22/2,0)","v":0},{"$f":"IF(COUNTA($E$24:CC24)<=($C$12*2),(SUM($E$30:CD30)-SUM($E$27:CC27))*$C$22/2,0)","v":0},{"$f":"IF(COUNTA($E$24:CD24)<=($C$12*2),(SUM($E$30:CE30)-SUM($E$27:CD27))*$C$22/2,0)","v":0},{"$f":"IF(COUNTA($E$24:CE24)<=($C$12*2),(SUM($E$30:CF30)-SUM($E$27:CE27))*$C$22/2,0)","v":0},{"$f":"IF(COUNTA($E$24:CF24)<=($C$12*2),(SUM($E$30:CG30)-SUM($E$27:CF27))*$C$22/2,0)","v":0},{"$f":"IF(COUNTA($E$24:CG24)<=($C$12*2),(SUM($E$30:CH30)-SUM($E$27:CG27))*$C$22/2,0)","v":0}]
[null,"Витрати за кредитом /Costs on the loan",null,null,{"$f":"E31+F31+E32+F32+E33+F33","v":213.94074967507152},null,{"$f":"G31+H31+G32+H32+G33+H33","v":404.1103049418017},null,{"$f":"I29+J29+I31+J31+I32+J32+I33+J33","v":309.02552730843661},null,{"$f":"K29+L29+K31+L31+K32+L32+K33+L33","v":213.94074967507152},null,{"$f":"M29+N29+M31+N31+M32+N32+M33+N33","v":118.85597204170638},null,{"$f":"O29+P29+O31+P31+O32+P32+O33+P33","v":23.771194408341263},null,{"$f":"Q29+R29+Q31+R31+Q32+R32+Q33+R33","v":0},null,{"$f":"S29+T29+S31+T31+S32+T32+S33+T33","v":0},null,{"$f":"U29+V29+U31+V31+U32+V32+U33+V33","v":0},null,{"$f":"W29+X29+W31+X31+W32+X32+W33+X33","v":0},null,{"$f":"Y29+Z29+Y31+Z31+Y32+Z32+Y33+Z33","v":0},null,{"$f":"AA29+AB29+AA31+AB31+AA32+AB32+AA33+AB33","v":0},null,{"$f":"AC29+AD29+AC31+AD31+AC32+AD32+AC33+AD33","v":0},null,{"$f":"AE29+AF29+AE31+AF31+AE32+AF32+AE33+AF33","v":0},null,{"$f":"AG29+AH29+AG31+AH31+AG32+AH32+AG33+AH33","v":0},null,{"$f":"AI29+AJ29+AI31+AJ31+AI32+AJ32+AI33+AJ33","v":0},null,{"$f":"AK29+AL29+AK31+AL31+AK32+AL32+AK33+AL33","v":0},null,{"$f":"AM29+AN29+AM31+AN31+AM32+AN32+AM33+AN33","v":0},null,{"$f":"AO29+AP29+AO31+AP31+AO32+AP32+AO33+AP33","v":0},null,{"$f":"AQ29+AR29+AQ31+AR31+AQ32+AR32+AQ33+AR33","v":0},null,{"$f":"AS29+AT29+AS31+AT31+AS32+AT32+AS33+AT33","v":0},null,{"$f":"AU29+AV29+AU31+AV31+AU32+AV32+AU33+AV33","v":0},null,{"$f":"AW29+AX29+AW31+AX31+AW32+AX32+AW33+AX33","v":0},null,{"$f":"AY29+AZ29+AY31+AZ31+AY32+AZ32+AY33+AZ33","v":0},null,{"$f":"BA29+BB29+BA31+BB31+BA32+BB32+BA33+BB33","v":0},null,{"$f":"BC29+BD29+BC31+BD31+BC32+BD32+BC33+BD33","v":0},null,{"$f":"BE29+BF29+BE31+BF31+BE32+BF32+BE33+BF33","v":0},null,{"$f":"BG29+BH29+BG31+BH31+BG32+BH32+BG33+BH33","v":0},null,{"$f":"BI29+BJ29+BI31+BJ31+BI32+BJ32+BI33+BJ33","v":0},null,{"$f":"BK29+BL29+BK31+BL31+BK32+BL32+BK33+BL33","v":0},null,{"$f":"BM29+BN29+BM31+BN31+BM32+BN32+BM33+BN33","v":0},null,{"$f":"BO29+BP29+BO31+BP31+BO32+BP32+BO33+BP33","v":0},null,{"$f":"BQ29+BR29+BQ31+BR31+BQ32+BR32+BQ33+BR33","v":0},null,{"$f":"BS29+BT29+BS31+BT31+BS32+BT32+BS33+BT33","v":0},null,{"$f":"BU29+BV29+BU31+BV31+BU32+BV32+BU33+BV33","v":0},null,{"$f":"BW29+BX29+BW31+BX31+BW32+BX32+BW33+BX33","v":0},null,{"$f":"BY29+BZ29+BY31+BZ31+BY32+BZ32+BY33+BZ33","v":0},null,{"$f":"CA29+CB29+CA31+CB31+CA32+CB32+CA33+CB33","v":0},null,{"$f":"CC29+CD29+CC31+CD31+CC32+CD32+CC33+CD33","v":0},null,{"$f":"CE29+CF29+CE31+CF31+CE32+CF32+CE33+CF33","v":0},null,{"$f":"CG29+CH29+CG31+CH31+CG32+CH32+CG33+CH33","v":0}]
[null,"Погашення за рік/ Repayment per year",null,null,{"$f":"E27+F27","v":0},null,{"$f":"G27+H27","v":950.84777633365104},null,{"$f":"I27+J27","v":950.84777633365115},null,{"$f":"K27+L27","v":950.84777633365115},null,{"$f":"M27+N27","v":950.84777633365093},null,{"$f":"O27+P27","v":475.42388816682524},null,{"$f":"Q27+R27","v":0},null,{"$f":"S27+T27","v":0},null,{"$f":"U27+V27","v":0},null,{"$f":"W27+X27","v":0},null,{"$f":"Y27+Z27","v":0},null,{"$f":"AA27+AB27","v":0},null,{"$f":"AC27+AD27","v":0},null,{"$f":"AE27+AF27","v":0},null,{"$f":"AG27+AH27","v":0},null,{"$f":"AI27+AJ27","v":0},null,{"$f":"AK27+AL27","v":0},null,{"$f":"AM27+AN27","v":0},null,{"$f":"AO27+AP27","v":0},null,{"$f":"AQ27+AR27","v":0},null,{"$f":"AS27+AT27","v":0},null,{"$f":"AU27+AV27","v":0},null,{"$f":"AW27+AX27","v":0},null,{"$f":"AY27+AZ27","v":0},null,{"$f":"BA27+BB27","v":0},null,{"$f":"BC27+BD27","v":0},null,{"$f":"BE27+BF27","v":0},null,{"$f":"BG27+BH27","v":0},null,{"$f":"BI27+BJ27","v":0},null,{"$f":"BK27+BL27","v":0},null,{"$f":"BM27+BN27","v":0},null,{"$f":"BO27+BP27","v":0},null,{"$f":"BQ27+BR27","v":0},null,{"$f":"BS27+BT27","v":0},null,{"$f":"BU27+BV27","v":0},null,{"$f":"BW27+BX27","v":0},null,{"$f":"BY27+BZ27","v":0},null,{"$f":"CA27+CB27","v":0},null,{"$f":"CC27+CD27","v":0},null,{"$f":"CE27+CF27","v":0},null,{"$f":"CG27+CH27","v":0}]
[null,"Використання коштів за рік/ Use of funds per year",null,null,{"$f":"E30+F30","v":4278.8149935014299},null,{"$f":"G30+H30","v":0},null,{"$f":"I30+J30","v":0},null,{"$f":"K30+L30","v":0},null,{"$f":"M30+N30","v":0},null,{"$f":"O30+P30","v":0},null,{"$f":"Q30+R30","v":0},null,{"$f":"S30+T30","v":0},null,{"$f":"U30+V30","v":0},null,{"$f":"W30+X30","v":0},null,{"$f":"Y30+Z30","v":0},null,{"$f":"AA30+AB30","v":0},null,{"$f":"AC30+AD30","v":0},null,{"$f":"AE30+AF30","v":0},null,{"$f":"AG30+AH30","v":0},null,{"$f":"AI30+AJ30","v":0},null,{"$f":"AK30+AL30","v":0},null,{"$f":"AM30+AN30","v":0},null,{"$f":"AO30+AP30","v":0},null,{"$f":"AQ30+AR30","v":0},null,{"$f":"AS30+AT30","v":0},null,{"$f":"AU30+AV30","v":0},null,{"$f":"AW30+AX30","v":0},null,{"$f":"AY30+AZ30","v":0},null,{"$f":"BA30+BB30","v":0},null,{"$f":"BC30+BD30","v":0},null,{"$f":"BE30+BF30","v":0},null,{"$f":"BG30+BH30","v":0},null,{"$f":"BI30+BJ30","v":0},null,{"$f":"BK30+BL30","v":0},null,{"$f":"BM30+BN30","v":0},null,{"$f":"BO30+BP30","v":0},null,{"$f":"BQ30+BR30","v":0},null,{"$f":"BS30+BT30","v":0},null,{"$f":"BU30+BV30","v":0},null,{"$f":"BW30+BX30","v":0},null,{"$f":"BY30+BZ30","v":0},null,{"$f":"CA30+CB30","v":0},null,{"$f":"CC30+CD30","v":0},null,{"$f":"CE30+CF30","v":0},null,{"$f":"CG30+CH30","v":0}]
[null,"Одноразова комісія за рік/ One-time fee per year",null,null,{"$f":"E29+F29","v":0},null,{"$f":"G29+H29","v":0},null,{"$f":"I29+J29","v":0},null,{"$f":"K29+L29","v":0},null,{"$f":"M29+N29","v":0},null,{"$f":"O29+P29","v":0},null,{"$f":"Q29+R29","v":0},null,{"$f":"S29+T29","v":0},null,{"$f":"U29+V29","v":0},null,{"$f":"W29+X29","v":0},null,{"$f":"Y29+Z29","v":0},null,{"$f":"AA29+AB29","v":0},null,{"$f":"AC29+AD29","v":0},null,{"$f":"AE29+AF29","v":0},null,{"$f":"AG29+AH29","v":0},null,{"$f":"AI29+AJ29","v":0},null,{"$f":"AK29+AL29","v":0},null,{"$f":"AM29+AN29","v":0},null,{"$f":"AO29+AP29","v":0},null,{"$f":"AQ29+AR29","v":0},null,{"$f":"AS29+AT29","v":0},null,{"$f":"AU29+AV29","v":0},null,{"$f":"AW29+AX29","v":0},null,{"$f":"AY29+AZ29","v":0},null,{"$f":"BA29+BB29","v":0},null,{"$f":"BC29+BD29","v":0},null,{"$f":"BE29+BF29","v":0},null,{"$f":"BG29+BH29","v":0},null,{"$f":"BI29+BJ29","v":0},null,{"$f":"BK29+BL29","v":0},null,{"$f":"BM29+BN29","v":0},null,{"$f":"BO29+BP29","v":0},null,{"$f":"BQ29+BR29","v":0},null,{"$f":"BS29+BT29","v":0},null,{"$f":"BU29+BV29","v":0},null,{"$f":"BW29+BX29","v":0},null,{"$f":"BY29+BZ29","v":0},null,{"$f":"CA29+CB29","v":0},null,{"$f":"CC29+CD29","v":0},null,{"$f":"CE29+CF29","v":0},null,{"$f":"CG29+CH29","v":0}]
[null,"Власні кошти"]
[null,"Погашення / Repayment",null,null,0,0,{"$f":"IF(G24=0,0,(SUM($E$41:F41)-SUM($E$39:F39))/G24)","v":0},{"$f":"IF(H24=0,0,(SUM($E$41:G41)-SUM($E$39:G39))/H24)","v":0},{"$f":"IF(I24=0,0,(SUM($E$41:H41)-SUM($E$39:H39))/I24)","v":0},{"$f":"IF(J24=0,0,(SUM($E$41:I41)-SUM($E$39:I39))/J24)","v":0},{"$f":"IF(K24=0,0,(SUM($E$41:J41)-SUM($E$39:J39))/K24)","v":0},{"$f":"IF(L24=0,0,(SUM($E$41:K41)-SUM($E$39:K39))/L24)","v":0},{"$f":"IF(M24=0,0,(SUM($E$41:L41)-SUM($E$39:L39))/M24)","v":0},{"$f":"IF(N24=0,0,(SUM($E$41:M41)-SUM($E$39:M39))/N24)","v":0},{"$f":"IF(O24=0,0,(SUM($E$41:N41)-SUM($E$39:N39))/O24)","v":0},{"$f":"IF(P24=0,0,(SUM($E$41:O41)-SUM($E$39:O39))/P24)","v":0},{"$f":"IF(Q24=0,0,(SUM($E$41:P41)-SUM($E$39:P39))/Q24)","v":0},{"$f":"IF(R24=0,0,(SUM($E$41:Q41)-SUM($E$39:Q39))/R24)","v":0},{"$f":"IF(S24=0,0,(SUM($E$41:R41)-SUM($E$39:R39))/S24)","v":0},{"$f":"IF(T24=0,0,(SUM($E$41:S41)-SUM($E$39:S39))/T24)","v":0},{"$f":"IF(U24=0,0,(SUM($E$41:T41)-SUM($E$39:T39))/U24)","v":0},{"$f":"IF(V24=0,0,(SUM($E$41:U41)-SUM($E$39:U39))/V24)","v":0},{"$f":"IF(W24=0,0,(SUM($E$41:V41)-SUM($E$39:V39))/W24)","v":0},{"$f":"IF(X24=0,0,(SUM($E$41:W41)-SUM($E$39:W39))/X24)","v":0},{"$f":"IF(Y24=0,0,(SUM($E$41:X41)-SUM($E$39:X39))/Y24)","v":0},{"$f":"IF(Z24=0,0,(SUM($E$41:Y41)-SUM($E$39:Y39))/Z24)","v":0},{"$f":"IF(AA24=0,0,(SUM($E$41:Z41)-SUM($E$39:Z39))/AA24)","v":0},{"$f":"IF(AB24=0,0,(SUM($E$41:AA41)-SUM($E$39:AA39))/AB24)","v":0},{"$f":"IF(AC24=0,0,(SUM($E$41:AB41)-SUM($E$39:AB39))/AC24)","v":0},{"$f":"IF(AD24=0,0,(SUM($E$41:AC41)-SUM($E$39:AC39))/AD24)","v":0},{"$f":"IF(AE24=0,0,(SUM($E$41:AD41)-SUM($E$39:AD39))/AE24)","v":0},{"$f":"IF(AF24=0,0,(SUM($E$41:AE41)-SUM($E$39:AE39))/AF24)","v":0},{"$f":"IF(AG24=0,0,(SUM($E$41:AF41)-SUM($E$39:AF39))/AG24)","v":0},{"$f":"IF(AH24=0,0,(SUM($E$41:AG41)-SUM($E$39:AG39))/AH24)","v":0},{"$f":"IF(AI24=0,0,(SUM($E$41:AH41)-SUM($E$39:AH39))/AI24)","v":0},{"$f":"IF(AJ24=0,0,(SUM($E$41:AI41)-SUM($E$39:AI39))/AJ24)","v":0},{"$f":"IF(AK24=0,0,(SUM($E$41:AJ41)-SUM($E$39:AJ39))/AK24)","v":0},{"$f":"IF(AL24=0,0,(SUM($E$41:AK41)-SUM($E$39:AK39))/AL24)","v":0},{"$f":"IF(AM24=0,0,(SUM($E$41:AL41)-SUM($E$39:AL39))/AM24)","v":0},{"$f":"IF(AN24=0,0,(SUM($E$41:AM41)-SUM($E$39:AM39))/AN24)","v":0},{"$f":"IF(AO24=0,0,(SUM($E$41:AN41)-SUM($E$39:AN39))/AO24)","v":0},{"$f":"IF(AP24=0,0,(SUM($E$41:AO41)-SUM($E$39:AO39))/AP24)","v":0},{"$f":"IF(AQ24=0,0,(SUM($E$41:AP41)-SUM($E$39:AP39))/AQ24)","v":0},{"$f":"IF(AR24=0,0,(SUM($E$41:AQ41)-SUM($E$39:AQ39))/AR24)","v":0},{"$f":"IF(AS24=0,0,(SUM($E$41:AR41)-SUM($E$39:AR39))/AS24)","v":0},{"$f":"IF(AT24=0,0,(SUM($E$41:AS41)-SUM($E$39:AS39))/AT24)","v":0},{"$f":"IF(AU24=0,0,(SUM($E$41:AT41)-SUM($E$39:AT39))/AU24)","v":0},{"$f":"IF(AV24=0,0,(SUM($E$41:AU41)-SUM($E$39:AU39))/AV24)","v":0},{"$f":"IF(AW24=0,0,(SUM($E$41:AV41)-SUM($E$39:AV39))/AW24)","v":0},{"$f":"IF(AX24=0,0,(SUM($E$41:AW41)-SUM($E$39:AW39))/AX24)","v":0},{"$f":"IF(AY24=0,0,(SUM($E$41:AX41)-SUM($E$39:AX39))/AY24)","v":0},{"$f":"IF(AZ24=0,0,(SUM($E$41:AY41)-SUM($E$39:AY39))/AZ24)","v":0},{"$f":"IF(BA24=0,0,(SUM($E$41:AZ41)-SUM($E$39:AZ39))/BA24)","v":0},{"$f":"IF(BB24=0,0,(SUM($E$41:BA41)-SUM($E$39:BA39))/BB24)","v":0},{"$f":"IF(BC24=0,0,(SUM($E$41:BB41)-SUM($E$39:BB39))/BC24)","v":0},{"$f":"IF(BD24=0,0,(SUM($E$41:BC41)-SUM($E$39:BC39))/BD24)","v":0},{"$f":"IF(BE24=0,0,(SUM($E$41:BD41)-SUM($E$39:BD39))/BE24)","v":0},{"$f":"IF(BF24=0,0,(SUM($E$41:BE41)-SUM($E$39:BE39))/BF24)","v":0},{"$f":"IF(BG24=0,0,(SUM($E$41:BF41)-SUM($E$39:BF39))/BG24)","v":0},{"$f":"IF(BH24=0,0,(SUM($E$41:BG41)-SUM($E$39:BG39))/BH24)","v":0},{"$f":"IF(BI24=0,0,(SUM($E$41:BH41)-SUM($E$39:BH39))/BI24)","v":0},{"$f":"IF(BJ24=0,0,(SUM($E$41:BI41)-SUM($E$39:BI39))/BJ24)","v":0},{"$f":"IF(BK24=0,0,(SUM($E$41:BJ41)-SUM($E$39:BJ39))/BK24)","v":0},{"$f":"IF(BL24=0,0,(SUM($E$41:BK41)-SUM($E$39:BK39))/BL24)","v":0},{"$f":"IF(BM24=0,0,(SUM($E$41:BL41)-SUM($E$39:BL39))/BM24)","v":0},{"$f":"IF(BN24=0,0,(SUM($E$41:BM41)-SUM($E$39:BM39))/BN24)","v":0},{"$f":"IF(BO24=0,0,(SUM($E$41:BN41)-SUM($E$39:BN39))/BO24)","v":0},{"$f":"IF(BP24=0,0,(SUM($E$41:BO41)-SUM($E$39:BO39))/BP24)","v":0},{"$f":"IF(BQ24=0,0,(SUM($E$41:BP41)-SUM($E$39:BP39))/BQ24)","v":0},{"$f":"IF(BR24=0,0,(SUM($E$41:BQ41)-SUM($E$39:BQ39))/BR24)","v":0},{"$f":"IF(BS24=0,0,(SUM($E$41:BR41)-SUM($E$39:BR39))/BS24)","v":0},{"$f":"IF(BT24=0,0,(SUM($E$41:BS41)-SUM($E$39:BS39))/BT24)","v":0},{"$f":"IF(BU24=0,0,(SUM($E$41:BT41)-SUM($E$39:BT39))/BU24)","v":0},{"$f":"IF(BV24=0,0,(SUM($E$41:BU41)-SUM($E$39:BU39))/BV24)","v":0},{"$f":"IF(BW24=0,0,(SUM($E$41:BV41)-SUM($E$39:BV39))/BW24)","v":0},{"$f":"IF(BX24=0,0,(SUM($E$41:BW41)-SUM($E$39:BW39))/BX24)","v":0},{"$f":"IF(BY24=0,0,(SUM($E$41:BX41)-SUM($E$39:BX39))/BY24)","v":0},{"$f":"IF(BZ24=0,0,(SUM($E$41:BY41)-SUM($E$39:BY39))/BZ24)","v":0},{"$f":"IF(CA24=0,0,(SUM($E$41:BZ41)-SUM($E$39:BZ39))/CA24)","v":0},{"$f":"IF(CB24=0,0,(SUM($E$41:CA41)-SUM($E$39:CA39))/CB24)","v":0},{"$f":"IF(CC24=0,0,(SUM($E$41:CB41)-SUM($E$39:CB39))/CC24)","v":0},{"$f":"IF(CD24=0,0,(SUM($E$41:CC41)-SUM($E$39:CC39))/CD24)","v":0},{"$f":"IF(CE24=0,0,(SUM($E$41:CD41)-SUM($E$39:CD39))/CE24)","v":0},{"$f":"IF(CF24=0,0,(SUM($E$41:CE41)-SUM($E$39:CE39))/CF24)","v":0},{"$f":"IF(CG24=0,0,(SUM($E$41:CF41)-SUM($E$39:CF39))/CG24)","v":0},{"$f":"IF(CH24=0,0,(SUM($E$41:CG41)-SUM($E$39:CG39))/CH24)","v":0}]
[null,"Основна сума заборгованості / The main amount of debt",null,null,{"$f":"IF(AND($C$4=\"I півріччя\",($E$4+$C$12)>E25),$C$10,0)","v":0},{"$f":"IF(($E$4+$C$12)>=E25,$C$10,0)","v":0},{"$f":"IF(($E$4+$C$12)>G25,$F$40-$F$39,0)","v":0},{"$f":"IF(($E$4+$C$12)>G25,G40-G39,0)","v":0},{"$f":"IF(($E$4+$C$12)>I25,$H$40-$H$39,0)","v":0},{"$f":"IF(($E$4+$C$12)>I25,I40-I39,0)","v":0},{"$f":"IF(($E$4+$C$12)>K25,J$40-J$39,0)","v":0},{"$f":"IF(($E$4+$C$12)>K25,K40-K39,0)","v":0},{"$f":"IF(($E$4+$C$12)>M25,L$40-L$39,0)","v":0},{"$f":"IF(($E$4+$C$12)>M25,M40-M39,0)","v":0},{"$f":"IF(($E$4+$C$12)>O25,N$40-N$39,0)","v":0},{"$f":"IF(($E$4+$C$12)>O25,O40-O39,0)","v":0},{"$f":"IF(($E$4+$C$12)>Q25,P$40-P$39,0)","v":0},{"$f":"IF(($E$4+$C$12)>Q25,Q40-Q39,0)","v":0},{"$f":"IF(($E$4+$C$12)>S25,R$40-R$39,0)","v":0},{"$f":"IF(($E$4+$C$12)>S25,S40-S39,0)","v":0},{"$f":"IF(($E$4+$C$12)>U25,T$40-T$39,0)","v":0},{"$f":"IF(($E$4+$C$12)>U25,U40-U39,0)","v":0},{"$f":"IF(($E$4+$C$12)>W25,V$40-V$39,0)","v":0},{"$f":"IF(($E$4+$C$12)>W25,W40-W39,0)","v":0},{"$f":"IF(($E$4+$C$12)>Y25,X$40-X$39,0)","v":0},{"$f":"IF(($E$4+$C$12)>Y25,Y40-Y39,0)","v":0},{"$f":"IF(($E$4+$C$12)>AA25,Z$40-Z$39,0)","v":0},{"$f":"IF(($E$4+$C$12)>AA25,AA40-AA39,0)","v":0},{"$f":"IF(($E$4+$C$12)>AC25,AB$40-AB$39,0)","v":0},{"$f":"IF(($E$4+$C$12)>AC25,AC40-AC39,0)","v":0},{"$f":"IF(($E$4+$C$12)>AE25,AD$40-AD$39,0)","v":0},{"$f":"IF(($E$4+$C$12)>AE25,AE40-AE39,0)","v":0},{"$f":"IF(($E$4+$C$12)>AG25,AF$40-AF$39,0)","v":0},{"$f":"IF(($E$4+$C$12)>AG25,AG40-AG39,0)","v":0},{"$f":"IF(($E$4+$C$12)>AI25,AH$40-AH$39,0)","v":0},{"$f":"IF(($E$4+$C$12)>AI25,AI40-AI39,0)","v":0},{"$f":"IF(($E$4+$C$12)>AK25,AJ$40-AJ$39,0)","v":0},{"$f":"IF(($E$4+$C$12)>AK25,AK40-AK39,0)","v":0},{"$f":"IF(($E$4+$C$12)>AM25,AL$40-AL$39,0)","v":0},{"$f":"IF(($E$4+$C$12)>AM25,AM40-AM39,0)","v":0},{"$f":"IF(($E$4+$C$12)>AO25,AN$40-AN$39,0)","v":0},{"$f":"IF(($E$4+$C$12)>AO25,AO40-AO39,0)","v":0},{"$f":"IF(($E$4+$C$12)>AQ25,AP$40-AP$39,0)","v":0},{"$f":"IF(($E$4+$C$12)>AQ25,AQ40-AQ39,0)","v":0},{"$f":"IF(($E$4+$C$12)>AS25,AR$40-AR$39,0)","v":0},{"$f":"IF(($E$4+$C$12)>AS25,AS40-AS39,0)","v":0},{"$f":"IF(($E$4+$C$12)>AU25,AT$40-AT$39,0)","v":0},{"$f":"IF(($E$4+$C$12)>AU25,AU40-AU39,0)","v":0},{"$f":"IF(($E$4+$C$12)>AW25,AV$40-AV$39,0)","v":0},{"$f":"IF(($E$4+$C$12)>AW25,AW40-AW39,0)","v":0},{"$f":"IF(($E$4+$C$12)>AY25,AX$40-AX$39,0)","v":0},{"$f":"IF(($E$4+$C$12)>AY25,AY40-AY39,0)","v":0},{"$f":"IF(($E$4+$C$12)>BA25,AZ$40-AZ$39,0)","v":0},{"$f":"IF(($E$4+$C$12)>BA25,BA40-BA39,0)","v":0},{"$f":"IF(($E$4+$C$12)>BC25,BB$40-BB$39,0)","v":0},{"$f":"IF(($E$4+$C$12)>BC25,BC40-BC39,0)","v":0},{"$f":"IF(($E$4+$C$12)>BE25,BD$40-BD$39,0)","v":0},{"$f":"IF(($E$4+$C$12)>BE25,BE40-BE39,0)","v":0},{"$f":"IF(($E$4+$C$12)>BG25,BF$40-BF$39,0)","v":0},{"$f":"IF(($E$4+$C$12)>BG25,BG40-BG39,0)","v":0},{"$f":"IF(($E$4+$C$12)>BI25,BH$40-BH$39,0)","v":0},{"$f":"IF(($E$4+$C$12)>BI25,BI40-BI39,0)","v":0},{"$f":"IF(($E$4+$C$12)>BK25,BJ$40-BJ$39,0)","v":0},{"$f":"IF(($E$4+$C$12)>BK25,BK40-BK39,0)","v":0},{"$f":"IF(($E$4+$C$12)>BM25,BL$40-BL$39,0)","v":0},{"$f":"IF(($E$4+$C$12)>BM25,BM40-BM39,0)","v":0},{"$f":"IF(($E$4+$C$12)>BO25,BN$40-BN$39,0)","v":0},{"$f":"IF(($E$4+$C$12)>BO25,BO40-BO39,0)","v":0},{"$f":"IF(($E$4+$C$12)>BQ25,BP$40-BP$39,0)","v":0},{"$f":"IF(($E$4+$C$12)>BQ25,BQ40-BQ39,0)","v":0},{"$f":"IF(($E$4+$C$12)>BS25,BR$40-BR$39,0)","v":0},{"$f":"IF(($E$4+$C$12)>BS25,BS40-BS39,0)","v":0},{"$f":"IF(($E$4+$C$12)>BU25,BT$40-BT$39,0)","v":0},{"$f":"IF(($E$4+$C$12)>BU25,BU40-BU39,0)","v":0},{"$f":"IF(($E$4+$C$12)>BW25,BV$40-BV$39,0)","v":0},{"$f":"IF(($E$4+$C$12)>BW25,BW40-BW39,0)","v":0},{"$f":"IF(($E$4+$C$12)>BY25,BX$40-BX$39,0)","v":0},{"$f":"IF(($E$4+$C$12)>BY25,BY40-BY39,0)","v":0},{"$f":"IF(($E$4+$C$12)>CA25,BZ$40-BZ$39,0)","v":0},{"$f":"IF(($E$4+$C$12)>CA25,CA40-CA39,0)","v":0},{"$f":"IF(($E$4+$C$12)>CC25,CB$40-CB$39,0)","v":0},{"$f":"IF(($E$4+$C$12)>CC25,CC40-CC39,0)","v":0},{"$f":"IF(($E$4+$C$12)>CE25,CD$40-CD$39,0)","v":0},{"$f":"IF(($E$4+$C$12)>CE25,CE40-CE39,0)","v":0},{"$f":"IF(($E$4+$C$12)>CG25,CF$40-CF$39,0)","v":0},{"$f":"IF(($E$4+$C$12)>CG25,CG40-CG39,0)","v":0}]
[null,"Використання коштів / Use of funds"]
[null,"Відсотки банку / Bank interest ",null,null,{"$f":"(E41-E39)*J4/2","v":0},0,{"$f":"IF(COUNTA($E$24:F24)<=($C$12*2),(SUM($E$41:G41)-SUM($E$39:F39))*($J$4/2),0)","v":0},{"$f":"IF(COUNTA($E$24:G24)<=($C$12*2),(SUM($E$41:H41)-SUM($E$39:G39))*($J$4/2),0)","v":0},{"$f":"IF(COUNTA($E$24:H24)<=($C$12*2),(SUM($E$41:I41)-SUM($E$39:H39))*($J$4/2),0)","v":0},{"$f":"IF(COUNTA($E$24:I24)<=($C$12*2),(SUM($E$41:J41)-SUM($E$39:I39))*($J$4/2),0)","v":0},{"$f":"IF(COUNTA($E$24:J24)<=($C$12*2),(SUM($E$41:K41)-SUM($E$39:J39))*($J$4/2),0)","v":0},{"$f":"IF(COUNTA($E$24:K24)<=($C$12*2),(SUM($E$41:L41)-SUM($E$39:K39))*($J$4/2),0)","v":0},{"$f":"IF(COUNTA($E$24:L24)<=($C$12*2),(SUM($E$41:M41)-SUM($E$39:L39))*($J$4/2),0)","v":0},{"$f":"IF(COUNTA($E$24:M24)<=($C$12*2),(SUM($E$41:N41)-SUM($E$39:M39))*($J$4/2),0)","v":0},{"$f":"IF(COUNTA($E$24:N24)<=($C$12*2),(SUM($E$41:O41)-SUM($E$39:N39))*($J$4/2),0)","v":0},{"$f":"IF(COUNTA($E$24:O24)<=($C$12*2),(SUM($E$41:P41)-SUM($E$39:O39))*($J$4/2),0)","v":0},{"$f":"IF(COUNTA($E$24:P24)<=($C$12*2),(SUM($E$41:Q41)-SUM($E$39:P39))*($J$4/2),0)","v":0},{"$f":"IF(COUNTA($E$24:Q24)<=($C$12*2),(SUM($E$41:R41)-SUM($E$39:Q39))*($J$4/2),0)","v":0},{"$f":"IF(COUNTA($E$24:R24)<=($C$12*2),(SUM($E$41:S41)-SUM($E$39:R39))*($J$4/2),0)","v":0},{"$f":"IF(COUNTA($E$24:S24)<=($C$12*2),(SUM($E$41:T41)-SUM($E$39:S39))*($J$4/2),0)","v":0},{"$f":"IF(COUNTA($E$24:T24)<=($C$12*2),(SUM($E$41:U41)-SUM($E$39:T39))*($J$4/2),0)","v":0},{"$f":"IF(COUNTA($E$24:U24)<=($C$12*2),(SUM($E$41:V41)-SUM($E$39:U39))*($J$4/2),0)","v":0},{"$f":"IF(COUNTA($E$24:V24)<=($C$12*2),(SUM($E$41:W41)-SUM($E$39:V39))*($J$4/2),0)","v":0},{"$f":"IF(COUNTA($E$24:W24)<=($C$12*2),(SUM($E$41:X41)-SUM($E$39:W39))*($J$4/2),0)","v":0},{"$f":"IF(COUNTA($E$24:X24)<=($C$12*2),(SUM($E$41:Y41)-SUM($E$39:X39))*($J$4/2),0)","v":0},{"$f":"IF(COUNTA($E$24:Y24)<=($C$12*2),(SUM($E$41:Z41)-SUM($E$39:Y39))*($J$4/2),0)","v":0},{"$f":"IF(COUNTA($E$24:Z24)<=($C$12*2),(SUM($E$41:AA41)-SUM($E$39:Z39))*($J$4/2),0)","v":0},{"$f":"IF(COUNTA($E$24:AA24)<=($C$12*2),(SUM($E$41:AB41)-SUM($E$39:AA39))*($J$4/2),0)","v":0},{"$f":"IF(COUNTA($E$24:AB24)<=($C$12*2),(SUM($E$41:AC41)-SUM($E$39:AB39))*($J$4/2),0)","v":0},{"$f":"IF(COUNTA($E$24:AC24)<=($C$12*2),(SUM($E$41:AD41)-SUM($E$39:AC39))*($J$4/2),0)","v":0},{"$f":"IF(COUNTA($E$24:AD24)<=($C$12*2),(SUM($E$41:AE41)-SUM($E$39:AD39))*($J$4/2),0)","v":0},{"$f":"IF(COUNTA($E$24:AE24)<=($C$12*2),(SUM($E$41:AF41)-SUM($E$39:AE39))*($J$4/2),0)","v":0},{"$f":"IF(COUNTA($E$24:AF24)<=($C$12*2),(SUM($E$41:AG41)-SUM($E$39:AF39))*($J$4/2),0)","v":0},{"$f":"IF(COUNTA($E$24:AG24)<=($C$12*2),(SUM($E$41:AH41)-SUM($E$39:AG39))*($J$4/2),0)","v":0},{"$f":"IF(COUNTA($E$24:AH24)<=($C$12*2),(SUM($E$41:AI41)-SUM($E$39:AH39))*($J$4/2),0)","v":0},{"$f":"IF(COUNTA($E$24:AI24)<=($C$12*2),(SUM($E$41:AJ41)-SUM($E$39:AI39))*($J$4/2),0)","v":0},{"$f":"IF(COUNTA($E$24:AJ24)<=($C$12*2),(SUM($E$41:AK41)-SUM($E$39:AJ39))*($J$4/2),0)","v":0},{"$f":"IF(COUNTA($E$24:AK24)<=($C$12*2),(SUM($E$41:AL41)-SUM($E$39:AK39))*($J$4/2),0)","v":0},{"$f":"IF(COUNTA($E$24:AL24)<=($C$12*2),(SUM($E$41:AM41)-SUM($E$39:AL39))*($J$4/2),0)","v":0},{"$f":"IF(COUNTA($E$24:AM24)<=($C$12*2),(SUM($E$41:AN41)-SUM($E$39:AM39))*($J$4/2),0)","v":0},{"$f":"IF(COUNTA($E$24:AN24)<=($C$12*2),(SUM($E$41:AO41)-SUM($E$39:AN39))*($J$4/2),0)","v":0},{"$f":"IF(COUNTA($E$24:AO24)<=($C$12*2),(SUM($E$41:AP41)-SUM($E$39:AO39))*($J$4/2),0)","v":0},{"$f":"IF(COUNTA($E$24:AP24)<=($C$12*2),(SUM($E$41:AQ41)-SUM($E$39:AP39))*($J$4/2),0)","v":0},{"$f":"IF(COUNTA($E$24:AQ24)<=($C$12*2),(SUM($E$41:AR41)-SUM($E$39:AQ39))*($J$4/2),0)","v":0},{"$f":"IF(COUNTA($E$24:AR24)<=($C$12*2),(SUM($E$41:AS41)-SUM($E$39:AR39))*($J$4/2),0)","v":0},{"$f":"IF(COUNTA($E$24:AS24)<=($C$12*2),(SUM($E$41:AT41)-SUM($E$39:AS39))*($J$4/2),0)","v":0},{"$f":"IF(COUNTA($E$24:AT24)<=($C$12*2),(SUM($E$41:AU41)-SUM($E$39:AT39))*($J$4/2),0)","v":0},{"$f":"IF(COUNTA($E$24:AU24)<=($C$12*2),(SUM($E$41:AV41)-SUM($E$39:AU39))*($J$4/2),0)","v":0},{"$f":"IF(COUNTA($E$24:AV24)<=($C$12*2),(SUM($E$41:AW41)-SUM($E$39:AV39))*($J$4/2),0)","v":0},{"$f":"IF(COUNTA($E$24:AW24)<=($C$12*2),(SUM($E$41:AX41)-SUM($E$39:AW39))*($J$4/2),0)","v":0},{"$f":"IF(COUNTA($E$24:AX24)<=($C$12*2),(SUM($E$41:AY41)-SUM($E$39:AX39))*($J$4/2),0)","v":0},{"$f":"IF(COUNTA($E$24:AY24)<=($C$12*2),(SUM($E$41:AZ41)-SUM($E$39:AY39))*($J$4/2),0)","v":0},{"$f":"IF(COUNTA($E$24:AZ24)<=($C$12*2),(SUM($E$41:BA41)-SUM($E$39:AZ39))*($J$4/2),0)","v":0},{"$f":"IF(COUNTA($E$24:BA24)<=($C$12*2),(SUM($E$41:BB41)-SUM($E$39:BA39))*($J$4/2),0)","v":0},{"$f":"IF(COUNTA($E$24:BB24)<=($C$12*2),(SUM($E$41:BC41)-SUM($E$39:BB39))*($J$4/2),0)","v":0},{"$f":"IF(COUNTA($E$24:BC24)<=($C$12*2),(SUM($E$41:BD41)-SUM($E$39:BC39))*($J$4/2),0)","v":0},{"$f":"IF(COUNTA($E$24:BD24)<=($C$12*2),(SUM($E$41:BE41)-SUM($E$39:BD39))*($J$4/2),0)","v":0},{"$f":"IF(COUNTA($E$24:BE24)<=($C$12*2),(SUM($E$41:BF41)-SUM($E$39:BE39))*($J$4/2),0)","v":0},{"$f":"IF(COUNTA($E$24:BF24)<=($C$12*2),(SUM($E$41:BG41)-SUM($E$39:BF39))*($J$4/2),0)","v":0},{"$f":"IF(COUNTA($E$24:BG24)<=($C$12*2),(SUM($E$41:BH41)-SUM($E$39:BG39))*($J$4/2),0)","v":0},{"$f":"IF(COUNTA($E$24:BH24)<=($C$12*2),(SUM($E$41:BI41)-SUM($E$39:BH39))*($J$4/2),0)","v":0},{"$f":"IF(COUNTA($E$24:BI24)<=($C$12*2),(SUM($E$41:BJ41)-SUM($E$39:BI39))*($J$4/2),0)","v":0},{"$f":"IF(COUNTA($E$24:BJ24)<=($C$12*2),(SUM($E$41:BK41)-SUM($E$39:BJ39))*($J$4/2),0)","v":0},{"$f":"IF(COUNTA($E$24:BK24)<=($C$12*2),(SUM($E$41:BL41)-SUM($E$39:BK39))*($J$4/2),0)","v":0},{"$f":"IF(COUNTA($E$24:BL24)<=($C$12*2),(SUM($E$41:BM41)-SUM($E$39:BL39))*($J$4/2),0)","v":0},{"$f":"IF(COUNTA($E$24:BM24)<=($C$12*2),(SUM($E$41:BN41)-SUM($E$39:BM39))*($J$4/2),0)","v":0},{"$f":"IF(COUNTA($E$24:BN24)<=($C$12*2),(SUM($E$41:BO41)-SUM($E$39:BN39))*($J$4/2),0)","v":0},{"$f":"IF(COUNTA($E$24:BO24)<=($C$12*2),(SUM($E$41:BP41)-SUM($E$39:BO39))*($J$4/2),0)","v":0},{"$f":"IF(COUNTA($E$24:BP24)<=($C$12*2),(SUM($E$41:BQ41)-SUM($E$39:BP39))*($J$4/2),0)","v":0},{"$f":"IF(COUNTA($E$24:BQ24)<=($C$12*2),(SUM($E$41:BR41)-SUM($E$39:BQ39))*($J$4/2),0)","v":0},{"$f":"IF(COUNTA($E$24:BR24)<=($C$12*2),(SUM($E$41:BS41)-SUM($E$39:BR39))*($J$4/2),0)","v":0},{"$f":"IF(COUNTA($E$24:BS24)<=($C$12*2),(SUM($E$41:BT41)-SUM($E$39:BS39))*($J$4/2),0)","v":0},{"$f":"IF(COUNTA($E$24:BT24)<=($C$12*2),(SUM($E$41:BU41)-SUM($E$39:BT39))*($J$4/2),0)","v":0},{"$f":"IF(COUNTA($E$24:BU24)<=($C$12*2),(SUM($E$41:BV41)-SUM($E$39:BU39))*($J$4/2),0)","v":0},{"$f":"IF(COUNTA($E$24:BV24)<=($C$12*2),(SUM($E$41:BW41)-SUM($E$39:BV39))*($J$4/2),0)","v":0},{"$f":"IF(COUNTA($E$24:BW24)<=($C$12*2),(SUM($E$41:BX41)-SUM($E$39:BW39))*($J$4/2),0)","v":0},{"$f":"IF(COUNTA($E$24:BX24)<=($C$12*2),(SUM($E$41:BY41)-SUM($E$39:BX39))*($J$4/2),0)","v":0},{"$f":"IF(COUNTA($E$24:BY24)<=($C$12*2),(SUM($E$41:BZ41)-SUM($E$39:BY39))*($J$4/2),0)","v":0},{"$f":"IF(COUNTA($E$24:BZ24)<=($C$12*2),(SUM($E$41:CA41)-SUM($E$39:BZ39))*($J$4/2),0)","v":0},{"$f":"IF(COUNTA($E$24:CA24)<=($C$12*2),(SUM($E$41:CB41)-SUM($E$39:CA39))*($J$4/2),0)","v":0},{"$f":"IF(COUNTA($E$24:CB24)<=($C$12*2),(SUM($E$41:CC41)-SUM($E$39:CB39))*($J$4/2),0)","v":0},{"$f":"IF(COUNTA($E$24:CC24)<=($C$12*2),(SUM($E$41:CD41)-SUM($E$39:CC39))*($J$4/2),0)","v":0},{"$f":"IF(COUNTA($E$24:CD24)<=($C$12*2),(SUM($E$41:CE41)-SUM($E$39:CD39))*($J$4/2),0)","v":0},{"$f":"IF(COUNTA($E$24:CE24)<=($C$12*2),(SUM($E$41:CF41)-SUM($E$39:CE39))*($J$4/2),0)","v":0},{"$f":"IF(COUNTA($E$24:CF24)<=($C$12*2),(SUM($E$41:CG41)-SUM($E$39:CF39))*($J$4/2),0)","v":0},{"$f":"IF(COUNTA($E$24:CG24)<=($C$12*2),(SUM($E$41:CH41)-SUM($E$39:CG39))*($J$4/2),0)","v":0}]
[null,"Ставка дисконтування/Discount rate",null,null,{"$f":"1/((1+$J$6)^(1/12))^0","v":1},null,{"$f":"E43/(1+$J$6)","v":0.86580086580086579},null,{"$f":"G43/(1+$J$6)","v":0.74961113922152878},null,{"$f":"I43/(1+$J$6)","v":0.64901397335197297},null,{"$f":"K43/(1+$J$6)","v":0.56191686004499819},null,{"$f":"M43/(1+$J$6)","v":0.48650810393506333},null,{"$f":"O43/(1+$J$6)","v":0.4212191376061154},null,{"$f":"Q43/(1+$J$6)","v":0.36469189403126873},null,{"$f":"S43/(1+$J$6)","v":0.31575055760283005},null,{"$f":"U43/(1+$J$6)","v":0.2733771061496364},null,{"$f":"W43/(1+$J$6)","v":0.23669013519449039},null,{"$f":"Y43/(1+$J$6)","v":0.20492652397791375},null,{"$f":"AA43/(1+$J$6)","v":0.1774255618856396},null,{"$f":"AC43/(1+$J$6)","v":0.15361520509579185},null,{"$f":"AE43/(1+$J$6)","v":0.13300017757211416},null,{"$f":"AG43/(1+$J$6)","v":0.11515166889360533},null,{"$f":"AI43/(1+$J$6)","v":9.9698414626498116E-2},null,{"$f":"AK43/(1+$J$6)","v":8.6318973702595767E-2},null,{"$f":"AM43/(1+$J$6)","v":7.4735042166749574E-2},null,{"$f":"AO43/(1+$J$6)","v":6.4705664213635994E-2},null,{"$f":"AQ43/(1+$J$6)","v":5.6022220098386144E-2},null,{"$f":"AS43/(1+$J$6)","v":4.850408666526939E-2},null,{"$f":"AU43/(1+$J$6)","v":4.1994880229670468E-2},null,{"$f":"AW43/(1+$J$6)","v":3.635920366205235E-2},null,{"$f":"AY43/(1+$J$6)","v":3.1479830010434931E-2},null,{"$f":"BA43/(1+$J$6)","v":2.725526407829864E-2},null,{"$f":"BC43/(1+$J$6)","v":2.3597631236622198E-2},null,{"$f":"BE43/(1+$J$6)","v":2.0430849555517053E-2},null,{"$f":"BG43/(1+$J$6)","v":1.7689047234213898E-2},null,{"$f":"BI43/(1+$J$6)","v":1.5315192410574803E-2},null,{"$f":"BK43/(1+$J$6)","v":1.3259906848982513E-2},null,{"$f":"BM43/(1+$J$6)","v":1.148043883028789E-2},null,{"$f":"BO43/(1+$J$6)","v":9.9397738790371337E-3},null,{"$f":"BQ43/(1+$J$6)","v":8.6058648303351803E-3},null,{"$f":"BS43/(1+$J$6)","v":7.4509652210694201E-3},null,{"$f":"BU43/(1+$J$6)","v":6.4510521394540435E-3},null,{"$f":"BW43/(1+$J$6)","v":5.5853265276658379E-3},null,{"$f":"BY43/(1+$J$6)","v":4.8357805434336258E-3},null,{"$f":"CA43/(1+$J$6)","v":4.1868229813278148E-3},null,{"$f":"CC43/(1+$J$6)","v":3.6249549621885841E-3},null,{"$f":"CE43/(1+$J$6)","v":3.1384891447520206E-3}]
[null,"Дискантоване погашення/Discounted repayment",null,null,{"$f":"(E39+E42)/E43","v":0},{"$f":"(F39+F42)/E43","v":0},{"$f":"(G39+G42)/G43","v":0},{"$f":"(H39+H42)/G43","v":0},{"$f":"(I39+I42)/I43","v":0},{"$f":"(J39+J42)/I43","v":0},{"$f":"(K39+K42)/K43","v":0},{"$f":"(L39+L42)/K43","v":0},{"$f":"(M39+M42)/M43","v":0},{"$f":"(N39+N42)/M43","v":0},{"$f":"(O39+O42)/O43","v":0},{"$f":"(P39+P42)/O43","v":0},{"$f":"(Q39+Q42)/Q43","v":0},{"$f":"(R39+R42)/Q43","v":0},{"$f":"(S39+S42)/S43","v":0},{"$f":"(T39+T42)/S43","v":0},{"$f":"(U39+U42)/U43","v":0},{"$f":"(V39+V42)/U43","v":0},{"$f":"(W39+W42)/W43","v":0},{"$f":"(X39+X42)/W43","v":0},{"$f":"(Y39+Y42)/Y43","v":0},{"$f":"(Z39+Z42)/Y43","v":0},{"$f":"(AA39+AA42)/AA43","v":0},{"$f":"(AB39+AB42)/AA43","v":0},{"$f":"(AC39+AC42)/AC43","v":0},{"$f":"(AD39+AD42)/AC43","v":0},{"$f":"(AE39+AE42)/AE43","v":0},{"$f":"(AF39+AF42)/AE43","v":0},{"$f":"(AG39+AG42)/AG43","v":0},{"$f":"(AH39+AH42)/AG43","v":0},{"$f":"(AI39+AI42)/AI43","v":0},{"$f":"(AJ39+AJ42)/AI43","v":0},{"$f":"(AK39+AK42)/AK43","v":0},{"$f":"(AL39+AL42)/AK43","v":0},{"$f":"(AM39+AM42)/AM43","v":0},{"$f":"(AN39+AN42)/AM43","v":0},{"$f":"(AO39+AO42)/AO43","v":0},{"$f":"(AP39+AP42)/AO43","v":0},{"$f":"(AQ39+AQ42)/AQ43","v":0},{"$f":"(AR39+AR42)/AQ43","v":0},{"$f":"(AS39+AS42)/AS43","v":0},{"$f":"(AT39+AT42)/AS43","v":0},{"$f":"(AU39+AU42)/AU43","v":0},{"$f":"(AV39+AV42)/AU43","v":0},{"$f":"(AW39+AW42)/AW43","v":0},{"$f":"(AX39+AX42)/AW43","v":0},{"$f":"(AY39+AY42)/AY43","v":0},{"$f":"(AZ39+AZ42)/AY43","v":0},{"$f":"(BA39+BA42)/BA43","v":0},{"$f":"(BB39+BB42)/BA43","v":0},{"$f":"(BC39+BC42)/BC43","v":0},{"$f":"(BD39+BD42)/BC43","v":0},{"$f":"(BE39+BE42)/BE43","v":0},{"$f":"(BF39+BF42)/BE43","v":0},{"$f":"(BG39+BG42)/BG43","v":0},{"$f":"(BH39+BH42)/BG43","v":0},{"$f":"(BI39+BI42)/BI43","v":0},{"$f":"(BJ39+BJ42)/BI43","v":0},{"$f":"(BK39+BK42)/BK43","v":0},{"$f":"(BL39+BL42)/BK43","v":0},{"$f":"(BM39+BM42)/BM43","v":0},{"$f":"(BN39+BN42)/BM43","v":0},{"$f":"(BO39+BO42)/BO43","v":0},{"$f":"(BP39+BP42)/BO43","v":0},{"$f":"(BQ39+BQ42)/BQ43","v":0},{"$f":"(BR39+BR42)/BQ43","v":0},{"$f":"(BS39+BS42)/BS43","v":0},{"$f":"(BT39+BT42)/BS43","v":0},{"$f":"(BU39+BU42)/BU43","v":0},{"$f":"(BV39+BV42)/BU43","v":0},{"$f":"(BW39+BW42)/BW43","v":0},{"$f":"(BX39+BX42)/BW43","v":0},{"$f":"(BY39+BY42)/BY43","v":0},{"$f":"(BZ39+BZ42)/BY43","v":0},{"$f":"(CA39+CA42)/CA43","v":0},{"$f":"(CB39+CB42)/CA43","v":0},{"$f":"(CC39+CC42)/CC43","v":0},{"$f":"(CD39+CD42)/CC43","v":0},{"$f":"(CE39+CE42)/CE43","v":0},{"$f":"(CF39+CF42)/CE43","v":0},{"$f":"(CG39+CG42)/CG43","v":0},{"$f":"(CH39+CH42)/CG43","v":0}]
[null,"Погашення / Repayment",null,null,{"$f":"E39+F39","v":0},null,{"$f":"G39+H39","v":0},null,{"$f":"I39+J39","v":0},null,{"$f":"K39+L39","v":0},null,{"$f":"M39+N39","v":0},null,{"$f":"O39+P39","v":0},null,{"$f":"Q39+R39","v":0},null,{"$f":"S39+T39","v":0},null,{"$f":"U39+V39","v":0},null,{"$f":"W39+X39","v":0},null,{"$f":"Y39+Z39","v":0},null,{"$f":"AA39+AB39","v":0},null,{"$f":"AC39+AD39","v":0},null,{"$f":"AE39+AF39","v":0},null,{"$f":"AG39+AH39","v":0},null,{"$f":"AI39+AJ39","v":0},null,{"$f":"AK39+AL39","v":0},null,{"$f":"AM39+AN39","v":0},null,{"$f":"AO39+AP39","v":0},null,{"$f":"AQ39+AR39","v":0},null,{"$f":"AS39+AT39","v":0},null,{"$f":"AU39+AV39","v":0},null,{"$f":"AW39+AX39","v":0},null,{"$f":"AY39+AZ39","v":0},null,{"$f":"BA39+BB39","v":0},null,{"$f":"BC39+BD39","v":0},null,{"$f":"BE39+BF39","v":0},null,{"$f":"BG39+BH39","v":0},null,{"$f":"BI39+BJ39","v":0},null,{"$f":"BK39+BL39","v":0},null,{"$f":"BM39+BN39","v":0},null,{"$f":"BO39+BP39","v":0},null,{"$f":"BQ39+BR39","v":0},null,{"$f":"BS39+BT39","v":0},null,{"$f":"BU39+BV39","v":0},null,{"$f":"BW39+BX39","v":0},null,{"$f":"BY39+BZ39","v":0},null,{"$f":"CA39+CB39","v":0},null,{"$f":"CC39+CD39","v":0},null,{"$f":"CE39+CF39","v":0},null,{"$f":"CG39+CH39","v":0}]
[]
[null,"Період",null,null,{"$f":"IF(E48=0,\"\",0)","v":""},{"$f":"COUNT(E47)","v":0},{"$f":"COUNT($E47:F$47)","v":1},{"$f":"COUNT($E47:G$47)","v":2},{"$f":"COUNT($E47:H$47)","v":3},{"$f":"COUNT($E47:I$47)","v":4},{"$f":"COUNT($E47:J$47)","v":5},{"$f":"COUNT($E47:K$47)","v":6},{"$f":"COUNT($E47:L$47)","v":7},{"$f":"COUNT($E47:M$47)","v":8},{"$f":"COUNT($E47:N$47)","v":9},{"$f":"COUNT($E47:O$47)","v":10},{"$f":"COUNT($E47:P$47)","v":11},{"$f":"COUNT($E47:Q$47)","v":12},{"$f":"COUNT($E47:R$47)","v":13},{"$f":"COUNT($E47:S$47)","v":14},{"$f":"COUNT($E47:T$47)","v":15},{"$f":"COUNT($E47:U$47)","v":16},{"$f":"COUNT($E47:V$47)","v":17},{"$f":"COUNT($E47:W$47)","v":18},{"$f":"COUNT($E47:X$47)","v":19},{"$f":"COUNT($E47:Y$47)","v":20},{"$f":"COUNT($E47:Z$47)","v":21},{"$f":"COUNT($E47:AA$47)","v":22},{"$f":"COUNT($E47:AB$47)","v":23},{"$f":"COUNT($E47:AC$47)","v":24},{"$f":"COUNT($E47:AD$47)","v":25},{"$f":"COUNT($E47:AE$47)","v":26},{"$f":"COUNT($E47:AF$47)","v":27},{"$f":"COUNT($E47:AG$47)","v":28},{"$f":"COUNT($E47:AH$47)","v":29},{"$f":"COUNT($E47:AI$47)","v":30},{"$f":"COUNT($E47:AJ$47)","v":31},{"$f":"COUNT($E47:AK$47)","v":32},{"$f":"COUNT($E47:AL$47)","v":33},{"$f":"COUNT($E47:AM$47)","v":34},{"$f":"COUNT($E47:AN$47)","v":35},{"$f":"COUNT($E47:AO$47)","v":36},{"$f":"COUNT($E47:AP$47)","v":37},{"$f":"COUNT($E47:AQ$47)","v":38},{"$f":"COUNT($E47:AR$47)","v":39},{"$f":"COUNT($E47:AS$47)","v":40},{"$f":"COUNT($E47:AT$47)","v":41},{"$f":"COUNT($E47:AU$47)","v":42},{"$f":"COUNT($E47:AV$47)","v":43},{"$f":"COUNT($E47:AW$47)","v":44},{"$f":"COUNT($E47:AX$47)","v":45},{"$f":"COUNT($E47:AY$47)","v":46},{"$f":"COUNT($E47:AZ$47)","v":47},{"$f":"COUNT($E47:BA$47)","v":48},{"$f":"COUNT($E47:BB$47)","v":49},{"$f":"COUNT($E47:BC$47)","v":50},{"$f":"COUNT($E47:BD$47)","v":51},{"$f":"COUNT($E47:BE$47)","v":52},{"$f":"COUNT($E47:BF$47)","v":53},{"$f":"COUNT($E47:BG$47)","v":54},{"$f":"COUNT($E47:BH$47)","v":55},{"$f":"COUNT($E47:BI$47)","v":56},{"$f":"COUNT($E47:BJ$47)","v":57},{"$f":"COUNT($E47:BK$47)","v":58},{"$f":"COUNT($E47:BL$47)","v":59},{"$f":"COUNT($E47:BM$47)","v":60},{"$f":"COUNT($E47:BN$47)","v":61},{"$f":"COUNT($E47:BO$47)","v":62},{"$f":"COUNT($E47:BP$47)","v":63},{"$f":"COUNT($E47:BQ$47)","v":64},{"$f":"COUNT($E47:BR$47)","v":65},{"$f":"COUNT($E47:BS$47)","v":66},{"$f":"COUNT($E47:BT$47)","v":67},{"$f":"COUNT($E47:BU$47)","v":68},{"$f":"COUNT($E47:BV$47)","v":69},{"$f":"COUNT($E47:BW$47)","v":70},{"$f":"COUNT($E47:BX$47)","v":71},{"$f":"COUNT($E47:BY$47)","v":72},{"$f":"COUNT($E47:BZ$47)","v":73},{"$f":"COUNT($E47:CA$47)","v":74},{"$f":"COUNT($E47:CB$47)","v":75},{"$f":"COUNT($E47:CC$47)","v":76},{"$f":"COUNT($E47:CD$47)","v":77},{"$f":"COUNT($E47:CE$47)","v":78},{"$f":"COUNT($E47:CF$47)","v":79},{"$f":"COUNT($E47:CG$47)","v":80}]
[null,"F(x)",null,null,{"$f":"IF(E28=0,0,-$C$8+$J$18)","v":0},{"$f":"IF(E28>0,F27+F31+F32+F33,-C8+J18)","v":-4278.8100000000004},{"$f":"G27+G31+G32+G33","v":689.36463784189709},665.59344343355576,641.82224902521455,618.05105461687322,594.279860208532,570.50866580019067,546.73747139184934,522.96627698350801,499.19508257516651,0,0,0,0,0,0,0,0,0,0,0,0,0,0,0,0,0,0,0,0,0,0,0,{"$f":"AM27+AM31+AM32+AM33","v":0},0,0,0,0,0,0,0,0,0,0,0,0,0,0,0,0,0,0,0,0,0,0,0,0,0,0,0,0,0,0,0,{"$f":"BS27+BS31+BS32+BS33","v":0},0,0,0,0,0,0,0,0,0,0,0,0,0,0,0]
[null,"F(x')",null,null,{"$f":"F47*F48","v":0},{"$f":"G47*G48","v":689.36463784189709},{"$f":"H47*H48","v":1331.1868868671115},1925.4667470756435,2472.2042184674929,2971.3993010426602,3423.0519948011442,3827.1622997429454,4183.7302158680641,4492.755743176499,0,0,0,0,0,0,0,0,0,0,0,0,0,0,0,0,0,0,0,0,0,0,0,0,0,0,0,0,0,0,0,0,0,0,0,0,0,0,0,0,0,0,0,0,0,0,0,0,0,0,0,0,0,0,0,0,{"$f":"BT47*BT48","v":0},0,0,0,0,0,0,0,0,0,0,0,0,0,0]
[null,"X(k)",null,null,{"$f":"IF(E48<0,1,0)","v":0},{"$f":"IF(E50=0,1,E50-SERIESSUM(E50,0,1,E48:CH48)/SERIESSUM(E50,0,1,E49:CG49))","v":1},{"$f":"IF(F50=0,1,F50-SERIESSUM(F50,0,1,$E$48:$CI$48)/SERIESSUM(F50,0,1,$E$49:$CH$49))","v":0.95774628162889164},{"$f":"IF(G50=0,1,G50-SERIESSUM(G50,0,1,$E$48:$CI$48)/SERIESSUM(G50,0,1,$E$49:$CH$49))","v":0.95245368758351112},0.95238071426278115,0.95238070064004066,0.9523807006400401,0.9523807006400401,0.9523807006400401,0.9523807006400401,0.9523807006400401,0.9523807006400401,0.9523807006400401,0.9523807006400401,0.9523807006400401,0.9523807006400401,0.9523807006400401,0.9523807006400401,0.9523807006400401,0.9523807006400401,0.9523807006400401,0.9523807006400401,0.9523807006400401,0.9523807006400401,0.9523807006400401,0.9523807006400401,0.9523807006400401,0.9523807006400401,0.9523807006400401,0.9523807006400401,0.9523807006400401,0.9523807006400401,0.9523807006400401,0.9523807006400401,0.9523807006400401,0.9523807006400401,0.9523807006400401,0.9523807006400401,0.9523807006400401,0.9523807006400401,0.9523807006400401,0.9523807006400401,0.9523807006400401,0.9523807006400401,0.9523807006400401,0.9523807006400401,0.9523807006400401,0.9523807006400401,0.9523807006400401,0.9523807006400401,0.9523807006400401,0.9523807006400401,0.9523807006400401,0.9523807006400401,0.9523807006400401,0.9523807006400401,0.9523807006400401,0.9523807006400401,0.9523807006400401,0.9523807006400401,0.9523807006400401,0.9523807006400401,0.9523807006400401,0.9523807006400401,0.9523807006400401,0.9523807006400401,0.9523807006400401,{"$f":"IF(BS50=0,1,BS50-SERIESSUM(BS50,0,1,$E$48:$CI$48)/SERIESSUM(BS50,0,1,$E$49:$CH$49))","v":0.9523807006400401},0.9523807006400401,0.9523807006400401,0.9523807006400401,0.9523807006400401,0.9523807006400401,0.9523807006400401,0.9523807006400401,0.9523807006400401,0.9523807006400401,0.9523807006400401,0.9523807006400401,0.9523807006400401,0.9523807006400401]
[null,"i",null,null,0,{"$f":"IF(E50=0,0,POWER(F50,-2)-1)","v":0},{"$f":"POWER(G50,-2)-1","v":9.0182109937560817E-2},0.1023316191118897,0.10250055130330282,0.10250058284337693,0.10250058284337826,0.10250058284337826,0.10250058284337826,0.10250058284337826,0.10250058284337826,0.10250058284337826,0.10250058284337826,0.10250058284337826,0.10250058284337826,0.10250058284337826,0.10250058284337826,0.10250058284337826,0.10250058284337826,0.10250058284337826,0.10250058284337826,0.10250058284337826,0.10250058284337826,0.10250058284337826,0.10250058284337826,0.10250058284337826,0.10250058284337826,0.10250058284337826,0.10250058284337826,0.10250058284337826,0.10250058284337826,0.10250058284337826,0.10250058284337826,0.10250058284337826,0.10250058284337826,0.10250058284337826,0.10250058284337826,0.10250058284337826,0.10250058284337826,0.10250058284337826,0.10250058284337826,0.10250058284337826,0.10250058284337826,0.10250058284337826,0.10250058284337826,0.10250058284337826,0.10250058284337826,0.10250058284337826,0.10250058284337826,0.10250058284337826,0.10250058284337826,0.10250058284337826,0.10250058284337826,0.10250058284337826,0.10250058284337826,0.10250058284337826,0.10250058284337826,0.10250058284337826,0.10250058284337826,0.10250058284337826,0.10250058284337826,0.10250058284337826,0.10250058284337826,0.10250058284337826,0.10250058284337826,0.10250058284337826,{"$f":"POWER(BS50,-2)-1","v":0.10250058284337826},0.10250058284337826,0.10250058284337826,0.10250058284337826,0.10250058284337826,0.10250058284337826,0.10250058284337826,0.10250058284337826,0.10250058284337826,0.10250058284337826,0.10250058284337826,0.10250058284337826,0.10250058284337826,0.10250058284337826,0.10250058284337826]
[]
[null,"I півріччя","I half a year"]
[null,"ІІ півріччя","II half a year"]

{"sheet":"Амортизація_Depreciation","index":9,"n_rows":153,"n_cols":36,"rows_kept":153,"cut":false,"hidden":false,"merged":[[1,0,2,1],[1,3,1,22]]}
[]
["РОЗРАХУНОК АМОРТИЗАЦІЇ ОСНОВНИХ ЗАСОБІВ / CALCULATION OF DEPRECIATION OF FIXED ASSETS",null,null,{"$f":"CONCATENATE(Головна_Summary!A2,\"/ \",Головна_Summary!K2)","v":"Будівництво СЕС 10 МВт/ Project name"},null,null,null,null,null,null,null,null,null,null,null,null,null,null,null,null,null,null,null,null,null,null,null,null,null,null,null,null,null,null,null,{"$f":"Головна_Summary!AD5","v":"тис.US$/ ths.US$"}]
[]
[null,"Група основних засобів / Group of fixed assets","Мін. термін користування","Термін корисного використання / Useful life","Доля в проекті / Project share",{"$f":"CFO!H4","v":2024},{"$f":"CFO!I4","v":2025},{"$f":"CFO!J4","v":2026},{"$f":"CFO!K4","v":2027},{"$f":"CFO!L4","v":2028},{"$f":"CFO!M4","v":2029},{"$f":"CFO!N4","v":2030},{"$f":"CFO!O4","v":2031},{"$f":"CFO!P4","v":2032},{"$f":"CFO!Q4","v":2033},{"$f":"CFO!R4","v":2034},{"$f":"CFO!S4","v":2035},{"$f":"CFO!T4","v":2036},{"$f":"CFO!U4","v":2037},{"$f":"CFO!V4","v":2038},{"$f":"CFO!W4","v":2039},{"$f":"CFO!X4","v":2040},{"$f":"CFO!Y4","v":2041},{"$f":"CFO!Z4","v":2042},{"$f":"CFO!AA4","v":2043},{"$f":"CFO!AB4","v":2044},{"$f":"CFO!AC4","v":2045},{"$f":"CFO!AD4","v":2046},{"$f":"CFO!AE4","v":2047},{"$f":"CFO!AF4","v":2048},{"$f":"CFO!AG4","v":2049},{"$f":"CFO!AH4","v":0},{"$f":"CFO!AI4","v":0},{"$f":"CFO!AJ4","v":0},{"$f":"CFO!AK4","v":0},{"$f":"'Грошові потоки _ Cash flows'!AM22","v":"Разом / Total"}]
[null,"Первісна вартість (введення об'єкта в експлуатацію) / Initial cost",null,null,{"$f":"E6+E19","v":1},{"$f":"F6+F19","v":0},4278.8149935014299,0,0,0,0,0,0,0,0,0,0,0,0,0,0,0,0,0,0,0,0,0,0,0,0,0,0,0,0,{"$f":"SUM(F5:AI5)","v":4278.8149935014299}]
[null,"Основні засоби: / fixed assets :",null,null,{"$f":"SUM(E7:E18)","v":1},{"$f":"SUM(F7:F18)","v":0},4278.8149935014299,0,0,0,0,0,0,0,0,0,0,0,0,0,0,0,0,0,0,0,0,0,0,0,0,0,0,0,0,4278.8149935014299]
[null,"Група 1 – земельні ділянки / Group 1 -ground sections","—",{"$f":"IF('Грошові потоки _ Cash flows'!E15>Амортизація_Depreciation!C7,'Грошові потоки _ Cash flows'!E15,Амортизація_Depreciation!C7)","v":"—"},null,{"$f":"'Фінансування_Financing (CFI)'!AD$32*Амортизація_Depreciation!$E7","v":0},{"$f":"'Фінансування_Financing (CFI)'!AE$32*Амортизація_Depreciation!$E7","v":0},{"$f":"'Фінансування_Financing (CFI)'!AF$32*Амортизація_Depreciation!$E7","v":0},{"$f":"'Фінансування_Financing (CFI)'!AG$32*Амортизація_Depreciation!$E7","v":0},{"$f":"'Фінансування_Financing (CFI)'!AH$32*Амортизація_Depreciation!$E7","v":0},{"$f":"'Фінансування_Financing (CFI)'!AI$32*Амортизація_Depreciation!$E7","v":0},{"$f":"'Фінансування_Financing (CFI)'!AJ$32*Амортизація_Depreciation!$E7","v":0},{"$f":"'Фінансування_Financing (CFI)'!AK$32*Амортизація_Depreciation!$E7","v":0},{"$f":"'Фінансування_Financing (CFI)'!AL$32*Амортизація_Depreciation!$E7","v":0},{"$f":"'Фінансування_Financing (CFI)'!AM$32*Амортизація_Depreciation!$E7","v":0},{"$f":"'Фінансування_Financing (CFI)'!AN$32*Амортизація_Depreciation!$E7","v":0},{"$f":"'Фінансування_Financing (CFI)'!AO$32*Амортизація_Depreciation!$E7","v":0},{"$f":"'Фінансування_Financing (CFI)'!AP$32*Амортизація_Depreciation!$E7","v":0},{"$f":"'Фінансування_Financing (CFI)'!AQ$32*Амортизація_Depreciation!$E7","v":0},{"$f":"'Фінансування_Financing (CFI)'!AR$32*Амортизація_Depreciation!$E7","v":0},{"$f":"'Фінансування_Financing (CFI)'!AS$32*Амортизація_Depreciation!$E7","v":0},{"$f":"'Фінансування_Financing (CFI)'!AT$32*Амортизація_Depreciation!$E7","v":0},{"$f":"'Фінансування_Financing (CFI)'!AU$32*Амортизація_Depreciation!$E7","v":0},{"$f":"'Фінансування_Financing (CFI)'!AV$32*Амортизація_Depreciation!$E7","v":0},{"$f":"'Фінансування_Financing (CFI)'!AW$32*Амортизація_Depreciation!$E7","v":0},{"$f":"'Фінансування_Financing (CFI)'!AX$32*Амортизація_Depreciation!$E7","v":0},{"$f":"'Фінансування_Financing (CFI)'!AY$32*Амортизація_Depreciation!$E7","v":0},{"$f":"'Фінансування_Financing (CFI)'!AZ$32*Амортизація_Depreciation!$E7","v":0},{"$f":"'Фінансування_Financing (CFI)'!BA$32*Амортизація_Depreciation!$E7","v":0},{"$f":"'Фінансування_Financing (CFI)'!BB$32*Амортизація_Depreciation!$E7","v":0},{"$f":"'Фінансування_Financing (CFI)'!BC$32*Амортизація_Depreciation!$E7","v":0},{"$f":"'Фінансування_Financing (CFI)'!BD$32*Амортизація_Depreciation!$E7","v":0},{"$f":"'Фінансування_Financing (CFI)'!BE$32*Амортизація_Depreciation!$E7","v":0},{"$f":"'Фінансування_Financing (CFI)'!BF$32*Амортизація_Depreciation!$E7","v":0},{"$f":"'Фінансування_Financing (CFI)'!BG$32*Амортизація_Depreciation!$E7","v":0},0]
[null,"Група 2 – капітальні витрати на поліпшення землі, не пов'язані з будівництвом / CAPEX on ground improvement not related to construction",15,{"$f":"IF('Грошові потоки _ Cash flows'!$E$15>Амортизація_Depreciation!C8, 'Грошові потоки _ Cash flows'!$E$15,Амортизація_Depreciation!C8)","v":25},null,{"$f":"'Фінансування_Financing (CFI)'!AD$32*Амортизація_Depreciation!$E8","v":0},{"$f":"'Фінансування_Financing (CFI)'!AE$32*Амортизація_Depreciation!$E8","v":0},{"$f":"'Фінансування_Financing (CFI)'!AF$32*Амортизація_Depreciation!$E8","v":0},{"$f":"'Фінансування_Financing (CFI)'!AG$32*Амортизація_Depreciation!$E8","v":0},{"$f":"'Фінансування_Financing (CFI)'!AH$32*Амортизація_Depreciation!$E8","v":0},{"$f":"'Фінансування_Financing (CFI)'!AI$32*Амортизація_Depreciation!$E8","v":0},{"$f":"'Фінансування_Financing (CFI)'!AJ$32*Амортизація_Depreciation!$E8","v":0},{"$f":"'Фінансування_Financing (CFI)'!AK$32*Амортизація_Depreciation!$E8","v":0},{"$f":"'Фінансування_Financing (CFI)'!AL$32*Амортизація_Depreciation!$E8","v":0},{"$f":"'Фінансування_Financing (CFI)'!AM$32*Амортизація_Depreciation!$E8","v":0},{"$f":"'Фінансування_Financing (CFI)'!AN$32*Амортизація_Depreciation!$E8","v":0},{"$f":"'Фінансування_Financing (CFI)'!AO$32*Амортизація_Depreciation!$E8","v":0},{"$f":"'Фінансування_Financing (CFI)'!AP$32*Амортизація_Depreciation!$E8","v":0},{"$f":"'Фінансування_Financing (CFI)'!AQ$32*Амортизація_Depreciation!$E8","v":0},{"$f":"'Фінансування_Financing (CFI)'!AR$32*Амортизація_Depreciation!$E8","v":0},{"$f":"'Фінансування_Financing (CFI)'!AS$32*Амортизація_Depreciation!$E8","v":0},{"$f":"'Фінансування_Financing (CFI)'!AT$32*Амортизація_Depreciation!$E8","v":0},{"$f":"'Фінансування_Financing (CFI)'!AU$32*Амортизація_Depreciation!$E8","v":0},{"$f":"'Фінансування_Financing (CFI)'!AV$32*Амортизація_Depreciation!$E8","v":0},{"$f":"'Фінансування_Financing (CFI)'!AW$32*Амортизація_Depreciation!$E8","v":0},{"$f":"'Фінансування_Financing (CFI)'!AX$32*Амортизація_Depreciation!$E8","v":0},{"$f":"'Фінансування_Financing (CFI)'!AY$32*Амортизація_Depreciation!$E8","v":0},{"$f":"'Фінансування_Financing (CFI)'!AZ$32*Амортизація_Depreciation!$E8","v":0},{"$f":"'Фінансування_Financing (CFI)'!BA$32*Амортизація_Depreciation!$E8","v":0},{"$f":"'Фінансування_Financing (CFI)'!BB$32*Амортизація_Depreciation!$E8","v":0},{"$f":"'Фінансування_Financing (CFI)'!BC$32*Амортизація_Depreciation!$E8","v":0},{"$f":"'Фінансування_Financing (CFI)'!BD$32*Амортизація_Depreciation!$E8","v":0},{"$f":"'Фінансування_Financing (CFI)'!BE$32*Амортизація_Depreciation!$E8","v":0},{"$f":"'Фінансування_Financing (CFI)'!BF$32*Амортизація_Depreciation!$E8","v":0},{"$f":"'Фінансування_Financing (CFI)'!BG$32*Амортизація_Depreciation!$E8","v":0},0]
[null,"Група 3 –  будівлі / buildings",20,{"$f":"IF('Грошові потоки _ Cash flows'!$E$15>Амортизація_Depreciation!C9, 'Грошові потоки _ Cash flows'!$E$15,Амортизація_Depreciation!C9)","v":25},null,{"$f":"'Фінансування_Financing (CFI)'!AD$32*Амортизація_Depreciation!$E9","v":0},{"$f":"'Фінансування_Financing (CFI)'!AE$32*Амортизація_Depreciation!$E9","v":0},{"$f":"'Фінансування_Financing (CFI)'!AF$32*Амортизація_Depreciation!$E9","v":0},{"$f":"'Фінансування_Financing (CFI)'!AG$32*Амортизація_Depreciation!$E9","v":0},{"$f":"'Фінансування_Financing (CFI)'!AH$32*Амортизація_Depreciation!$E9","v":0},{"$f":"'Фінансування_Financing (CFI)'!AI$32*Амортизація_Depreciation!$E9","v":0},{"$f":"'Фінансування_Financing (CFI)'!AJ$32*Амортизація_Depreciation!$E9","v":0},{"$f":"'Фінансування_Financing (CFI)'!AK$32*Амортизація_Depreciation!$E9","v":0},{"$f":"'Фінансування_Financing (CFI)'!AL$32*Амортизація_Depreciation!$E9","v":0},{"$f":"'Фінансування_Financing (CFI)'!AM$32*Амортизація_Depreciation!$E9","v":0},{"$f":"'Фінансування_Financing (CFI)'!AN$32*Амортизація_Depreciation!$E9","v":0},{"$f":"'Фінансування_Financing (CFI)'!AO$32*Амортизація_Depreciation!$E9","v":0},{"$f":"'Фінансування_Financing (CFI)'!AP$32*Амортизація_Depreciation!$E9","v":0},{"$f":"'Фінансування_Financing (CFI)'!AQ$32*Амортизація_Depreciation!$E9","v":0},{"$f":"'Фінансування_Financing (CFI)'!AR$32*Амортизація_Depreciation!$E9","v":0},{"$f":"'Фінансування_Financing (CFI)'!AS$32*Амортизація_Depreciation!$E9","v":0},{"$f":"'Фінансування_Financing (CFI)'!AT$32*Амортизація_Depreciation!$E9","v":0},{"$f":"'Фінансування_Financing (CFI)'!AU$32*Амортизація_Depreciation!$E9","v":0},{"$f":"'Фінансування_Financing (CFI)'!AV$32*Амортизація_Depreciation!$E9","v":0},{"$f":"'Фінансування_Financing (CFI)'!AW$32*Амортизація_Depreciation!$E9","v":0},{"$f":"'Фінансування_Financing (CFI)'!AX$32*Амортизація_Depreciation!$E9","v":0},{"$f":"'Фінансування_Financing (CFI)'!AY$32*Амортизація_Depreciation!$E9","v":0},{"$f":"'Фінансування_Financing (CFI)'!AZ$32*Амортизація_Depreciation!$E9","v":0},{"$f":"'Фінансування_Financing (CFI)'!BA$32*Амортизація_Depreciation!$E9","v":0},{"$f":"'Фінансування_Financing (CFI)'!BB$32*Амортизація_Depreciation!$E9","v":0},{"$f":"'Фінансування_Financing (CFI)'!BC$32*Амортизація_Depreciation!$E9","v":0},{"$f":"'Фінансування_Financing (CFI)'!BD$32*Амортизація_Depreciation!$E9","v":0},{"$f":"'Фінансування_Financing (CFI)'!BE$32*Амортизація_Depreciation!$E9","v":0},{"$f":"'Фінансування_Financing (CFI)'!BF$32*Амортизація_Depreciation!$E9","v":0},{"$f":"'Фінансування_Financing (CFI)'!BG$32*Амортизація_Depreciation!$E9","v":0},0]
[null,"споруди / constructions",15,{"$f":"IF('Грошові потоки _ Cash flows'!$E$15>Амортизація_Depreciation!C10, 'Грошові потоки _ Cash flows'!$E$15,Амортизація_Depreciation!C10)","v":25},null,{"$f":"'Фінансування_Financing (CFI)'!AD$32*Амортизація_Depreciation!$E10","v":0},{"$f":"'Фінансування_Financing (CFI)'!AE$32*Амортизація_Depreciation!$E10","v":0},{"$f":"'Фінансування_Financing (CFI)'!AF$32*Амортизація_Depreciation!$E10","v":0},{"$f":"'Фінансування_Financing (CFI)'!AG$32*Амортизація_Depreciation!$E10","v":0},{"$f":"'Фінансування_Financing (CFI)'!AH$32*Амортизація_Depreciation!$E10","v":0},{"$f":"'Фінансування_Financing (CFI)'!AI$32*Амортизація_Depreciation!$E10","v":0},{"$f":"'Фінансування_Financing (CFI)'!AJ$32*Амортизація_Depreciation!$E10","v":0},{"$f":"'Фінансування_Financing (CFI)'!AK$32*Амортизація_Depreciation!$E10","v":0},{"$f":"'Фінансування_Financing (CFI)'!AL$32*Амортизація_Depreciation!$E10","v":0},{"$f":"'Фінансування_Financing (CFI)'!AM$32*Амортизація_Depreciation!$E10","v":0},{"$f":"'Фінансування_Financing (CFI)'!AN$32*Амортизація_Depreciation!$E10","v":0},{"$f":"'Фінансування_Financing (CFI)'!AO$32*Амортизація_Depreciation!$E10","v":0},{"$f":"'Фінансування_Financing (CFI)'!AP$32*Амортизація_Depreciation!$E10","v":0},{"$f":"'Фінансування_Financing (CFI)'!AQ$32*Амортизація_Depreciation!$E10","v":0},{"$f":"'Фінансування_Financing (CFI)'!AR$32*Амортизація_Depreciation!$E10","v":0},{"$f":"'Фінансування_Financing (CFI)'!AS$32*Амортизація_Depreciation!$E10","v":0},{"$f":"'Фінансування_Financing (CFI)'!AT$32*Амортизація_Depreciation!$E10","v":0},{"$f":"'Фінансування_Financing (CFI)'!AU$32*Амортизація_Depreciation!$E10","v":0},{"$f":"'Фінансування_Financing (CFI)'!AV$32*Амортизація_Depreciation!$E10","v":0},{"$f":"'Фінансування_Financing (CFI)'!AW$32*Амортизація_Depreciation!$E10","v":0},{"$f":"'Фінансування_Financing (CFI)'!AX$32*Амортизація_Depreciation!$E10","v":0},{"$f":"'Фінансування_Financing (CFI)'!AY$32*Амортизація_Depreciation!$E10","v":0},{"$f":"'Фінансування_Financing (CFI)'!AZ$32*Амортизація_Depreciation!$E10","v":0},{"$f":"'Фінансування_Financing (CFI)'!BA$32*Амортизація_Depreciation!$E10","v":0},{"$f":"'Фінансування_Financing (CFI)'!BB$32*Амортизація_Depreciation!$E10","v":0},{"$f":"'Фінансування_Financing (CFI)'!BC$32*Амортизація_Depreciation!$E10","v":0},{"$f":"'Фінансування_Financing (CFI)'!BD$32*Амортизація_Depreciation!$E10","v":0},{"$f":"'Фінансування_Financing (CFI)'!BE$32*Амортизація_Depreciation!$E10","v":0},{"$f":"'Фінансування_Financing (CFI)'!BF$32*Амортизація_Depreciation!$E10","v":0},{"$f":"'Фінансування_Financing (CFI)'!BG$32*Амортизація_Depreciation!$E10","v":0},0]
[null,"передавальні пристрої / transmitting devices",10,{"$f":"IF('Грошові потоки _ Cash flows'!$E$15>Амортизація_Depreciation!C11, 'Грошові потоки _ Cash flows'!$E$15,Амортизація_Depreciation!C11)","v":25},null,{"$f":"'Фінансування_Financing (CFI)'!AD$32*Амортизація_Depreciation!$E11","v":0},{"$f":"'Фінансування_Financing (CFI)'!AE$32*Амортизація_Depreciation!$E11","v":0},{"$f":"'Фінансування_Financing (CFI)'!AF$32*Амортизація_Depreciation!$E11","v":0},{"$f":"'Фінансування_Financing (CFI)'!AG$32*Амортизація_Depreciation!$E11","v":0},{"$f":"'Фінансування_Financing (CFI)'!AH$32*Амортизація_Depreciation!$E11","v":0},{"$f":"'Фінансування_Financing (CFI)'!AI$32*Амортизація_Depreciation!$E11","v":0},{"$f":"'Фінансування_Financing (CFI)'!AJ$32*Амортизація_Depreciation!$E11","v":0},{"$f":"'Фінансування_Financing (CFI)'!AK$32*Амортизація_Depreciation!$E11","v":0},{"$f":"'Фінансування_Financing (CFI)'!AL$32*Амортизація_Depreciation!$E11","v":0},{"$f":"'Фінансування_Financing (CFI)'!AM$32*Амортизація_Depreciation!$E11","v":0},{"$f":"'Фінансування_Financing (CFI)'!AN$32*Амортизація_Depreciation!$E11","v":0},{"$f":"'Фінансування_Financing (CFI)'!AO$32*Амортизація_Depreciation!$E11","v":0},{"$f":"'Фінансування_Financing (CFI)'!AP$32*Амортизація_Depreciation!$E11","v":0},{"$f":"'Фінансування_Financing (CFI)'!AQ$32*Амортизація_Depreciation!$E11","v":0},{"$f":"'Фінансування_Financing (CFI)'!AR$32*Амортизація_Depreciation!$E11","v":0},{"$f":"'Фінансування_Financing (CFI)'!AS$32*Амортизація_Depreciation!$E11","v":0},{"$f":"'Фінансування_Financing (CFI)'!AT$32*Амортизація_Depreciation!$E11","v":0},{"$f":"'Фінансування_Financing (CFI)'!AU$32*Амортизація_Depreciation!$E11","v":0},{"$f":"'Фінансування_Financing (CFI)'!AV$32*Амортизація_Depreciation!$E11","v":0},{"$f":"'Фінансування_Financing (CFI)'!AW$32*Амортизація_Depreciation!$E11","v":0},{"$f":"'Фінансування_Financing (CFI)'!AX$32*Амортизація_Depreciation!$E11","v":0},{"$f":"'Фінансування_Financing (CFI)'!AY$32*Амортизація_Depreciation!$E11","v":0},{"$f":"'Фінансування_Financing (CFI)'!AZ$32*Амортизація_Depreciation!$E11","v":0},{"$f":"'Фінансування_Financing (CFI)'!BA$32*Амортизація_Depreciation!$E11","v":0},{"$f":"'Фінансування_Financing (CFI)'!BB$32*Амортизація_Depreciation!$E11","v":0},{"$f":"'Фінансування_Financing (CFI)'!BC$32*Амортизація_Depreciation!$E11","v":0},{"$f":"'Фінансування_Financing (CFI)'!BD$32*Амортизація_Depreciation!$E11","v":0},{"$f":"'Фінансування_Financing (CFI)'!BE$32*Амортизація_Depreciation!$E11","v":0},{"$f":"'Фінансування_Financing (CFI)'!BF$32*Амортизація_Depreciation!$E11","v":0},{"$f":"'Фінансування_Financing (CFI)'!BG$32*Амортизація_Depreciation!$E11","v":0},0]
[null,"Група 4 –  машини та обладнання / Machines and equipment",5,{"$f":"IF('Грошові потоки _ Cash flows'!$E$15>Амортизація_Depreciation!C12, 'Грошові потоки _ Cash flows'!$E$15,Амортизація_Depreciation!C12)","v":25},1,{"$f":"'Фінансування_Financing (CFI)'!AD$32*Амортизація_Depreciation!$E12","v":0},{"$f":"'Фінансування_Financing (CFI)'!AE$32*Амортизація_Depreciation!$E12","v":4278.8149935014299},{"$f":"'Фінансування_Financing (CFI)'!AF$32*Амортизація_Depreciation!$E12","v":0},{"$f":"'Фінансування_Financing (CFI)'!AG$32*Амортизація_Depreciation!$E12","v":0},{"$f":"'Фінансування_Financing (CFI)'!AH$32*Амортизація_Depreciation!$E12","v":0},{"$f":"'Фінансування_Financing (CFI)'!AI$32*Амортизація_Depreciation!$E12","v":0},{"$f":"'Фінансування_Financing (CFI)'!AJ$32*Амортизація_Depreciation!$E12","v":0},{"$f":"'Фінансування_Financing (CFI)'!AK$32*Амортизація_Depreciation!$E12","v":0},{"$f":"'Фінансування_Financing (CFI)'!AL$32*Амортизація_Depreciation!$E12","v":0},{"$f":"'Фінансування_Financing (CFI)'!AM$32*Амортизація_Depreciation!$E12","v":0},{"$f":"'Фінансування_Financing (CFI)'!AN$32*Амортизація_Depreciation!$E12","v":0},{"$f":"'Фінансування_Financing (CFI)'!AO$32*Амортизація_Depreciation!$E12","v":0},{"$f":"'Фінансування_Financing (CFI)'!AP$32*Амортизація_Depreciation!$E12","v":0},{"$f":"'Фінансування_Financing (CFI)'!AQ$32*Амортизація_Depreciation!$E12","v":0},{"$f":"'Фінансування_Financing (CFI)'!AR$32*Амортизація_Depreciation!$E12","v":0},{"$f":"'Фінансування_Financing (CFI)'!AS$32*Амортизація_Depreciation!$E12","v":0},{"$f":"'Фінансування_Financing (CFI)'!AT$32*Амортизація_Depreciation!$E12","v":0},{"$f":"'Фінансування_Financing (CFI)'!AU$32*Амортизація_Depreciation!$E12","v":0},{"$f":"'Фінансування_Financing (CFI)'!AV$32*Амортизація_Depreciation!$E12","v":0},{"$f":"'Фінансування_Financing (CFI)'!AW$32*Амортизація_Depreciation!$E12","v":0},{"$f":"'Фінансування_Financing (CFI)'!AX$32*Амортизація_Depreciation!$E12","v":0},{"$f":"'Фінансування_Financing (CFI)'!AY$32*Амортизація_Depreciation!$E12","v":0},{"$f":"'Фінансування_Financing (CFI)'!AZ$32*Амортизація_Depreciation!$E12","v":0},{"$f":"'Фінансування_Financing (CFI)'!BA$32*Амортизація_Depreciation!$E12","v":0},{"$f":"'Фінансування_Financing (CFI)'!BB$32*Амортизація_Depreciation!$E12","v":0},{"$f":"'Фінансування_Financing (CFI)'!BC$32*Амортизація_Depreciation!$E12","v":0},{"$f":"'Фінансування_Financing (CFI)'!BD$32*Амортизація_Depreciation!$E12","v":0},{"$f":"'Фінансування_Financing (CFI)'!BE$32*Амортизація_Depreciation!$E12","v":0},{"$f":"'Фінансування_Financing (CFI)'!BF$32*Амортизація_Depreciation!$E12","v":0},{"$f":"'Фінансування_Financing (CFI)'!BG$32*Амортизація_Depreciation!$E12","v":0},4278.8149935014299]
[null,"Електронно-обчислювальні машини, інші машини для автоматичного оброблення інформації, пов'язані з ними засоби зчитування або друку інформації, пов'язані з ними комп'ютерні програми (крім програм, витрати на придбання яких визнаються роялті, та / або програм, які визнаються нематеріальним активів) , інші інформаційні системи, комутатори, маршрутизатори, модулі, модеми, джерела безперебійного живлення та засоби їх підключення до телекомунікаційних мереж, телефони (в тому числі мобільні), мікрофони і рації, вартість яких перевищує 2500 гривень.",2,{"$f":"IF('Грошові потоки _ Cash flows'!$E$15>Амортизація_Depreciation!C13, 'Грошові потоки _ Cash flows'!$E$15,Амортизація_Depreciation!C13)","v":25},null,{"$f":"'Фінансування_Financing (CFI)'!AD$32*Амортизація_Depreciation!$E13","v":0},{"$f":"'Фінансування_Financing (CFI)'!AE$32*Амортизація_Depreciation!$E13","v":0},{"$f":"'Фінансування_Financing (CFI)'!AF$32*Амортизація_Depreciation!$E13","v":0},{"$f":"'Фінансування_Financing (CFI)'!AG$32*Амортизація_Depreciation!$E13","v":0},{"$f":"'Фінансування_Financing (CFI)'!AH$32*Амортизація_Depreciation!$E13","v":0},{"$f":"'Фінансування_Financing (CFI)'!AI$32*Амортизація_Depreciation!$E13","v":0},{"$f":"'Фінансування_Financing (CFI)'!AJ$32*Амортизація_Depreciation!$E13","v":0},{"$f":"'Фінансування_Financing (CFI)'!AK$32*Амортизація_Depreciation!$E13","v":0},{"$f":"'Фінансування_Financing (CFI)'!AL$32*Амортизація_Depreciation!$E13","v":0},{"$f":"'Фінансування_Financing (CFI)'!AM$32*Амортизація_Depreciation!$E13","v":0},{"$f":"'Фінансування_Financing (CFI)'!AN$32*Амортизація_Depreciation!$E13","v":0},{"$f":"'Фінансування_Financing (CFI)'!AO$32*Амортизація_Depreciation!$E13","v":0},{"$f":"'Фінансування_Financing (CFI)'!AP$32*Амортизація_Depreciation!$E13","v":0},{"$f":"'Фінансування_Financing (CFI)'!AQ$32*Амортизація_Depreciation!$E13","v":0},{"$f":"'Фінансування_Financing (CFI)'!AR$32*Амортизація_Depreciation!$E13","v":0},{"$f":"'Фінансування_Financing (CFI)'!AS$32*Амортизація_Depreciation!$E13","v":0},{"$f":"'Фінансування_Financing (CFI)'!AT$32*Амортизація_Depreciation!$E13","v":0},{"$f":"'Фінансування_Financing (CFI)'!AU$32*Амортизація_Depreciation!$E13","v":0},{"$f":"'Фінансування_Financing (CFI)'!AV$32*Амортизація_Depreciation!$E13","v":0},{"$f":"'Фінансування_Financing (CFI)'!AW$32*Амортизація_Depreciation!$E13","v":0},{"$f":"'Фінансування_Financing (CFI)'!AX$32*Амортизація_Depreciation!$E13","v":0},{"$f":"'Фінансування_Financing (CFI)'!AY$32*Амортизація_Depreciation!$E13","v":0},{"$f":"'Фінансування_Financing (CFI)'!AZ$32*Амортизація_Depreciation!$E13","v":0},{"$f":"'Фінансування_Financing (CFI)'!BA$32*Амортизація_Depreciation!$E13","v":0},{"$f":"'Фінансування_Financing (CFI)'!BB$32*Амортизація_Depreciation!$E13","v":0},{"$f":"'Фінансування_Financing (CFI)'!BC$32*Амортизація_Depreciation!$E13","v":0},{"$f":"'Фінансування_Financing (CFI)'!BD$32*Амортизація_Depreciation!$E13","v":0},{"$f":"'Фінансування_Financing (CFI)'!BE$32*Амортизація_Depreciation!$E13","v":0},{"$f":"'Фінансування_Financing (CFI)'!BF$32*Амортизація_Depreciation!$E13","v":0},{"$f":"'Фінансування_Financing (CFI)'!BG$32*Амортизація_Depreciation!$E13","v":0},0]
[null,"Група 5 – транспортні засоби / vehicles",5,{"$f":"IF('Грошові потоки _ Cash flows'!$E$15>Амортизація_Depreciation!C14, 'Грошові потоки _ Cash flows'!$E$15,Амортизація_Depreciation!C14)","v":25},null,{"$f":"'Фінансування_Financing (CFI)'!AD$32*Амортизація_Depreciation!$E14","v":0},{"$f":"'Фінансування_Financing (CFI)'!AE$32*Амортизація_Depreciation!$E14","v":0},{"$f":"'Фінансування_Financing (CFI)'!AF$32*Амортизація_Depreciation!$E14","v":0},{"$f":"'Фінансування_Financing (CFI)'!AG$32*Амортизація_Depreciation!$E14","v":0},{"$f":"'Фінансування_Financing (CFI)'!AH$32*Амортизація_Depreciation!$E14","v":0},{"$f":"'Фінансування_Financing (CFI)'!AI$32*Амортизація_Depreciation!$E14","v":0},{"$f":"'Фінансування_Financing (CFI)'!AJ$32*Амортизація_Depreciation!$E14","v":0},{"$f":"'Фінансування_Financing (CFI)'!AK$32*Амортизація_Depreciation!$E14","v":0},{"$f":"'Фінансування_Financing (CFI)'!AL$32*Амортизація_Depreciation!$E14","v":0},{"$f":"'Фінансування_Financing (CFI)'!AM$32*Амортизація_Depreciation!$E14","v":0},{"$f":"'Фінансування_Financing (CFI)'!AN$32*Амортизація_Depreciation!$E14","v":0},{"$f":"'Фінансування_Financing (CFI)'!AO$32*Амортизація_Depreciation!$E14","v":0},{"$f":"'Фінансування_Financing (CFI)'!AP$32*Амортизація_Depreciation!$E14","v":0},{"$f":"'Фінансування_Financing (CFI)'!AQ$32*Амортизація_Depreciation!$E14","v":0},{"$f":"'Фінансування_Financing (CFI)'!AR$32*Амортизація_Depreciation!$E14","v":0},{"$f":"'Фінансування_Financing (CFI)'!AS$32*Амортизація_Depreciation!$E14","v":0},{"$f":"'Фінансування_Financing (CFI)'!AT$32*Амортизація_Depreciation!$E14","v":0},{"$f":"'Фінансування_Financing (CFI)'!AU$32*Амортизація_Depreciation!$E14","v":0},{"$f":"'Фінансування_Financing (CFI)'!AV$32*Амортизація_Depreciation!$E14","v":0},{"$f":"'Фінансування_Financing (CFI)'!AW$32*Амортизація_Depreciation!$E14","v":0},{"$f":"'Фінансування_Financing (CFI)'!AX$32*Амортизація_Depreciation!$E14","v":0},{"$f":"'Фінансування_Financing (CFI)'!AY$32*Амортизація_Depreciation!$E14","v":0},{"$f":"'Фінансування_Financing (CFI)'!AZ$32*Амортизація_Depreciation!$E14","v":0},{"$f":"'Фінансування_Financing (CFI)'!BA$32*Амортизація_Depreciation!$E14","v":0},{"$f":"'Фінансування_Financing (CFI)'!BB$32*Амортизація_Depreciation!$E14","v":0},{"$f":"'Фінансування_Financing (CFI)'!BC$32*Амортизація_Depreciation!$E14","v":0},{"$f":"'Фінансування_Financing (CFI)'!BD$32*Амортизація_Depreciation!$E14","v":0},{"$f":"'Фінансування_Financing (CFI)'!BE$32*Амортизація_Depreciation!$E14","v":0},{"$f":"'Фінансування_Financing (CFI)'!BF$32*Амортизація_Depreciation!$E14","v":0},{"$f":"'Фінансування_Financing (CFI)'!BG$32*Амортизація_Depreciation!$E14","v":0},0]
[null,"Група 6 – інструменти, прилади, інвентар (меблі) / tools, devices, inventory (furniture)",4,{"$f":"IF('Грошові потоки _ Cash flows'!$E$15>Амортизація_Depreciation!C15, 'Грошові потоки _ Cash flows'!$E$15,Амортизація_Depreciation!C15)","v":25},null,{"$f":"'Фінансування_Financing (CFI)'!AD$32*Амортизація_Depreciation!$E15","v":0},{"$f":"'Фінансування_Financing (CFI)'!AE$32*Амортизація_Depreciation!$E15","v":0},{"$f":"'Фінансування_Financing (CFI)'!AF$32*Амортизація_Depreciation!$E15","v":0},{"$f":"'Фінансування_Financing (CFI)'!AG$32*Амортизація_Depreciation!$E15","v":0},{"$f":"'Фінансування_Financing (CFI)'!AH$32*Амортизація_Depreciation!$E15","v":0},{"$f":"'Фінансування_Financing (CFI)'!AI$32*Амортизація_Depreciation!$E15","v":0},{"$f":"'Фінансування_Financing (CFI)'!AJ$32*Амортизація_Depreciation!$E15","v":0},{"$f":"'Фінансування_Financing (CFI)'!AK$32*Амортизація_Depreciation!$E15","v":0},{"$f":"'Фінансування_Financing (CFI)'!AL$32*Амортизація_Depreciation!$E15","v":0},{"$f":"'Фінансування_Financing (CFI)'!AM$32*Амортизація_Depreciation!$E15","v":0},{"$f":"'Фінансування_Financing (CFI)'!AN$32*Амортизація_Depreciation!$E15","v":0},{"$f":"'Фінансування_Financing (CFI)'!AO$32*Амортизація_Depreciation!$E15","v":0},{"$f":"'Фінансування_Financing (CFI)'!AP$32*Амортизація_Depreciation!$E15","v":0},{"$f":"'Фінансування_Financing (CFI)'!AQ$32*Амортизація_Depreciation!$E15","v":0},{"$f":"'Фінансування_Financing (CFI)'!AR$32*Амортизація_Depreciation!$E15","v":0},{"$f":"'Фінансування_Financing (CFI)'!AS$32*Амортизація_Depreciation!$E15","v":0},{"$f":"'Фінансування_Financing (CFI)'!AT$32*Амортизація_Depreciation!$E15","v":0},{"$f":"'Фінансування_Financing (CFI)'!AU$32*Амортизація_Depreciation!$E15","v":0},{"$f":"'Фінансування_Financing (CFI)'!AV$32*Амортизація_Depreciation!$E15","v":0},{"$f":"'Фінансування_Financing (CFI)'!AW$32*Амортизація_Depreciation!$E15","v":0},{"$f":"'Фінансування_Financing (CFI)'!AX$32*Амортизація_Depreciation!$E15","v":0},{"$f":"'Фінансування_Financing (CFI)'!AY$32*Амортизація_Depreciation!$E15","v":0},{"$f":"'Фінансування_Financing (CFI)'!AZ$32*Амортизація_Depreciation!$E15","v":0},{"$f":"'Фінансування_Financing (CFI)'!BA$32*Амортизація_Depreciation!$E15","v":0},{"$f":"'Фінансування_Financing (CFI)'!BB$32*Амортизація_Depreciation!$E15","v":0},{"$f":"'Фінансування_Financing (CFI)'!BC$32*Амортизація_Depreciation!$E15","v":0},{"$f":"'Фінансування_Financing (CFI)'!BD$32*Амортизація_Depreciation!$E15","v":0},{"$f":"'Фінансування_Financing (CFI)'!BE$32*Амортизація_Depreciation!$E15","v":0},{"$f":"'Фінансування_Financing (CFI)'!BF$32*Амортизація_Depreciation!$E15","v":0},{"$f":"'Фінансування_Financing (CFI)'!BG$32*Амортизація_Depreciation!$E15","v":0},0]
[null,"Група 7 – тварини / animals",6,{"$f":"IF('Грошові потоки _ Cash flows'!$E$15>Амортизація_Depreciation!C16, 'Грошові потоки _ Cash flows'!$E$15,Амортизація_Depreciation!C16)","v":25},null,{"$f":"'Фінансування_Financing (CFI)'!AD$32*Амортизація_Depreciation!$E16","v":0},{"$f":"'Фінансування_Financing (CFI)'!AE$32*Амортизація_Depreciation!$E16","v":0},{"$f":"'Фінансування_Financing (CFI)'!AF$32*Амортизація_Depreciation!$E16","v":0},{"$f":"'Фінансування_Financing (CFI)'!AG$32*Амортизація_Depreciation!$E16","v":0},{"$f":"'Фінансування_Financing (CFI)'!AH$32*Амортизація_Depreciation!$E16","v":0},{"$f":"'Фінансування_Financing (CFI)'!AI$32*Амортизація_Depreciation!$E16","v":0},{"$f":"'Фінансування_Financing (CFI)'!AJ$32*Амортизація_Depreciation!$E16","v":0},{"$f":"'Фінансування_Financing (CFI)'!AK$32*Амортизація_Depreciation!$E16","v":0},{"$f":"'Фінансування_Financing (CFI)'!AL$32*Амортизація_Depreciation!$E16","v":0},{"$f":"'Фінансування_Financing (CFI)'!AM$32*Амортизація_Depreciation!$E16","v":0},{"$f":"'Фінансування_Financing (CFI)'!AN$32*Амортизація_Depreciation!$E16","v":0},{"$f":"'Фінансування_Financing (CFI)'!AO$32*Амортизація_Depreciation!$E16","v":0},{"$f":"'Фінансування_Financing (CFI)'!AP$32*Амортизація_Depreciation!$E16","v":0},{"$f":"'Фінансування_Financing (CFI)'!AQ$32*Амортизація_Depreciation!$E16","v":0},{"$f":"'Фінансування_Financing (CFI)'!AR$32*Амортизація_Depreciation!$E16","v":0},{"$f":"'Фінансування_Financing (CFI)'!AS$32*Амортизація_Depreciation!$E16","v":0},{"$f":"'Фінансування_Financing (CFI)'!AT$32*Амортизація_Depreciation!$E16","v":0},{"$f":"'Фінансування_Financing (CFI)'!AU$32*Амортизація_Depreciation!$E16","v":0},{"$f":"'Фінансування_Financing (CFI)'!AV$32*Амортизація_Depreciation!$E16","v":0},{"$f":"'Фінансування_Financing (CFI)'!AW$32*Амортизація_Depreciation!$E16","v":0},{"$f":"'Фінансування_Financing (CFI)'!AX$32*Амортизація_Depreciation!$E16","v":0},{"$f":"'Фінансування_Financing (CFI)'!AY$32*Амортизація_Depreciation!$E16","v":0},{"$f":"'Фінансування_Financing (CFI)'!AZ$32*Амортизація_Depreciation!$E16","v":0},{"$f":"'Фінансування_Financing (CFI)'!BA$32*Амортизація_Depreciation!$E16","v":0},{"$f":"'Фінансування_Financing (CFI)'!BB$32*Амортизація_Depreciation!$E16","v":0},{"$f":"'Фінансування_Financing (CFI)'!BC$32*Амортизація_Depreciation!$E16","v":0},{"$f":"'Фінансування_Financing (CFI)'!BD$32*Амортизація_Depreciation!$E16","v":0},{"$f":"'Фінансування_Financing (CFI)'!BE$32*Амортизація_Depreciation!$E16","v":0},{"$f":"'Фінансування_Financing (CFI)'!BF$32*Амортизація_Depreciation!$E16","v":0},{"$f":"'Фінансування_Financing (CFI)'!BG$32*Амортизація_Depreciation!$E16","v":0},0]
[null,"Група 8 – багаторічні насадження / perennial plantings",10,{"$f":"IF('Грошові потоки _ Cash flows'!$E$15>Амортизація_Depreciation!C17, 'Грошові потоки _ Cash flows'!$E$15,Амортизація_Depreciation!C17)","v":25},null,{"$f":"'Фінансування_Financing (CFI)'!AD$32*Амортизація_Depreciation!$E17","v":0},{"$f":"'Фінансування_Financing (CFI)'!AE$32*Амортизація_Depreciation!$E17","v":0},{"$f":"'Фінансування_Financing (CFI)'!AF$32*Амортизація_Depreciation!$E17","v":0},{"$f":"'Фінансування_Financing (CFI)'!AG$32*Амортизація_Depreciation!$E17","v":0},{"$f":"'Фінансування_Financing (CFI)'!AH$32*Амортизація_Depreciation!$E17","v":0},{"$f":"'Фінансування_Financing (CFI)'!AI$32*Амортизація_Depreciation!$E17","v":0},{"$f":"'Фінансування_Financing (CFI)'!AJ$32*Амортизація_Depreciation!$E17","v":0},{"$f":"'Фінансування_Financing (CFI)'!AK$32*Амортизація_Depreciation!$E17","v":0},{"$f":"'Фінансування_Financing (CFI)'!AL$32*Амортизація_Depreciation!$E17","v":0},{"$f":"'Фінансування_Financing (CFI)'!AM$32*Амортизація_Depreciation!$E17","v":0},{"$f":"'Фінансування_Financing (CFI)'!AN$32*Амортизація_Depreciation!$E17","v":0},{"$f":"'Фінансування_Financing (CFI)'!AO$32*Амортизація_Depreciation!$E17","v":0},{"$f":"'Фінансування_Financing (CFI)'!AP$32*Амортизація_Depreciation!$E17","v":0},{"$f":"'Фінансування_Financing (CFI)'!AQ$32*Амортизація_Depreciation!$E17","v":0},{"$f":"'Фінансування_Financing (CFI)'!AR$32*Амортизація_Depreciation!$E17","v":0},{"$f":"'Фінансування_Financing (CFI)'!AS$32*Амортизація_Depreciation!$E17","v":0},{"$f":"'Фінансування_Financing (CFI)'!AT$32*Амортизація_Depreciation!$E17","v":0},{"$f":"'Фінансування_Financing (CFI)'!AU$32*Амортизація_Depreciation!$E17","v":0},{"$f":"'Фінансування_Financing (CFI)'!AV$32*Амортизація_Depreciation!$E17","v":0},{"$f":"'Фінансування_Financing (CFI)'!AW$32*Амортизація_Depreciation!$E17","v":0},{"$f":"'Фінансування_Financing (CFI)'!AX$32*Амортизація_Depreciation!$E17","v":0},{"$f":"'Фінансування_Financing (CFI)'!AY$32*Амортизація_Depreciation!$E17","v":0},{"$f":"'Фінансування_Financing (CFI)'!AZ$32*Амортизація_Depreciation!$E17","v":0},{"$f":"'Фінансування_Financing (CFI)'!BA$32*Амортизація_Depreciation!$E17","v":0},{"$f":"'Фінансування_Financing (CFI)'!BB$32*Амортизація_Depreciation!$E17","v":0},{"$f":"'Фінансування_Financing (CFI)'!BC$32*Амортизація_Depreciation!$E17","v":0},{"$f":"'Фінансування_Financing (CFI)'!BD$32*Амортизація_Depreciation!$E17","v":0},{"$f":"'Фінансування_Financing (CFI)'!BE$32*Амортизація_Depreciation!$E17","v":0},{"$f":"'Фінансування_Financing (CFI)'!BF$32*Амортизація_Depreciation!$E17","v":0},{"$f":"'Фінансування_Financing (CFI)'!BG$32*Амортизація_Depreciation!$E17","v":0},0]
[null,"Група 9 – інші основні засоби / other fixed assets",12,{"$f":"IF('Грошові потоки _ Cash flows'!$E$15>Амортизація_Depreciation!C18, 'Грошові потоки _ Cash flows'!$E$15,Амортизація_Depreciation!C18)","v":25},null,{"$f":"'Фінансування_Financing (CFI)'!AD$32*Амортизація_Depreciation!$E18","v":0},{"$f":"'Фінансування_Financing (CFI)'!AE$32*Амортизація_Depreciation!$E18","v":0},{"$f":"'Фінансування_Financing (CFI)'!AF$32*Амортизація_Depreciation!$E18","v":0},{"$f":"'Фінансування_Financing (CFI)'!AG$32*Амортизація_Depreciation!$E18","v":0},{"$f":"'Фінансування_Financing (CFI)'!AH$32*Амортизація_Depreciation!$E18","v":0},{"$f":"'Фінансування_Financing (CFI)'!AI$32*Амортизація_Depreciation!$E18","v":0},{"$f":"'Фінансування_Financing (CFI)'!AJ$32*Амортизація_Depreciation!$E18","v":0},{"$f":"'Фінансування_Financing (CFI)'!AK$32*Амортизація_Depreciation!$E18","v":0},{"$f":"'Фінансування_Financing (CFI)'!AL$32*Амортизація_Depreciation!$E18","v":0},{"$f":"'Фінансування_Financing (CFI)'!AM$32*Амортизація_Depreciation!$E18","v":0},{"$f":"'Фінансування_Financing (CFI)'!AN$32*Амортизація_Depreciation!$E18","v":0},{"$f":"'Фінансування_Financing (CFI)'!AO$32*Амортизація_Depreciation!$E18","v":0},{"$f":"'Фінансування_Financing (CFI)'!AP$32*Амортизація_Depreciation!$E18","v":0},{"$f":"'Фінансування_Financing (CFI)'!AQ$32*Амортизація_Depreciation!$E18","v":0},{"$f":"'Фінансування_Financing (CFI)'!AR$32*Амортизація_Depreciation!$E18","v":0},{"$f":"'Фінансування_Financing (CFI)'!AS$32*Амортизація_Depreciation!$E18","v":0},{"$f":"'Фінансування_Financing (CFI)'!AT$32*Амортизація_Depreciation!$E18","v":0},{"$f":"'Фінансування_Financing (CFI)'!AU$32*Амортизація_Depreciation!$E18","v":0},{"$f":"'Фінансування_Financing (CFI)'!AV$32*Амортизація_Depreciation!$E18","v":0},{"$f":"'Фінансування_Financing (CFI)'!AW$32*Амортизація_Depreciation!$E18","v":0},{"$f":"'Фінансування_Financing (CFI)'!AX$32*Амортизація_Depreciation!$E18","v":0},{"$f":"'Фінансування_Financing (CFI)'!AY$32*Амортизація_Depreciation!$E18","v":0},{"$f":"'Фінансування_Financing (CFI)'!AZ$32*Амортизація_Depreciation!$E18","v":0},{"$f":"'Фінансування_Financing (CFI)'!BA$32*Амортизація_Depreciation!$E18","v":0},{"$f":"'Фінансування_Financing (CFI)'!BB$32*Амортизація_Depreciation!$E18","v":0},{"$f":"'Фінансування_Financing (CFI)'!BC$32*Амортизація_Depreciation!$E18","v":0},{"$f":"'Фінансування_Financing (CFI)'!BD$32*Амортизація_Depreciation!$E18","v":0},{"$f":"'Фінансування_Financing (CFI)'!BE$32*Амортизація_Depreciation!$E18","v":0},{"$f":"'Фінансування_Financing (CFI)'!BF$32*Амортизація_Depreciation!$E18","v":0},{"$f":"'Фінансування_Financing (CFI)'!BG$32*Амортизація_Depreciation!$E18","v":0},0]
[null,"Інші необоротні матеріальні активи: / Other non-current tangible assets:",null,null,{"$f":"SUM(E20:E26)","v":0},{"$f":"SUM(F20:F26)","v":0},0,0,0,0,0,0,0,{"$f":"SUM(N20:N26)","v":0},0,0,0,0,0,0,0,0,0,0,0,0,0,0,0,0,0,0,0,0,{"$f":"SUM(AI20:AI26)","v":0},0]
[null,"Група 10 – бібліотечні фонди /library funds","—",{"$f":"IF('Грошові потоки _ Cash flows'!$E$15>Амортизація_Depreciation!C20, 'Грошові потоки _ Cash flows'!$E$15,Амортизація_Depreciation!C20)","v":"—"},null,{"$f":"$E20*'Фінансування_Financing (CFI)'!AD$32","v":0},{"$f":"$E20*'Фінансування_Financing (CFI)'!AE$32","v":0},{"$f":"$E20*'Фінансування_Financing (CFI)'!AF$32","v":0},{"$f":"$E20*'Фінансування_Financing (CFI)'!AG$32","v":0},{"$f":"$E20*'Фінансування_Financing (CFI)'!AH$32","v":0},{"$f":"$E20*'Фінансування_Financing (CFI)'!AI$32","v":0},{"$f":"$E20*'Фінансування_Financing (CFI)'!AJ$32","v":0},{"$f":"$E20*'Фінансування_Financing (CFI)'!AK$32","v":0},{"$f":"$E20*'Фінансування_Financing (CFI)'!AL$32","v":0},{"$f":"$E20*'Фінансування_Financing (CFI)'!AM$32","v":0},{"$f":"$E20*'Фінансування_Financing (CFI)'!AN$32","v":0},{"$f":"$E20*'Фінансування_Financing (CFI)'!AO$32","v":0},{"$f":"$E20*'Фінансування_Financing (CFI)'!AP$32","v":0},{"$f":"$E20*'Фінансування_Financing (CFI)'!AQ$32","v":0},{"$f":"$E20*'Фінансування_Financing (CFI)'!AR$32","v":0},{"$f":"$E20*'Фінансування_Financing (CFI)'!AS$32","v":0},{"$f":"$E20*'Фінансування_Financing (CFI)'!AT$32","v":0},{"$f":"$E20*'Фінансування_Financing (CFI)'!AU$32","v":0},{"$f":"$E20*'Фінансування_Financing (CFI)'!AV$32","v":0},{"$f":"$E20*'Фінансування_Financing (CFI)'!AW$32","v":0},{"$f":"$E20*'Фінансування_Financing (CFI)'!AX$32","v":0},{"$f":"$E20*'Фінансування_Financing (CFI)'!AY$32","v":0},{"$f":"$E20*'Фінансування_Financing (CFI)'!AZ$32","v":0},{"$f":"$E20*'Фінансування_Financing (CFI)'!BA$32","v":0},{"$f":"$E20*'Фінансування_Financing (CFI)'!BB$32","v":0},{"$f":"$E20*'Фінансування_Financing (CFI)'!BC$32","v":0},{"$f":"$E20*'Фінансування_Financing (CFI)'!BD$32","v":0},{"$f":"$E20*'Фінансування_Financing (CFI)'!BE$32","v":0},{"$f":"$E20*'Фінансування_Financing (CFI)'!BF$32","v":0},{"$f":"$E20*'Фінансування_Financing (CFI)'!BG$32","v":0},0]
[null,"Група 11 – малоцінні необоротні активи / low-value non-current assets","—",{"$f":"IF('Грошові потоки _ Cash flows'!$E$15>Амортизація_Depreciation!C21, 'Грошові потоки _ Cash flows'!$E$15,Амортизація_Depreciation!C21)","v":"—"},null,{"$f":"$E21*'Фінансування_Financing (CFI)'!AD$32","v":0},{"$f":"$E21*'Фінансування_Financing (CFI)'!AE$32","v":0},{"$f":"$E21*'Фінансування_Financing (CFI)'!AF$32","v":0},{"$f":"$E21*'Фінансування_Financing (CFI)'!AG$32","v":0},{"$f":"$E21*'Фінансування_Financing (CFI)'!AH$32","v":0},{"$f":"$E21*'Фінансування_Financing (CFI)'!AI$32","v":0},{"$f":"$E21*'Фінансування_Financing (CFI)'!AJ$32","v":0},{"$f":"$E21*'Фінансування_Financing (CFI)'!AK$32","v":0},{"$f":"$E21*'Фінансування_Financing (CFI)'!AL$32","v":0},{"$f":"$E21*'Фінансування_Financing (CFI)'!AM$32","v":0},{"$f":"$E21*'Фінансування_Financing (CFI)'!AN$32","v":0},{"$f":"$E21*'Фінансування_Financing (CFI)'!AO$32","v":0},{"$f":"$E21*'Фінансування_Financing (CFI)'!AP$32","v":0},{"$f":"$E21*'Фінансування_Financing (CFI)'!AQ$32","v":0},{"$f":"$E21*'Фінансування_Financing (CFI)'!AR$32","v":0},{"$f":"$E21*'Фінансування_Financing (CFI)'!AS$32","v":0},{"$f":"$E21*'Фінансування_Financing (CFI)'!AT$32","v":0},{"$f":"$E21*'Фінансування_Financing (CFI)'!AU$32","v":0},{"$f":"$E21*'Фінансування_Financing (CFI)'!AV$32","v":0},{"$f":"$E21*'Фінансування_Financing (CFI)'!AW$32","v":0},{"$f":"$E21*'Фінансування_Financing (CFI)'!AX$32","v":0},{"$f":"$E21*'Фінансування_Financing (CFI)'!AY$32","v":0},{"$f":"$E21*'Фінансування_Financing (CFI)'!AZ$32","v":0},{"$f":"$E21*'Фінансування_Financing (CFI)'!BA$32","v":0},{"$f":"$E21*'Фінансування_Financing (CFI)'!BB$32","v":0},{"$f":"$E21*'Фінансування_Financing (CFI)'!BC$32","v":0},{"$f":"$E21*'Фінансування_Financing (CFI)'!BD$32","v":0},{"$f":"$E21*'Фінансування_Financing (CFI)'!BE$32","v":0},{"$f":"$E21*'Фінансування_Financing (CFI)'!BF$32","v":0},{"$f":"$E21*'Фінансування_Financing (CFI)'!BG$32","v":0},0]
[null,"Група 12 – тимчасові (нетитульні) споруди / temporary (untitled) buildings",5,{"$f":"IF('Грошові потоки _ Cash flows'!$E$15>Амортизація_Depreciation!C22, 'Грошові потоки _ Cash flows'!$E$15,Амортизація_Depreciation!C22)","v":25},null,{"$f":"$E22*'Фінансування_Financing (CFI)'!AD$32","v":0},{"$f":"$E22*'Фінансування_Financing (CFI)'!AE$32","v":0},{"$f":"$E22*'Фінансування_Financing (CFI)'!AF$32","v":0},{"$f":"$E22*'Фінансування_Financing (CFI)'!AG$32","v":0},{"$f":"$E22*'Фінансування_Financing (CFI)'!AH$32","v":0},{"$f":"$E22*'Фінансування_Financing (CFI)'!AI$32","v":0},{"$f":"$E22*'Фінансування_Financing (CFI)'!AJ$32","v":0},{"$f":"$E22*'Фінансування_Financing (CFI)'!AK$32","v":0},{"$f":"$E22*'Фінансування_Financing (CFI)'!AL$32","v":0},{"$f":"$E22*'Фінансування_Financing (CFI)'!AM$32","v":0},{"$f":"$E22*'Фінансування_Financing (CFI)'!AN$32","v":0},{"$f":"$E22*'Фінансування_Financing (CFI)'!AO$32","v":0},{"$f":"$E22*'Фінансування_Financing (CFI)'!AP$32","v":0},{"$f":"$E22*'Фінансування_Financing (CFI)'!AQ$32","v":0},{"$f":"$E22*'Фінансування_Financing (CFI)'!AR$32","v":0},{"$f":"$E22*'Фінансування_Financing (CFI)'!AS$32","v":0},{"$f":"$E22*'Фінансування_Financing (CFI)'!AT$32","v":0},{"$f":"$E22*'Фінансування_Financing (CFI)'!AU$32","v":0},{"$f":"$E22*'Фінансування_Financing (CFI)'!AV$32","v":0},{"$f":"$E22*'Фінансування_Financing (CFI)'!AW$32","v":0},{"$f":"$E22*'Фінансування_Financing (CFI)'!AX$32","v":0},{"$f":"$E22*'Фінансування_Financing (CFI)'!AY$32","v":0},{"$f":"$E22*'Фінансування_Financing (CFI)'!AZ$32","v":0},{"$f":"$E22*'Фінансування_Financing (CFI)'!BA$32","v":0},{"$f":"$E22*'Фінансування_Financing (CFI)'!BB$32","v":0},{"$f":"$E22*'Фінансування_Financing (CFI)'!BC$32","v":0},{"$f":"$E22*'Фінансування_Financing (CFI)'!BD$32","v":0},{"$f":"$E22*'Фінансування_Financing (CFI)'!BE$32","v":0},{"$f":"$E22*'Фінансування_Financing (CFI)'!BF$32","v":0},{"$f":"$E22*'Фінансування_Financing (CFI)'!BG$32","v":0},0]
[null,"Група 13 – природні ресурси / natural resources","—",{"$f":"IF('Грошові потоки _ Cash flows'!$E$15>Амортизація_Depreciation!C23, 'Грошові потоки _ Cash flows'!$E$15,Амортизація_Depreciation!C23)","v":"—"},null,{"$f":"$E23*'Фінансування_Financing (CFI)'!AD$32","v":0},{"$f":"$E23*'Фінансування_Financing (CFI)'!AE$32","v":0},{"$f":"$E23*'Фінансування_Financing (CFI)'!AF$32","v":0},{"$f":"$E23*'Фінансування_Financing (CFI)'!AG$32","v":0},{"$f":"$E23*'Фінансування_Financing (CFI)'!AH$32","v":0},{"$f":"$E23*'Фінансування_Financing (CFI)'!AI$32","v":0},{"$f":"$E23*'Фінансування_Financing (CFI)'!AJ$32","v":0},{"$f":"$E23*'Фінансування_Financing (CFI)'!AK$32","v":0},{"$f":"$E23*'Фінансування_Financing (CFI)'!AL$32","v":0},{"$f":"$E23*'Фінансування_Financing (CFI)'!AM$32","v":0},{"$f":"$E23*'Фінансування_Financing (CFI)'!AN$32","v":0},{"$f":"$E23*'Фінансування_Financing (CFI)'!AO$32","v":0},{"$f":"$E23*'Фінансування_Financing (CFI)'!AP$32","v":0},{"$f":"$E23*'Фінансування_Financing (CFI)'!AQ$32","v":0},{"$f":"$E23*'Фінансування_Financing (CFI)'!AR$32","v":0},{"$f":"$E23*'Фінансування_Financing (CFI)'!AS$32","v":0},{"$f":"$E23*'Фінансування_Financing (CFI)'!AT$32","v":0},{"$f":"$E23*'Фінансування_Financing (CFI)'!AU$32","v":0},{"$f":"$E23*'Фінансування_Financing (CFI)'!AV$32","v":0},{"$f":"$E23*'Фінансування_Financing (CFI)'!AW$32","v":0},{"$f":"$E23*'Фінансування_Financing (CFI)'!AX$32","v":0},{"$f":"$E23*'Фінансування_Financing (CFI)'!AY$32","v":0},{"$f":"$E23*'Фінансування_Financing (CFI)'!AZ$32","v":0},{"$f":"$E23*'Фінансування_Financing (CFI)'!BA$32","v":0},{"$f":"$E23*'Фінансування_Financing (CFI)'!BB$32","v":0},{"$f":"$E23*'Фінансування_Financing (CFI)'!BC$32","v":0},{"$f":"$E23*'Фінансування_Financing (CFI)'!BD$32","v":0},{"$f":"$E23*'Фінансування_Financing (CFI)'!BE$32","v":0},{"$f":"$E23*'Фінансування_Financing (CFI)'!BF$32","v":0},{"$f":"$E23*'Фінансування_Financing (CFI)'!BG$32","v":0},{"$f":"SUM(F23:AI23)","v":0}]
[null,"Група 14 – інвентарна тара / inventory packaging",6,{"$f":"IF('Грошові потоки _ Cash flows'!$E$15>Амортизація_Depreciation!C24, 'Грошові потоки _ Cash flows'!$E$15,Амортизація_Depreciation!C24)","v":25},null,{"$f":"$E24*'Фінансування_Financing (CFI)'!AD$32","v":0},{"$f":"$E24*'Фінансування_Financing (CFI)'!AE$32","v":0},{"$f":"$E24*'Фінансування_Financing (CFI)'!AF$32","v":0},{"$f":"$E24*'Фінансування_Financing (CFI)'!AG$32","v":0},{"$f":"$E24*'Фінансування_Financing (CFI)'!AH$32","v":0},{"$f":"$E24*'Фінансування_Financing (CFI)'!AI$32","v":0},{"$f":"$E24*'Фінансування_Financing (CFI)'!AJ$32","v":0},{"$f":"$E24*'Фінансування_Financing (CFI)'!AK$32","v":0},{"$f":"$E24*'Фінансування_Financing (CFI)'!AL$32","v":0},{"$f":"$E24*'Фінансування_Financing (CFI)'!AM$32","v":0},{"$f":"$E24*'Фінансування_Financing (CFI)'!AN$32","v":0},{"$f":"$E24*'Фінансування_Financing (CFI)'!AO$32","v":0},{"$f":"$E24*'Фінансування_Financing (CFI)'!AP$32","v":0},{"$f":"$E24*'Фінансування_Financing (CFI)'!AQ$32","v":0},{"$f":"$E24*'Фінансування_Financing (CFI)'!AR$32","v":0},{"$f":"$E24*'Фінансування_Financing (CFI)'!AS$32","v":0},{"$f":"$E24*'Фінансування_Financing (CFI)'!AT$32","v":0},{"$f":"$E24*'Фінансування_Financing (CFI)'!AU$32","v":0},{"$f":"$E24*'Фінансування_Financing (CFI)'!AV$32","v":0},{"$f":"$E24*'Фінансування_Financing (CFI)'!AW$32","v":0},{"$f":"$E24*'Фінансування_Financing (CFI)'!AX$32","v":0},{"$f":"$E24*'Фінансування_Financing (CFI)'!AY$32","v":0},{"$f":"$E24*'Фінансування_Financing (CFI)'!AZ$32","v":0},{"$f":"$E24*'Фінансування_Financing (CFI)'!BA$32","v":0},{"$f":"$E24*'Фінансування_Financing (CFI)'!BB$32","v":0},{"$f":"$E24*'Фінансування_Financing (CFI)'!BC$32","v":0},{"$f":"$E24*'Фінансування_Financing (CFI)'!BD$32","v":0},{"$f":"$E24*'Фінансування_Financing (CFI)'!BE$32","v":0},{"$f":"$E24*'Фінансування_Financing (CFI)'!BF$32","v":0},{"$f":"$E24*'Фінансування_Financing (CFI)'!BG$32","v":0},0]
[null,"Група 15 – предмети прокату / lease items",5,{"$f":"IF('Грошові потоки _ Cash flows'!$E$15>Амортизація_Depreciation!C25, 'Грошові потоки _ Cash flows'!$E$15,Амортизація_Depreciation!C25)","v":25},null,{"$f":"$E25*'Фінансування_Financing (CFI)'!AD$32","v":0},{"$f":"$E25*'Фінансування_Financing (CFI)'!AE$32","v":0},{"$f":"$E25*'Фінансування_Financing (CFI)'!AF$32","v":0},{"$f":"$E25*'Фінансування_Financing (CFI)'!AG$32","v":0},{"$f":"$E25*'Фінансування_Financing (CFI)'!AH$32","v":0},{"$f":"$E25*'Фінансування_Financing (CFI)'!AI$32","v":0},{"$f":"$E25*'Фінансування_Financing (CFI)'!AJ$32","v":0},{"$f":"$E25*'Фінансування_Financing (CFI)'!AK$32","v":0},{"$f":"$E25*'Фінансування_Financing (CFI)'!AL$32","v":0},{"$f":"$E25*'Фінансування_Financing (CFI)'!AM$32","v":0},{"$f":"$E25*'Фінансування_Financing (CFI)'!AN$32","v":0},{"$f":"$E25*'Фінансування_Financing (CFI)'!AO$32","v":0},{"$f":"$E25*'Фінансування_Financing (CFI)'!AP$32","v":0},{"$f":"$E25*'Фінансування_Financing (CFI)'!AQ$32","v":0},{"$f":"$E25*'Фінансування_Financing (CFI)'!AR$32","v":0},{"$f":"$E25*'Фінансування_Financing (CFI)'!AS$32","v":0},{"$f":"$E25*'Фінансування_Financing (CFI)'!AT$32","v":0},{"$f":"$E25*'Фінансування_Financing (CFI)'!AU$32","v":0},{"$f":"$E25*'Фінансування_Financing (CFI)'!AV$32","v":0},{"$f":"$E25*'Фінансування_Financing (CFI)'!AW$32","v":0},{"$f":"$E25*'Фінансування_Financing (CFI)'!AX$32","v":0},{"$f":"$E25*'Фінансування_Financing (CFI)'!AY$32","v":0},{"$f":"$E25*'Фінансування_Financing (CFI)'!AZ$32","v":0},{"$f":"$E25*'Фінансування_Financing (CFI)'!BA$32","v":0},{"$f":"$E25*'Фінансування_Financing (CFI)'!BB$32","v":0},{"$f":"$E25*'Фінансування_Financing (CFI)'!BC$32","v":0},{"$f":"$E25*'Фінансування_Financing (CFI)'!BD$32","v":0},{"$f":"$E25*'Фінансування_Financing (CFI)'!BE$32","v":0},{"$f":"$E25*'Фінансування_Financing (CFI)'!BF$32","v":0},{"$f":"$E25*'Фінансування_Financing (CFI)'!BG$32","v":0},0]
[null,"Група 16 – довгострокові біологічні активи / Long-term biological assets",7,{"$f":"IF('Грошові потоки _ Cash flows'!$E$15>Амортизація_Depreciation!C26, 'Грошові потоки _ Cash flows'!$E$15,Амортизація_Depreciation!C26)","v":25},null,{"$f":"$E26*'Фінансування_Financing (CFI)'!AD$32","v":0},{"$f":"$E26*'Фінансування_Financing (CFI)'!AE$32","v":0},{"$f":"$E26*'Фінансування_Financing (CFI)'!AF$32","v":0},{"$f":"$E26*'Фінансування_Financing (CFI)'!AG$32","v":0},{"$f":"$E26*'Фінансування_Financing (CFI)'!AH$32","v":0},{"$f":"$E26*'Фінансування_Financing (CFI)'!AI$32","v":0},{"$f":"$E26*'Фінансування_Financing (CFI)'!AJ$32","v":0},{"$f":"$E26*'Фінансування_Financing (CFI)'!AK$32","v":0},{"$f":"$E26*'Фінансування_Financing (CFI)'!AL$32","v":0},{"$f":"$E26*'Фінансування_Financing (CFI)'!AM$32","v":0},{"$f":"$E26*'Фінансування_Financing (CFI)'!AN$32","v":0},{"$f":"$E26*'Фінансування_Financing (CFI)'!AO$32","v":0},{"$f":"$E26*'Фінансування_Financing (CFI)'!AP$32","v":0},{"$f":"$E26*'Фінансування_Financing (CFI)'!AQ$32","v":0},{"$f":"$E26*'Фінансування_Financing (CFI)'!AR$32","v":0},{"$f":"$E26*'Фінансування_Financing (CFI)'!AS$32","v":0},{"$f":"$E26*'Фінансування_Financing (CFI)'!AT$32","v":0},{"$f":"$E26*'Фінансування_Financing (CFI)'!AU$32","v":0},{"$f":"$E26*'Фінансування_Financing (CFI)'!AV$32","v":0},{"$f":"$E26*'Фінансування_Financing (CFI)'!AW$32","v":0},{"$f":"$E26*'Фінансування_Financing (CFI)'!AX$32","v":0},{"$f":"$E26*'Фінансування_Financing (CFI)'!AY$32","v":0},{"$f":"$E26*'Фінансування_Financing (CFI)'!AZ$32","v":0},{"$f":"$E26*'Фінансування_Financing (CFI)'!BA$32","v":0},{"$f":"$E26*'Фінансування_Financing (CFI)'!BB$32","v":0},{"$f":"$E26*'Фінансування_Financing (CFI)'!BC$32","v":0},{"$f":"$E26*'Фінансування_Financing (CFI)'!BD$32","v":0},{"$f":"$E26*'Фінансування_Financing (CFI)'!BE$32","v":0},{"$f":"$E26*'Фінансування_Financing (CFI)'!BF$32","v":0},{"$f":"$E26*'Фінансування_Financing (CFI)'!BG$32","v":0},0]
[null,"Капітальні ремонти / Overhauls",null,null,{"$f":"E28+E41","v":0},{"$f":"F28+F41","v":0},0,0,0,0,0,0,0,0,0,0,0,0,0,0,0,0,0,0,0,0,0,0,0,0,0,0,0,0,0,{"$f":"SUM(F27:AI27)","v":0}]
[null,"Основні засоби: / fixed assets :",null,null,{"$f":"SUM(E29:E40)","v":0},{"$f":"SUM(F29:F40)","v":0},0,0,0,0,0,0,0,0,0,0,0,0,0,0,0,0,0,0,0,0,0,0,0,0,0,0,0,0,0,0]
[null,"Група 1 – земельні ділянки / Group 1 -ground sections","—",{"$f":"IF('Грошові потоки _ Cash flows'!$E$15>Амортизація_Depreciation!C29, 'Грошові потоки _ Cash flows'!$E$15,Амортизація_Depreciation!C29)","v":"—"},null,{"$f":"'Фінансування_Financing (CFI)'!AD$35*Амортизація_Depreciation!$E29","v":0},{"$f":"'Фінансування_Financing (CFI)'!AE$35*Амортизація_Depreciation!$E29","v":0},{"$f":"'Фінансування_Financing (CFI)'!AF$35*Амортизація_Depreciation!$E29","v":0},{"$f":"'Фінансування_Financing (CFI)'!AG$35*Амортизація_Depreciation!$E29","v":0},{"$f":"'Фінансування_Financing (CFI)'!AH$35*Амортизація_Depreciation!$E29","v":0},{"$f":"'Фінансування_Financing (CFI)'!AI$35*Амортизація_Depreciation!$E29","v":0},{"$f":"'Фінансування_Financing (CFI)'!AJ$35*Амортизація_Depreciation!$E29","v":0},{"$f":"'Фінансування_Financing (CFI)'!AK$35*Амортизація_Depreciation!$E29","v":0},{"$f":"'Фінансування_Financing (CFI)'!AL$35*Амортизація_Depreciation!$E29","v":0},{"$f":"'Фінансування_Financing (CFI)'!AM$35*Амортизація_Depreciation!$E29","v":0},{"$f":"'Фінансування_Financing (CFI)'!AN$35*Амортизація_Depreciation!$E29","v":0},{"$f":"'Фінансування_Financing (CFI)'!AO$35*Амортизація_Depreciation!$E29","v":0},{"$f":"'Фінансування_Financing (CFI)'!AP$35*Амортизація_Depreciation!$E29","v":0},{"$f":"'Фінансування_Financing (CFI)'!AQ$35*Амортизація_Depreciation!$E29","v":0},{"$f":"'Фінансування_Financing (CFI)'!AR$35*Амортизація_Depreciation!$E29","v":0},{"$f":"'Фінансування_Financing (CFI)'!AS$35*Амортизація_Depreciation!$E29","v":0},{"$f":"'Фінансування_Financing (CFI)'!AT$35*Амортизація_Depreciation!$E29","v":0},{"$f":"'Фінансування_Financing (CFI)'!AU$35*Амортизація_Depreciation!$E29","v":0},{"$f":"'Фінансування_Financing (CFI)'!AV$35*Амортизація_Depreciation!$E29","v":0},{"$f":"'Фінансування_Financing (CFI)'!AW$35*Амортизація_Depreciation!$E29","v":0},{"$f":"'Фінансування_Financing (CFI)'!AX$35*Амортизація_Depreciation!$E29","v":0},{"$f":"'Фінансування_Financing (CFI)'!AY$35*Амортизація_Depreciation!$E29","v":0},{"$f":"'Фінансування_Financing (CFI)'!AZ$35*Амортизація_Depreciation!$E29","v":0},{"$f":"'Фінансування_Financing (CFI)'!BA$35*Амортизація_Depreciation!$E29","v":0},{"$f":"'Фінансування_Financing (CFI)'!BB$35*Амортизація_Depreciation!$E29","v":0},{"$f":"'Фінансування_Financing (CFI)'!BC$35*Амортизація_Depreciation!$E29","v":0},{"$f":"'Фінансування_Financing (CFI)'!BD$35*Амортизація_Depreciation!$E29","v":0},{"$f":"'Фінансування_Financing (CFI)'!BE$35*Амортизація_Depreciation!$E29","v":0},{"$f":"'Фінансування_Financing (CFI)'!BF$35*Амортизація_Depreciation!$E29","v":0},{"$f":"'Фінансування_Financing (CFI)'!BG$35*Амортизація_Depreciation!$E29","v":0},0]
[null,"Група 2 – капітальні витрати на поліпшення землі, не пов'язані з будівництвом / CAPEX on ground improvement not related to construction",15,{"$f":"IF('Грошові потоки _ Cash flows'!$E$15>Амортизація_Depreciation!C30, 'Грошові потоки _ Cash flows'!$E$15,Амортизація_Depreciation!C30)","v":25},null,{"$f":"'Фінансування_Financing (CFI)'!AD$35*Амортизація_Depreciation!$E30","v":0},{"$f":"'Фінансування_Financing (CFI)'!AE$35*Амортизація_Depreciation!$E30","v":0},{"$f":"'Фінансування_Financing (CFI)'!AF$35*Амортизація_Depreciation!$E30","v":0},{"$f":"'Фінансування_Financing (CFI)'!AG$35*Амортизація_Depreciation!$E30","v":0},{"$f":"'Фінансування_Financing (CFI)'!AH$35*Амортизація_Depreciation!$E30","v":0},{"$f":"'Фінансування_Financing (CFI)'!AI$35*Амортизація_Depreciation!$E30","v":0},{"$f":"'Фінансування_Financing (CFI)'!AJ$35*Амортизація_Depreciation!$E30","v":0},{"$f":"'Фінансування_Financing (CFI)'!AK$35*Амортизація_Depreciation!$E30","v":0},{"$f":"'Фінансування_Financing (CFI)'!AL$35*Амортизація_Depreciation!$E30","v":0},{"$f":"'Фінансування_Financing (CFI)'!AM$35*Амортизація_Depreciation!$E30","v":0},{"$f":"'Фінансування_Financing (CFI)'!AN$35*Амортизація_Depreciation!$E30","v":0},{"$f":"'Фінансування_Financing (CFI)'!AO$35*Амортизація_Depreciation!$E30","v":0},{"$f":"'Фінансування_Financing (CFI)'!AP$35*Амортизація_Depreciation!$E30","v":0},{"$f":"'Фінансування_Financing (CFI)'!AQ$35*Амортизація_Depreciation!$E30","v":0},{"$f":"'Фінансування_Financing (CFI)'!AR$35*Амортизація_Depreciation!$E30","v":0},{"$f":"'Фінансування_Financing (CFI)'!AS$35*Амортизація_Depreciation!$E30","v":0},{"$f":"'Фінансування_Financing (CFI)'!AT$35*Амортизація_Depreciation!$E30","v":0},{"$f":"'Фінансування_Financing (CFI)'!AU$35*Амортизація_Depreciation!$E30","v":0},{"$f":"'Фінансування_Financing (CFI)'!AV$35*Амортизація_Depreciation!$E30","v":0},{"$f":"'Фінансування_Financing (CFI)'!AW$35*Амортизація_Depreciation!$E30","v":0},{"$f":"'Фінансування_Financing (CFI)'!AX$35*Амортизація_Depreciation!$E30","v":0},{"$f":"'Фінансування_Financing (CFI)'!AY$35*Амортизація_Depreciation!$E30","v":0},{"$f":"'Фінансування_Financing (CFI)'!AZ$35*Амортизація_Depreciation!$E30","v":0},{"$f":"'Фінансування_Financing (CFI)'!BA$35*Амортизація_Depreciation!$E30","v":0},{"$f":"'Фінансування_Financing (CFI)'!BB$35*Амортизація_Depreciation!$E30","v":0},{"$f":"'Фінансування_Financing (CFI)'!BC$35*Амортизація_Depreciation!$E30","v":0},{"$f":"'Фінансування_Financing (CFI)'!BD$35*Амортизація_Depreciation!$E30","v":0},{"$f":"'Фінансування_Financing (CFI)'!BE$35*Амортизація_Depreciation!$E30","v":0},{"$f":"'Фінансування_Financing (CFI)'!BF$35*Амортизація_Depreciation!$E30","v":0},{"$f":"'Фінансування_Financing (CFI)'!BG$35*Амортизація_Depreciation!$E30","v":0},0]
[null,"Група 3 –  будівлі / buildings",20,{"$f":"IF('Грошові потоки _ Cash flows'!$E$15>Амортизація_Depreciation!C31, 'Грошові потоки _ Cash flows'!$E$15,Амортизація_Depreciation!C31)","v":25},null,{"$f":"'Фінансування_Financing (CFI)'!AD$35*Амортизація_Depreciation!$E31","v":0},{"$f":"'Фінансування_Financing (CFI)'!AE$35*Амортизація_Depreciation!$E31","v":0},{"$f":"'Фінансування_Financing (CFI)'!AF$35*Амортизація_Depreciation!$E31","v":0},{"$f":"'Фінансування_Financing (CFI)'!AG$35*Амортизація_Depreciation!$E31","v":0},{"$f":"'Фінансування_Financing (CFI)'!AH$35*Амортизація_Depreciation!$E31","v":0},{"$f":"'Фінансування_Financing (CFI)'!AI$35*Амортизація_Depreciation!$E31","v":0},{"$f":"'Фінансування_Financing (CFI)'!AJ$35*Амортизація_Depreciation!$E31","v":0},{"$f":"'Фінансування_Financing (CFI)'!AK$35*Амортизація_Depreciation!$E31","v":0},{"$f":"'Фінансування_Financing (CFI)'!AL$35*Амортизація_Depreciation!$E31","v":0},{"$f":"'Фінансування_Financing (CFI)'!AM$35*Амортизація_Depreciation!$E31","v":0},{"$f":"'Фінансування_Financing (CFI)'!AN$35*Амортизація_Depreciation!$E31","v":0},{"$f":"'Фінансування_Financing (CFI)'!AO$35*Амортизація_Depreciation!$E31","v":0},{"$f":"'Фінансування_Financing (CFI)'!AP$35*Амортизація_Depreciation!$E31","v":0},{"$f":"'Фінансування_Financing (CFI)'!AQ$35*Амортизація_Depreciation!$E31","v":0},{"$f":"'Фінансування_Financing (CFI)'!AR$35*Амортизація_Depreciation!$E31","v":0},{"$f":"'Фінансування_Financing (CFI)'!AS$35*Амортизація_Depreciation!$E31","v":0},{"$f":"'Фінансування_Financing (CFI)'!AT$35*Амортизація_Depreciation!$E31","v":0},{"$f":"'Фінансування_Financing (CFI)'!AU$35*Амортизація_Depreciation!$E31","v":0},{"$f":"'Фінансування_Financing (CFI)'!AV$35*Амортизація_Depreciation!$E31","v":0},{"$f":"'Фінансування_Financing (CFI)'!AW$35*Амортизація_Depreciation!$E31","v":0},{"$f":"'Фінансування_Financing (CFI)'!AX$35*Амортизація_Depreciation!$E31","v":0},{"$f":"'Фінансування_Financing (CFI)'!AY$35*Амортизація_Depreciation!$E31","v":0},{"$f":"'Фінансування_Financing (CFI)'!AZ$35*Амортизація_Depreciation!$E31","v":0},{"$f":"'Фінансування_Financing (CFI)'!BA$35*Амортизація_Depreciation!$E31","v":0},{"$f":"'Фінансування_Financing (CFI)'!BB$35*Амортизація_Depreciation!$E31","v":0},{"$f":"'Фінансування_Financing (CFI)'!BC$35*Амортизація_Depreciation!$E31","v":0},{"$f":"'Фінансування_Financing (CFI)'!BD$35*Амортизація_Depreciation!$E31","v":0},{"$f":"'Фінансування_Financing (CFI)'!BE$35*Амортизація_Depreciation!$E31","v":0},{"$f":"'Фінансування_Financing (CFI)'!BF$35*Амортизація_Depreciation!$E31","v":0},{"$f":"'Фінансування_Financing (CFI)'!BG$35*Амортизація_Depreciation!$E31","v":0},0]
[null,"споруди / constructions",15,{"$f":"IF('Грошові потоки _ Cash flows'!$E$15>Амортизація_Depreciation!C32, 'Грошові потоки _ Cash flows'!$E$15,Амортизація_Depreciation!C32)","v":25},null,{"$f":"'Фінансування_Financing (CFI)'!AD$35*Амортизація_Depreciation!$E32","v":0},{"$f":"'Фінансування_Financing (CFI)'!AE$35*Амортизація_Depreciation!$E32","v":0},{"$f":"'Фінансування_Financing (CFI)'!AF$35*Амортизація_Depreciation!$E32","v":0},{"$f":"'Фінансування_Financing (CFI)'!AG$35*Амортизація_Depreciation!$E32","v":0},{"$f":"'Фінансування_Financing (CFI)'!AH$35*Амортизація_Depreciation!$E32","v":0},{"$f":"'Фінансування_Financing (CFI)'!AI$35*Амортизація_Depreciation!$E32","v":0},{"$f":"'Фінансування_Financing (CFI)'!AJ$35*Амортизація_Depreciation!$E32","v":0},{"$f":"'Фінансування_Financing (CFI)'!AK$35*Амортизація_Depreciation!$E32","v":0},{"$f":"'Фінансування_Financing (CFI)'!AL$35*Амортизація_Depreciation!$E32","v":0},{"$f":"'Фінансування_Financing (CFI)'!AM$35*Амортизація_Depreciation!$E32","v":0},{"$f":"'Фінансування_Financing (CFI)'!AN$35*Амортизація_Depreciation!$E32","v":0},{"$f":"'Фінансування_Financing (CFI)'!AO$35*Амортизація_Depreciation!$E32","v":0},{"$f":"'Фінансування_Financing (CFI)'!AP$35*Амортизація_Depreciation!$E32","v":0},{"$f":"'Фінансування_Financing (CFI)'!AQ$35*Амортизація_Depreciation!$E32","v":0},{"$f":"'Фінансування_Financing (CFI)'!AR$35*Амортизація_Depreciation!$E32","v":0},{"$f":"'Фінансування_Financing (CFI)'!AS$35*Амортизація_Depreciation!$E32","v":0},{"$f":"'Фінансування_Financing (CFI)'!AT$35*Амортизація_Depreciation!$E32","v":0},{"$f":"'Фінансування_Financing (CFI)'!AU$35*Амортизація_Depreciation!$E32","v":0},{"$f":"'Фінансування_Financing (CFI)'!AV$35*Амортизація_Depreciation!$E32","v":0},{"$f":"'Фінансування_Financing (CFI)'!AW$35*Амортизація_Depreciation!$E32","v":0},{"$f":"'Фінансування_Financing (CFI)'!AX$35*Амортизація_Depreciation!$E32","v":0},{"$f":"'Фінансування_Financing (CFI)'!AY$35*Амортизація_Depreciation!$E32","v":0},{"$f":"'Фінансування_Financing (CFI)'!AZ$35*Амортизація_Depreciation!$E32","v":0},{"$f":"'Фінансування_Financing (CFI)'!BA$35*Амортизація_Depreciation!$E32","v":0},{"$f":"'Фінансування_Financing (CFI)'!BB$35*Амортизація_Depreciation!$E32","v":0},{"$f":"'Фінансування_Financing (CFI)'!BC$35*Амортизація_Depreciation!$E32","v":0},{"$f":"'Фінансування_Financing (CFI)'!BD$35*Амортизація_Depreciation!$E32","v":0},{"$f":"'Фінансування_Financing (CFI)'!BE$35*Амортизація_Depreciation!$E32","v":0},{"$f":"'Фінансування_Financing (CFI)'!BF$35*Амортизація_Depreciation!$E32","v":0},{"$f":"'Фінансування_Financing (CFI)'!BG$35*Амортизація_Depreciation!$E32","v":0},0]
[null,"передавальні пристрої / transmitting devices",10,{"$f":"IF('Грошові потоки _ Cash flows'!$E$15>Амортизація_Depreciation!C33, 'Грошові потоки _ Cash flows'!$E$15,Амортизація_Depreciation!C33)","v":25},null,{"$f":"'Фінансування_Financing (CFI)'!AD$35*Амортизація_Depreciation!$E33","v":0},{"$f":"'Фінансування_Financing (CFI)'!AE$35*Амортизація_Depreciation!$E33","v":0},{"$f":"'Фінансування_Financing (CFI)'!AF$35*Амортизація_Depreciation!$E33","v":0},{"$f":"'Фінансування_Financing (CFI)'!AG$35*Амортизація_Depreciation!$E33","v":0},{"$f":"'Фінансування_Financing (CFI)'!AH$35*Амортизація_Depreciation!$E33","v":0},{"$f":"'Фінансування_Financing (CFI)'!AI$35*Амортизація_Depreciation!$E33","v":0},{"$f":"'Фінансування_Financing (CFI)'!AJ$35*Амортизація_Depreciation!$E33","v":0},{"$f":"'Фінансування_Financing (CFI)'!AK$35*Амортизація_Depreciation!$E33","v":0},{"$f":"'Фінансування_Financing (CFI)'!AL$35*Амортизація_Depreciation!$E33","v":0},{"$f":"'Фінансування_Financing (CFI)'!AM$35*Амортизація_Depreciation!$E33","v":0},{"$f":"'Фінансування_Financing (CFI)'!AN$35*Амортизація_Depreciation!$E33","v":0},{"$f":"'Фінансування_Financing (CFI)'!AO$35*Амортизація_Depreciation!$E33","v":0},{"$f":"'Фінансування_Financing (CFI)'!AP$35*Амортизація_Depreciation!$E33","v":0},{"$f":"'Фінансування_Financing (CFI)'!AQ$35*Амортизація_Depreciation!$E33","v":0},{"$f":"'Фінансування_Financing (CFI)'!AR$35*Амортизація_Depreciation!$E33","v":0},{"$f":"'Фінансування_Financing (CFI)'!AS$35*Амортизація_Depreciation!$E33","v":0},{"$f":"'Фінансування_Financing (CFI)'!AT$35*Амортизація_Depreciation!$E33","v":0},{"$f":"'Фінансування_Financing (CFI)'!AU$35*Амортизація_Depreciation!$E33","v":0},{"$f":"'Фінансування_Financing (CFI)'!AV$35*Амортизація_Depreciation!$E33","v":0},{"$f":"'Фінансування_Financing (CFI)'!AW$35*Амортизація_Depreciation!$E33","v":0},{"$f":"'Фінансування_Financing (CFI)'!AX$35*Амортизація_Depreciation!$E33","v":0},{"$f":"'Фінансування_Financing (CFI)'!AY$35*Амортизація_Depreciation!$E33","v":0},{"$f":"'Фінансування_Financing (CFI)'!AZ$35*Амортизація_Depreciation!$E33","v":0},{"$f":"'Фінансування_Financing (CFI)'!BA$35*Амортизація_Depreciation!$E33","v":0},{"$f":"'Фінансування_Financing (CFI)'!BB$35*Амортизація_Depreciation!$E33","v":0},{"$f":"'Фінансування_Financing (CFI)'!BC$35*Амортизація_Depreciation!$E33","v":0},{"$f":"'Фінансування_Financing (CFI)'!BD$35*Амортизація_Depreciation!$E33","v":0},{"$f":"'Фінансування_Financing (CFI)'!BE$35*Амортизація_Depreciation!$E33","v":0},{"$f":"'Фінансування_Financing (CFI)'!BF$35*Амортизація_Depreciation!$E33","v":0},{"$f":"'Фінансування_Financing (CFI)'!BG$35*Амортизація_Depreciation!$E33","v":0},0]
[null,"Група 4 –  машини та обладнання / Machines and equipment",5,{"$f":"IF('Грошові потоки _ Cash flows'!$E$15>Амортизація_Depreciation!C34, 'Грошові потоки _ Cash flows'!$E$15,Амортизація_Depreciation!C34)","v":25},null,{"$f":"'Фінансування_Financing (CFI)'!AD$35*Амортизація_Depreciation!$E34","v":0},{"$f":"'Фінансування_Financing (CFI)'!AE$35*Амортизація_Depreciation!$E34","v":0},{"$f":"'Фінансування_Financing (CFI)'!AF$35*Амортизація_Depreciation!$E34","v":0},{"$f":"'Фінансування_Financing (CFI)'!AG$35*Амортизація_Depreciation!$E34","v":0},{"$f":"'Фінансування_Financing (CFI)'!AH$35*Амортизація_Depreciation!$E34","v":0},{"$f":"'Фінансування_Financing (CFI)'!AI$35*Амортизація_Depreciation!$E34","v":0},{"$f":"'Фінансування_Financing (CFI)'!AJ$35*Амортизація_Depreciation!$E34","v":0},{"$f":"'Фінансування_Financing (CFI)'!AK$35*Амортизація_Depreciation!$E34","v":0},{"$f":"'Фінансування_Financing (CFI)'!AL$35*Амортизація_Depreciation!$E34","v":0},{"$f":"'Фінансування_Financing (CFI)'!AM$35*Амортизація_Depreciation!$E34","v":0},{"$f":"'Фінансування_Financing (CFI)'!AN$35*Амортизація_Depreciation!$E34","v":0},{"$f":"'Фінансування_Financing (CFI)'!AO$35*Амортизація_Depreciation!$E34","v":0},{"$f":"'Фінансування_Financing (CFI)'!AP$35*Амортизація_Depreciation!$E34","v":0},{"$f":"'Фінансування_Financing (CFI)'!AQ$35*Амортизація_Depreciation!$E34","v":0},{"$f":"'Фінансування_Financing (CFI)'!AR$35*Амортизація_Depreciation!$E34","v":0},{"$f":"'Фінансування_Financing (CFI)'!AS$35*Амортизація_Depreciation!$E34","v":0},{"$f":"'Фінансування_Financing (CFI)'!AT$35*Амортизація_Depreciation!$E34","v":0},{"$f":"'Фінансування_Financing (CFI)'!AU$35*Амортизація_Depreciation!$E34","v":0},{"$f":"'Фінансування_Financing (CFI)'!AV$35*Амортизація_Depreciation!$E34","v":0},{"$f":"'Фінансування_Financing (CFI)'!AW$35*Амортизація_Depreciation!$E34","v":0},{"$f":"'Фінансування_Financing (CFI)'!AX$35*Амортизація_Depreciation!$E34","v":0},{"$f":"'Фінансування_Financing (CFI)'!AY$35*Амортизація_Depreciation!$E34","v":0},{"$f":"'Фінансування_Financing (CFI)'!AZ$35*Амортизація_Depreciation!$E34","v":0},{"$f":"'Фінансування_Financing (CFI)'!BA$35*Амортизація_Depreciation!$E34","v":0},{"$f":"'Фінансування_Financing (CFI)'!BB$35*Амортизація_Depreciation!$E34","v":0},{"$f":"'Фінансування_Financing (CFI)'!BC$35*Амортизація_Depreciation!$E34","v":0},{"$f":"'Фінансування_Financing (CFI)'!BD$35*Амортизація_Depreciation!$E34","v":0},{"$f":"'Фінансування_Financing (CFI)'!BE$35*Амортизація_Depreciation!$E34","v":0},{"$f":"'Фінансування_Financing (CFI)'!BF$35*Амортизація_Depreciation!$E34","v":0},{"$f":"'Фінансування_Financing (CFI)'!BG$35*Амортизація_Depreciation!$E34","v":0},0]
[null,"Електронно-обчислювальні машини, інші машини для автоматичного оброблення інформації, пов'язані з ними засоби зчитування або друку інформації, пов'язані з ними комп'ютерні програми (крім програм, витрати на придбання яких визнаються роялті, та / або програм, які визнаються нематеріальним активів) , інші інформаційні системи, комутатори, маршрутизатори, модулі, модеми, джерела безперебійного живлення та засоби їх підключення до телекомунікаційних мереж, телефони (в тому числі мобільні), мікрофони і рації, вартість яких перевищує 2500 гривень.",2,{"$f":"IF('Грошові потоки _ Cash flows'!$E$15>Амортизація_Depreciation!C35, 'Грошові потоки _ Cash flows'!$E$15,Амортизація_Depreciation!C35)","v":25},null,{"$f":"'Фінансування_Financing (CFI)'!AD$35*Амортизація_Depreciation!$E35","v":0},{"$f":"'Фінансування_Financing (CFI)'!AE$35*Амортизація_Depreciation!$E35","v":0},{"$f":"'Фінансування_Financing (CFI)'!AF$35*Амортизація_Depreciation!$E35","v":0},{"$f":"'Фінансування_Financing (CFI)'!AG$35*Амортизація_Depreciation!$E35","v":0},{"$f":"'Фінансування_Financing (CFI)'!AH$35*Амортизація_Depreciation!$E35","v":0},{"$f":"'Фінансування_Financing (CFI)'!AI$35*Амортизація_Depreciation!$E35","v":0},{"$f":"'Фінансування_Financing (CFI)'!AJ$35*Амортизація_Depreciation!$E35","v":0},{"$f":"'Фінансування_Financing (CFI)'!AK$35*Амортизація_Depreciation!$E35","v":0},{"$f":"'Фінансування_Financing (CFI)'!AL$35*Амортизація_Depreciation!$E35","v":0},{"$f":"'Фінансування_Financing (CFI)'!AM$35*Амортизація_Depreciation!$E35","v":0},{"$f":"'Фінансування_Financing (CFI)'!AN$35*Амортизація_Depreciation!$E35","v":0},{"$f":"'Фінансування_Financing (CFI)'!AO$35*Амортизація_Depreciation!$E35","v":0},{"$f":"'Фінансування_Financing (CFI)'!AP$35*Амортизація_Depreciation!$E35","v":0},{"$f":"'Фінансування_Financing (CFI)'!AQ$35*Амортизація_Depreciation!$E35","v":0},{"$f":"'Фінансування_Financing (CFI)'!AR$35*Амортизація_Depreciation!$E35","v":0},{"$f":"'Фінансування_Financing (CFI)'!AS$35*Амортизація_Depreciation!$E35","v":0},{"$f":"'Фінансування_Financing (CFI)'!AT$35*Амортизація_Depreciation!$E35","v":0},{"$f":"'Фінансування_Financing (CFI)'!AU$35*Амортизація_Depreciation!$E35","v":0},{"$f":"'Фінансування_Financing (CFI)'!AV$35*Амортизація_Depreciation!$E35","v":0},{"$f":"'Фінансування_Financing (CFI)'!AW$35*Амортизація_Depreciation!$E35","v":0},{"$f":"'Фінансування_Financing (CFI)'!AX$35*Амортизація_Depreciation!$E35","v":0},{"$f":"'Фінансування_Financing (CFI)'!AY$35*Амортизація_Depreciation!$E35","v":0},{"$f":"'Фінансування_Financing (CFI)'!AZ$35*Амортизація_Depreciation!$E35","v":0},{"$f":"'Фінансування_Financing (CFI)'!BA$35*Амортизація_Depreciation!$E35","v":0},{"$f":"'Фінансування_Financing (CFI)'!BB$35*Амортизація_Depreciation!$E35","v":0},{"$f":"'Фінансування_Financing (CFI)'!BC$35*Амортизація_Depreciation!$E35","v":0},{"$f":"'Фінансування_Financing (CFI)'!BD$35*Амортизація_Depreciation!$E35","v":0},{"$f":"'Фінансування_Financing (CFI)'!BE$35*Амортизація_Depreciation!$E35","v":0},{"$f":"'Фінансування_Financing (CFI)'!BF$35*Амортизація_Depreciation!$E35","v":0},{"$f":"'Фінансування_Financing (CFI)'!BG$35*Амортизація_Depreciation!$E35","v":0},0]
[null,"Група 5 – транспортні засоби / vehicles",5,{"$f":"IF('Грошові потоки _ Cash flows'!$E$15>Амортизація_Depreciation!C36, 'Грошові потоки _ Cash flows'!$E$15,Амортизація_Depreciation!C36)","v":25},null,{"$f":"'Фінансування_Financing (CFI)'!AD$35*Амортизація_Depreciation!$E36","v":0},{"$f":"'Фінансування_Financing (CFI)'!AE$35*Амортизація_Depreciation!$E36","v":0},{"$f":"'Фінансування_Financing (CFI)'!AF$35*Амортизація_Depreciation!$E36","v":0},{"$f":"'Фінансування_Financing (CFI)'!AG$35*Амортизація_Depreciation!$E36","v":0},{"$f":"'Фінансування_Financing (CFI)'!AH$35*Амортизація_Depreciation!$E36","v":0},{"$f":"'Фінансування_Financing (CFI)'!AI$35*Амортизація_Depreciation!$E36","v":0},{"$f":"'Фінансування_Financing (CFI)'!AJ$35*Амортизація_Depreciation!$E36","v":0},{"$f":"'Фінансування_Financing (CFI)'!AK$35*Амортизація_Depreciation!$E36","v":0},{"$f":"'Фінансування_Financing (CFI)'!AL$35*Амортизація_Depreciation!$E36","v":0},{"$f":"'Фінансування_Financing (CFI)'!AM$35*Амортизація_Depreciation!$E36","v":0},{"$f":"'Фінансування_Financing (CFI)'!AN$35*Амортизація_Depreciation!$E36","v":0},{"$f":"'Фінансування_Financing (CFI)'!AO$35*Амортизація_Depreciation!$E36","v":0},{"$f":"'Фінансування_Financing (CFI)'!AP$35*Амортизація_Depreciation!$E36","v":0},{"$f":"'Фінансування_Financing (CFI)'!AQ$35*Амортизація_Depreciation!$E36","v":0},{"$f":"'Фінансування_Financing (CFI)'!AR$35*Амортизація_Depreciation!$E36","v":0},{"$f":"'Фінансування_Financing (CFI)'!AS$35*Амортизація_Depreciation!$E36","v":0},{"$f":"'Фінансування_Financing (CFI)'!AT$35*Амортизація_Depreciation!$E36","v":0},{"$f":"'Фінансування_Financing (CFI)'!AU$35*Амортизація_Depreciation!$E36","v":0},{"$f":"'Фінансування_Financing (CFI)'!AV$35*Амортизація_Depreciation!$E36","v":0},{"$f":"'Фінансування_Financing (CFI)'!AW$35*Амортизація_Depreciation!$E36","v":0},{"$f":"'Фінансування_Financing (CFI)'!AX$35*Амортизація_Depreciation!$E36","v":0},{"$f":"'Фінансування_Financing (CFI)'!AY$35*Амортизація_Depreciation!$E36","v":0},{"$f":"'Фінансування_Financing (CFI)'!AZ$35*Амортизація_Depreciation!$E36","v":0},{"$f":"'Фінансування_Financing (CFI)'!BA$35*Амортизація_Depreciation!$E36","v":0},{"$f":"'Фінансування_Financing (CFI)'!BB$35*Амортизація_Depreciation!$E36","v":0},{"$f":"'Фінансування_Financing (CFI)'!BC$35*Амортизація_Depreciation!$E36","v":0},{"$f":"'Фінансування_Financing (CFI)'!BD$35*Амортизація_Depreciation!$E36","v":0},{"$f":"'Фінансування_Financing (CFI)'!BE$35*Амортизація_Depreciation!$E36","v":0},{"$f":"'Фінансування_Financing (CFI)'!BF$35*Амортизація_Depreciation!$E36","v":0},{"$f":"'Фінансування_Financing (CFI)'!BG$35*Амортизація_Depreciation!$E36","v":0},0]
[null,"Група 6 – інструменти, прилади, інвентар (меблі) / tools, devices, inventory (furniture)",4,{"$f":"IF('Грошові потоки _ Cash flows'!$E$15>Амортизація_Depreciation!C37, 'Грошові потоки _ Cash flows'!$E$15,Амортизація_Depreciation!C37)","v":25},null,{"$f":"'Фінансування_Financing (CFI)'!AD$35*Амортизація_Depreciation!$E37","v":0},{"$f":"'Фінансування_Financing (CFI)'!AE$35*Амортизація_Depreciation!$E37","v":0},{"$f":"'Фінансування_Financing (CFI)'!AF$35*Амортизація_Depreciation!$E37","v":0},{"$f":"'Фінансування_Financing (CFI)'!AG$35*Амортизація_Depreciation!$E37","v":0},{"$f":"'Фінансування_Financing (CFI)'!AH$35*Амортизація_Depreciation!$E37","v":0},{"$f":"'Фінансування_Financing (CFI)'!AI$35*Амортизація_Depreciation!$E37","v":0},{"$f":"'Фінансування_Financing (CFI)'!AJ$35*Амортизація_Depreciation!$E37","v":0},{"$f":"'Фінансування_Financing (CFI)'!AK$35*Амортизація_Depreciation!$E37","v":0},{"$f":"'Фінансування_Financing (CFI)'!AL$35*Амортизація_Depreciation!$E37","v":0},{"$f":"'Фінансування_Financing (CFI)'!AM$35*Амортизація_Depreciation!$E37","v":0},{"$f":"'Фінансування_Financing (CFI)'!AN$35*Амортизація_Depreciation!$E37","v":0},{"$f":"'Фінансування_Financing (CFI)'!AO$35*Амортизація_Depreciation!$E37","v":0},{"$f":"'Фінансування_Financing (CFI)'!AP$35*Амортизація_Depreciation!$E37","v":0},{"$f":"'Фінансування_Financing (CFI)'!AQ$35*Амортизація_Depreciation!$E37","v":0},{"$f":"'Фінансування_Financing (CFI)'!AR$35*Амортизація_Depreciation!$E37","v":0},{"$f":"'Фінансування_Financing (CFI)'!AS$35*Амортизація_Depreciation!$E37","v":0},{"$f":"'Фінансування_Financing (CFI)'!AT$35*Амортизація_Depreciation!$E37","v":0},{"$f":"'Фінансування_Financing (CFI)'!AU$35*Амортизація_Depreciation!$E37","v":0},{"$f":"'Фінансування_Financing (CFI)'!AV$35*Амортизація_Depreciation!$E37","v":0},{"$f":"'Фінансування_Financing (CFI)'!AW$35*Амортизація_Depreciation!$E37","v":0},{"$f":"'Фінансування_Financing (CFI)'!AX$35*Амортизація_Depreciation!$E37","v":0},{"$f":"'Фінансування_Financing (CFI)'!AY$35*Амортизація_Depreciation!$E37","v":0},{"$f":"'Фінансування_Financing (CFI)'!AZ$35*Амортизація_Depreciation!$E37","v":0},{"$f":"'Фінансування_Financing (CFI)'!BA$35*Амортизація_Depreciation!$E37","v":0},{"$f":"'Фінансування_Financing (CFI)'!BB$35*Амортизація_Depreciation!$E37","v":0},{"$f":"'Фінансування_Financing (CFI)'!BC$35*Амортизація_Depreciation!$E37","v":0},{"$f":"'Фінансування_Financing (CFI)'!BD$35*Амортизація_Depreciation!$E37","v":0},{"$f":"'Фінансування_Financing (CFI)'!BE$35*Амортизація_Depreciation!$E37","v":0},{"$f":"'Фінансування_Financing (CFI)'!BF$35*Амортизація_Depreciation!$E37","v":0},{"$f":"'Фінансування_Financing (CFI)'!BG$35*Амортизація_Depreciation!$E37","v":0},0]
[null,"Група 7 – тварини / animals",6,{"$f":"IF('Грошові потоки _ Cash flows'!$E$15>Амортизація_Depreciation!C38, 'Грошові потоки _ Cash flows'!$E$15,Амортизація_Depreciation!C38)","v":25},null,{"$f":"'Фінансування_Financing (CFI)'!AD$35*Амортизація_Depreciation!$E38","v":0},{"$f":"'Фінансування_Financing (CFI)'!AE$35*Амортизація_Depreciation!$E38","v":0},{"$f":"'Фінансування_Financing (CFI)'!AF$35*Амортизація_Depreciation!$E38","v":0},{"$f":"'Фінансування_Financing (CFI)'!AG$35*Амортизація_Depreciation!$E38","v":0},{"$f":"'Фінансування_Financing (CFI)'!AH$35*Амортизація_Depreciation!$E38","v":0},{"$f":"'Фінансування_Financing (CFI)'!AI$35*Амортизація_Depreciation!$E38","v":0},{"$f":"'Фінансування_Financing (CFI)'!AJ$35*Амортизація_Depreciation!$E38","v":0},{"$f":"'Фінансування_Financing (CFI)'!AK$35*Амортизація_Depreciation!$E38","v":0},{"$f":"'Фінансування_Financing (CFI)'!AL$35*Амортизація_Depreciation!$E38","v":0},{"$f":"'Фінансування_Financing (CFI)'!AM$35*Амортизація_Depreciation!$E38","v":0},{"$f":"'Фінансування_Financing (CFI)'!AN$35*Амортизація_Depreciation!$E38","v":0},{"$f":"'Фінансування_Financing (CFI)'!AO$35*Амортизація_Depreciation!$E38","v":0},{"$f":"'Фінансування_Financing (CFI)'!AP$35*Амортизація_Depreciation!$E38","v":0},{"$f":"'Фінансування_Financing (CFI)'!AQ$35*Амортизація_Depreciation!$E38","v":0},{"$f":"'Фінансування_Financing (CFI)'!AR$35*Амортизація_Depreciation!$E38","v":0},{"$f":"'Фінансування_Financing (CFI)'!AS$35*Амортизація_Depreciation!$E38","v":0},{"$f":"'Фінансування_Financing (CFI)'!AT$35*Амортизація_Depreciation!$E38","v":0},{"$f":"'Фінансування_Financing (CFI)'!AU$35*Амортизація_Depreciation!$E38","v":0},{"$f":"'Фінансування_Financing (CFI)'!AV$35*Амортизація_Depreciation!$E38","v":0},{"$f":"'Фінансування_Financing (CFI)'!AW$35*Амортизація_Depreciation!$E38","v":0},{"$f":"'Фінансування_Financing (CFI)'!AX$35*Амортизація_Depreciation!$E38","v":0},{"$f":"'Фінансування_Financing (CFI)'!AY$35*Амортизація_Depreciation!$E38","v":0},{"$f":"'Фінансування_Financing (CFI)'!AZ$35*Амортизація_Depreciation!$E38","v":0},{"$f":"'Фінансування_Financing (CFI)'!BA$35*Амортизація_Depreciation!$E38","v":0},{"$f":"'Фінансування_Financing (CFI)'!BB$35*Амортизація_Depreciation!$E38","v":0},{"$f":"'Фінансування_Financing (CFI)'!BC$35*Амортизація_Depreciation!$E38","v":0},{"$f":"'Фінансування_Financing (CFI)'!BD$35*Амортизація_Depreciation!$E38","v":0},{"$f":"'Фінансування_Financing (CFI)'!BE$35*Амортизація_Depreciation!$E38","v":0},{"$f":"'Фінансування_Financing (CFI)'!BF$35*Амортизація_Depreciation!$E38","v":0},{"$f":"'Фінансування_Financing (CFI)'!BG$35*Амортизація_Depreciation!$E38","v":0},0]
[null,"Група 8 – багаторічні насадження / perennial plantings",10,{"$f":"IF('Грошові потоки _ Cash flows'!$E$15>Амортизація_Depreciation!C39, 'Грошові потоки _ Cash flows'!$E$15,Амортизація_Depreciation!C39)","v":25},null,{"$f":"'Фінансування_Financing (CFI)'!AD$35*Амортизація_Depreciation!$E39","v":0},{"$f":"'Фінансування_Financing (CFI)'!AE$35*Амортизація_Depreciation!$E39","v":0},{"$f":"'Фінансування_Financing (CFI)'!AF$35*Амортизація_Depreciation!$E39","v":0},{"$f":"'Фінансування_Financing (CFI)'!AG$35*Амортизація_Depreciation!$E39","v":0},{"$f":"'Фінансування_Financing (CFI)'!AH$35*Амортизація_Depreciation!$E39","v":0},{"$f":"'Фінансування_Financing (CFI)'!AI$35*Амортизація_Depreciation!$E39","v":0},{"$f":"'Фінансування_Financing (CFI)'!AJ$35*Амортизація_Depreciation!$E39","v":0},{"$f":"'Фінансування_Financing (CFI)'!AK$35*Амортизація_Depreciation!$E39","v":0},{"$f":"'Фінансування_Financing (CFI)'!AL$35*Амортизація_Depreciation!$E39","v":0},{"$f":"'Фінансування_Financing (CFI)'!AM$35*Амортизація_Depreciation!$E39","v":0},{"$f":"'Фінансування_Financing (CFI)'!AN$35*Амортизація_Depreciation!$E39","v":0},{"$f":"'Фінансування_Financing (CFI)'!AO$35*Амортизація_Depreciation!$E39","v":0},{"$f":"'Фінансування_Financing (CFI)'!AP$35*Амортизація_Depreciation!$E39","v":0},{"$f":"'Фінансування_Financing (CFI)'!AQ$35*Амортизація_Depreciation!$E39","v":0},{"$f":"'Фінансування_Financing (CFI)'!AR$35*Амортизація_Depreciation!$E39","v":0},{"$f":"'Фінансування_Financing (CFI)'!AS$35*Амортизація_Depreciation!$E39","v":0},{"$f":"'Фінансування_Financing (CFI)'!AT$35*Амортизація_Depreciation!$E39","v":0},{"$f":"'Фінансування_Financing (CFI)'!AU$35*Амортизація_Depreciation!$E39","v":0},{"$f":"'Фінансування_Financing (CFI)'!AV$35*Амортизація_Depreciation!$E39","v":0},{"$f":"'Фінансування_Financing (CFI)'!AW$35*Амортизація_Depreciation!$E39","v":0},{"$f":"'Фінансування_Financing (CFI)'!AX$35*Амортизація_Depreciation!$E39","v":0},{"$f":"'Фінансування_Financing (CFI)'!AY$35*Амортизація_Depreciation!$E39","v":0},{"$f":"'Фінансування_Financing (CFI)'!AZ$35*Амортизація_Depreciation!$E39","v":0},{"$f":"'Фінансування_Financing (CFI)'!BA$35*Амортизація_Depreciation!$E39","v":0},{"$f":"'Фінансування_Financing (CFI)'!BB$35*Амортизація_Depreciation!$E39","v":0},{"$f":"'Фінансування_Financing (CFI)'!BC$35*Амортизація_Depreciation!$E39","v":0},{"$f":"'Фінансування_Financing (CFI)'!BD$35*Амортизація_Depreciation!$E39","v":0},{"$f":"'Фінансування_Financing (CFI)'!BE$35*Амортизація_Depreciation!$E39","v":0},{"$f":"'Фінансування_Financing (CFI)'!BF$35*Амортизація_Depreciation!$E39","v":0},{"$f":"'Фінансування_Financing (CFI)'!BG$35*Амортизація_Depreciation!$E39","v":0},0]
[null,"Група 9 – інші основні засоби / other fixed assets",12,{"$f":"IF('Грошові потоки _ Cash flows'!$E$15>Амортизація_Depreciation!C40, 'Грошові потоки _ Cash flows'!$E$15,Амортизація_Depreciation!C40)","v":25},null,{"$f":"'Фінансування_Financing (CFI)'!AD$35*Амортизація_Depreciation!$E40","v":0},{"$f":"'Фінансування_Financing (CFI)'!AE$35*Амортизація_Depreciation!$E40","v":0},{"$f":"'Фінансування_Financing (CFI)'!AF$35*Амортизація_Depreciation!$E40","v":0},{"$f":"'Фінансування_Financing (CFI)'!AG$35*Амортизація_Depreciation!$E40","v":0},{"$f":"'Фінансування_Financing (CFI)'!AH$35*Амортизація_Depreciation!$E40","v":0},{"$f":"'Фінансування_Financing (CFI)'!AI$35*Амортизація_Depreciation!$E40","v":0},{"$f":"'Фінансування_Financing (CFI)'!AJ$35*Амортизація_Depreciation!$E40","v":0},{"$f":"'Фінансування_Financing (CFI)'!AK$35*Амортизація_Depreciation!$E40","v":0},{"$f":"'Фінансування_Financing (CFI)'!AL$35*Амортизація_Depreciation!$E40","v":0},{"$f":"'Фінансування_Financing (CFI)'!AM$35*Амортизація_Depreciation!$E40","v":0},{"$f":"'Фінансування_Financing (CFI)'!AN$35*Амортизація_Depreciation!$E40","v":0},{"$f":"'Фінансування_Financing (CFI)'!AO$35*Амортизація_Depreciation!$E40","v":0},{"$f":"'Фінансування_Financing (CFI)'!AP$35*Амортизація_Depreciation!$E40","v":0},{"$f":"'Фінансування_Financing (CFI)'!AQ$35*Амортизація_Depreciation!$E40","v":0},{"$f":"'Фінансування_Financing (CFI)'!AR$35*Амортизація_Depreciation!$E40","v":0},{"$f":"'Фінансування_Financing (CFI)'!AS$35*Амортизація_Depreciation!$E40","v":0},{"$f":"'Фінансування_Financing (CFI)'!AT$35*Амортизація_Depreciation!$E40","v":0},{"$f":"'Фінансування_Financing (CFI)'!AU$35*Амортизація_Depreciation!$E40","v":0},{"$f":"'Фінансування_Financing (CFI)'!AV$35*Амортизація_Depreciation!$E40","v":0},{"$f":"'Фінансування_Financing (CFI)'!AW$35*Амортизація_Depreciation!$E40","v":0},{"$f":"'Фінансування_Financing (CFI)'!AX$35*Амортизація_Depreciation!$E40","v":0},{"$f":"'Фінансування_Financing (CFI)'!AY$35*Амортизація_Depreciation!$E40","v":0},{"$f":"'Фінансування_Financing (CFI)'!AZ$35*Амортизація_Depreciation!$E40","v":0},{"$f":"'Фінансування_Financing (CFI)'!BA$35*Амортизація_Depreciation!$E40","v":0},{"$f":"'Фінансування_Financing (CFI)'!BB$35*Амортизація_Depreciation!$E40","v":0},{"$f":"'Фінансування_Financing (CFI)'!BC$35*Амортизація_Depreciation!$E40","v":0},{"$f":"'Фінансування_Financing (CFI)'!BD$35*Амортизація_Depreciation!$E40","v":0},{"$f":"'Фінансування_Financing (CFI)'!BE$35*Амортизація_Depreciation!$E40","v":0},{"$f":"'Фінансування_Financing (CFI)'!BF$35*Амортизація_Depreciation!$E40","v":0},{"$f":"'Фінансування_Financing (CFI)'!BG$35*Амортизація_Depreciation!$E40","v":0},0]
[null,"Інші необоротні матеріальні активи: / Other non-current tangible assets:",null,null,{"$f":"SUM(E42:E48)","v":0},{"$f":"SUM(F42:F48)","v":0},{"$f":"SUM(G42:G48)","v":0},{"$f":"SUM(H42:H48)","v":0},0,0,0,0,0,0,0,0,0,0,0,0,0,0,0,0,0,0,0,0,0,0,0,0,0,0,0,{"$f":"SUM(F41:AI41)","v":0}]
[null,"Група 10 – бібліотечні фонди /library funds","—",{"$f":"IF('Грошові потоки _ Cash flows'!$E$15>Амортизація_Depreciation!C42, 'Грошові потоки _ Cash flows'!$E$15,Амортизація_Depreciation!C42)","v":"—"},null,{"$f":"'Фінансування_Financing (CFI)'!AD$35*Амортизація_Depreciation!$E42","v":0},{"$f":"'Фінансування_Financing (CFI)'!AE$35*Амортизація_Depreciation!$E42","v":0},{"$f":"'Фінансування_Financing (CFI)'!AF$35*Амортизація_Depreciation!$E42","v":0},{"$f":"'Фінансування_Financing (CFI)'!AG$35*Амортизація_Depreciation!$E42","v":0},{"$f":"'Фінансування_Financing (CFI)'!AH$35*Амортизація_Depreciation!$E42","v":0},{"$f":"'Фінансування_Financing (CFI)'!AI$35*Амортизація_Depreciation!$E42","v":0},{"$f":"'Фінансування_Financing (CFI)'!AJ$35*Амортизація_Depreciation!$E42","v":0},{"$f":"'Фінансування_Financing (CFI)'!AK$35*Амортизація_Depreciation!$E42","v":0},{"$f":"'Фінансування_Financing (CFI)'!AL$35*Амортизація_Depreciation!$E42","v":0},{"$f":"'Фінансування_Financing (CFI)'!AM$35*Амортизація_Depreciation!$E42","v":0},{"$f":"'Фінансування_Financing (CFI)'!AN$35*Амортизація_Depreciation!$E42","v":0},{"$f":"'Фінансування_Financing (CFI)'!AO$35*Амортизація_Depreciation!$E42","v":0},{"$f":"'Фінансування_Financing (CFI)'!AP$35*Амортизація_Depreciation!$E42","v":0},{"$f":"'Фінансування_Financing (CFI)'!AQ$35*Амортизація_Depreciation!$E42","v":0},{"$f":"'Фінансування_Financing (CFI)'!AR$35*Амортизація_Depreciation!$E42","v":0},{"$f":"'Фінансування_Financing (CFI)'!AS$35*Амортизація_Depreciation!$E42","v":0},{"$f":"'Фінансування_Financing (CFI)'!AT$35*Амортизація_Depreciation!$E42","v":0},{"$f":"'Фінансування_Financing (CFI)'!AU$35*Амортизація_Depreciation!$E42","v":0},{"$f":"'Фінансування_Financing (CFI)'!AV$35*Амортизація_Depreciation!$E42","v":0},{"$f":"'Фінансування_Financing (CFI)'!AW$35*Амортизація_Depreciation!$E42","v":0},{"$f":"'Фінансування_Financing (CFI)'!AX$35*Амортизація_Depreciation!$E42","v":0},{"$f":"'Фінансування_Financing (CFI)'!AY$35*Амортизація_Depreciation!$E42","v":0},{"$f":"'Фінансування_Financing (CFI)'!AZ$35*Амортизація_Depreciation!$E42","v":0},{"$f":"'Фінансування_Financing (CFI)'!BA$35*Амортизація_Depreciation!$E42","v":0},{"$f":"'Фінансування_Financing (CFI)'!BB$35*Амортизація_Depreciation!$E42","v":0},{"$f":"'Фінансування_Financing (CFI)'!BC$35*Амортизація_Depreciation!$E42","v":0},{"$f":"'Фінансування_Financing (CFI)'!BD$35*Амортизація_Depreciation!$E42","v":0},{"$f":"'Фінансування_Financing (CFI)'!BE$35*Амортизація_Depreciation!$E42","v":0},{"$f":"'Фінансування_Financing (CFI)'!BF$35*Амортизація_Depreciation!$E42","v":0},{"$f":"'Фінансування_Financing (CFI)'!BG$35*Амортизація_Depreciation!$E42","v":0},{"$f":"SUM(F42:AI42)","v":0}]
[null,"Група 11 – малоцінні необоротні активи / low-value non-current assets","—",{"$f":"IF('Грошові потоки _ Cash flows'!$E$15>Амортизація_Depreciation!C43, 'Грошові потоки _ Cash flows'!$E$15,Амортизація_Depreciation!C43)","v":"—"},null,{"$f":"'Фінансування_Financing (CFI)'!AD$35*Амортизація_Depreciation!$E43","v":0},{"$f":"'Фінансування_Financing (CFI)'!AE$35*Амортизація_Depreciation!$E43","v":0},{"$f":"'Фінансування_Financing (CFI)'!AF$35*Амортизація_Depreciation!$E43","v":0},{"$f":"'Фінансування_Financing (CFI)'!AG$35*Амортизація_Depreciation!$E43","v":0},{"$f":"'Фінансування_Financing (CFI)'!AH$35*Амортизація_Depreciation!$E43","v":0},{"$f":"'Фінансування_Financing (CFI)'!AI$35*Амортизація_Depreciation!$E43","v":0},{"$f":"'Фінансування_Financing (CFI)'!AJ$35*Амортизація_Depreciation!$E43","v":0},{"$f":"'Фінансування_Financing (CFI)'!AK$35*Амортизація_Depreciation!$E43","v":0},{"$f":"'Фінансування_Financing (CFI)'!AL$35*Амортизація_Depreciation!$E43","v":0},{"$f":"'Фінансування_Financing (CFI)'!AM$35*Амортизація_Depreciation!$E43","v":0},{"$f":"'Фінансування_Financing (CFI)'!AN$35*Амортизація_Depreciation!$E43","v":0},{"$f":"'Фінансування_Financing (CFI)'!AO$35*Амортизація_Depreciation!$E43","v":0},{"$f":"'Фінансування_Financing (CFI)'!AP$35*Амортизація_Depreciation!$E43","v":0},{"$f":"'Фінансування_Financing (CFI)'!AQ$35*Амортизація_Depreciation!$E43","v":0},{"$f":"'Фінансування_Financing (CFI)'!AR$35*Амортизація_Depreciation!$E43","v":0},{"$f":"'Фінансування_Financing (CFI)'!AS$35*Амортизація_Depreciation!$E43","v":0},{"$f":"'Фінансування_Financing (CFI)'!AT$35*Амортизація_Depreciation!$E43","v":0},{"$f":"'Фінансування_Financing (CFI)'!AU$35*Амортизація_Depreciation!$E43","v":0},{"$f":"'Фінансування_Financing (CFI)'!AV$35*Амортизація_Depreciation!$E43","v":0},{"$f":"'Фінансування_Financing (CFI)'!AW$35*Амортизація_Depreciation!$E43","v":0},{"$f":"'Фінансування_Financing (CFI)'!AX$35*Амортизація_Depreciation!$E43","v":0},{"$f":"'Фінансування_Financing (CFI)'!AY$35*Амортизація_Depreciation!$E43","v":0},{"$f":"'Фінансування_Financing (CFI)'!AZ$35*Амортизація_Depreciation!$E43","v":0},{"$f":"'Фінансування_Financing (CFI)'!BA$35*Амортизація_Depreciation!$E43","v":0},{"$f":"'Фінансування_Financing (CFI)'!BB$35*Амортизація_Depreciation!$E43","v":0},{"$f":"'Фінансування_Financing (CFI)'!BC$35*Амортизація_Depreciation!$E43","v":0},{"$f":"'Фінансування_Financing (CFI)'!BD$35*Амортизація_Depreciation!$E43","v":0},{"$f":"'Фінансування_Financing (CFI)'!BE$35*Амортизація_Depreciation!$E43","v":0},{"$f":"'Фінансування_Financing (CFI)'!BF$35*Амортизація_Depreciation!$E43","v":0},{"$f":"'Фінансування_Financing (CFI)'!BG$35*Амортизація_Depreciation!$E43","v":0},{"$f":"SUM(F43:AI43)","v":0}]
[null,"Група 12 – тимчасові (нетитульні) споруди / temporary (untitled) buildings",5,{"$f":"IF('Грошові потоки _ Cash flows'!$E$15>Амортизація_Depreciation!C44, 'Грошові потоки _ Cash flows'!$E$15,Амортизація_Depreciation!C44)","v":25},null,{"$f":"'Фінансування_Financing (CFI)'!AD$35*Амортизація_Depreciation!$E44","v":0},{"$f":"'Фінансування_Financing (CFI)'!AE$35*Амортизація_Depreciation!$E44","v":0},{"$f":"'Фінансування_Financing (CFI)'!AF$35*Амортизація_Depreciation!$E44","v":0},{"$f":"'Фінансування_Financing (CFI)'!AG$35*Амортизація_Depreciation!$E44","v":0},{"$f":"'Фінансування_Financing (CFI)'!AH$35*Амортизація_Depreciation!$E44","v":0},{"$f":"'Фінансування_Financing (CFI)'!AI$35*Амортизація_Depreciation!$E44","v":0},{"$f":"'Фінансування_Financing (CFI)'!AJ$35*Амортизація_Depreciation!$E44","v":0},{"$f":"'Фінансування_Financing (CFI)'!AK$35*Амортизація_Depreciation!$E44","v":0},{"$f":"'Фінансування_Financing (CFI)'!AL$35*Амортизація_Depreciation!$E44","v":0},{"$f":"'Фінансування_Financing (CFI)'!AM$35*Амортизація_Depreciation!$E44","v":0},{"$f":"'Фінансування_Financing (CFI)'!AN$35*Амортизація_Depreciation!$E44","v":0},{"$f":"'Фінансування_Financing (CFI)'!AO$35*Амортизація_Depreciation!$E44","v":0},{"$f":"'Фінансування_Financing (CFI)'!AP$35*Амортизація_Depreciation!$E44","v":0},{"$f":"'Фінансування_Financing (CFI)'!AQ$35*Амортизація_Depreciation!$E44","v":0},{"$f":"'Фінансування_Financing (CFI)'!AR$35*Амортизація_Depreciation!$E44","v":0},{"$f":"'Фінансування_Financing (CFI)'!AS$35*Амортизація_Depreciation!$E44","v":0},{"$f":"'Фінансування_Financing (CFI)'!AT$35*Амортизація_Depreciation!$E44","v":0},{"$f":"'Фінансування_Financing (CFI)'!AU$35*Амортизація_Depreciation!$E44","v":0},{"$f":"'Фінансування_Financing (CFI)'!AV$35*Амортизація_Depreciation!$E44","v":0},{"$f":"'Фінансування_Financing (CFI)'!AW$35*Амортизація_Depreciation!$E44","v":0},{"$f":"'Фінансування_Financing (CFI)'!AX$35*Амортизація_Depreciation!$E44","v":0},{"$f":"'Фінансування_Financing (CFI)'!AY$35*Амортизація_Depreciation!$E44","v":0},{"$f":"'Фінансування_Financing (CFI)'!AZ$35*Амортизація_Depreciation!$E44","v":0},{"$f":"'Фінансування_Financing (CFI)'!BA$35*Амортизація_Depreciation!$E44","v":0},{"$f":"'Фінансування_Financing (CFI)'!BB$35*Амортизація_Depreciation!$E44","v":0},{"$f":"'Фінансування_Financing (CFI)'!BC$35*Амортизація_Depreciation!$E44","v":0},{"$f":"'Фінансування_Financing (CFI)'!BD$35*Амортизація_Depreciation!$E44","v":0},{"$f":"'Фінансування_Financing (CFI)'!BE$35*Амортизація_Depreciation!$E44","v":0},{"$f":"'Фінансування_Financing (CFI)'!BF$35*Амортизація_Depreciation!$E44","v":0},{"$f":"'Фінансування_Financing (CFI)'!BG$35*Амортизація_Depreciation!$E44","v":0},{"$f":"SUM(F44:AI44)","v":0}]
[null,"Група 13 – природні ресурси / natural resources","—",{"$f":"IF('Грошові потоки _ Cash flows'!$E$15>Амортизація_Depreciation!C45, 'Грошові потоки _ Cash flows'!$E$15,Амортизація_Depreciation!C45)","v":"—"},null,{"$f":"'Фінансування_Financing (CFI)'!AD$35*Амортизація_Depreciation!$E45","v":0},{"$f":"'Фінансування_Financing (CFI)'!AE$35*Амортизація_Depreciation!$E45","v":0},{"$f":"'Фінансування_Financing (CFI)'!AF$35*Амортизація_Depreciation!$E45","v":0},{"$f":"'Фінансування_Financing (CFI)'!AG$35*Амортизація_Depreciation!$E45","v":0},{"$f":"'Фінансування_Financing (CFI)'!AH$35*Амортизація_Depreciation!$E45","v":0},{"$f":"'Фінансування_Financing (CFI)'!AI$35*Амортизація_Depreciation!$E45","v":0},{"$f":"'Фінансування_Financing (CFI)'!AJ$35*Амортизація_Depreciation!$E45","v":0},{"$f":"'Фінансування_Financing (CFI)'!AK$35*Амортизація_Depreciation!$E45","v":0},{"$f":"'Фінансування_Financing (CFI)'!AL$35*Амортизація_Depreciation!$E45","v":0},{"$f":"'Фінансування_Financing (CFI)'!AM$35*Амортизація_Depreciation!$E45","v":0},{"$f":"'Фінансування_Financing (CFI)'!AN$35*Амортизація_Depreciation!$E45","v":0},{"$f":"'Фінансування_Financing (CFI)'!AO$35*Амортизація_Depreciation!$E45","v":0},{"$f":"'Фінансування_Financing (CFI)'!AP$35*Амортизація_Depreciation!$E45","v":0},{"$f":"'Фінансування_Financing (CFI)'!AQ$35*Амортизація_Depreciation!$E45","v":0},{"$f":"'Фінансування_Financing (CFI)'!AR$35*Амортизація_Depreciation!$E45","v":0},{"$f":"'Фінансування_Financing (CFI)'!AS$35*Амортизація_Depreciation!$E45","v":0},{"$f":"'Фінансування_Financing (CFI)'!AT$35*Амортизація_Depreciation!$E45","v":0},{"$f":"'Фінансування_Financing (CFI)'!AU$35*Амортизація_Depreciation!$E45","v":0},{"$f":"'Фінансування_Financing (CFI)'!AV$35*Амортизація_Depreciation!$E45","v":0},{"$f":"'Фінансування_Financing (CFI)'!AW$35*Амортизація_Depreciation!$E45","v":0},{"$f":"'Фінансування_Financing (CFI)'!AX$35*Амортизація_Depreciation!$E45","v":0},{"$f":"'Фінансування_Financing (CFI)'!AY$35*Амортизація_Depreciation!$E45","v":0},{"$f":"'Фінансування_Financing (CFI)'!AZ$35*Амортизація_Depreciation!$E45","v":0},{"$f":"'Фінансування_Financing (CFI)'!BA$35*Амортизація_Depreciation!$E45","v":0},{"$f":"'Фінансування_Financing (CFI)'!BB$35*Амортизація_Depreciation!$E45","v":0},{"$f":"'Фінансування_Financing (CFI)'!BC$35*Амортизація_Depreciation!$E45","v":0},{"$f":"'Фінансування_Financing (CFI)'!BD$35*Амортизація_Depreciation!$E45","v":0},{"$f":"'Фінансування_Financing (CFI)'!BE$35*Амортизація_Depreciation!$E45","v":0},{"$f":"'Фінансування_Financing (CFI)'!BF$35*Амортизація_Depreciation!$E45","v":0},{"$f":"'Фінансування_Financing (CFI)'!BG$35*Амортизація_Depreciation!$E45","v":0},{"$f":"SUM(F45:AI45)","v":0}]
[null,"Група 14 – інвентарна тара / inventory packaging",6,{"$f":"IF('Грошові потоки _ Cash flows'!$E$15>Амортизація_Depreciation!C46, 'Грошові потоки _ Cash flows'!$E$15,Амортизація_Depreciation!C46)","v":25},null,{"$f":"'Фінансування_Financing (CFI)'!AD$35*Амортизація_Depreciation!$E46","v":0},{"$f":"'Фінансування_Financing (CFI)'!AE$35*Амортизація_Depreciation!$E46","v":0},{"$f":"'Фінансування_Financing (CFI)'!AF$35*Амортизація_Depreciation!$E46","v":0},{"$f":"'Фінансування_Financing (CFI)'!AG$35*Амортизація_Depreciation!$E46","v":0},{"$f":"'Фінансування_Financing (CFI)'!AH$35*Амортизація_Depreciation!$E46","v":0},{"$f":"'Фінансування_Financing (CFI)'!AI$35*Амортизація_Depreciation!$E46","v":0},{"$f":"'Фінансування_Financing (CFI)'!AJ$35*Амортизація_Depreciation!$E46","v":0},{"$f":"'Фінансування_Financing (CFI)'!AK$35*Амортизація_Depreciation!$E46","v":0},{"$f":"'Фінансування_Financing (CFI)'!AL$35*Амортизація_Depreciation!$E46","v":0},{"$f":"'Фінансування_Financing (CFI)'!AM$35*Амортизація_Depreciation!$E46","v":0},{"$f":"'Фінансування_Financing (CFI)'!AN$35*Амортизація_Depreciation!$E46","v":0},{"$f":"'Фінансування_Financing (CFI)'!AO$35*Амортизація_Depreciation!$E46","v":0},{"$f":"'Фінансування_Financing (CFI)'!AP$35*Амортизація_Depreciation!$E46","v":0},{"$f":"'Фінансування_Financing (CFI)'!AQ$35*Амортизація_Depreciation!$E46","v":0},{"$f":"'Фінансування_Financing (CFI)'!AR$35*Амортизація_Depreciation!$E46","v":0},{"$f":"'Фінансування_Financing (CFI)'!AS$35*Амортизація_Depreciation!$E46","v":0},{"$f":"'Фінансування_Financing (CFI)'!AT$35*Амортизація_Depreciation!$E46","v":0},{"$f":"'Фінансування_Financing (CFI)'!AU$35*Амортизація_Depreciation!$E46","v":0},{"$f":"'Фінансування_Financing (CFI)'!AV$35*Амортизація_Depreciation!$E46","v":0},{"$f":"'Фінансування_Financing (CFI)'!AW$35*Амортизація_Depreciation!$E46","v":0},{"$f":"'Фінансування_Financing (CFI)'!AX$35*Амортизація_Depreciation!$E46","v":0},{"$f":"'Фінансування_Financing (CFI)'!AY$35*Амортизація_Depreciation!$E46","v":0},{"$f":"'Фінансування_Financing (CFI)'!AZ$35*Амортизація_Depreciation!$E46","v":0},{"$f":"'Фінансування_Financing (CFI)'!BA$35*Амортизація_Depreciation!$E46","v":0},{"$f":"'Фінансування_Financing (CFI)'!BB$35*Амортизація_Depreciation!$E46","v":0},{"$f":"'Фінансування_Financing (CFI)'!BC$35*Амортизація_Depreciation!$E46","v":0},{"$f":"'Фінансування_Financing (CFI)'!BD$35*Амортизація_Depreciation!$E46","v":0},{"$f":"'Фінансування_Financing (CFI)'!BE$35*Амортизація_Depreciation!$E46","v":0},{"$f":"'Фінансування_Financing (CFI)'!BF$35*Амортизація_Depreciation!$E46","v":0},{"$f":"'Фінансування_Financing (CFI)'!BG$35*Амортизація_Depreciation!$E46","v":0},0]
[null,"Група 15 – предмети прокату / lease items",5,{"$f":"IF('Грошові потоки _ Cash flows'!$E$15>Амортизація_Depreciation!C47, 'Грошові потоки _ Cash flows'!$E$15,Амортизація_Depreciation!C47)","v":25},null,{"$f":"'Фінансування_Financing (CFI)'!AD$35*Амортизація_Depreciation!$E47","v":0},{"$f":"'Фінансування_Financing (CFI)'!AE$35*Амортизація_Depreciation!$E47","v":0},{"$f":"'Фінансування_Financing (CFI)'!AF$35*Амортизація_Depreciation!$E47","v":0},{"$f":"'Фінансування_Financing (CFI)'!AG$35*Амортизація_Depreciation!$E47","v":0},{"$f":"'Фінансування_Financing (CFI)'!AH$35*Амортизація_Depreciation!$E47","v":0},{"$f":"'Фінансування_Financing (CFI)'!AI$35*Амортизація_Depreciation!$E47","v":0},{"$f":"'Фінансування_Financing (CFI)'!AJ$35*Амортизація_Depreciation!$E47","v":0},{"$f":"'Фінансування_Financing (CFI)'!AK$35*Амортизація_Depreciation!$E47","v":0},{"$f":"'Фінансування_Financing (CFI)'!AL$35*Амортизація_Depreciation!$E47","v":0},{"$f":"'Фінансування_Financing (CFI)'!AM$35*Амортизація_Depreciation!$E47","v":0},{"$f":"'Фінансування_Financing (CFI)'!AN$35*Амортизація_Depreciation!$E47","v":0},{"$f":"'Фінансування_Financing (CFI)'!AO$35*Амортизація_Depreciation!$E47","v":0},{"$f":"'Фінансування_Financing (CFI)'!AP$35*Амортизація_Depreciation!$E47","v":0},{"$f":"'Фінансування_Financing (CFI)'!AQ$35*Амортизація_Depreciation!$E47","v":0},{"$f":"'Фінансування_Financing (CFI)'!AR$35*Амортизація_Depreciation!$E47","v":0},{"$f":"'Фінансування_Financing (CFI)'!AS$35*Амортизація_Depreciation!$E47","v":0},{"$f":"'Фінансування_Financing (CFI)'!AT$35*Амортизація_Depreciation!$E47","v":0},{"$f":"'Фінансування_Financing (CFI)'!AU$35*Амортизація_Depreciation!$E47","v":0},{"$f":"'Фінансування_Financing (CFI)'!AV$35*Амортизація_Depreciation!$E47","v":0},{"$f":"'Фінансування_Financing (CFI)'!AW$35*Амортизація_Depreciation!$E47","v":0},{"$f":"'Фінансування_Financing (CFI)'!AX$35*Амортизація_Depreciation!$E47","v":0},{"$f":"'Фінансування_Financing (CFI)'!AY$35*Амортизація_Depreciation!$E47","v":0},{"$f":"'Фінансування_Financing (CFI)'!AZ$35*Амортизація_Depreciation!$E47","v":0},{"$f":"'Фінансування_Financing (CFI)'!BA$35*Амортизація_Depreciation!$E47","v":0},{"$f":"'Фінансування_Financing (CFI)'!BB$35*Амортизація_Depreciation!$E47","v":0},{"$f":"'Фінансування_Financing (CFI)'!BC$35*Амортизація_Depreciation!$E47","v":0},{"$f":"'Фінансування_Financing (CFI)'!BD$35*Амортизація_Depreciation!$E47","v":0},{"$f":"'Фінансування_Financing (CFI)'!BE$35*Амортизація_Depreciation!$E47","v":0},{"$f":"'Фінансування_Financing (CFI)'!BF$35*Амортизація_Depreciation!$E47","v":0},{"$f":"'Фінансування_Financing (CFI)'!BG$35*Амортизація_Depreciation!$E47","v":0},0]
[null,"Група 16 – довгострокові біологічні активи / Long-term biological assets",7,{"$f":"IF('Грошові потоки _ Cash flows'!$E$15>Амортизація_Depreciation!C48, 'Грошові потоки _ Cash flows'!$E$15,Амортизація_Depreciation!C48)","v":25},null,{"$f":"'Фінансування_Financing (CFI)'!AD$35*Амортизація_Depreciation!$E48","v":0},{"$f":"'Фінансування_Financing (CFI)'!AE$35*Амортизація_Depreciation!$E48","v":0},{"$f":"'Фінансування_Financing (CFI)'!AF$35*Амортизація_Depreciation!$E48","v":0},{"$f":"'Фінансування_Financing (CFI)'!AG$35*Амортизація_Depreciation!$E48","v":0},{"$f":"'Фінансування_Financing (CFI)'!AH$35*Амортизація_Depreciation!$E48","v":0},{"$f":"'Фінансування_Financing (CFI)'!AI$35*Амортизація_Depreciation!$E48","v":0},{"$f":"'Фінансування_Financing (CFI)'!AJ$35*Амортизація_Depreciation!$E48","v":0},{"$f":"'Фінансування_Financing (CFI)'!AK$35*Амортизація_Depreciation!$E48","v":0},{"$f":"'Фінансування_Financing (CFI)'!AL$35*Амортизація_Depreciation!$E48","v":0},{"$f":"'Фінансування_Financing (CFI)'!AM$35*Амортизація_Depreciation!$E48","v":0},{"$f":"'Фінансування_Financing (CFI)'!AN$35*Амортизація_Depreciation!$E48","v":0},{"$f":"'Фінансування_Financing (CFI)'!AO$35*Амортизація_Depreciation!$E48","v":0},{"$f":"'Фінансування_Financing (CFI)'!AP$35*Амортизація_Depreciation!$E48","v":0},{"$f":"'Фінансування_Financing (CFI)'!AQ$35*Амортизація_Depreciation!$E48","v":0},{"$f":"'Фінансування_Financing (CFI)'!AR$35*Амортизація_Depreciation!$E48","v":0},{"$f":"'Фінансування_Financing (CFI)'!AS$35*Амортизація_Depreciation!$E48","v":0},{"$f":"'Фінансування_Financing (CFI)'!AT$35*Амортизація_Depreciation!$E48","v":0},{"$f":"'Фінансування_Financing (CFI)'!AU$35*Амортизація_Depreciation!$E48","v":0},{"$f":"'Фінансування_Financing (CFI)'!AV$35*Амортизація_Depreciation!$E48","v":0},{"$f":"'Фінансування_Financing (CFI)'!AW$35*Амортизація_Depreciation!$E48","v":0},{"$f":"'Фінансування_Financing (CFI)'!AX$35*Амортизація_Depreciation!$E48","v":0},{"$f":"'Фінансування_Financing (CFI)'!AY$35*Амортизація_Depreciation!$E48","v":0},{"$f":"'Фінансування_Financing (CFI)'!AZ$35*Амортизація_Depreciation!$E48","v":0},{"$f":"'Фінансування_Financing (CFI)'!BA$35*Амортизація_Depreciation!$E48","v":0},{"$f":"'Фінансування_Financing (CFI)'!BB$35*Амортизація_Depreciation!$E48","v":0},{"$f":"'Фінансування_Financing (CFI)'!BC$35*Амортизація_Depreciation!$E48","v":0},{"$f":"'Фінансування_Financing (CFI)'!BD$35*Амортизація_Depreciation!$E48","v":0},{"$f":"'Фінансування_Financing (CFI)'!BE$35*Амортизація_Depreciation!$E48","v":0},{"$f":"'Фінансування_Financing (CFI)'!BF$35*Амортизація_Depreciation!$E48","v":0},{"$f":"'Фінансування_Financing (CFI)'!BG$35*Амортизація_Depreciation!$E48","v":0},0]
[null,"Балансова (залишкова) вартість / residual value",null,null,null,{"$f":"F50+F63","v":0},{"$f":"G50+G63","v":4107.6623937613731},{"$f":"H50+H63","v":3936.5097940213159},3765.3571942812587,3594.2045945412015,3423.0519948011442,3251.899395061087,3080.7467953210298,2909.5941955809726,2738.4415958409154,2567.2889961008582,2396.136396360801,2224.9837966207438,2053.8311968806865,1882.6785971406293,1711.5259974005721,1540.3733976605149,1369.2207979204577,1198.0681981804005,1026.9155984403433,855.76299870028606,684.61039896022885,513.45779922017164,342.30519948011442,171.15259974005724,5.6843418860808015E-14,0,0,0,0,{"$f":"SUM(F49:AI49)","v":51345.779922017158}]
[null,"Основні засоби: / Fixed assets:",null,null,null,{"$f":"SUM(F51:F62)","v":0},{"$f":"SUM(G51:G62)","v":4107.6623937613731},3936.5097940213159,3765.3571942812587,3594.2045945412015,3423.0519948011442,3251.899395061087,3080.7467953210298,2909.5941955809726,2738.4415958409154,2567.2889961008582,2396.136396360801,2224.9837966207438,2053.8311968806865,1882.6785971406293,1711.5259974005721,1540.3733976605149,1369.2207979204577,1198.0681981804005,1026.9155984403433,855.76299870028606,684.61039896022885,513.45779922017164,342.30519948011442,171.15259974005724,5.6843418860808015E-14,0,0,0,0,51345.779922017158]
[null,"Група 1 – земельні ділянки / Group 1 -ground sections","—",{"$f":"IF('Грошові потоки _ Cash flows'!$E$15>Амортизація_Depreciation!C51, 'Грошові потоки _ Cash flows'!$E$15,Амортизація_Depreciation!C51)","v":"—"},null,{"$f":"(E51+F7+F29-F73-F95-F118)*IF(F$4>0,1,0)","v":0},0,0,0,0,0,0,0,0,0,0,0,0,0,0,0,0,0,0,0,0,0,0,0,0,0,0,0,0,0,0]
[null,"Група 2 – капітальні витрати на поліпшення землі, не пов'язані з будівництвом / CAPEX on ground improvement not related to construction",15,{"$f":"IF('Грошові потоки _ Cash flows'!$E$15>Амортизація_Depreciation!C52, 'Грошові потоки _ Cash flows'!$E$15,Амортизація_Depreciation!C52)","v":25},null,{"$f":"(E52+F8+F30-F74-F96-F119)*IF(F$4>0,1,0)","v":0},0,0,0,0,0,0,0,0,0,0,0,0,0,0,0,0,0,0,0,0,0,0,0,0,0,0,0,0,0,0]
[null,"Група 3 –  будівлі / buildings",20,{"$f":"IF('Грошові потоки _ Cash flows'!$E$15>Амортизація_Depreciation!C53, 'Грошові потоки _ Cash flows'!$E$15,Амортизація_Depreciation!C53)","v":25},null,{"$f":"(E53+F9+F31-F75-F97-F120)*IF(F$4>0,1,0)","v":0},0,0,0,0,0,0,0,0,0,0,0,0,0,0,0,0,0,0,0,0,0,0,0,0,0,0,0,0,0,0]
[null,"споруди / constructions",15,{"$f":"IF('Грошові потоки _ Cash flows'!$E$15>Амортизація_Depreciation!C54, 'Грошові потоки _ Cash flows'!$E$15,Амортизація_Depreciation!C54)","v":25},null,{"$f":"(E54+F10+F32-F76-F98-F121)*IF(F$4>0,1,0)","v":0},0,0,0,0,0,0,0,0,0,0,0,0,0,0,0,0,0,0,0,0,0,0,0,0,0,0,0,0,0,0]
[null,"передавальні пристрої / transmitting devices",10,{"$f":"IF('Грошові потоки _ Cash flows'!$E$15>Амортизація_Depreciation!C55, 'Грошові потоки _ Cash flows'!$E$15,Амортизація_Depreciation!C55)","v":25},null,{"$f":"(E55+F11+F33-F77-F99-F122)*IF(F$4>0,1,0)","v":0},0,0,0,0,0,0,0,0,0,0,0,0,0,0,0,0,0,0,0,0,0,0,0,0,0,0,0,0,0,0]
[null,"Група 4 –  машини та обладнання / Machines and equipment",5,{"$f":"IF('Грошові потоки _ Cash flows'!$E$15>Амортизація_Depreciation!C56, 'Грошові потоки _ Cash flows'!$E$15,Амортизація_Depreciation!C56)","v":25},null,0,{"$f":"(F56+G12+G34-G78-G100-G123)*IF(G$4>0,1,0)","v":4107.6623937613731},3936.5097940213159,3765.3571942812587,{"$f":"(I56+J12+J34-J78-J100-J123)*IF(J$4>0,1,0)","v":3594.2045945412015},{"$f":"(J56+K12+K34-K78-K100-K123)*IF(K$4>0,1,0)","v":3423.0519948011442},{"$f":"(K56+L12+L34-L78-L100-L123)*IF(L$4>0,1,0)","v":3251.899395061087},{"$f":"(L56+M12+M34-M78-M100-M123)*IF(M$4>0,1,0)","v":3080.7467953210298},{"$f":"(M56+N12+N34-N78-N100-N123)*IF(N$4>0,1,0)","v":2909.5941955809726},{"$f":"(N56+O12+O34-O78-O100-O123)*IF(O$4>0,1,0)","v":2738.4415958409154},{"$f":"(O56+P12+P34-P78-P100-P123)*IF(P$4>0,1,0)","v":2567.2889961008582},{"$f":"(P56+Q12+Q34-Q78-Q100-Q123)*IF(Q$4>0,1,0)","v":2396.136396360801},{"$f":"(Q56+R12+R34-R78-R100-R123)*IF(R$4>0,1,0)","v":2224.9837966207438},{"$f":"(R56+S12+S34-S78-S100-S123)*IF(S$4>0,1,0)","v":2053.8311968806865},{"$f":"(S56+T12+T34-T78-T100-T123)*IF(T$4>0,1,0)","v":1882.6785971406293},{"$f":"(T56+U12+U34-U78-U100-U123)*IF(U$4>0,1,0)","v":1711.5259974005721},{"$f":"(U56+V12+V34-V78-V100-V123)*IF(V$4>0,1,0)","v":1540.3733976605149},{"$f":"(V56+W12+W34-W78-W100-W123)*IF(W$4>0,1,0)","v":1369.2207979204577},{"$f":"(W56+X12+X34-X78-X100-X123)*IF(X$4>0,1,0)","v":1198.0681981804005},{"$f":"(X56+Y12+Y34-Y78-Y100-Y123)*IF(Y$4>0,1,0)","v":1026.9155984403433},{"$f":"(Y56+Z12+Z34-Z78-Z100-Z123)*IF(Z$4>0,1,0)","v":855.76299870028606},{"$f":"(Z56+AA12+AA34-AA78-AA100-AA123)*IF(AA$4>0,1,0)","v":684.61039896022885},{"$f":"(AA56+AB12+AB34-AB78-AB100-AB123)*IF(AB$4>0,1,0)","v":513.45779922017164},{"$f":"(AB56+AC12+AC34-AC78-AC100-AC123)*IF(AC$4>0,1,0)","v":342.30519948011442},{"$f":"(AC56+AD12+AD34-AD78-AD100-AD123)*IF(AD$4>0,1,0)","v":171.15259974005724},{"$f":"(AD56+AE12+AE34-AE78-AE100-AE123)*IF(AE$4>0,1,0)","v":5.6843418860808015E-14},{"$f":"(AE56+AF12+AF34-AF78-AF100-AF123)*IF(AF$4>0,1,0)","v":0},{"$f":"(AF56+AG12+AG34-AG78-AG100-AG123)*IF(AG$4>0,1,0)","v":0},{"$f":"(AG56+AH12+AH34-AH78-AH100-AH123)*IF(AH$4>0,1,0)","v":0},{"$f":"(AH56+AI12+AI34-AI78-AI100-AI123)*IF(AI$4>0,1,0)","v":0},51345.779922017158]
[null,"Електронно-обчислювальні машини, інші машини для автоматичного оброблення інформації, пов'язані з ними засоби зчитування або друку інформації, пов'язані з ними комп'ютерні програми (крім програм, витрати на придбання яких визнаються роялті, та / або програм, які визнаються нематеріальним активів) , інші інформаційні системи, комутатори, маршрутизатори, модулі, модеми, джерела безперебійного живлення та засоби їх підключення до телекомунікаційних мереж, телефони (в тому числі мобільні), мікрофони і рації, вартість яких перевищує 2500 гривень.",2,{"$f":"IF('Грошові потоки _ Cash flows'!$E$15>Амортизація_Depreciation!C57, 'Грошові потоки _ Cash flows'!$E$15,Амортизація_Depreciation!C57)","v":25},null,{"$f":"(E57+F13+F35-F79-F101-F124)*IF(F$4>0,1,0)","v":0},0,0,0,0,0,0,0,0,0,0,0,0,0,0,0,0,0,0,0,0,0,0,0,0,0,0,0,0,0,0]
[null,"Група 5 – транспортні засоби / vehicles",5,{"$f":"IF('Грошові потоки _ Cash flows'!$E$15>Амортизація_Depreciation!C58, 'Грошові потоки _ Cash flows'!$E$15,Амортизація_Depreciation!C58)","v":25},null,{"$f":"(E58+F14+F36-F80-F102-F125)*IF(F$4>0,1,0)","v":0},0,0,0,0,0,0,0,0,0,0,0,0,0,0,0,0,0,0,0,0,0,0,0,0,0,0,0,0,0,0]
[null,"Група 6 – інструменти, прилади, інвентар (меблі) / tools, devices, inventory (furniture)",4,{"$f":"IF('Грошові потоки _ Cash flows'!$E$15>Амортизація_Depreciation!C59, 'Грошові потоки _ Cash flows'!$E$15,Амортизація_Depreciation!C59)","v":25},null,{"$f":"(E59+F15+F37-F81-F103-F126)*IF(F$4>0,1,0)","v":0},0,0,0,0,0,0,0,0,0,0,0,0,0,0,0,0,0,0,0,0,0,0,0,0,0,0,0,0,0,0]
[null,"Група 7 – тварини / animals",6,{"$f":"IF('Грошові потоки _ Cash flows'!$E$15>Амортизація_Depreciation!C60, 'Грошові потоки _ Cash flows'!$E$15,Амортизація_Depreciation!C60)","v":25},null,{"$f":"(E60+F16+F38-F82-F104-F127)*IF(F$4>0,1,0)","v":0},0,0,0,0,0,0,0,0,0,0,0,0,0,0,0,0,0,0,0,0,0,0,0,0,0,0,0,0,0,0]
[null,"Група 8 – багаторічні насадження / perennial plantings",10,{"$f":"IF('Грошові потоки _ Cash flows'!$E$15>Амортизація_Depreciation!C61, 'Грошові потоки _ Cash flows'!$E$15,Амортизація_Depreciation!C61)","v":25},null,{"$f":"(E61+F17+F39-F83-F105-F128)*IF(F$4>0,1,0)","v":0},0,0,0,0,0,0,0,0,0,0,0,0,0,0,0,0,0,0,0,0,0,0,0,0,0,0,0,0,0,0]
[null,"Група 9 – інші основні засоби / other fixed assets",12,{"$f":"IF('Грошові потоки _ Cash flows'!$E$15>Амортизація_Depreciation!C62, 'Грошові потоки _ Cash flows'!$E$15,Амортизація_Depreciation!C62)","v":25},null,{"$f":"(E62+F18+F40-F84-F106-F129)*IF(F$4>0,1,0)","v":0},0,0,0,0,0,0,0,0,0,0,0,0,0,0,0,0,0,0,0,0,0,0,0,0,0,0,0,0,0,0]
[null,"Інші необоротні матеріальні активи: / Other non-current tangible assets:",null,null,null,{"$f":"SUM(F64:F70)","v":0},{"$f":"SUM(G64:G70)","v":0},0,0,0,0,0,0,0,0,0,0,0,0,0,{"$f":"SUM(U64:U70)","v":0},{"$f":"SUM(V64:V70)","v":0},0,0,0,0,0,0,0,0,0,0,0,0,0,0]
[null,"Група 10 – бібліотечні фонди /library funds","—",{"$f":"IF('Грошові потоки _ Cash flows'!$E$15>Амортизація_Depreciation!C64, 'Грошові потоки _ Cash flows'!$E$15,Амортизація_Depreciation!C64)","v":"—"},null,{"$f":"(E64+F20+F42-F86-F108-F131)*IF(F$4>0,1,0)","v":0},0,0,0,0,0,0,0,0,0,0,0,0,0,0,0,0,0,0,0,0,0,0,0,0,0,0,0,0,0,0]
[null,"Група 11 – малоцінні необоротні активи / low-value non-current assets","—",{"$f":"IF('Грошові потоки _ Cash flows'!$E$15>Амортизація_Depreciation!C65, 'Грошові потоки _ Cash flows'!$E$15,Амортизація_Depreciation!C65)","v":"—"},null,{"$f":"(E65+F21+F43-F87-F109-F132)*IF(F$4>0,1,0)","v":0},0,0,0,0,0,0,0,0,0,0,0,0,0,0,0,0,0,0,0,0,0,0,0,0,0,0,0,0,0,{"$f":"SUM(F65:AI65)","v":0}]
[null,"Група 12 – тимчасові (нетитульні) споруди / temporary (untitled) buildings",5,{"$f":"IF('Грошові потоки _ Cash flows'!$E$15>Амортизація_Depreciation!C66, 'Грошові потоки _ Cash flows'!$E$15,Амортизація_Depreciation!C66)","v":25},null,{"$f":"(E66+F22+F44-F88-F110-F133)*IF(F$4>0,1,0)","v":0},0,0,0,0,0,0,0,0,0,0,0,0,0,0,0,0,0,0,0,0,0,0,0,0,0,0,0,0,0,0]
[null,"Група 13 – природні ресурси / natural resources","—",{"$f":"IF('Грошові потоки _ Cash flows'!$E$15>Амортизація_Depreciation!C67, 'Грошові потоки _ Cash flows'!$E$15,Амортизація_Depreciation!C67)","v":"—"},null,{"$f":"(E67+F23+F45-F89-F111-F134)*IF(F$4>0,1,0)","v":0},0,0,0,0,0,0,0,0,0,0,0,0,0,0,0,0,0,0,0,0,0,0,0,0,0,0,0,0,0,0]
[null,"Група 14 – інвентарна тара / inventory packaging",6,{"$f":"IF('Грошові потоки _ Cash flows'!$E$15>Амортизація_Depreciation!C68, 'Грошові потоки _ Cash flows'!$E$15,Амортизація_Depreciation!C68)","v":25},null,{"$f":"(E68+F24+F46-F90-F112-F135)*IF(F$4>0,1,0)","v":0},0,0,0,0,0,0,0,0,0,0,0,0,0,0,0,0,0,0,0,0,0,0,0,0,0,0,0,0,0,0]
[null,"Група 15 – предмети прокату / lease items",5,{"$f":"IF('Грошові потоки _ Cash flows'!$E$15>Амортизація_Depreciation!C69, 'Грошові потоки _ Cash flows'!$E$15,Амортизація_Depreciation!C69)","v":25},null,{"$f":"(E69+F25+F47-F91-F113-F136)*IF(F$4>0,1,0)","v":0},0,0,0,0,0,0,0,0,0,0,0,0,0,0,0,0,0,0,0,0,0,0,0,0,0,0,0,0,0,0]
[null,"Група 16 – довгострокові біологічні активи / Long-term biological assets",7,{"$f":"IF('Грошові потоки _ Cash flows'!$E$15>Амортизація_Depreciation!C70, 'Грошові потоки _ Cash flows'!$E$15,Амортизація_Depreciation!C70)","v":25},null,{"$f":"(E70+F26+F48-F92-F114-F137)*IF(F$4>0,1,0)","v":0},0,0,0,0,0,0,0,0,0,0,0,0,0,0,0,0,0,0,0,0,0,0,0,0,0,0,0,0,0,{"$f":"SUM(F70:AI70)","v":0}]
[null,"Амортизація - об'єкт ОЗ / Depreciation FA objects",null,null,null,{"$f":"F72+F85","v":0},{"$f":"G72+G85","v":171.15259974005718},171.15259974005718,171.15259974005718,171.15259974005718,171.15259974005718,171.15259974005718,171.15259974005718,171.15259974005718,171.15259974005718,171.15259974005718,171.15259974005718,171.15259974005718,171.15259974005718,171.15259974005718,171.15259974005718,171.15259974005718,171.15259974005718,171.15259974005718,171.15259974005718,171.15259974005718,171.15259974005718,171.15259974005718,171.15259974005718,171.15259974005718,171.15259974005718,0,0,0,0,4278.8149935014289]
[null,"Основні засоби: / fixed assets",null,null,null,{"$f":"SUM(F73:F84)","v":0},{"$f":"SUM(G73:G84)","v":171.15259974005718},171.15259974005718,171.15259974005718,171.15259974005718,171.15259974005718,171.15259974005718,171.15259974005718,171.15259974005718,171.15259974005718,171.15259974005718,171.15259974005718,171.15259974005718,171.15259974005718,171.15259974005718,{"$f":"SUM(U73:U84)","v":171.15259974005718},{"$f":"SUM(V73:V84)","v":171.15259974005718},171.15259974005718,171.15259974005718,171.15259974005718,171.15259974005718,171.15259974005718,171.15259974005718,171.15259974005718,171.15259974005718,171.15259974005718,0,0,0,0,4278.8149935014289]
[null,"Група 1 – земельні ділянки / Group 1 -ground sections","—",{"$f":"IF('Грошові потоки _ Cash flows'!$E$15>Амортизація_Depreciation!C73, 'Грошові потоки _ Cash flows'!$E$15,Амортизація_Depreciation!C73)","v":"—"},null,0,0,0,0,0,0,0,0,0,0,0,0,0,0,0,0,0,0,0,0,0,0,0,0,0,0,0,0,0,0,0]
[null,"Група 2 – капітальні витрати на поліпшення землі, не пов'язані з будівництвом / CAPEX on ground improvement not related to construction",15,{"$f":"IF('Грошові потоки _ Cash flows'!$E$15>Амортизація_Depreciation!C74, 'Грошові потоки _ Cash flows'!$E$15,Амортизація_Depreciation!C74)","v":25},null,{"$f":"SUM($F8:F8)/$D8*IF(F$4>0,1,0)","v":0},{"$f":"SUM($F8:G8)/$D$8*IF(G$4>0,1,0)","v":0},{"$f":"SUM($F8:H8)/$D$8*IF(H$4>0,1,0)","v":0},{"$f":"SUM($F8:I8)/$D$8*IF(I$4>0,1,0)","v":0},{"$f":"SUM($F8:J8)/$D$8*IF(J$4>0,1,0)","v":0},{"$f":"SUM($F8:K8)/$D$8*IF(K$4>0,1,0)","v":0},{"$f":"SUM($F8:L8)/$D$8*IF(L$4>0,1,0)","v":0},{"$f":"SUM($F8:M8)/$D$8*IF(M$4>0,1,0)","v":0},{"$f":"SUM($F8:N8)/$D$8*IF(N$4>0,1,0)","v":0},{"$f":"SUM($F8:O8)/$D$8*IF(O$4>0,1,0)","v":0},{"$f":"SUM($F8:P8)/$D$8*IF(P$4>0,1,0)","v":0},{"$f":"SUM($F8:Q8)/$D$8*IF(Q$4>0,1,0)","v":0},{"$f":"SUM($F8:R8)/$D$8*IF(R$4>0,1,0)","v":0},{"$f":"SUM($F8:S8)/$D$8*IF(S$4>0,1,0)","v":0},{"$f":"SUM($F8:T8)/$D$8*IF(T$4>0,1,0)","v":0},{"$f":"SUM($F8:U8)/$D$8*IF(U$4>0,1,0)","v":0},{"$f":"SUM($F8:V8)/$D$8*IF(V$4>0,1,0)","v":0},{"$f":"SUM($F8:W8)/$D$8*IF(W$4>0,1,0)","v":0},{"$f":"SUM($F8:X8)/$D$8*IF(X$4>0,1,0)","v":0},{"$f":"SUM($F8:Y8)/$D$8*IF(Y$4>0,1,0)","v":0},{"$f":"SUM($F8:Z8)/$D$8*IF(Z$4>0,1,0)","v":0},{"$f":"SUM($F8:AA8)/$D$8*IF(AA$4>0,1,0)","v":0},{"$f":"SUM($F8:AB8)/$D$8*IF(AB$4>0,1,0)","v":0},{"$f":"SUM($F8:AC8)/$D$8*IF(AC$4>0,1,0)","v":0},{"$f":"SUM($F8:AD8)/$D$8*IF(AD$4>0,1,0)","v":0},{"$f":"SUM($F8:AE8)/$D$8*IF(AE$4>0,1,0)","v":0},{"$f":"SUM($F8:AF8)/$D$8*IF(AF$4>0,1,0)","v":0},{"$f":"SUM($F8:AG8)/$D$8*IF(AG$4>0,1,0)","v":0},{"$f":"SUM($F8:AH8)/$D$8*IF(AH$4>0,1,0)","v":0},{"$f":"SUM($F8:AI8)/$D$8*IF(AI$4>0,1,0)","v":0},0]
[null,"Група 3 –  будівлі / buildings",20,{"$f":"IF('Грошові потоки _ Cash flows'!$E$15>Амортизація_Depreciation!C75, 'Грошові потоки _ Cash flows'!$E$15,Амортизація_Depreciation!C75)","v":25},null,{"$f":"SUM($F9:F9)/$D9*IF(F$4>0,1,0)","v":0},{"$f":"SUM($F9:G9)/$D9*IF(G$4>0,1,0)","v":0},{"$f":"SUM($F9:H9)/$D9*IF(H$4>0,1,0)","v":0},{"$f":"SUM($F9:I9)/$D9*IF(I$4>0,1,0)","v":0},{"$f":"SUM($F9:J9)/$D9*IF(J$4>0,1,0)","v":0},{"$f":"SUM($F9:K9)/$D9*IF(K$4>0,1,0)","v":0},{"$f":"SUM($F9:L9)/$D9*IF(L$4>0,1,0)","v":0},{"$f":"SUM($F9:M9)/$D9*IF(M$4>0,1,0)","v":0},{"$f":"SUM($F9:N9)/$D9*IF(N$4>0,1,0)","v":0},{"$f":"SUM($F9:O9)/$D9*IF(O$4>0,1,0)","v":0},{"$f":"SUM($F9:P9)/$D9*IF(P$4>0,1,0)","v":0},{"$f":"SUM($F9:Q9)/$D9*IF(Q$4>0,1,0)","v":0},{"$f":"SUM($F9:R9)/$D9*IF(R$4>0,1,0)","v":0},{"$f":"SUM($F9:S9)/$D9*IF(S$4>0,1,0)","v":0},{"$f":"SUM($F9:T9)/$D9*IF(T$4>0,1,0)","v":0},{"$f":"SUM($F9:U9)/$D9*IF(U$4>0,1,0)","v":0},{"$f":"SUM($F9:V9)/$D9*IF(V$4>0,1,0)","v":0},{"$f":"SUM($F9:W9)/$D9*IF(W$4>0,1,0)","v":0},{"$f":"SUM($F9:X9)/$D9*IF(X$4>0,1,0)","v":0},{"$f":"SUM($F9:Y9)/$D9*IF(Y$4>0,1,0)","v":0},{"$f":"SUM($F9:Z9)/$D9*IF(Z$4>0,1,0)","v":0},{"$f":"SUM($F9:AA9)/$D9*IF(AA$4>0,1,0)","v":0},{"$f":"SUM($F9:AB9)/$D9*IF(AB$4>0,1,0)","v":0},{"$f":"SUM($F9:AC9)/$D9*IF(AC$4>0,1,0)","v":0},{"$f":"SUM($F9:AD9)/$D9*IF(AD$4>0,1,0)","v":0},{"$f":"SUM($F9:AE9)/$D9*IF(AE$4>0,1,0)","v":0},{"$f":"SUM($F9:AF9)/$D9*IF(AF$4>0,1,0)","v":0},{"$f":"SUM($F9:AG9)/$D9*IF(AG$4>0,1,0)","v":0},{"$f":"SUM($F9:AH9)/$D9*IF(AH$4>0,1,0)","v":0},{"$f":"SUM($F9:AI9)/$D9*IF(AI$4>0,1,0)","v":0},0]
[null,"споруди / constructions",15,{"$f":"IF('Грошові потоки _ Cash flows'!$E$15>Амортизація_Depreciation!C76, 'Грошові потоки _ Cash flows'!$E$15,Амортизація_Depreciation!C76)","v":25},null,{"$f":"SUM($F10:F10)/$D10*IF(F$4>0,1,0)","v":0},{"$f":"SUM($F10:G10)/$D10*IF(G$4>0,1,0)","v":0},{"$f":"SUM($F10:H10)/$D10*IF(H$4>0,1,0)","v":0},{"$f":"SUM($F10:I10)/$D10*IF(I$4>0,1,0)","v":0},{"$f":"SUM($F10:J10)/$D10*IF(J$4>0,1,0)","v":0},{"$f":"SUM($F10:K10)/$D10*IF(K$4>0,1,0)","v":0},{"$f":"SUM($F10:L10)/$D10*IF(L$4>0,1,0)","v":0},{"$f":"SUM($F10:M10)/$D10*IF(M$4>0,1,0)","v":0},{"$f":"SUM($F10:N10)/$D10*IF(N$4>0,1,0)","v":0},{"$f":"SUM($F10:O10)/$D10*IF(O$4>0,1,0)","v":0},{"$f":"SUM($F10:P10)/$D10*IF(P$4>0,1,0)","v":0},{"$f":"SUM($F10:Q10)/$D10*IF(Q$4>0,1,0)","v":0},{"$f":"SUM($F10:R10)/$D10*IF(R$4>0,1,0)","v":0},{"$f":"SUM($F10:S10)/$D10*IF(S$4>0,1,0)","v":0},{"$f":"SUM($F10:T10)/$D10*IF(T$4>0,1,0)","v":0},{"$f":"SUM($F10:U10)/$D10*IF(U$4>0,1,0)","v":0},{"$f":"SUM($F10:V10)/$D10*IF(V$4>0,1,0)","v":0},{"$f":"SUM($F10:W10)/$D10*IF(W$4>0,1,0)","v":0},{"$f":"SUM($F10:X10)/$D10*IF(X$4>0,1,0)","v":0},{"$f":"SUM($F10:Y10)/$D10*IF(Y$4>0,1,0)","v":0},{"$f":"SUM($F10:Z10)/$D10*IF(Z$4>0,1,0)","v":0},{"$f":"SUM($F10:AA10)/$D10*IF(AA$4>0,1,0)","v":0},{"$f":"SUM($F10:AB10)/$D10*IF(AB$4>0,1,0)","v":0},{"$f":"SUM($F10:AC10)/$D10*IF(AC$4>0,1,0)","v":0},{"$f":"SUM($F10:AD10)/$D10*IF(AD$4>0,1,0)","v":0},{"$f":"SUM($F10:AE10)/$D10*IF(AE$4>0,1,0)","v":0},{"$f":"SUM($F10:AF10)/$D10*IF(AF$4>0,1,0)","v":0},{"$f":"SUM($F10:AG10)/$D10*IF(AG$4>0,1,0)","v":0},{"$f":"SUM($F10:AH10)/$D10*IF(AH$4>0,1,0)","v":0},{"$f":"SUM($F10:AI10)/$D10*IF(AI$4>0,1,0)","v":0},0]
[null,"передавальні пристрої / transmitting devices",10,{"$f":"IF('Грошові потоки _ Cash flows'!$E$15>Амортизація_Depreciation!C77, 'Грошові потоки _ Cash flows'!$E$15,Амортизація_Depreciation!C77)","v":25},null,{"$f":"SUM($F11:F11)/$D11*IF(F$4>0,1,0)","v":0},{"$f":"SUM($F11:G11)/$D11*IF(G$4>0,1,0)","v":0},{"$f":"SUM($F11:H11)/$D11*IF(H$4>0,1,0)","v":0},{"$f":"SUM($F11:I11)/$D11*IF(I$4>0,1,0)","v":0},{"$f":"SUM($F11:J11)/$D11*IF(J$4>0,1,0)","v":0},{"$f":"SUM($F11:K11)/$D11*IF(K$4>0,1,0)","v":0},{"$f":"SUM($F11:L11)/$D11*IF(L$4>0,1,0)","v":0},{"$f":"SUM($F11:M11)/$D11*IF(M$4>0,1,0)","v":0},{"$f":"SUM($F11:N11)/$D11*IF(N$4>0,1,0)","v":0},{"$f":"SUM($F11:O11)/$D11*IF(O$4>0,1,0)","v":0},{"$f":"SUM($F11:P11)/$D11*IF(P$4>0,1,0)","v":0},{"$f":"SUM($F11:Q11)/$D11*IF(Q$4>0,1,0)","v":0},{"$f":"SUM($F11:R11)/$D11*IF(R$4>0,1,0)","v":0},{"$f":"SUM($F11:S11)/$D11*IF(S$4>0,1,0)","v":0},{"$f":"SUM($F11:T11)/$D11*IF(T$4>0,1,0)","v":0},{"$f":"SUM($F11:U11)/$D11*IF(U$4>0,1,0)","v":0},{"$f":"SUM($F11:V11)/$D11*IF(V$4>0,1,0)","v":0},{"$f":"SUM($F11:W11)/$D11*IF(W$4>0,1,0)","v":0},{"$f":"SUM($F11:X11)/$D11*IF(X$4>0,1,0)","v":0},{"$f":"SUM($F11:Y11)/$D11*IF(Y$4>0,1,0)","v":0},{"$f":"SUM($F11:Z11)/$D11*IF(Z$4>0,1,0)","v":0},{"$f":"SUM($F11:AA11)/$D11*IF(AA$4>0,1,0)","v":0},{"$f":"SUM($F11:AB11)/$D11*IF(AB$4>0,1,0)","v":0},{"$f":"SUM($F11:AC11)/$D11*IF(AC$4>0,1,0)","v":0},{"$f":"SUM($F11:AD11)/$D11*IF(AD$4>0,1,0)","v":0},{"$f":"SUM($F11:AE11)/$D11*IF(AE$4>0,1,0)","v":0},{"$f":"SUM($F11:AF11)/$D11*IF(AF$4>0,1,0)","v":0},{"$f":"SUM($F11:AG11)/$D11*IF(AG$4>0,1,0)","v":0},{"$f":"SUM($F11:AH11)/$D11*IF(AH$4>0,1,0)","v":0},{"$f":"SUM($F11:AI11)/$D11*IF(AI$4>0,1,0)","v":0},0]
[null,"Група 4 –  машини та обладнання / Machines and equipment",5,{"$f":"IF('Грошові потоки _ Cash flows'!$E$15>Амортизація_Depreciation!C78, 'Грошові потоки _ Cash flows'!$E$15,Амортизація_Depreciation!C78)","v":25},null,{"$f":"SUM($F12:F12)/$D12*IF(F$4>0,1,0)","v":0},{"$f":"SUM($F12:G12)/$D12*IF(G$4>0,1,0)","v":171.15259974005718},{"$f":"SUM($F12:H12)/$D12*IF(H$4>0,1,0)","v":171.15259974005718},{"$f":"SUM($F12:I12)/$D12*IF(I$4>0,1,0)","v":171.15259974005718},{"$f":"SUM($F12:J12)/$D12*IF(J$4>0,1,0)","v":171.15259974005718},{"$f":"SUM($F12:K12)/$D12*IF(K$4>0,1,0)","v":171.15259974005718},{"$f":"SUM($F12:L12)/$D12*IF(L$4>0,1,0)","v":171.15259974005718},{"$f":"SUM($F12:M12)/$D12*IF(M$4>0,1,0)","v":171.15259974005718},{"$f":"SUM($F12:N12)/$D12*IF(N$4>0,1,0)","v":171.15259974005718},{"$f":"SUM($F12:O12)/$D12*IF(O$4>0,1,0)","v":171.15259974005718},{"$f":"SUM($F12:P12)/$D12*IF(P$4>0,1,0)","v":171.15259974005718},{"$f":"SUM($F12:Q12)/$D12*IF(Q$4>0,1,0)","v":171.15259974005718},{"$f":"SUM($F12:R12)/$D12*IF(R$4>0,1,0)","v":171.15259974005718},{"$f":"SUM($F12:S12)/$D12*IF(S$4>0,1,0)","v":171.15259974005718},{"$f":"SUM($F12:T12)/$D12*IF(T$4>0,1,0)","v":171.15259974005718},{"$f":"SUM($F12:U12)/$D12*IF(U$4>0,1,0)","v":171.15259974005718},{"$f":"SUM($F12:V12)/$D12*IF(V$4>0,1,0)","v":171.15259974005718},{"$f":"SUM($F12:W12)/$D12*IF(W$4>0,1,0)","v":171.15259974005718},{"$f":"SUM($F12:X12)/$D12*IF(X$4>0,1,0)","v":171.15259974005718},{"$f":"SUM($F12:Y12)/$D12*IF(Y$4>0,1,0)","v":171.15259974005718},{"$f":"SUM($F12:Z12)/$D12*IF(Z$4>0,1,0)","v":171.15259974005718},{"$f":"SUM($F12:AA12)/$D12*IF(AA$4>0,1,0)","v":171.15259974005718},{"$f":"SUM($F12:AB12)/$D12*IF(AB$4>0,1,0)","v":171.15259974005718},{"$f":"SUM($F12:AC12)/$D12*IF(AC$4>0,1,0)","v":171.15259974005718},{"$f":"SUM($F12:AD12)/$D12*IF(AD$4>0,1,0)","v":171.15259974005718},{"$f":"SUM($F12:AE12)/$D12*IF(AE$4>0,1,0)","v":171.15259974005718},{"$f":"SUM($F12:AF12)/$D12*IF(AF$4>0,1,0)","v":0},{"$f":"SUM($F12:AG12)/$D12*IF(AG$4>0,1,0)","v":0},{"$f":"SUM($F12:AH12)/$D12*IF(AH$4>0,1,0)","v":0},{"$f":"SUM($F12:AI12)/$D12*IF(AI$4>0,1,0)","v":0},4278.8149935014289]
[null,"Електронно-обчислювальні машини, інші машини для автоматичного оброблення інформації, пов'язані з ними засоби зчитування або друку інформації, пов'язані з ними комп'ютерні програми (крім програм, витрати на придбання яких визнаються роялті, та / або програм, які визнаються нематеріальним активів) , інші інформаційні системи, комутатори, маршрутизатори, модулі, модеми, джерела безперебійного живлення та засоби їх підключення до телекомунікаційних мереж, телефони (в тому числі мобільні), мікрофони і рації, вартість яких перевищує 2500 гривень.",2,{"$f":"IF('Грошові потоки _ Cash flows'!$E$15>Амортизація_Depreciation!C79, 'Грошові потоки _ Cash flows'!$E$15,Амортизація_Depreciation!C79)","v":25},null,{"$f":"SUM($F13:F13)/$D13*IF(F$4>0,1,0)","v":0},{"$f":"SUM($F13:G13)/$D13*IF(G$4>0,1,0)","v":0},{"$f":"SUM($F13:H13)/$D13*IF(H$4>0,1,0)","v":0},{"$f":"SUM($F13:I13)/$D13*IF(I$4>0,1,0)","v":0},{"$f":"SUM($F13:J13)/$D13*IF(J$4>0,1,0)","v":0},{"$f":"SUM($F13:K13)/$D13*IF(K$4>0,1,0)","v":0},{"$f":"SUM($F13:L13)/$D13*IF(L$4>0,1,0)","v":0},{"$f":"SUM($F13:M13)/$D13*IF(M$4>0,1,0)","v":0},{"$f":"SUM($F13:N13)/$D13*IF(N$4>0,1,0)","v":0},{"$f":"SUM($F13:O13)/$D13*IF(O$4>0,1,0)","v":0},{"$f":"SUM($F13:P13)/$D13*IF(P$4>0,1,0)","v":0},{"$f":"SUM($F13:Q13)/$D13*IF(Q$4>0,1,0)","v":0},{"$f":"SUM($F13:R13)/$D13*IF(R$4>0,1,0)","v":0},{"$f":"SUM($F13:S13)/$D13*IF(S$4>0,1,0)","v":0},{"$f":"SUM($F13:T13)/$D13*IF(T$4>0,1,0)","v":0},{"$f":"SUM($F13:U13)/$D13*IF(U$4>0,1,0)","v":0},{"$f":"SUM($F13:V13)/$D13*IF(V$4>0,1,0)","v":0},{"$f":"SUM($F13:W13)/$D13*IF(W$4>0,1,0)","v":0},{"$f":"SUM($F13:X13)/$D13*IF(X$4>0,1,0)","v":0},{"$f":"SUM($F13:Y13)/$D13*IF(Y$4>0,1,0)","v":0},{"$f":"SUM($F13:Z13)/$D13*IF(Z$4>0,1,0)","v":0},{"$f":"SUM($F13:AA13)/$D13*IF(AA$4>0,1,0)","v":0},{"$f":"SUM($F13:AB13)/$D13*IF(AB$4>0,1,0)","v":0},{"$f":"SUM($F13:AC13)/$D13*IF(AC$4>0,1,0)","v":0},{"$f":"SUM($F13:AD13)/$D13*IF(AD$4>0,1,0)","v":0},{"$f":"SUM($F13:AE13)/$D13*IF(AE$4>0,1,0)","v":0},{"$f":"SUM($F13:AF13)/$D13*IF(AF$4>0,1,0)","v":0},{"$f":"SUM($F13:AG13)/$D13*IF(AG$4>0,1,0)","v":0},{"$f":"SUM($F13:AH13)/$D13*IF(AH$4>0,1,0)","v":0},{"$f":"SUM($F13:AI13)/$D13*IF(AI$4>0,1,0)","v":0},0]
[null,"Група 5 – транспортні засоби / vehicles",5,{"$f":"IF('Грошові потоки _ Cash flows'!$E$15>Амортизація_Depreciation!C80, 'Грошові потоки _ Cash flows'!$E$15,Амортизація_Depreciation!C80)","v":25},null,{"$f":"SUM($F14:F14)/$D14*IF(F$4>0,1,0)","v":0},{"$f":"SUM($F14:G14)/$D14*IF(G$4>0,1,0)","v":0},{"$f":"SUM($F14:H14)/$D14*IF(H$4>0,1,0)","v":0},{"$f":"SUM($F14:I14)/$D14*IF(I$4>0,1,0)","v":0},{"$f":"SUM($F14:J14)/$D14*IF(J$4>0,1,0)","v":0},{"$f":"SUM($F14:K14)/$D14*IF(K$4>0,1,0)","v":0},{"$f":"SUM($F14:L14)/$D14*IF(L$4>0,1,0)","v":0},{"$f":"SUM($F14:M14)/$D14*IF(M$4>0,1,0)","v":0},{"$f":"SUM($F14:N14)/$D14*IF(N$4>0,1,0)","v":0},{"$f":"SUM($F14:O14)/$D14*IF(O$4>0,1,0)","v":0},{"$f":"SUM($F14:P14)/$D14*IF(P$4>0,1,0)","v":0},{"$f":"SUM($F14:Q14)/$D14*IF(Q$4>0,1,0)","v":0},{"$f":"SUM($F14:R14)/$D14*IF(R$4>0,1,0)","v":0},{"$f":"SUM($F14:S14)/$D14*IF(S$4>0,1,0)","v":0},{"$f":"SUM($F14:T14)/$D14*IF(T$4>0,1,0)","v":0},{"$f":"SUM($F14:U14)/$D14*IF(U$4>0,1,0)","v":0},{"$f":"SUM($F14:V14)/$D14*IF(V$4>0,1,0)","v":0},{"$f":"SUM($F14:W14)/$D14*IF(W$4>0,1,0)","v":0},{"$f":"SUM($F14:X14)/$D14*IF(X$4>0,1,0)","v":0},{"$f":"SUM($F14:Y14)/$D14*IF(Y$4>0,1,0)","v":0},{"$f":"SUM($F14:Z14)/$D14*IF(Z$4>0,1,0)","v":0},{"$f":"SUM($F14:AA14)/$D14*IF(AA$4>0,1,0)","v":0},{"$f":"SUM($F14:AB14)/$D14*IF(AB$4>0,1,0)","v":0},{"$f":"SUM($F14:AC14)/$D14*IF(AC$4>0,1,0)","v":0},{"$f":"SUM($F14:AD14)/$D14*IF(AD$4>0,1,0)","v":0},{"$f":"SUM($F14:AE14)/$D14*IF(AE$4>0,1,0)","v":0},{"$f":"SUM($F14:AF14)/$D14*IF(AF$4>0,1,0)","v":0},{"$f":"SUM($F14:AG14)/$D14*IF(AG$4>0,1,0)","v":0},{"$f":"SUM($F14:AH14)/$D14*IF(AH$4>0,1,0)","v":0},{"$f":"SUM($F14:AI14)/$D14*IF(AI$4>0,1,0)","v":0},0]
[null,"Група 6 – інструменти, прилади, інвентар (меблі) / tools, devices, inventory (furniture)",4,{"$f":"IF('Грошові потоки _ Cash flows'!$E$15>Амортизація_Depreciation!C81, 'Грошові потоки _ Cash flows'!$E$15,Амортизація_Depreciation!C81)","v":25},null,{"$f":"SUM($F15:F15)/$D15*IF(F$4>0,1,0)","v":0},{"$f":"SUM($F15:G15)/$D15*IF(G$4>0,1,0)","v":0},{"$f":"SUM($F15:H15)/$D15*IF(H$4>0,1,0)","v":0},{"$f":"SUM($F15:I15)/$D15*IF(I$4>0,1,0)","v":0},{"$f":"SUM($F15:J15)/$D15*IF(J$4>0,1,0)","v":0},{"$f":"SUM($F15:K15)/$D15*IF(K$4>0,1,0)","v":0},{"$f":"SUM($F15:L15)/$D15*IF(L$4>0,1,0)","v":0},{"$f":"SUM($F15:M15)/$D15*IF(M$4>0,1,0)","v":0},{"$f":"SUM($F15:N15)/$D15*IF(N$4>0,1,0)","v":0},{"$f":"SUM($F15:O15)/$D15*IF(O$4>0,1,0)","v":0},{"$f":"SUM($F15:P15)/$D15*IF(P$4>0,1,0)","v":0},{"$f":"SUM($F15:Q15)/$D15*IF(Q$4>0,1,0)","v":0},{"$f":"SUM($F15:R15)/$D15*IF(R$4>0,1,0)","v":0},{"$f":"SUM($F15:S15)/$D15*IF(S$4>0,1,0)","v":0},{"$f":"SUM($F15:T15)/$D15*IF(T$4>0,1,0)","v":0},{"$f":"SUM($F15:U15)/$D15*IF(U$4>0,1,0)","v":0},{"$f":"SUM($F15:V15)/$D15*IF(V$4>0,1,0)","v":0},{"$f":"SUM($F15:W15)/$D15*IF(W$4>0,1,0)","v":0},{"$f":"SUM($F15:X15)/$D15*IF(X$4>0,1,0)","v":0},{"$f":"SUM($F15:Y15)/$D15*IF(Y$4>0,1,0)","v":0},{"$f":"SUM($F15:Z15)/$D15*IF(Z$4>0,1,0)","v":0},{"$f":"SUM($F15:AA15)/$D15*IF(AA$4>0,1,0)","v":0},{"$f":"SUM($F15:AB15)/$D15*IF(AB$4>0,1,0)","v":0},{"$f":"SUM($F15:AC15)/$D15*IF(AC$4>0,1,0)","v":0},{"$f":"SUM($F15:AD15)/$D15*IF(AD$4>0,1,0)","v":0},{"$f":"SUM($F15:AE15)/$D15*IF(AE$4>0,1,0)","v":0},{"$f":"SUM($F15:AF15)/$D15*IF(AF$4>0,1,0)","v":0},{"$f":"SUM($F15:AG15)/$D15*IF(AG$4>0,1,0)","v":0},{"$f":"SUM($F15:AH15)/$D15*IF(AH$4>0,1,0)","v":0},{"$f":"SUM($F15:AI15)/$D15*IF(AI$4>0,1,0)","v":0},0]
[null,"Група 7 – тварини / animals",6,{"$f":"IF('Грошові потоки _ Cash flows'!$E$15>Амортизація_Depreciation!C82, 'Грошові потоки _ Cash flows'!$E$15,Амортизація_Depreciation!C82)","v":25},null,{"$f":"SUM($F16:F16)/$D16*IF(F$4>0,1,0)","v":0},{"$f":"SUM($F16:G16)/$D16*IF(G$4>0,1,0)","v":0},{"$f":"SUM($F16:H16)/$D16*IF(H$4>0,1,0)","v":0},{"$f":"SUM($F16:I16)/$D16*IF(I$4>0,1,0)","v":0},{"$f":"SUM($F16:J16)/$D16*IF(J$4>0,1,0)","v":0},{"$f":"SUM($F16:K16)/$D16*IF(K$4>0,1,0)","v":0},{"$f":"SUM($F16:L16)/$D16*IF(L$4>0,1,0)","v":0},{"$f":"SUM($F16:M16)/$D16*IF(M$4>0,1,0)","v":0},{"$f":"SUM($F16:N16)/$D16*IF(N$4>0,1,0)","v":0},{"$f":"SUM($F16:O16)/$D16*IF(O$4>0,1,0)","v":0},{"$f":"SUM($F16:P16)/$D16*IF(P$4>0,1,0)","v":0},{"$f":"SUM($F16:Q16)/$D16*IF(Q$4>0,1,0)","v":0},{"$f":"SUM($F16:R16)/$D16*IF(R$4>0,1,0)","v":0},{"$f":"SUM($F16:S16)/$D16*IF(S$4>0,1,0)","v":0},{"$f":"SUM($F16:T16)/$D16*IF(T$4>0,1,0)","v":0},{"$f":"SUM($F16:U16)/$D16*IF(U$4>0,1,0)","v":0},{"$f":"SUM($F16:V16)/$D16*IF(V$4>0,1,0)","v":0},{"$f":"SUM($F16:W16)/$D16*IF(W$4>0,1,0)","v":0},{"$f":"SUM($F16:X16)/$D16*IF(X$4>0,1,0)","v":0},{"$f":"SUM($F16:Y16)/$D16*IF(Y$4>0,1,0)","v":0},{"$f":"SUM($F16:Z16)/$D16*IF(Z$4>0,1,0)","v":0},{"$f":"SUM($F16:AA16)/$D16*IF(AA$4>0,1,0)","v":0},{"$f":"SUM($F16:AB16)/$D16*IF(AB$4>0,1,0)","v":0},{"$f":"SUM($F16:AC16)/$D16*IF(AC$4>0,1,0)","v":0},{"$f":"SUM($F16:AD16)/$D16*IF(AD$4>0,1,0)","v":0},{"$f":"SUM($F16:AE16)/$D16*IF(AE$4>0,1,0)","v":0},{"$f":"SUM($F16:AF16)/$D16*IF(AF$4>0,1,0)","v":0},{"$f":"SUM($F16:AG16)/$D16*IF(AG$4>0,1,0)","v":0},{"$f":"SUM($F16:AH16)/$D16*IF(AH$4>0,1,0)","v":0},{"$f":"SUM($F16:AI16)/$D16*IF(AI$4>0,1,0)","v":0},0]
[null,"Група 8 – багаторічні насадження / perennial plantings",10,{"$f":"IF('Грошові потоки _ Cash flows'!$E$15>Амортизація_Depreciation!C83, 'Грошові потоки _ Cash flows'!$E$15,Амортизація_Depreciation!C83)","v":25},null,{"$f":"SUM($F17:F17)/$D17*IF(F$4>0,1,0)","v":0},{"$f":"SUM($F17:G17)/$D17*IF(G$4>0,1,0)","v":0},{"$f":"SUM($F17:H17)/$D17*IF(H$4>0,1,0)","v":0},{"$f":"SUM($F17:I17)/$D17*IF(I$4>0,1,0)","v":0},{"$f":"SUM($F17:J17)/$D17*IF(J$4>0,1,0)","v":0},{"$f":"SUM($F17:K17)/$D17*IF(K$4>0,1,0)","v":0},{"$f":"SUM($F17:L17)/$D17*IF(L$4>0,1,0)","v":0},{"$f":"SUM($F17:M17)/$D17*IF(M$4>0,1,0)","v":0},{"$f":"SUM($F17:N17)/$D17*IF(N$4>0,1,0)","v":0},{"$f":"SUM($F17:O17)/$D17*IF(O$4>0,1,0)","v":0},{"$f":"SUM($F17:P17)/$D17*IF(P$4>0,1,0)","v":0},{"$f":"SUM($F17:Q17)/$D17*IF(Q$4>0,1,0)","v":0},{"$f":"SUM($F17:R17)/$D17*IF(R$4>0,1,0)","v":0},{"$f":"SUM($F17:S17)/$D17*IF(S$4>0,1,0)","v":0},{"$f":"SUM($F17:T17)/$D17*IF(T$4>0,1,0)","v":0},{"$f":"SUM($F17:U17)/$D17*IF(U$4>0,1,0)","v":0},{"$f":"SUM($F17:V17)/$D17*IF(V$4>0,1,0)","v":0},{"$f":"SUM($F17:W17)/$D17*IF(W$4>0,1,0)","v":0},{"$f":"SUM($F17:X17)/$D17*IF(X$4>0,1,0)","v":0},{"$f":"SUM($F17:Y17)/$D17*IF(Y$4>0,1,0)","v":0},{"$f":"SUM($F17:Z17)/$D17*IF(Z$4>0,1,0)","v":0},{"$f":"SUM($F17:AA17)/$D17*IF(AA$4>0,1,0)","v":0},{"$f":"SUM($F17:AB17)/$D17*IF(AB$4>0,1,0)","v":0},{"$f":"SUM($F17:AC17)/$D17*IF(AC$4>0,1,0)","v":0},{"$f":"SUM($F17:AD17)/$D17*IF(AD$4>0,1,0)","v":0},{"$f":"SUM($F17:AE17)/$D17*IF(AE$4>0,1,0)","v":0},{"$f":"SUM($F17:AF17)/$D17*IF(AF$4>0,1,0)","v":0},{"$f":"SUM($F17:AG17)/$D17*IF(AG$4>0,1,0)","v":0},{"$f":"SUM($F17:AH17)/$D17*IF(AH$4>0,1,0)","v":0},{"$f":"SUM($F17:AI17)/$D17*IF(AI$4>0,1,0)","v":0},0]
[null,"Група 9 – інші основні засоби / other fixed assets",12,{"$f":"IF('Грошові потоки _ Cash flows'!$E$15>Амортизація_Depreciation!C84, 'Грошові потоки _ Cash flows'!$E$15,Амортизація_Depreciation!C84)","v":25},null,{"$f":"SUM($F18:F18)/$D18*IF(F$4>0,1,0)","v":0},{"$f":"SUM($F18:G18)/$D18*IF(G$4>0,1,0)","v":0},{"$f":"SUM($F18:H18)/$D18*IF(H$4>0,1,0)","v":0},{"$f":"SUM($F18:I18)/$D18*IF(I$4>0,1,0)","v":0},{"$f":"SUM($F18:J18)/$D18*IF(J$4>0,1,0)","v":0},{"$f":"SUM($F18:K18)/$D18*IF(K$4>0,1,0)","v":0},{"$f":"SUM($F18:L18)/$D18*IF(L$4>0,1,0)","v":0},{"$f":"SUM($F18:M18)/$D18*IF(M$4>0,1,0)","v":0},{"$f":"SUM($F18:N18)/$D18*IF(N$4>0,1,0)","v":0},{"$f":"SUM($F18:O18)/$D18*IF(O$4>0,1,0)","v":0},{"$f":"SUM($F18:P18)/$D18*IF(P$4>0,1,0)","v":0},{"$f":"SUM($F18:Q18)/$D18*IF(Q$4>0,1,0)","v":0},{"$f":"SUM($F18:R18)/$D18*IF(R$4>0,1,0)","v":0},{"$f":"SUM($F18:S18)/$D18*IF(S$4>0,1,0)","v":0},{"$f":"SUM($F18:T18)/$D18*IF(T$4>0,1,0)","v":0},{"$f":"SUM($F18:U18)/$D18*IF(U$4>0,1,0)","v":0},{"$f":"SUM($F18:V18)/$D18*IF(V$4>0,1,0)","v":0},{"$f":"SUM($F18:W18)/$D18*IF(W$4>0,1,0)","v":0},{"$f":"SUM($F18:X18)/$D18*IF(X$4>0,1,0)","v":0},{"$f":"SUM($F18:Y18)/$D18*IF(Y$4>0,1,0)","v":0},{"$f":"SUM($F18:Z18)/$D18*IF(Z$4>0,1,0)","v":0},{"$f":"SUM($F18:AA18)/$D18*IF(AA$4>0,1,0)","v":0},{"$f":"SUM($F18:AB18)/$D18*IF(AB$4>0,1,0)","v":0},{"$f":"SUM($F18:AC18)/$D18*IF(AC$4>0,1,0)","v":0},{"$f":"SUM($F18:AD18)/$D18*IF(AD$4>0,1,0)","v":0},{"$f":"SUM($F18:AE18)/$D18*IF(AE$4>0,1,0)","v":0},{"$f":"SUM($F18:AF18)/$D18*IF(AF$4>0,1,0)","v":0},{"$f":"SUM($F18:AG18)/$D18*IF(AG$4>0,1,0)","v":0},{"$f":"SUM($F18:AH18)/$D18*IF(AH$4>0,1,0)","v":0},{"$f":"SUM($F18:AI18)/$D18*IF(AI$4>0,1,0)","v":0},0]
[null,"Інші необоротні матеріальні активи: / Other non-current tangible assets:",null,null,null,{"$f":"SUM(F86:F92)","v":0},{"$f":"SUM(G86:G92)","v":0},0,0,0,0,0,0,0,0,0,0,0,0,0,{"$f":"SUM(U86:U92)","v":0},{"$f":"SUM(V86:V92)","v":0},0,0,0,0,0,0,0,0,0,0,0,0,0,{"$f":"SUM(F85:AI92)","v":0}]
[null,"Група 10 – бібліотечні фонди /library funds","—",{"$f":"IF('Грошові потоки _ Cash flows'!$E$15>Амортизація_Depreciation!C86, 'Грошові потоки _ Cash flows'!$E$15,Амортизація_Depreciation!C86)","v":"—"},null,{"$f":"F20*IF(F$4>0,1,0)","v":0},0,0,0,0,0,0,0,0,0,0,0,0,0,0,0,0,0,0,0,0,0,0,0,0,0,0,0,0,0,{"$f":"SUM(F86:AI86)","v":0}]
[null,"Група 11 – малоцінні необоротні активи / low-value non-current assets","—",{"$f":"IF('Грошові потоки _ Cash flows'!$E$15>Амортизація_Depreciation!C87, 'Грошові потоки _ Cash flows'!$E$15,Амортизація_Depreciation!C87)","v":"—"},null,{"$f":"F21*IF(F$4>0,1,0)","v":0},0,0,0,0,0,0,0,0,0,0,0,0,0,0,0,0,0,0,0,0,0,0,0,0,0,0,0,0,0,{"$f":"SUM(F87:AI87)","v":0}]
[null,"Група 12 – тимчасові (нетитульні) споруди / temporary (untitled) buildings",5,{"$f":"IF('Грошові потоки _ Cash flows'!$E$15>Амортизація_Depreciation!C88, 'Грошові потоки _ Cash flows'!$E$15,Амортизація_Depreciation!C88)","v":25},null,{"$f":"SUM($F44:F44)/$D44*IF(F$4>0,1,0)","v":0},{"$f":"SUM($F44:G44)/$D44*IF(G$4>0,1,0)","v":0},{"$f":"SUM($F44:H44)/$D44*IF(H$4>0,1,0)","v":0},{"$f":"SUM($F44:I44)/$D44*IF(I$4>0,1,0)","v":0},{"$f":"SUM($F44:J44)/$D44*IF(J$4>0,1,0)","v":0},{"$f":"SUM($F44:K44)/$D44*IF(K$4>0,1,0)","v":0},{"$f":"SUM($F44:L44)/$D44*IF(L$4>0,1,0)","v":0},{"$f":"SUM($F44:M44)/$D44*IF(M$4>0,1,0)","v":0},{"$f":"SUM($F44:N44)/$D44*IF(N$4>0,1,0)","v":0},{"$f":"SUM($F44:O44)/$D44*IF(O$4>0,1,0)","v":0},{"$f":"SUM($F44:P44)/$D44*IF(P$4>0,1,0)","v":0},{"$f":"SUM($F44:Q44)/$D44*IF(Q$4>0,1,0)","v":0},{"$f":"SUM($F44:R44)/$D44*IF(R$4>0,1,0)","v":0},{"$f":"SUM($F44:S44)/$D44*IF(S$4>0,1,0)","v":0},{"$f":"SUM($F44:T44)/$D44*IF(T$4>0,1,0)","v":0},{"$f":"SUM($F44:U44)/$D44*IF(U$4>0,1,0)","v":0},{"$f":"SUM($F44:V44)/$D44*IF(V$4>0,1,0)","v":0},{"$f":"SUM($F44:W44)/$D44*IF(W$4>0,1,0)","v":0},{"$f":"SUM($F44:X44)/$D44*IF(X$4>0,1,0)","v":0},{"$f":"SUM($F44:Y44)/$D44*IF(Y$4>0,1,0)","v":0},{"$f":"SUM($F44:Z44)/$D44*IF(Z$4>0,1,0)","v":0},{"$f":"SUM($F44:AA44)/$D44*IF(AA$4>0,1,0)","v":0},{"$f":"SUM($F44:AB44)/$D44*IF(AB$4>0,1,0)","v":0},{"$f":"SUM($F44:AC44)/$D44*IF(AC$4>0,1,0)","v":0},{"$f":"SUM($F44:AD44)/$D44*IF(AD$4>0,1,0)","v":0},{"$f":"SUM($F44:AE44)/$D44*IF(AE$4>0,1,0)","v":0},{"$f":"SUM($F44:AF44)/$D44*IF(AF$4>0,1,0)","v":0},{"$f":"SUM($F44:AG44)/$D44*IF(AG$4>0,1,0)","v":0},{"$f":"SUM($F44:AH44)/$D44*IF(AH$4>0,1,0)","v":0},{"$f":"SUM($F44:AI44)/$D44*IF(AI$4>0,1,0)","v":0},0]
[null,"Група 13 – природні ресурси / natural resources","—",{"$f":"IF('Грошові потоки _ Cash flows'!$E$15>Амортизація_Depreciation!C89, 'Грошові потоки _ Cash flows'!$E$15,Амортизація_Depreciation!C89)","v":"—"},null,0,0,0,0,0,0,0,0,0,0,0,0,0,0,0,0,0,0,0,0,0,0,0,0,0,0,0,0,0,0,0]
[null,"Група 14 – інвентарна тара / inventory packaging",6,{"$f":"IF('Грошові потоки _ Cash flows'!$E$15>Амортизація_Depreciation!C90, 'Грошові потоки _ Cash flows'!$E$15,Амортизація_Depreciation!C90)","v":25},null,{"$f":"SUM($F24:F24)/$D24*IF(F$4>0,1,0)","v":0},{"$f":"SUM($F24:G24)/$D24*IF(G$4>0,1,0)","v":0},{"$f":"SUM($F24:H24)/$D24*IF(H$4>0,1,0)","v":0},{"$f":"SUM($F24:I24)/$D24*IF(I$4>0,1,0)","v":0},{"$f":"SUM($F24:J24)/$D24*IF(J$4>0,1,0)","v":0},{"$f":"SUM($F24:K24)/$D24*IF(K$4>0,1,0)","v":0},{"$f":"SUM($F24:L24)/$D24*IF(L$4>0,1,0)","v":0},{"$f":"SUM($F24:M24)/$D24*IF(M$4>0,1,0)","v":0},{"$f":"SUM($F24:N24)/$D24*IF(N$4>0,1,0)","v":0},{"$f":"SUM($F24:O24)/$D24*IF(O$4>0,1,0)","v":0},{"$f":"SUM($F24:P24)/$D24*IF(P$4>0,1,0)","v":0},{"$f":"SUM($F24:Q24)/$D24*IF(Q$4>0,1,0)","v":0},{"$f":"SUM($F24:R24)/$D24*IF(R$4>0,1,0)","v":0},{"$f":"SUM($F24:S24)/$D24*IF(S$4>0,1,0)","v":0},{"$f":"SUM($F24:T24)/$D24*IF(T$4>0,1,0)","v":0},{"$f":"SUM($F24:U24)/$D24*IF(U$4>0,1,0)","v":0},{"$f":"SUM($F24:V24)/$D24*IF(V$4>0,1,0)","v":0},{"$f":"SUM($F24:W24)/$D24*IF(W$4>0,1,0)","v":0},{"$f":"SUM($F24:X24)/$D24*IF(X$4>0,1,0)","v":0},{"$f":"SUM($F24:Y24)/$D24*IF(Y$4>0,1,0)","v":0},{"$f":"SUM($F24:Z24)/$D24*IF(Z$4>0,1,0)","v":0},{"$f":"SUM($F24:AA24)/$D24*IF(AA$4>0,1,0)","v":0},{"$f":"SUM($F24:AB24)/$D24*IF(AB$4>0,1,0)","v":0},{"$f":"SUM($F24:AC24)/$D24*IF(AC$4>0,1,0)","v":0},{"$f":"SUM($F24:AD24)/$D24*IF(AD$4>0,1,0)","v":0},{"$f":"SUM($F24:AE24)/$D24*IF(AE$4>0,1,0)","v":0},{"$f":"SUM($F24:AF24)/$D24*IF(AF$4>0,1,0)","v":0},{"$f":"SUM($F24:AG24)/$D24*IF(AG$4>0,1,0)","v":0},{"$f":"SUM($F24:AH24)/$D24*IF(AH$4>0,1,0)","v":0},{"$f":"SUM($F24:AI24)/$D24*IF(AI$4>0,1,0)","v":0},0]
[null,"Група 15 – предмети прокату / lease items",5,{"$f":"IF('Грошові потоки _ Cash flows'!$E$15>Амортизація_Depreciation!C91, 'Грошові потоки _ Cash flows'!$E$15,Амортизація_Depreciation!C91)","v":25},null,{"$f":"SUM($F25:F25)/$D25*IF(F$4>0,1,0)","v":0},{"$f":"SUM($F25:G25)/$D25*IF(G$4>0,1,0)","v":0},{"$f":"SUM($F25:H25)/$D25*IF(H$4>0,1,0)","v":0},{"$f":"SUM($F25:I25)/$D25*IF(I$4>0,1,0)","v":0},{"$f":"SUM($F25:J25)/$D25*IF(J$4>0,1,0)","v":0},{"$f":"SUM($F25:K25)/$D25*IF(K$4>0,1,0)","v":0},{"$f":"SUM($F25:L25)/$D25*IF(L$4>0,1,0)","v":0},{"$f":"SUM($F25:M25)/$D25*IF(M$4>0,1,0)","v":0},{"$f":"SUM($F25:N25)/$D25*IF(N$4>0,1,0)","v":0},{"$f":"SUM($F25:O25)/$D25*IF(O$4>0,1,0)","v":0},{"$f":"SUM($F25:P25)/$D25*IF(P$4>0,1,0)","v":0},{"$f":"SUM($F25:Q25)/$D25*IF(Q$4>0,1,0)","v":0},{"$f":"SUM($F25:R25)/$D25*IF(R$4>0,1,0)","v":0},{"$f":"SUM($F25:S25)/$D25*IF(S$4>0,1,0)","v":0},{"$f":"SUM($F25:T25)/$D25*IF(T$4>0,1,0)","v":0},{"$f":"SUM($F25:U25)/$D25*IF(U$4>0,1,0)","v":0},{"$f":"SUM($F25:V25)/$D25*IF(V$4>0,1,0)","v":0},{"$f":"SUM($F25:W25)/$D25*IF(W$4>0,1,0)","v":0},{"$f":"SUM($F25:X25)/$D25*IF(X$4>0,1,0)","v":0},{"$f":"SUM($F25:Y25)/$D25*IF(Y$4>0,1,0)","v":0},{"$f":"SUM($F25:Z25)/$D25*IF(Z$4>0,1,0)","v":0},{"$f":"SUM($F25:AA25)/$D25*IF(AA$4>0,1,0)","v":0},{"$f":"SUM($F25:AB25)/$D25*IF(AB$4>0,1,0)","v":0},{"$f":"SUM($F25:AC25)/$D25*IF(AC$4>0,1,0)","v":0},{"$f":"SUM($F25:AD25)/$D25*IF(AD$4>0,1,0)","v":0},{"$f":"SUM($F25:AE25)/$D25*IF(AE$4>0,1,0)","v":0},{"$f":"SUM($F25:AF25)/$D25*IF(AF$4>0,1,0)","v":0},{"$f":"SUM($F25:AG25)/$D25*IF(AG$4>0,1,0)","v":0},{"$f":"SUM($F25:AH25)/$D25*IF(AH$4>0,1,0)","v":0},{"$f":"SUM($F25:AI25)/$D25*IF(AI$4>0,1,0)","v":0},0]
[null,"Група 16 – довгострокові біологічні активи / Long-term biological assets",7,{"$f":"IF('Грошові потоки _ Cash flows'!$E$15>Амортизація_Depreciation!C92, 'Грошові потоки _ Cash flows'!$E$15,Амортизація_Depreciation!C92)","v":25},null,{"$f":"SUM($F26:F26)/$D26*IF(F$4>0,1,0)","v":0},{"$f":"SUM($F26:G26)/$D26*IF(G$4>0,1,0)","v":0},{"$f":"SUM($F26:H26)/$D26*IF(H$4>0,1,0)","v":0},{"$f":"SUM($F26:I26)/$D26*IF(I$4>0,1,0)","v":0},{"$f":"SUM($F26:J26)/$D26*IF(J$4>0,1,0)","v":0},{"$f":"SUM($F26:K26)/$D26*IF(K$4>0,1,0)","v":0},{"$f":"SUM($F26:L26)/$D26*IF(L$4>0,1,0)","v":0},{"$f":"SUM($F26:M26)/$D26*IF(M$4>0,1,0)","v":0},{"$f":"SUM($F26:N26)/$D26*IF(N$4>0,1,0)","v":0},{"$f":"SUM($F26:O26)/$D26*IF(O$4>0,1,0)","v":0},{"$f":"SUM($F26:P26)/$D26*IF(P$4>0,1,0)","v":0},{"$f":"SUM($F26:Q26)/$D26*IF(Q$4>0,1,0)","v":0},{"$f":"SUM($F26:R26)/$D26*IF(R$4>0,1,0)","v":0},{"$f":"SUM($F26:S26)/$D26*IF(S$4>0,1,0)","v":0},{"$f":"SUM($F26:T26)/$D26*IF(T$4>0,1,0)","v":0},{"$f":"SUM($F26:U26)/$D26*IF(U$4>0,1,0)","v":0},{"$f":"SUM($F26:V26)/$D26*IF(V$4>0,1,0)","v":0},{"$f":"SUM($F26:W26)/$D26*IF(W$4>0,1,0)","v":0},{"$f":"SUM($F26:X26)/$D26*IF(X$4>0,1,0)","v":0},{"$f":"SUM($F26:Y26)/$D26*IF(Y$4>0,1,0)","v":0},{"$f":"SUM($F26:Z26)/$D26*IF(Z$4>0,1,0)","v":0},{"$f":"SUM($F26:AA26)/$D26*IF(AA$4>0,1,0)","v":0},{"$f":"SUM($F26:AB26)/$D26*IF(AB$4>0,1,0)","v":0},{"$f":"SUM($F26:AC26)/$D26*IF(AC$4>0,1,0)","v":0},{"$f":"SUM($F26:AD26)/$D26*IF(AD$4>0,1,0)","v":0},{"$f":"SUM($F26:AE26)/$D26*IF(AE$4>0,1,0)","v":0},{"$f":"SUM($F26:AF26)/$D26*IF(AF$4>0,1,0)","v":0},{"$f":"SUM($F26:AG26)/$D26*IF(AG$4>0,1,0)","v":0},{"$f":"SUM($F26:AH26)/$D26*IF(AH$4>0,1,0)","v":0},{"$f":"SUM($F26:AI26)/$D26*IF(AI$4>0,1,0)","v":0},0]
[null,"Амортизація - кап. Ремонти / Depreciation overhaul",null,null,null,{"$f":"F94+F107","v":0},{"$f":"G94+G107","v":0},0,0,0,0,0,0,0,0,0,0,0,0,0,{"$f":"U94+U107","v":0},{"$f":"V94+V107","v":0},0,0,0,0,0,0,0,0,0,0,0,0,0,{"$f":"SUM(F93:AI93)","v":0}]
[null,"Основні засоби: / fixed assets :",null,null,null,{"$f":"SUM(F95:F106)","v":0},{"$f":"SUM(G95:G106)","v":0},0,0,0,0,0,0,0,0,0,0,0,0,0,{"$f":"SUM(U95:U106)","v":0},{"$f":"SUM(V95:V106)","v":0},0,0,0,0,0,0,0,0,0,0,0,0,0,0]
[null,"Група 1 – земельні ділянки / Group 1 -ground sections","—",{"$f":"IF('Грошові потоки _ Cash flows'!$E$15>Амортизація_Depreciation!C95, 'Грошові потоки _ Cash flows'!$E$15,Амортизація_Depreciation!C95)","v":"—"},null,0,0,0,0,0,0,0,0,0,0,0,0,0,0,0,0,0,0,0,0,0,0,0,0,0,0,0,0,0,0,0]
[null,"Група 2 – капітальні витрати на поліпшення землі, не пов'язані з будівництвом / CAPEX on ground improvement not related to construction",15,{"$f":"IF('Грошові потоки _ Cash flows'!$E$15>Амортизація_Depreciation!C96, 'Грошові потоки _ Cash flows'!$E$15,Амортизація_Depreciation!C96)","v":25},null,{"$f":"SUM($F30:F30)/$D30*IF(F$4>0,1,0)","v":0},{"$f":"SUM($F30:G30)/$D30*IF(G$4>0,1,0)","v":0},{"$f":"SUM($F30:H30)/$D30*IF(H$4>0,1,0)","v":0},{"$f":"SUM($F30:I30)/$D30*IF(I$4>0,1,0)","v":0},{"$f":"SUM($F30:J30)/$D30*IF(J$4>0,1,0)","v":0},{"$f":"SUM($F30:K30)/$D30*IF(K$4>0,1,0)","v":0},{"$f":"SUM($F30:L30)/$D30*IF(L$4>0,1,0)","v":0},{"$f":"SUM($F30:M30)/$D30*IF(M$4>0,1,0)","v":0},{"$f":"SUM($F30:N30)/$D30*IF(N$4>0,1,0)","v":0},{"$f":"SUM($F30:O30)/$D30*IF(O$4>0,1,0)","v":0},{"$f":"SUM($F30:P30)/$D30*IF(P$4>0,1,0)","v":0},{"$f":"SUM($F30:Q30)/$D30*IF(Q$4>0,1,0)","v":0},{"$f":"SUM($F30:R30)/$D30*IF(R$4>0,1,0)","v":0},{"$f":"SUM($F30:S30)/$D30*IF(S$4>0,1,0)","v":0},{"$f":"SUM($F30:T30)/$D30*IF(T$4>0,1,0)","v":0},{"$f":"SUM($F30:U30)/$D30*IF(U$4>0,1,0)","v":0},{"$f":"SUM($F30:V30)/$D30*IF(V$4>0,1,0)","v":0},{"$f":"SUM($F30:W30)/$D30*IF(W$4>0,1,0)","v":0},{"$f":"SUM($F30:X30)/$D30*IF(X$4>0,1,0)","v":0},{"$f":"SUM($F30:Y30)/$D30*IF(Y$4>0,1,0)","v":0},{"$f":"SUM($F30:Z30)/$D30*IF(Z$4>0,1,0)","v":0},{"$f":"SUM($F30:AA30)/$D30*IF(AA$4>0,1,0)","v":0},{"$f":"SUM($F30:AB30)/$D30*IF(AB$4>0,1,0)","v":0},{"$f":"SUM($F30:AC30)/$D30*IF(AC$4>0,1,0)","v":0},{"$f":"SUM($F30:AD30)/$D30*IF(AD$4>0,1,0)","v":0},{"$f":"SUM($F30:AE30)/$D30*IF(AE$4>0,1,0)","v":0},{"$f":"SUM($F30:AF30)/$D30*IF(AF$4>0,1,0)","v":0},{"$f":"SUM($F30:AG30)/$D30*IF(AG$4>0,1,0)","v":0},{"$f":"SUM($F30:AH30)/$D30*IF(AH$4>0,1,0)","v":0},{"$f":"SUM($F30:AI30)/$D30*IF(AI$4>0,1,0)","v":0},0]
[null,"Група 3 –  будівлі / buildings",20,{"$f":"IF('Грошові потоки _ Cash flows'!$E$15>Амортизація_Depreciation!C97, 'Грошові потоки _ Cash flows'!$E$15,Амортизація_Depreciation!C97)","v":25},null,{"$f":"SUM($F31:F31)/$D31*IF(F$4>0,1,0)","v":0},{"$f":"SUM($F31:G31)/$D31*IF(G$4>0,1,0)","v":0},{"$f":"SUM($F31:H31)/$D31*IF(H$4>0,1,0)","v":0},{"$f":"SUM($F31:I31)/$D31*IF(I$4>0,1,0)","v":0},{"$f":"SUM($F31:J31)/$D31*IF(J$4>0,1,0)","v":0},{"$f":"SUM($F31:K31)/$D31*IF(K$4>0,1,0)","v":0},{"$f":"SUM($F31:L31)/$D31*IF(L$4>0,1,0)","v":0},{"$f":"SUM($F31:M31)/$D31*IF(M$4>0,1,0)","v":0},{"$f":"SUM($F31:N31)/$D31*IF(N$4>0,1,0)","v":0},{"$f":"SUM($F31:O31)/$D31*IF(O$4>0,1,0)","v":0},{"$f":"SUM($F31:P31)/$D31*IF(P$4>0,1,0)","v":0},{"$f":"SUM($F31:Q31)/$D31*IF(Q$4>0,1,0)","v":0},{"$f":"SUM($F31:R31)/$D31*IF(R$4>0,1,0)","v":0},{"$f":"SUM($F31:S31)/$D31*IF(S$4>0,1,0)","v":0},{"$f":"SUM($F31:T31)/$D31*IF(T$4>0,1,0)","v":0},{"$f":"SUM($F31:U31)/$D31*IF(U$4>0,1,0)","v":0},{"$f":"SUM($F31:V31)/$D31*IF(V$4>0,1,0)","v":0},{"$f":"SUM($F31:W31)/$D31*IF(W$4>0,1,0)","v":0},{"$f":"SUM($F31:X31)/$D31*IF(X$4>0,1,0)","v":0},{"$f":"SUM($F31:Y31)/$D31*IF(Y$4>0,1,0)","v":0},{"$f":"SUM($F31:Z31)/$D31*IF(Z$4>0,1,0)","v":0},{"$f":"SUM($F31:AA31)/$D31*IF(AA$4>0,1,0)","v":0},{"$f":"SUM($F31:AB31)/$D31*IF(AB$4>0,1,0)","v":0},{"$f":"SUM($F31:AC31)/$D31*IF(AC$4>0,1,0)","v":0},{"$f":"SUM($F31:AD31)/$D31*IF(AD$4>0,1,0)","v":0},{"$f":"SUM($F31:AE31)/$D31*IF(AE$4>0,1,0)","v":0},{"$f":"SUM($F31:AF31)/$D31*IF(AF$4>0,1,0)","v":0},{"$f":"SUM($F31:AG31)/$D31*IF(AG$4>0,1,0)","v":0},{"$f":"SUM($F31:AH31)/$D31*IF(AH$4>0,1,0)","v":0},{"$f":"SUM($F31:AI31)/$D31*IF(AI$4>0,1,0)","v":0},0]
[null,"споруди / constructions",15,{"$f":"IF('Грошові потоки _ Cash flows'!$E$15>Амортизація_Depreciation!C98, 'Грошові потоки _ Cash flows'!$E$15,Амортизація_Depreciation!C98)","v":25},null,{"$f":"SUM($F32:F32)/$D32*IF(F$4>0,1,0)","v":0},{"$f":"SUM($F32:G32)/$D32*IF(G$4>0,1,0)","v":0},{"$f":"SUM($F32:H32)/$D32*IF(H$4>0,1,0)","v":0},{"$f":"SUM($F32:I32)/$D32*IF(I$4>0,1,0)","v":0},{"$f":"SUM($F32:J32)/$D32*IF(J$4>0,1,0)","v":0},{"$f":"SUM($F32:K32)/$D32*IF(K$4>0,1,0)","v":0},{"$f":"SUM($F32:L32)/$D32*IF(L$4>0,1,0)","v":0},{"$f":"SUM($F32:M32)/$D32*IF(M$4>0,1,0)","v":0},{"$f":"SUM($F32:N32)/$D32*IF(N$4>0,1,0)","v":0},{"$f":"SUM($F32:O32)/$D32*IF(O$4>0,1,0)","v":0},{"$f":"SUM($F32:P32)/$D32*IF(P$4>0,1,0)","v":0},{"$f":"SUM($F32:Q32)/$D32*IF(Q$4>0,1,0)","v":0},{"$f":"SUM($F32:R32)/$D32*IF(R$4>0,1,0)","v":0},{"$f":"SUM($F32:S32)/$D32*IF(S$4>0,1,0)","v":0},{"$f":"SUM($F32:T32)/$D32*IF(T$4>0,1,0)","v":0},{"$f":"SUM($F32:U32)/$D32*IF(U$4>0,1,0)","v":0},{"$f":"SUM($F32:V32)/$D32*IF(V$4>0,1,0)","v":0},{"$f":"SUM($F32:W32)/$D32*IF(W$4>0,1,0)","v":0},{"$f":"SUM($F32:X32)/$D32*IF(X$4>0,1,0)","v":0},{"$f":"SUM($F32:Y32)/$D32*IF(Y$4>0,1,0)","v":0},{"$f":"SUM($F32:Z32)/$D32*IF(Z$4>0,1,0)","v":0},{"$f":"SUM($F32:AA32)/$D32*IF(AA$4>0,1,0)","v":0},{"$f":"SUM($F32:AB32)/$D32*IF(AB$4>0,1,0)","v":0},{"$f":"SUM($F32:AC32)/$D32*IF(AC$4>0,1,0)","v":0},{"$f":"SUM($F32:AD32)/$D32*IF(AD$4>0,1,0)","v":0},{"$f":"SUM($F32:AE32)/$D32*IF(AE$4>0,1,0)","v":0},{"$f":"SUM($F32:AF32)/$D32*IF(AF$4>0,1,0)","v":0},{"$f":"SUM($F32:AG32)/$D32*IF(AG$4>0,1,0)","v":0},{"$f":"SUM($F32:AH32)/$D32*IF(AH$4>0,1,0)","v":0},{"$f":"SUM($F32:AI32)/$D32*IF(AI$4>0,1,0)","v":0},0]
[null,"передавальні пристрої / transmitting devices",10,{"$f":"IF('Грошові потоки _ Cash flows'!$E$15>Амортизація_Depreciation!C99, 'Грошові потоки _ Cash flows'!$E$15,Амортизація_Depreciation!C99)","v":25},null,{"$f":"SUM($F33:F33)/$D33*IF(F$4>0,1,0)","v":0},{"$f":"SUM($F33:G33)/$D33*IF(G$4>0,1,0)","v":0},{"$f":"SUM($F33:H33)/$D33*IF(H$4>0,1,0)","v":0},{"$f":"SUM($F33:I33)/$D33*IF(I$4>0,1,0)","v":0},{"$f":"SUM($F33:J33)/$D33*IF(J$4>0,1,0)","v":0},{"$f":"SUM($F33:K33)/$D33*IF(K$4>0,1,0)","v":0},{"$f":"SUM($F33:L33)/$D33*IF(L$4>0,1,0)","v":0},{"$f":"SUM($F33:M33)/$D33*IF(M$4>0,1,0)","v":0},{"$f":"SUM($F33:N33)/$D33*IF(N$4>0,1,0)","v":0},{"$f":"SUM($F33:O33)/$D33*IF(O$4>0,1,0)","v":0},{"$f":"SUM($F33:P33)/$D33*IF(P$4>0,1,0)","v":0},{"$f":"SUM($F33:Q33)/$D33*IF(Q$4>0,1,0)","v":0},{"$f":"SUM($F33:R33)/$D33*IF(R$4>0,1,0)","v":0},{"$f":"SUM($F33:S33)/$D33*IF(S$4>0,1,0)","v":0},{"$f":"SUM($F33:T33)/$D33*IF(T$4>0,1,0)","v":0},{"$f":"SUM($F33:U33)/$D33*IF(U$4>0,1,0)","v":0},{"$f":"SUM($F33:V33)/$D33*IF(V$4>0,1,0)","v":0},{"$f":"SUM($F33:W33)/$D33*IF(W$4>0,1,0)","v":0},{"$f":"SUM($F33:X33)/$D33*IF(X$4>0,1,0)","v":0},{"$f":"SUM($F33:Y33)/$D33*IF(Y$4>0,1,0)","v":0},{"$f":"SUM($F33:Z33)/$D33*IF(Z$4>0,1,0)","v":0},{"$f":"SUM($F33:AA33)/$D33*IF(AA$4>0,1,0)","v":0},{"$f":"SUM($F33:AB33)/$D33*IF(AB$4>0,1,0)","v":0},{"$f":"SUM($F33:AC33)/$D33*IF(AC$4>0,1,0)","v":0},{"$f":"SUM($F33:AD33)/$D33*IF(AD$4>0,1,0)","v":0},{"$f":"SUM($F33:AE33)/$D33*IF(AE$4>0,1,0)","v":0},{"$f":"SUM($F33:AF33)/$D33*IF(AF$4>0,1,0)","v":0},{"$f":"SUM($F33:AG33)/$D33*IF(AG$4>0,1,0)","v":0},{"$f":"SUM($F33:AH33)/$D33*IF(AH$4>0,1,0)","v":0},{"$f":"SUM($F33:AI33)/$D33*IF(AI$4>0,1,0)","v":0},0]
[null,"Група 4 –  машини та обладнання / Machines and equipment",5,{"$f":"IF('Грошові потоки _ Cash flows'!$E$15>Амортизація_Depreciation!C100, 'Грошові потоки _ Cash flows'!$E$15,Амортизація_Depreciation!C100)","v":25},null,{"$f":"SUM($F34:F34)/$D34*IF(F$4>0,1,0)","v":0},{"$f":"SUM($F34:G34)/$D34*IF(G$4>0,1,0)","v":0},{"$f":"SUM($F34:H34)/$D34*IF(H$4>0,1,0)","v":0},{"$f":"SUM($F34:I34)/$D34*IF(I$4>0,1,0)","v":0},{"$f":"SUM($F34:J34)/$D34*IF(J$4>0,1,0)","v":0},{"$f":"SUM($F34:K34)/$D34*IF(K$4>0,1,0)","v":0},{"$f":"SUM($F34:L34)/$D34*IF(L$4>0,1,0)","v":0},{"$f":"SUM($F34:M34)/$D34*IF(M$4>0,1,0)","v":0},{"$f":"SUM($F34:N34)/$D34*IF(N$4>0,1,0)","v":0},{"$f":"SUM($F34:O34)/$D34*IF(O$4>0,1,0)","v":0},{"$f":"SUM($F34:P34)/$D34*IF(P$4>0,1,0)","v":0},{"$f":"SUM($F34:Q34)/$D34*IF(Q$4>0,1,0)","v":0},{"$f":"SUM($F34:R34)/$D34*IF(R$4>0,1,0)","v":0},{"$f":"SUM($F34:S34)/$D34*IF(S$4>0,1,0)","v":0},{"$f":"SUM($F34:T34)/$D34*IF(T$4>0,1,0)","v":0},{"$f":"SUM($F34:U34)/$D34*IF(U$4>0,1,0)","v":0},{"$f":"SUM($F34:V34)/$D34*IF(V$4>0,1,0)","v":0},{"$f":"SUM($F34:W34)/$D34*IF(W$4>0,1,0)","v":0},{"$f":"SUM($F34:X34)/$D34*IF(X$4>0,1,0)","v":0},{"$f":"SUM($F34:Y34)/$D34*IF(Y$4>0,1,0)","v":0},{"$f":"SUM($F34:Z34)/$D34*IF(Z$4>0,1,0)","v":0},{"$f":"SUM($F34:AA34)/$D34*IF(AA$4>0,1,0)","v":0},{"$f":"SUM($F34:AB34)/$D34*IF(AB$4>0,1,0)","v":0},{"$f":"SUM($F34:AC34)/$D34*IF(AC$4>0,1,0)","v":0},{"$f":"SUM($F34:AD34)/$D34*IF(AD$4>0,1,0)","v":0},{"$f":"SUM($F34:AE34)/$D34*IF(AE$4>0,1,0)","v":0},{"$f":"SUM($F34:AF34)/$D34*IF(AF$4>0,1,0)","v":0},{"$f":"SUM($F34:AG34)/$D34*IF(AG$4>0,1,0)","v":0},{"$f":"SUM($F34:AH34)/$D34*IF(AH$4>0,1,0)","v":0},{"$f":"SUM($F34:AI34)/$D34*IF(AI$4>0,1,0)","v":0},0]
[null,"Електронно-обчислювальні машини, інші машини для автоматичного оброблення інформації, пов'язані з ними засоби зчитування або друку інформації, пов'язані з ними комп'ютерні програми (крім програм, витрати на придбання яких визнаються роялті, та / або програм, які визнаються нематеріальним активів) , інші інформаційні системи, комутатори, маршрутизатори, модулі, модеми, джерела безперебійного живлення та засоби їх підключення до телекомунікаційних мереж, телефони (в тому числі мобільні), мікрофони і рації, вартість яких перевищує 2500 гривень.",2,{"$f":"IF('Грошові потоки _ Cash flows'!$E$15>Амортизація_Depreciation!C101, 'Грошові потоки _ Cash flows'!$E$15,Амортизація_Depreciation!C101)","v":25},null,{"$f":"SUM($F35:F35)/$D35*IF(F$4>0,1,0)","v":0},{"$f":"SUM($F35:G35)/$D35*IF(G$4>0,1,0)","v":0},{"$f":"SUM($F35:H35)/$D35*IF(H$4>0,1,0)","v":0},{"$f":"SUM($F35:I35)/$D35*IF(I$4>0,1,0)","v":0},{"$f":"SUM($F35:J35)/$D35*IF(J$4>0,1,0)","v":0},{"$f":"SUM($F35:K35)/$D35*IF(K$4>0,1,0)","v":0},{"$f":"SUM($F35:L35)/$D35*IF(L$4>0,1,0)","v":0},{"$f":"SUM($F35:M35)/$D35*IF(M$4>0,1,0)","v":0},{"$f":"SUM($F35:N35)/$D35*IF(N$4>0,1,0)","v":0},{"$f":"SUM($F35:O35)/$D35*IF(O$4>0,1,0)","v":0},{"$f":"SUM($F35:P35)/$D35*IF(P$4>0,1,0)","v":0},{"$f":"SUM($F35:Q35)/$D35*IF(Q$4>0,1,0)","v":0},{"$f":"SUM($F35:R35)/$D35*IF(R$4>0,1,0)","v":0},{"$f":"SUM($F35:S35)/$D35*IF(S$4>0,1,0)","v":0},{"$f":"SUM($F35:T35)/$D35*IF(T$4>0,1,0)","v":0},{"$f":"SUM($F35:U35)/$D35*IF(U$4>0,1,0)","v":0},{"$f":"SUM($F35:V35)/$D35*IF(V$4>0,1,0)","v":0},{"$f":"SUM($F35:W35)/$D35*IF(W$4>0,1,0)","v":0},{"$f":"SUM($F35:X35)/$D35*IF(X$4>0,1,0)","v":0},{"$f":"SUM($F35:Y35)/$D35*IF(Y$4>0,1,0)","v":0},{"$f":"SUM($F35:Z35)/$D35*IF(Z$4>0,1,0)","v":0},{"$f":"SUM($F35:AA35)/$D35*IF(AA$4>0,1,0)","v":0},{"$f":"SUM($F35:AB35)/$D35*IF(AB$4>0,1,0)","v":0},{"$f":"SUM($F35:AC35)/$D35*IF(AC$4>0,1,0)","v":0},{"$f":"SUM($F35:AD35)/$D35*IF(AD$4>0,1,0)","v":0},{"$f":"SUM($F35:AE35)/$D35*IF(AE$4>0,1,0)","v":0},{"$f":"SUM($F35:AF35)/$D35*IF(AF$4>0,1,0)","v":0},{"$f":"SUM($F35:AG35)/$D35*IF(AG$4>0,1,0)","v":0},{"$f":"SUM($F35:AH35)/$D35*IF(AH$4>0,1,0)","v":0},{"$f":"SUM($F35:AI35)/$D35*IF(AI$4>0,1,0)","v":0},0]
[null,"Група 5 – транспортні засоби / vehicles",5,{"$f":"IF('Грошові потоки _ Cash flows'!$E$15>Амортизація_Depreciation!C102, 'Грошові потоки _ Cash flows'!$E$15,Амортизація_Depreciation!C102)","v":25},null,{"$f":"SUM($F36:F36)/$D36*IF(F$4>0,1,0)","v":0},{"$f":"SUM($F36:G36)/$D36*IF(G$4>0,1,0)","v":0},{"$f":"SUM($F36:H36)/$D36*IF(H$4>0,1,0)","v":0},{"$f":"SUM($F36:I36)/$D36*IF(I$4>0,1,0)","v":0},{"$f":"SUM($F36:J36)/$D36*IF(J$4>0,1,0)","v":0},{"$f":"SUM($F36:K36)/$D36*IF(K$4>0,1,0)","v":0},{"$f":"SUM($F36:L36)/$D36*IF(L$4>0,1,0)","v":0},{"$f":"SUM($F36:M36)/$D36*IF(M$4>0,1,0)","v":0},{"$f":"SUM($F36:N36)/$D36*IF(N$4>0,1,0)","v":0},{"$f":"SUM($F36:O36)/$D36*IF(O$4>0,1,0)","v":0},{"$f":"SUM($F36:P36)/$D36*IF(P$4>0,1,0)","v":0},{"$f":"SUM($F36:Q36)/$D36*IF(Q$4>0,1,0)","v":0},{"$f":"SUM($F36:R36)/$D36*IF(R$4>0,1,0)","v":0},{"$f":"SUM($F36:S36)/$D36*IF(S$4>0,1,0)","v":0},{"$f":"SUM($F36:T36)/$D36*IF(T$4>0,1,0)","v":0},{"$f":"SUM($F36:U36)/$D36*IF(U$4>0,1,0)","v":0},{"$f":"SUM($F36:V36)/$D36*IF(V$4>0,1,0)","v":0},{"$f":"SUM($F36:W36)/$D36*IF(W$4>0,1,0)","v":0},{"$f":"SUM($F36:X36)/$D36*IF(X$4>0,1,0)","v":0},{"$f":"SUM($F36:Y36)/$D36*IF(Y$4>0,1,0)","v":0},{"$f":"SUM($F36:Z36)/$D36*IF(Z$4>0,1,0)","v":0},{"$f":"SUM($F36:AA36)/$D36*IF(AA$4>0,1,0)","v":0},{"$f":"SUM($F36:AB36)/$D36*IF(AB$4>0,1,0)","v":0},{"$f":"SUM($F36:AC36)/$D36*IF(AC$4>0,1,0)","v":0},{"$f":"SUM($F36:AD36)/$D36*IF(AD$4>0,1,0)","v":0},{"$f":"SUM($F36:AE36)/$D36*IF(AE$4>0,1,0)","v":0},{"$f":"SUM($F36:AF36)/$D36*IF(AF$4>0,1,0)","v":0},{"$f":"SUM($F36:AG36)/$D36*IF(AG$4>0,1,0)","v":0},{"$f":"SUM($F36:AH36)/$D36*IF(AH$4>0,1,0)","v":0},{"$f":"SUM($F36:AI36)/$D36*IF(AI$4>0,1,0)","v":0},0]
[null,"Група 6 – інструменти, прилади, інвентар (меблі) / tools, devices, inventory (furniture)",4,{"$f":"IF('Грошові потоки _ Cash flows'!$E$15>Амортизація_Depreciation!C103, 'Грошові потоки _ Cash flows'!$E$15,Амортизація_Depreciation!C103)","v":25},null,{"$f":"SUM($F37:F37)/$D37*IF(F$4>0,1,0)","v":0},{"$f":"SUM($F37:G37)/$D37*IF(G$4>0,1,0)","v":0},{"$f":"SUM($F37:H37)/$D37*IF(H$4>0,1,0)","v":0},{"$f":"SUM($F37:I37)/$D37*IF(I$4>0,1,0)","v":0},{"$f":"SUM($F37:J37)/$D37*IF(J$4>0,1,0)","v":0},{"$f":"SUM($F37:K37)/$D37*IF(K$4>0,1,0)","v":0},{"$f":"SUM($F37:L37)/$D37*IF(L$4>0,1,0)","v":0},{"$f":"SUM($F37:M37)/$D37*IF(M$4>0,1,0)","v":0},{"$f":"SUM($F37:N37)/$D37*IF(N$4>0,1,0)","v":0},{"$f":"SUM($F37:O37)/$D37*IF(O$4>0,1,0)","v":0},{"$f":"SUM($F37:P37)/$D37*IF(P$4>0,1,0)","v":0},{"$f":"SUM($F37:Q37)/$D37*IF(Q$4>0,1,0)","v":0},{"$f":"SUM($F37:R37)/$D37*IF(R$4>0,1,0)","v":0},{"$f":"SUM($F37:S37)/$D37*IF(S$4>0,1,0)","v":0},{"$f":"SUM($F37:T37)/$D37*IF(T$4>0,1,0)","v":0},{"$f":"SUM($F37:U37)/$D37*IF(U$4>0,1,0)","v":0},{"$f":"SUM($F37:V37)/$D37*IF(V$4>0,1,0)","v":0},{"$f":"SUM($F37:W37)/$D37*IF(W$4>0,1,0)","v":0},{"$f":"SUM($F37:X37)/$D37*IF(X$4>0,1,0)","v":0},{"$f":"SUM($F37:Y37)/$D37*IF(Y$4>0,1,0)","v":0},{"$f":"SUM($F37:Z37)/$D37*IF(Z$4>0,1,0)","v":0},{"$f":"SUM($F37:AA37)/$D37*IF(AA$4>0,1,0)","v":0},{"$f":"SUM($F37:AB37)/$D37*IF(AB$4>0,1,0)","v":0},{"$f":"SUM($F37:AC37)/$D37*IF(AC$4>0,1,0)","v":0},{"$f":"SUM($F37:AD37)/$D37*IF(AD$4>0,1,0)","v":0},{"$f":"SUM($F37:AE37)/$D37*IF(AE$4>0,1,0)","v":0},{"$f":"SUM($F37:AF37)/$D37*IF(AF$4>0,1,0)","v":0},{"$f":"SUM($F37:AG37)/$D37*IF(AG$4>0,1,0)","v":0},{"$f":"SUM($F37:AH37)/$D37*IF(AH$4>0,1,0)","v":0},{"$f":"SUM($F37:AI37)/$D37*IF(AI$4>0,1,0)","v":0},0]
[null,"Група 7 – тварини / animals",6,{"$f":"IF('Грошові потоки _ Cash flows'!$E$15>Амортизація_Depreciation!C104, 'Грошові потоки _ Cash flows'!$E$15,Амортизація_Depreciation!C104)","v":25},null,{"$f":"SUM($F38:F38)/$D38*IF(F$4>0,1,0)","v":0},{"$f":"SUM($F38:G38)/$D38*IF(G$4>0,1,0)","v":0},{"$f":"SUM($F38:H38)/$D38*IF(H$4>0,1,0)","v":0},{"$f":"SUM($F38:I38)/$D38*IF(I$4>0,1,0)","v":0},{"$f":"SUM($F38:J38)/$D38*IF(J$4>0,1,0)","v":0},{"$f":"SUM($F38:K38)/$D38*IF(K$4>0,1,0)","v":0},{"$f":"SUM($F38:L38)/$D38*IF(L$4>0,1,0)","v":0},{"$f":"SUM($F38:M38)/$D38*IF(M$4>0,1,0)","v":0},{"$f":"SUM($F38:N38)/$D38*IF(N$4>0,1,0)","v":0},{"$f":"SUM($F38:O38)/$D38*IF(O$4>0,1,0)","v":0},{"$f":"SUM($F38:P38)/$D38*IF(P$4>0,1,0)","v":0},{"$f":"SUM($F38:Q38)/$D38*IF(Q$4>0,1,0)","v":0},{"$f":"SUM($F38:R38)/$D38*IF(R$4>0,1,0)","v":0},{"$f":"SUM($F38:S38)/$D38*IF(S$4>0,1,0)","v":0},{"$f":"SUM($F38:T38)/$D38*IF(T$4>0,1,0)","v":0},{"$f":"SUM($F38:U38)/$D38*IF(U$4>0,1,0)","v":0},{"$f":"SUM($F38:V38)/$D38*IF(V$4>0,1,0)","v":0},{"$f":"SUM($F38:W38)/$D38*IF(W$4>0,1,0)","v":0},{"$f":"SUM($F38:X38)/$D38*IF(X$4>0,1,0)","v":0},{"$f":"SUM($F38:Y38)/$D38*IF(Y$4>0,1,0)","v":0},{"$f":"SUM($F38:Z38)/$D38*IF(Z$4>0,1,0)","v":0},{"$f":"SUM($F38:AA38)/$D38*IF(AA$4>0,1,0)","v":0},{"$f":"SUM($F38:AB38)/$D38*IF(AB$4>0,1,0)","v":0},{"$f":"SUM($F38:AC38)/$D38*IF(AC$4>0,1,0)","v":0},{"$f":"SUM($F38:AD38)/$D38*IF(AD$4>0,1,0)","v":0},{"$f":"SUM($F38:AE38)/$D38*IF(AE$4>0,1,0)","v":0},{"$f":"SUM($F38:AF38)/$D38*IF(AF$4>0,1,0)","v":0},{"$f":"SUM($F38:AG38)/$D38*IF(AG$4>0,1,0)","v":0},{"$f":"SUM($F38:AH38)/$D38*IF(AH$4>0,1,0)","v":0},{"$f":"SUM($F38:AI38)/$D38*IF(AI$4>0,1,0)","v":0},0]
[null,"Група 8 – багаторічні насадження / perennial plantings",10,{"$f":"IF('Грошові потоки _ Cash flows'!$E$15>Амортизація_Depreciation!C105, 'Грошові потоки _ Cash flows'!$E$15,Амортизація_Depreciation!C105)","v":25},null,{"$f":"SUM($F39:F39)/$D39*IF(F$4>0,1,0)","v":0},{"$f":"SUM($F39:G39)/$D39*IF(G$4>0,1,0)","v":0},{"$f":"SUM($F39:H39)/$D39*IF(H$4>0,1,0)","v":0},{"$f":"SUM($F39:I39)/$D39*IF(I$4>0,1,0)","v":0},{"$f":"SUM($F39:J39)/$D39*IF(J$4>0,1,0)","v":0},{"$f":"SUM($F39:K39)/$D39*IF(K$4>0,1,0)","v":0},{"$f":"SUM($F39:L39)/$D39*IF(L$4>0,1,0)","v":0},{"$f":"SUM($F39:M39)/$D39*IF(M$4>0,1,0)","v":0},{"$f":"SUM($F39:N39)/$D39*IF(N$4>0,1,0)","v":0},{"$f":"SUM($F39:O39)/$D39*IF(O$4>0,1,0)","v":0},{"$f":"SUM($F39:P39)/$D39*IF(P$4>0,1,0)","v":0},{"$f":"SUM($F39:Q39)/$D39*IF(Q$4>0,1,0)","v":0},{"$f":"SUM($F39:R39)/$D39*IF(R$4>0,1,0)","v":0},{"$f":"SUM($F39:S39)/$D39*IF(S$4>0,1,0)","v":0},{"$f":"SUM($F39:T39)/$D39*IF(T$4>0,1,0)","v":0},{"$f":"SUM($F39:U39)/$D39*IF(U$4>0,1,0)","v":0},{"$f":"SUM($F39:V39)/$D39*IF(V$4>0,1,0)","v":0},{"$f":"SUM($F39:W39)/$D39*IF(W$4>0,1,0)","v":0},{"$f":"SUM($F39:X39)/$D39*IF(X$4>0,1,0)","v":0},{"$f":"SUM($F39:Y39)/$D39*IF(Y$4>0,1,0)","v":0},{"$f":"SUM($F39:Z39)/$D39*IF(Z$4>0,1,0)","v":0},{"$f":"SUM($F39:AA39)/$D39*IF(AA$4>0,1,0)","v":0},{"$f":"SUM($F39:AB39)/$D39*IF(AB$4>0,1,0)","v":0},{"$f":"SUM($F39:AC39)/$D39*IF(AC$4>0,1,0)","v":0},{"$f":"SUM($F39:AD39)/$D39*IF(AD$4>0,1,0)","v":0},{"$f":"SUM($F39:AE39)/$D39*IF(AE$4>0,1,0)","v":0},{"$f":"SUM($F39:AF39)/$D39*IF(AF$4>0,1,0)","v":0},{"$f":"SUM($F39:AG39)/$D39*IF(AG$4>0,1,0)","v":0},{"$f":"SUM($F39:AH39)/$D39*IF(AH$4>0,1,0)","v":0},{"$f":"SUM($F39:AI39)/$D39*IF(AI$4>0,1,0)","v":0},0]
[null,"Група 9 – інші основні засоби / other fixed assets",12,{"$f":"IF('Грошові потоки _ Cash flows'!$E$15>Амортизація_Depreciation!C106, 'Грошові потоки _ Cash flows'!$E$15,Амортизація_Depreciation!C106)","v":25},null,{"$f":"SUM($F40:F40)/$D40*IF(F$4>0,1,0)","v":0},{"$f":"SUM($F40:G40)/$D40*IF(G$4>0,1,0)","v":0},{"$f":"SUM($F40:H40)/$D40*IF(H$4>0,1,0)","v":0},{"$f":"SUM($F40:I40)/$D40*IF(I$4>0,1,0)","v":0},{"$f":"SUM($F40:J40)/$D40*IF(J$4>0,1,0)","v":0},{"$f":"SUM($F40:K40)/$D40*IF(K$4>0,1,0)","v":0},{"$f":"SUM($F40:L40)/$D40*IF(L$4>0,1,0)","v":0},{"$f":"SUM($F40:M40)/$D40*IF(M$4>0,1,0)","v":0},{"$f":"SUM($F40:N40)/$D40*IF(N$4>0,1,0)","v":0},{"$f":"SUM($F40:O40)/$D40*IF(O$4>0,1,0)","v":0},{"$f":"SUM($F40:P40)/$D40*IF(P$4>0,1,0)","v":0},{"$f":"SUM($F40:Q40)/$D40*IF(Q$4>0,1,0)","v":0},{"$f":"SUM($F40:R40)/$D40*IF(R$4>0,1,0)","v":0},{"$f":"SUM($F40:S40)/$D40*IF(S$4>0,1,0)","v":0},{"$f":"SUM($F40:T40)/$D40*IF(T$4>0,1,0)","v":0},{"$f":"SUM($F40:U40)/$D40*IF(U$4>0,1,0)","v":0},{"$f":"SUM($F40:V40)/$D40*IF(V$4>0,1,0)","v":0},{"$f":"SUM($F40:W40)/$D40*IF(W$4>0,1,0)","v":0},{"$f":"SUM($F40:X40)/$D40*IF(X$4>0,1,0)","v":0},{"$f":"SUM($F40:Y40)/$D40*IF(Y$4>0,1,0)","v":0},{"$f":"SUM($F40:Z40)/$D40*IF(Z$4>0,1,0)","v":0},{"$f":"SUM($F40:AA40)/$D40*IF(AA$4>0,1,0)","v":0},{"$f":"SUM($F40:AB40)/$D40*IF(AB$4>0,1,0)","v":0},{"$f":"SUM($F40:AC40)/$D40*IF(AC$4>0,1,0)","v":0},{"$f":"SUM($F40:AD40)/$D40*IF(AD$4>0,1,0)","v":0},{"$f":"SUM($F40:AE40)/$D40*IF(AE$4>0,1,0)","v":0},{"$f":"SUM($F40:AF40)/$D40*IF(AF$4>0,1,0)","v":0},{"$f":"SUM($F40:AG40)/$D40*IF(AG$4>0,1,0)","v":0},{"$f":"SUM($F40:AH40)/$D40*IF(AH$4>0,1,0)","v":0},{"$f":"SUM($F40:AI40)/$D40*IF(AI$4>0,1,0)","v":0},0]
[null,"Інші необоротні матеріальні активи: / Other non-current tangible assets:",null,null,null,{"$f":"SUM(F108:F114)","v":0},{"$f":"SUM(G108:G114)","v":0},0,0,0,0,0,0,0,0,0,0,0,0,0,0,0,0,0,0,0,0,0,0,0,0,0,0,0,0,0]
[null,"Група 10 – бібліотечні фонди /library funds","—",{"$f":"IF('Грошові потоки _ Cash flows'!$E$15>Амортизація_Depreciation!C108, 'Грошові потоки _ Cash flows'!$E$15,Амортизація_Depreciation!C108)","v":"—"},null,{"$f":"F42*IF(F$4>0,1,0)","v":0},{"$f":"G42*IF(G$4>0,1,0)","v":0},0,0,0,0,0,0,0,0,0,0,0,0,0,0,{"$f":"V42*IF(V$4>0,1,0)","v":0},0,0,0,0,0,0,0,0,0,0,0,0,0,0]
[null,"Група 11 – малоцінні необоротні активи / low-value non-current assets","—",{"$f":"IF('Грошові потоки _ Cash flows'!$E$15>Амортизація_Depreciation!C109, 'Грошові потоки _ Cash flows'!$E$15,Амортизація_Depreciation!C109)","v":"—"},null,{"$f":"F43*IF(F$4>0,1,0)","v":0},{"$f":"G43*IF(G$4>0,1,0)","v":0},0,0,0,0,0,0,0,0,0,0,0,0,0,0,{"$f":"V43*IF(V$4>0,1,0)","v":0},0,0,0,0,0,0,0,0,0,0,0,0,0,{"$f":"SUM(F109:AI109)","v":0}]
[null,"Група 12 – тимчасові (нетитульні) споруди / temporary (untitled) buildings",5,{"$f":"IF('Грошові потоки _ Cash flows'!$E$15>Амортизація_Depreciation!C110, 'Грошові потоки _ Cash flows'!$E$15,Амортизація_Depreciation!C110)","v":25},null,{"$f":"SUM($F44:F44)/$D44*IF(F$4>0,1,0)","v":0},{"$f":"SUM($F44:G44)/$D44*IF(G$4>0,1,0)","v":0},{"$f":"SUM($F44:H44)/$D44*IF(H$4>0,1,0)","v":0},{"$f":"SUM($F44:I44)/$D44*IF(I$4>0,1,0)","v":0},{"$f":"SUM($F44:J44)/$D44*IF(J$4>0,1,0)","v":0},{"$f":"SUM($F44:K44)/$D44*IF(K$4>0,1,0)","v":0},{"$f":"SUM($F44:L44)/$D44*IF(L$4>0,1,0)","v":0},{"$f":"SUM($F44:M44)/$D44*IF(M$4>0,1,0)","v":0},{"$f":"SUM($F44:N44)/$D44*IF(N$4>0,1,0)","v":0},{"$f":"SUM($F44:O44)/$D44*IF(O$4>0,1,0)","v":0},{"$f":"SUM($F44:P44)/$D44*IF(P$4>0,1,0)","v":0},{"$f":"SUM($F44:Q44)/$D44*IF(Q$4>0,1,0)","v":0},{"$f":"SUM($F44:R44)/$D44*IF(R$4>0,1,0)","v":0},{"$f":"SUM($F44:S44)/$D44*IF(S$4>0,1,0)","v":0},{"$f":"SUM($F44:T44)/$D44*IF(T$4>0,1,0)","v":0},{"$f":"SUM($F44:U44)/$D44*IF(U$4>0,1,0)","v":0},{"$f":"SUM($F44:V44)/$D44*IF(V$4>0,1,0)","v":0},{"$f":"SUM($F44:W44)/$D44*IF(W$4>0,1,0)","v":0},{"$f":"SUM($F44:X44)/$D44*IF(X$4>0,1,0)","v":0},{"$f":"SUM($F44:Y44)/$D44*IF(Y$4>0,1,0)","v":0},{"$f":"SUM($F44:Z44)/$D44*IF(Z$4>0,1,0)","v":0},{"$f":"SUM($F44:AA44)/$D44*IF(AA$4>0,1,0)","v":0},{"$f":"SUM($F44:AB44)/$D44*IF(AB$4>0,1,0)","v":0},{"$f":"SUM($F44:AC44)/$D44*IF(AC$4>0,1,0)","v":0},{"$f":"SUM($F44:AD44)/$D44*IF(AD$4>0,1,0)","v":0},{"$f":"SUM($F44:AE44)/$D44*IF(AE$4>0,1,0)","v":0},{"$f":"SUM($F44:AF44)/$D44*IF(AF$4>0,1,0)","v":0},{"$f":"SUM($F44:AG44)/$D44*IF(AG$4>0,1,0)","v":0},{"$f":"SUM($F44:AH44)/$D44*IF(AH$4>0,1,0)","v":0},{"$f":"SUM($F44:AI44)/$D44*IF(AI$4>0,1,0)","v":0},0]
[null,"Група 13 – природні ресурси / natural resources","—",{"$f":"IF('Грошові потоки _ Cash flows'!$E$15>Амортизація_Depreciation!C111, 'Грошові потоки _ Cash flows'!$E$15,Амортизація_Depreciation!C111)","v":"—"},null,0,0,0,0,0,0,0,0,0,0,0,0,0,0,0,0,0,0,0,0,0,0,0,0,0,0,0,0,0,0,0]
[null,"Група 14 – інвентарна тара / inventory packaging",6,{"$f":"IF('Грошові потоки _ Cash flows'!$E$15>Амортизація_Depreciation!C112, 'Грошові потоки _ Cash flows'!$E$15,Амортизація_Depreciation!C112)","v":25},null,{"$f":"SUM($F46:F46)/$D46*IF(F$4>0,1,0)","v":0},{"$f":"SUM($F46:G46)/$D46*IF(G$4>0,1,0)","v":0},{"$f":"SUM($F46:H46)/$D46*IF(H$4>0,1,0)","v":0},{"$f":"SUM($F46:I46)/$D46*IF(I$4>0,1,0)","v":0},{"$f":"SUM($F46:J46)/$D46*IF(J$4>0,1,0)","v":0},{"$f":"SUM($F46:K46)/$D46*IF(K$4>0,1,0)","v":0},{"$f":"SUM($F46:L46)/$D46*IF(L$4>0,1,0)","v":0},{"$f":"SUM($F46:M46)/$D46*IF(M$4>0,1,0)","v":0},{"$f":"SUM($F46:N46)/$D46*IF(N$4>0,1,0)","v":0},{"$f":"SUM($F46:O46)/$D46*IF(O$4>0,1,0)","v":0},{"$f":"SUM($F46:P46)/$D46*IF(P$4>0,1,0)","v":0},{"$f":"SUM($F46:Q46)/$D46*IF(Q$4>0,1,0)","v":0},{"$f":"SUM($F46:R46)/$D46*IF(R$4>0,1,0)","v":0},{"$f":"SUM($F46:S46)/$D46*IF(S$4>0,1,0)","v":0},{"$f":"SUM($F46:T46)/$D46*IF(T$4>0,1,0)","v":0},{"$f":"SUM($F46:U46)/$D46*IF(U$4>0,1,0)","v":0},{"$f":"SUM($F46:V46)/$D46*IF(V$4>0,1,0)","v":0},{"$f":"SUM($F46:W46)/$D46*IF(W$4>0,1,0)","v":0},{"$f":"SUM($F46:X46)/$D46*IF(X$4>0,1,0)","v":0},{"$f":"SUM($F46:Y46)/$D46*IF(Y$4>0,1,0)","v":0},{"$f":"SUM($F46:Z46)/$D46*IF(Z$4>0,1,0)","v":0},{"$f":"SUM($F46:AA46)/$D46*IF(AA$4>0,1,0)","v":0},{"$f":"SUM($F46:AB46)/$D46*IF(AB$4>0,1,0)","v":0},{"$f":"SUM($F46:AC46)/$D46*IF(AC$4>0,1,0)","v":0},{"$f":"SUM($F46:AD46)/$D46*IF(AD$4>0,1,0)","v":0},{"$f":"SUM($F46:AE46)/$D46*IF(AE$4>0,1,0)","v":0},{"$f":"SUM($F46:AF46)/$D46*IF(AF$4>0,1,0)","v":0},{"$f":"SUM($F46:AG46)/$D46*IF(AG$4>0,1,0)","v":0},{"$f":"SUM($F46:AH46)/$D46*IF(AH$4>0,1,0)","v":0},{"$f":"SUM($F46:AI46)/$D46*IF(AI$4>0,1,0)","v":0},0]
[null,"Група 15 – предмети прокату / lease items",5,{"$f":"IF('Грошові потоки _ Cash flows'!$E$15>Амортизація_Depreciation!C113, 'Грошові потоки _ Cash flows'!$E$15,Амортизація_Depreciation!C113)","v":25},null,{"$f":"SUM($F47:F47)/$D47*IF(F$4>0,1,0)","v":0},{"$f":"SUM($F47:G47)/$D47*IF(G$4>0,1,0)","v":0},{"$f":"SUM($F47:H47)/$D47*IF(H$4>0,1,0)","v":0},{"$f":"SUM($F47:I47)/$D47*IF(I$4>0,1,0)","v":0},{"$f":"SUM($F47:J47)/$D47*IF(J$4>0,1,0)","v":0},{"$f":"SUM($F47:K47)/$D47*IF(K$4>0,1,0)","v":0},{"$f":"SUM($F47:L47)/$D47*IF(L$4>0,1,0)","v":0},{"$f":"SUM($F47:M47)/$D47*IF(M$4>0,1,0)","v":0},{"$f":"SUM($F47:N47)/$D47*IF(N$4>0,1,0)","v":0},{"$f":"SUM($F47:O47)/$D47*IF(O$4>0,1,0)","v":0},{"$f":"SUM($F47:P47)/$D47*IF(P$4>0,1,0)","v":0},{"$f":"SUM($F47:Q47)/$D47*IF(Q$4>0,1,0)","v":0},{"$f":"SUM($F47:R47)/$D47*IF(R$4>0,1,0)","v":0},{"$f":"SUM($F47:S47)/$D47*IF(S$4>0,1,0)","v":0},{"$f":"SUM($F47:T47)/$D47*IF(T$4>0,1,0)","v":0},{"$f":"SUM($F47:U47)/$D47*IF(U$4>0,1,0)","v":0},{"$f":"SUM($F47:V47)/$D47*IF(V$4>0,1,0)","v":0},{"$f":"SUM($F47:W47)/$D47*IF(W$4>0,1,0)","v":0},{"$f":"SUM($F47:X47)/$D47*IF(X$4>0,1,0)","v":0},{"$f":"SUM($F47:Y47)/$D47*IF(Y$4>0,1,0)","v":0},{"$f":"SUM($F47:Z47)/$D47*IF(Z$4>0,1,0)","v":0},{"$f":"SUM($F47:AA47)/$D47*IF(AA$4>0,1,0)","v":0},{"$f":"SUM($F47:AB47)/$D47*IF(AB$4>0,1,0)","v":0},{"$f":"SUM($F47:AC47)/$D47*IF(AC$4>0,1,0)","v":0},{"$f":"SUM($F47:AD47)/$D47*IF(AD$4>0,1,0)","v":0},{"$f":"SUM($F47:AE47)/$D47*IF(AE$4>0,1,0)","v":0},{"$f":"SUM($F47:AF47)/$D47*IF(AF$4>0,1,0)","v":0},{"$f":"SUM($F47:AG47)/$D47*IF(AG$4>0,1,0)","v":0},{"$f":"SUM($F47:AH47)/$D47*IF(AH$4>0,1,0)","v":0},{"$f":"SUM($F47:AI47)/$D47*IF(AI$4>0,1,0)","v":0},0]
[null,"Група 16 – довгострокові біологічні активи / Long-term biological assets",7,{"$f":"IF('Грошові потоки _ Cash flows'!$E$15>Амортизація_Depreciation!C114, 'Грошові потоки _ Cash flows'!$E$15,Амортизація_Depreciation!C114)","v":25},null,{"$f":"SUM($F48:F48)/$D48*IF(F$4>0,1,0)","v":0},{"$f":"SUM($F48:G48)/$D48*IF(G$4>0,1,0)","v":0},{"$f":"SUM($F48:H48)/$D48*IF(H$4>0,1,0)","v":0},{"$f":"SUM($F48:I48)/$D48*IF(I$4>0,1,0)","v":0},{"$f":"SUM($F48:J48)/$D48*IF(J$4>0,1,0)","v":0},{"$f":"SUM($F48:K48)/$D48*IF(K$4>0,1,0)","v":0},{"$f":"SUM($F48:L48)/$D48*IF(L$4>0,1,0)","v":0},{"$f":"SUM($F48:M48)/$D48*IF(M$4>0,1,0)","v":0},{"$f":"SUM($F48:N48)/$D48*IF(N$4>0,1,0)","v":0},{"$f":"SUM($F48:O48)/$D48*IF(O$4>0,1,0)","v":0},{"$f":"SUM($F48:P48)/$D48*IF(P$4>0,1,0)","v":0},{"$f":"SUM($F48:Q48)/$D48*IF(Q$4>0,1,0)","v":0},{"$f":"SUM($F48:R48)/$D48*IF(R$4>0,1,0)","v":0},{"$f":"SUM($F48:S48)/$D48*IF(S$4>0,1,0)","v":0},{"$f":"SUM($F48:T48)/$D48*IF(T$4>0,1,0)","v":0},{"$f":"SUM($F48:U48)/$D48*IF(U$4>0,1,0)","v":0},{"$f":"SUM($F48:V48)/$D48*IF(V$4>0,1,0)","v":0},{"$f":"SUM($F48:W48)/$D48*IF(W$4>0,1,0)","v":0},{"$f":"SUM($F48:X48)/$D48*IF(X$4>0,1,0)","v":0},{"$f":"SUM($F48:Y48)/$D48*IF(Y$4>0,1,0)","v":0},{"$f":"SUM($F48:Z48)/$D48*IF(Z$4>0,1,0)","v":0},{"$f":"SUM($F48:AA48)/$D48*IF(AA$4>0,1,0)","v":0},{"$f":"SUM($F48:AB48)/$D48*IF(AB$4>0,1,0)","v":0},{"$f":"SUM($F48:AC48)/$D48*IF(AC$4>0,1,0)","v":0},{"$f":"SUM($F48:AD48)/$D48*IF(AD$4>0,1,0)","v":0},{"$f":"SUM($F48:AE48)/$D48*IF(AE$4>0,1,0)","v":0},{"$f":"SUM($F48:AF48)/$D48*IF(AF$4>0,1,0)","v":0},{"$f":"SUM($F48:AG48)/$D48*IF(AG$4>0,1,0)","v":0},{"$f":"SUM($F48:AH48)/$D48*IF(AH$4>0,1,0)","v":0},{"$f":"SUM($F48:AI48)/$D48*IF(AI$4>0,1,0)","v":0},0]
[null,"РАЗОМ АМОРТИЗАЦІЯ / Total Depreciation ",null,null,null,null,{"$f":"G93+G71","v":171.15259974005718},171.15259974005718,171.15259974005718,171.15259974005718,171.15259974005718,171.15259974005718,171.15259974005718,171.15259974005718,171.15259974005718,171.15259974005718,171.15259974005718,171.15259974005718,171.15259974005718,171.15259974005718,{"$f":"U93+U71","v":171.15259974005718},{"$f":"V93+V71","v":171.15259974005718},{"$f":"W93+W71","v":171.15259974005718},171.15259974005718,171.15259974005718,171.15259974005718,171.15259974005718,171.15259974005718,171.15259974005718,171.15259974005718,171.15259974005718,0,0,0,0,{"$f":"SUM(F115:AI115)","v":4278.8149935014289}]
[null,"Ліквідаційна вартість / Liquidation value ",null,null,null,{"$f":"F117+F130","v":0},{"$f":"G117+G130","v":0},0,0,0,0,0,0,0,0,0,0,0,0,0,{"$f":"U117+U130","v":0},{"$f":"V117+V130","v":0},0,0,0,0,0,0,0,0,0,5.6843418860808015E-14,0,0,0,5.6843418860808015E-14]
[null,"Основні засоби: / fixed assets :",null,null,null,{"$f":"SUM(F118:F129)","v":0},{"$f":"SUM(G118:G129)","v":0},0,0,0,0,0,0,0,0,0,0,0,0,0,{"$f":"SUM(U118:U129)","v":0},{"$f":"SUM(V118:V129)","v":0},0,0,0,0,0,0,0,0,0,5.6843418860808015E-14,0,0,0,5.6843418860808015E-14]
[null,"Група 1 – земельні ділянки / Group 1 -ground sections","—",{"$f":"IF('Грошові потоки _ Cash flows'!$E$15>Амортизація_Depreciation!C118, 'Грошові потоки _ Cash flows'!$E$15,Амортизація_Depreciation!C118)","v":"—"},null,{"$f":"IF(AND(F$4=0,E$4>0),E51,0)","v":0},{"$f":"IF(AND(G$4=0,F$4>0),F51,0)","v":0},0,{"$f":"IF(AND(I$4=0,H$4>0),H51,0)","v":0},0,0,0,0,0,0,0,0,0,0,{"$f":"IF(AND(T$4=0,S$4>0),S51,0)","v":0},{"$f":"IF(AND(U$4=0,T$4>0),T51,0)","v":0},{"$f":"IF(AND(V$4=0,U$4>0),U51,0)","v":0},0,0,0,0,0,0,0,0,0,0,0,0,0,0]
[null,"Група 2 – капітальні витрати на поліпшення землі, не пов'язані з будівництвом / CAPEX on ground improvement not related to construction",15,{"$f":"IF('Грошові потоки _ Cash flows'!$E$15>Амортизація_Depreciation!C119, 'Грошові потоки _ Cash flows'!$E$15,Амортизація_Depreciation!C119)","v":25},null,{"$f":"IF(AND(F$4=0,E$4>0),E52,0)","v":0},{"$f":"IF(AND(G$4=0,F$4>0),F52,0)","v":0},0,0,0,0,0,{"$f":"IF(AND(M$4=0,L$4>0),L52,0)","v":0},0,0,0,0,0,0,0,0,0,0,0,0,0,0,0,0,0,0,0,0,0,0,0]
[null,"Група 3 –  будівлі / buildings",20,{"$f":"IF('Грошові потоки _ Cash flows'!$E$15>Амортизація_Depreciation!C120, 'Грошові потоки _ Cash flows'!$E$15,Амортизація_Depreciation!C120)","v":25},null,0,0,0,0,0,0,0,0,0,0,0,0,0,{"$f":"IF(AND(S$4=0,R$4>0),R53,0)","v":0},0,0,0,0,0,0,0,0,0,0,0,0,0,0,0,0,0]
[null,"споруди / constructions",15,{"$f":"IF('Грошові потоки _ Cash flows'!$E$15>Амортизація_Depreciation!C121, 'Грошові потоки _ Cash flows'!$E$15,Амортизація_Depreciation!C121)","v":25},null,0,0,0,0,0,0,0,0,0,0,0,0,0,0,0,0,0,0,0,0,0,0,0,0,0,0,0,0,0,0,0]
[null,"передавальні пристрої / transmitting devices",10,{"$f":"IF('Грошові потоки _ Cash flows'!$E$15>Амортизація_Depreciation!C122, 'Грошові потоки _ Cash flows'!$E$15,Амортизація_Depreciation!C122)","v":25},null,0,0,0,0,0,0,0,0,0,0,0,0,0,0,0,0,0,0,0,0,0,0,0,0,0,0,0,0,0,0,0]
[null,"Група 4 –  машини та обладнання / Machines and equipment",5,{"$f":"IF('Грошові потоки _ Cash flows'!$E$15>Амортизація_Depreciation!C123, 'Грошові потоки _ Cash flows'!$E$15,Амортизація_Depreciation!C123)","v":25},null,0,0,0,0,0,0,0,0,0,0,0,0,0,0,0,0,0,0,0,0,0,0,0,0,0,0,5.6843418860808015E-14,0,0,0,5.6843418860808015E-14]
[null,"Електронно-обчислювальні машини, інші машини для автоматичного оброблення інформації, пов'язані з ними засоби зчитування або друку інформації, пов'язані з ними комп'ютерні програми (крім програм, витрати на придбання яких визнаються роялті, та / або програм, які визнаються нематеріальним активів) , інші інформаційні системи, комутатори, маршрутизатори, модулі, модеми, джерела безперебійного живлення та засоби їх підключення до телекомунікаційних мереж, телефони (в тому числі мобільні), мікрофони і рації, вартість яких перевищує 2500 гривень.",2,{"$f":"IF('Грошові потоки _ Cash flows'!$E$15>Амортизація_Depreciation!C124, 'Грошові потоки _ Cash flows'!$E$15,Амортизація_Depreciation!C124)","v":25},null,0,0,0,0,0,0,0,0,0,0,0,0,0,0,0,0,0,0,0,0,0,0,0,0,0,0,0,0,0,0,0]
[null,"Група 5 – транспортні засоби / vehicles",5,{"$f":"IF('Грошові потоки _ Cash flows'!$E$15>Амортизація_Depreciation!C125, 'Грошові потоки _ Cash flows'!$E$15,Амортизація_Depreciation!C125)","v":25},null,0,0,0,0,0,0,0,0,0,0,0,0,0,0,0,0,0,0,0,0,0,0,0,0,0,0,0,0,0,{"$f":"IF(AND(AI$4=0,AH$4>0),AH58,0)","v":0},0]
[null,"Група 6 – інструменти, прилади, інвентар (меблі) / tools, devices, inventory (furniture)",4,{"$f":"IF('Грошові потоки _ Cash flows'!$E$15>Амортизація_Depreciation!C126, 'Грошові потоки _ Cash flows'!$E$15,Амортизація_Depreciation!C126)","v":25},null,0,0,0,0,0,0,0,0,0,0,0,0,0,0,0,0,0,0,0,0,0,0,0,0,0,0,0,0,0,{"$f":"IF(AND(AI$4=0,AH$4>0),AH59,0)","v":0},0]
[null,"Група 7 – тварини / animals",6,{"$f":"IF('Грошові потоки _ Cash flows'!$E$15>Амортизація_Depreciation!C127, 'Грошові потоки _ Cash flows'!$E$15,Амортизація_Depreciation!C127)","v":25},null,0,0,0,0,0,0,0,0,0,0,0,0,0,0,0,0,0,0,0,0,0,0,0,0,0,0,0,0,0,0,0]
[null,"Група 8 – багаторічні насадження / perennial plantings",10,{"$f":"IF('Грошові потоки _ Cash flows'!$E$15>Амортизація_Depreciation!C128, 'Грошові потоки _ Cash flows'!$E$15,Амортизація_Depreciation!C128)","v":25},null,0,0,0,0,0,0,0,0,0,0,0,0,0,0,0,0,0,0,0,0,0,0,0,0,0,0,0,0,0,0,0]
[null,"Група 9 – інші основні засоби / other fixed assets",12,{"$f":"IF('Грошові потоки _ Cash flows'!$E$15>Амортизація_Depreciation!C129, 'Грошові потоки _ Cash flows'!$E$15,Амортизація_Depreciation!C129)","v":25},null,0,0,0,0,0,0,0,0,0,0,0,0,0,0,0,0,0,0,0,0,0,0,0,0,0,0,0,0,0,{"$f":"IF(AND(AI$4=0,AH$4>0),AH62,0)","v":0},0]
[null,"Інші необоротні матеріальні активи: / Other non-current tangible assets:",null,null,null,{"$f":"SUM(F131:F137)","v":0},{"$f":"SUM(G131:G137)","v":0},0,0,0,0,0,0,0,0,0,0,0,0,0,0,0,0,0,0,0,0,0,0,0,0,0,0,0,0,0]
[null,"Група 10 – бібліотечні фонди /library funds","—",{"$f":"IF('Грошові потоки _ Cash flows'!$E$15>Амортизація_Depreciation!C131, 'Грошові потоки _ Cash flows'!$E$15,Амортизація_Depreciation!C131)","v":"—"},null,{"$f":"IF(AND(F$4=0,E$4>0),E64,0)","v":0},{"$f":"IF(AND(G$4=0,F$4>0),F64,0)","v":0},0,0,0,0,0,0,0,0,0,0,0,0,0,0,{"$f":"IF(AND(V$4=0,U$4>0),U64,0)","v":0},{"$f":"IF(AND(W$4=0,V$4>0),V64,0)","v":0},{"$f":"IF(AND(X$4=0,W$4>0),W64,0)","v":0},{"$f":"IF(AND(Y$4=0,X$4>0),X64,0)","v":0},{"$f":"IF(AND(Z$4=0,Y$4>0),Y64,0)","v":0},{"$f":"IF(AND(AA$4=0,Z$4>0),Z64,0)","v":0},{"$f":"IF(AND(AB$4=0,AA$4>0),AA64,0)","v":0},{"$f":"IF(AND(AC$4=0,AB$4>0),AB64,0)","v":0},{"$f":"IF(AND(AD$4=0,AC$4>0),AC64,0)","v":0},{"$f":"IF(AND(AE$4=0,AD$4>0),AD64,0)","v":0},{"$f":"IF(AND(AF$4=0,AE$4>0),AE64,0)","v":0},{"$f":"IF(AND(AG$4=0,AF$4>0),AF64,0)","v":0},{"$f":"IF(AND(AH$4=0,AG$4>0),AG64,0)","v":0},{"$f":"IF(AND(AI$4=0,AH$4>0),AH64,0)","v":0},0]
[null,"Група 11 – малоцінні необоротні активи / low-value non-current assets","—",{"$f":"IF('Грошові потоки _ Cash flows'!$E$15>Амортизація_Depreciation!C132, 'Грошові потоки _ Cash flows'!$E$15,Амортизація_Depreciation!C132)","v":"—"},null,{"$f":"IF(AND(F$4=0,E$4>0),E65,0)","v":0},0,0,0,0,0,0,0,0,0,0,0,0,0,0,0,0,0,0,0,0,0,0,0,0,0,0,0,0,0,0]
[null,"Група 12 – тимчасові (нетитульні) споруди / temporary (untitled) buildings",5,{"$f":"IF('Грошові потоки _ Cash flows'!$E$15>Амортизація_Depreciation!C133, 'Грошові потоки _ Cash flows'!$E$15,Амортизація_Depreciation!C133)","v":25},null,0,0,0,0,0,0,0,0,0,0,0,0,0,0,0,0,0,0,0,0,0,0,0,0,0,0,0,0,0,0,0]
[null,"Група 13 – природні ресурси / natural resources","—",{"$f":"IF('Грошові потоки _ Cash flows'!$E$15>Амортизація_Depreciation!C134, 'Грошові потоки _ Cash flows'!$E$15,Амортизація_Depreciation!C134)","v":"—"},null,0,0,0,0,0,0,0,0,0,0,0,0,0,0,0,{"$f":"IF(AND(U$4=0,T$4>0),T67,0)","v":0},0,0,0,0,0,0,0,0,0,0,0,0,0,0,0]
[null,"Група 14 – інвентарна тара / inventory packaging",6,{"$f":"IF('Грошові потоки _ Cash flows'!$E$15>Амортизація_Depreciation!C135, 'Грошові потоки _ Cash flows'!$E$15,Амортизація_Depreciation!C135)","v":25},null,0,0,0,0,0,0,0,0,0,0,0,0,0,0,0,0,0,0,0,0,0,0,0,0,0,0,0,0,{"$f":"IF(AND(AH$4=0,AG$4>0),AG68,0)","v":0},0,0]
[null,"Група 15 – предмети прокату / lease items",5,{"$f":"IF('Грошові потоки _ Cash flows'!$E$15>Амортизація_Depreciation!C136, 'Грошові потоки _ Cash flows'!$E$15,Амортизація_Depreciation!C136)","v":25},null,0,0,0,0,0,0,0,0,0,0,0,0,0,0,0,0,0,0,0,0,0,0,0,0,0,0,0,0,0,0,0]
[null,"Група 16 – довгострокові біологічні активи / Long-term biological assets",7,{"$f":"IF('Грошові потоки _ Cash flows'!$E$15>Амортизація_Depreciation!C137, 'Грошові потоки _ Cash flows'!$E$15,Амортизація_Depreciation!C137)","v":25},null,0,0,0,0,0,0,0,0,0,0,{"$f":"IF(AND(P$4=0,O$4>0),O70,0)","v":0},0,0,0,0,0,0,0,0,0,0,0,0,0,0,0,0,0,0,0,0]
[]
[]
[]
[]
[]
[]
[]
[]
[]
[]
[]
[]
[]
[]
[]
[null,null,null,null,null,null,null,null,null,{"$f":"HLOOKUP(E13+E9-1,Амортизація_Depreciation!F4:AI137,53,FALSE)","v":{"$error":"#N/A"}}]

{"sheet":"Факторн. аналіз_Factor analysis","index":10,"n_rows":52,"n_cols":35,"rows_kept":52,"cut":false,"hidden":false,"merged":[[46,5,46,7],[46,8,46,12],[47,1,53,1],[47,14,47,15],[51,13,55,13],[53,5,53,7],[53,8,53,12],[36,6,38,6],[39,5,39,7],[39,8,39,12],[39,16,39,18],[40,13,44,13],[40,14,40,15],[31,1,33,1],[31,5,33,5],[31,6,33,6],[32,16,32,18],[33,13,37,13],[33,14,33,15],[34,5,34,7],[34,8,34,12],[36,1,38,1],[36,5,38,5],[19,2,19,3],[20,2,20,3],[24,14,24,24],[25,16,25,18],[26,1,29,1],[26,5,28,5],[26,6,28,6],[26,13,30,13],[26,14,26,15],[14,32,15,32],[14,33,15,33],[14,34,15,34],[16,2,16,3],[17,2,17,3],[18,2,18,3],[14,26,15,26],[14,27,15,27],[14,28,15,28],[14,29,15,29],[14,30,15,30],[14,31,15,31],[14,20,15,20],[14,21,15,21],[14,22,15,22],[14,23,15,23],[14,24,15,24],[14,25,15,25],[14,14,15,14],[14,15,15,15],[14,16,15,16],[14,17,15,17],[14,18,15,18],[14,19,15,19],[14,8,15,8],[14,9,15,9],[14,10,15,10],[14,11,15,11],[14,12,15,12],[14,13,15,13],[12,2,12,3],[14,2,15,3],[14,4,15,4],[14,5,15,5],[14,6,15,6],[14,7,15,7],[7,2,7,3],[6,2,6,3],[10,2,10,3],[5,2,5,3],[8,2,8,3],[3,29,4,29],[3,30,4,30],[3,31,4,31],[3,17,4,17],[3,18,4,18],[3,19,4,19],[3,20,4,20],[3,21,4,21],[3,22,4,22],[3,11,4,11],[3,12,4,12],[3,13,4,13],[3,14,4,14],[3,15,4,15],[3,16,4,16],[3,32,4,32],[3,33,4,33],[3,34,4,34],[3,23,4,23],[3,24,4,24],[3,25,4,25],[3,26,4,26],[3,27,4,27],[3,28,4,28],[1,1,1,2],[1,3,1,14],[3,2,4,3],[3,4,4,4],[3,5,4,5],[3,6,4,6],[3,7,4,7],[3,8,4,8],[3,9,4,9],[3,10,4,10]]}
[]
[null,"ФАКТОРНИЙ АНАЛІЗ/FACTOR ANALYSIS",null,{"$f":"CONCATENATE(Головна_Summary!A2,\"/ \",Головна_Summary!K2)","v":"Будівництво СЕС 10 МВт/ Project name"}]
[]
[null,null,"Фактори зміни NPV/NPV change factors",null,"Вплив фактору /factor influence",{"$f":"'Грошові потоки _ Cash flows'!I22","v":2024},{"$f":"'Грошові потоки _ Cash flows'!J22","v":2025},{"$f":"'Грошові потоки _ Cash flows'!K22","v":2026},{"$f":"'Грошові потоки _ Cash flows'!L22","v":2027},{"$f":"'Грошові потоки _ Cash flows'!M22","v":2028},{"$f":"'Грошові потоки _ Cash flows'!N22","v":2029},{"$f":"'Грошові потоки _ Cash flows'!O22","v":2030},{"$f":"'Грошові потоки _ Cash flows'!P22","v":2031},{"$f":"'Грошові потоки _ Cash flows'!Q22","v":2032},{"$f":"'Грошові потоки _ Cash flows'!R22","v":2033},{"$f":"'Грошові потоки _ Cash flows'!S22","v":2034},{"$f":"'Грошові потоки _ Cash flows'!T22","v":2035},{"$f":"'Грошові потоки _ Cash flows'!U22","v":2036},{"$f":"'Грошові потоки _ Cash flows'!V22","v":2037},{"$f":"'Грошові потоки _ Cash flows'!W22","v":2038},{"$f":"'Грошові потоки _ Cash flows'!X22","v":2039},{"$f":"'Грошові потоки _ Cash flows'!Y22","v":0},{"$f":"'Грошові потоки _ Cash flows'!Z22","v":0},{"$f":"'Грошові потоки _ Cash flows'!AA22","v":0},{"$f":"'Грошові потоки _ Cash flows'!AB22","v":0},{"$f":"'Грошові потоки _ Cash flows'!AC22","v":0},{"$f":"'Грошові потоки _ Cash flows'!AD22","v":0},{"$f":"'Грошові потоки _ Cash flows'!AE22","v":0},{"$f":"'Грошові потоки _ Cash flows'!AF22","v":0},{"$f":"'Грошові потоки _ Cash flows'!AG22","v":0},{"$f":"'Грошові потоки _ Cash flows'!AH22","v":0},{"$f":"'Грошові потоки _ Cash flows'!AI22","v":0},{"$f":"'Грошові потоки _ Cash flows'!AJ22","v":0},{"$f":"'Грошові потоки _ Cash flows'!AK22","v":0},{"$f":"'Грошові потоки _ Cash flows'!AL22","v":0}]
[]
[null,1,"Бюджет проекту/Project budget",null,{"$f":"SUM(F6:AI6)","v":-2918.7193774650714},{"$f":"-'Грошові потоки _ Cash flows'!I39*'Грошові потоки _ Cash flows'!I48","v":0},{"$f":"-'Грошові потоки _ Cash flows'!J39*'Грошові потоки _ Cash flows'!J48","v":-823.24482799450311},{"$f":"-'Грошові потоки _ Cash flows'!K39*'Грошові потоки _ Cash flows'!K48","v":-712.76608484372559},{"$f":"-'Грошові потоки _ Cash flows'!L39*'Грошові потоки _ Cash flows'!L48","v":-617.113493371191},{"$f":"-'Грошові потоки _ Cash flows'!M39*'Грошові потоки _ Cash flows'!M48","v":-534.2973968581739},{"$f":"-'Грошові потоки _ Cash flows'!N39*'Грошові потоки _ Cash flows'!N48","v":-231.29757439747775},{"$f":"-'Грошові потоки _ Cash flows'!O39*'Грошові потоки _ Cash flows'!O48","v":0},{"$f":"-'Грошові потоки _ Cash flows'!P39*'Грошові потоки _ Cash flows'!P48","v":0},{"$f":"-'Грошові потоки _ Cash flows'!Q39*'Грошові потоки _ Cash flows'!Q48","v":0},{"$f":"-'Грошові потоки _ Cash flows'!R39*'Грошові потоки _ Cash flows'!R48","v":0},{"$f":"-'Грошові потоки _ Cash flows'!S39*'Грошові потоки _ Cash flows'!S48","v":0},{"$f":"-'Грошові потоки _ Cash flows'!T39*'Грошові потоки _ Cash flows'!T48","v":0},{"$f":"-'Грошові потоки _ Cash flows'!U39*'Грошові потоки _ Cash flows'!U48","v":0},{"$f":"-'Грошові потоки _ Cash flows'!V39*'Грошові потоки _ Cash flows'!V48","v":0},{"$f":"-'Грошові потоки _ Cash flows'!W39*'Грошові потоки _ Cash flows'!W48","v":0},{"$f":"-'Грошові потоки _ Cash flows'!X39*'Грошові потоки _ Cash flows'!X48","v":0},{"$f":"-'Грошові потоки _ Cash flows'!Y39*'Грошові потоки _ Cash flows'!Y48","v":0},{"$f":"-'Грошові потоки _ Cash flows'!Z39*'Грошові потоки _ Cash flows'!Z48","v":0}]
[null,2,"Відсотки за кредит/Loan interest rate ",null,{"$f":"SUM(F7:AI7)","v":-868.89985709725283},{"$f":"-('Грошові потоки _ Cash flows'!I36-'Грошові потоки _ Cash flows'!I36*IF(F8=0,0,'Грошові потоки _ Cash flows'!I54))*'Грошові потоки _ Cash flows'!I48","v":-213.94074967507152},{"$f":"-('Грошові потоки _ Cash flows'!J36-'Грошові потоки _ Cash flows'!J36*IF(G8=0,0,'Грошові потоки _ Cash flows'!J54))*'Грошові потоки _ Cash flows'!J48","v":-286.90082255608428},{"$f":"-('Грошові потоки _ Cash flows'!K36-'Грошові потоки _ Cash flows'!K36*IF(H8=0,0,'Грошові потоки _ Cash flows'!K54))*'Грошові потоки _ Cash flows'!K48","v":-189.95216161085287},{"$f":"-('Грошові потоки _ Cash flows'!L36-'Грошові потоки _ Cash flows'!L36*IF(I8=0,0,'Грошові потоки _ Cash flows'!L54))*'Грошові потоки _ Cash flows'!L48","v":-113.85743952698473},{"$f":"-('Грошові потоки _ Cash flows'!M36-'Грошові потоки _ Cash flows'!M36*IF(J8=0,0,'Грошові потоки _ Cash flows'!M54))*'Грошові потоки _ Cash flows'!M48","v":-54.765483177962828},{"$f":"-('Грошові потоки _ Cash flows'!N36-'Грошові потоки _ Cash flows'!N36*IF(K8=0,0,'Грошові потоки _ Cash flows'!N54))*'Грошові потоки _ Cash flows'!N48","v":-9.483200550296587},{"$f":"-('Грошові потоки _ Cash flows'!O36-'Грошові потоки _ Cash flows'!O36*IF(L8=0,0,'Грошові потоки _ Cash flows'!O54))*'Грошові потоки _ Cash flows'!O48","v":0},{"$f":"-('Грошові потоки _ Cash flows'!P36-'Грошові потоки _ Cash flows'!P36*IF(M8=0,0,'Грошові потоки _ Cash flows'!P54))*'Грошові потоки _ Cash flows'!P48","v":0},{"$f":"-('Грошові потоки _ Cash flows'!Q36-'Грошові потоки _ Cash flows'!Q36*IF(N8=0,0,'Грошові потоки _ Cash flows'!Q54))*'Грошові потоки _ Cash flows'!Q48","v":0},{"$f":"-('Грошові потоки _ Cash flows'!R36-'Грошові потоки _ Cash flows'!R36*IF(O8=0,0,'Грошові потоки _ Cash flows'!R54))*'Грошові потоки _ Cash flows'!R48","v":0},{"$f":"-('Грошові потоки _ Cash flows'!S36-'Грошові потоки _ Cash flows'!S36*IF(P8=0,0,'Грошові потоки _ Cash flows'!S54))*'Грошові потоки _ Cash flows'!S48","v":0},{"$f":"-('Грошові потоки _ Cash flows'!T36-'Грошові потоки _ Cash flows'!T36*IF(Q8=0,0,'Грошові потоки _ Cash flows'!T54))*'Грошові потоки _ Cash flows'!T48","v":0},{"$f":"-('Грошові потоки _ Cash flows'!U36-'Грошові потоки _ Cash flows'!U36*IF(R8=0,0,'Грошові потоки _ Cash flows'!U54))*'Грошові потоки _ Cash flows'!U48","v":0},{"$f":"-('Грошові потоки _ Cash flows'!V36-'Грошові потоки _ Cash flows'!V36*IF(S8=0,0,'Грошові потоки _ Cash flows'!V54))*'Грошові потоки _ Cash flows'!V48","v":0},{"$f":"-('Грошові потоки _ Cash flows'!W36-'Грошові потоки _ Cash flows'!W36*IF(T8=0,0,'Грошові потоки _ Cash flows'!W54))*'Грошові потоки _ Cash flows'!W48","v":0},{"$f":"-('Грошові потоки _ Cash flows'!X36-'Грошові потоки _ Cash flows'!X36*IF(U8=0,0,'Грошові потоки _ Cash flows'!X54))*'Грошові потоки _ Cash flows'!X48","v":0},{"$f":"-('Грошові потоки _ Cash flows'!Y36-'Грошові потоки _ Cash flows'!Y36*IF(V8=0,0,'Грошові потоки _ Cash flows'!Y54))*'Грошові потоки _ Cash flows'!Y48","v":0},{"$f":"-('Грошові потоки _ Cash flows'!Z36-'Грошові потоки _ Cash flows'!Z36*IF(W8=0,0,'Грошові потоки _ Cash flows'!Z54))*'Грошові потоки _ Cash flows'!Z48","v":0}]
[null,3,"Ефективність проєкту",null,{"$f":"SUM(F8:AI8)","v":5091.0333838202714},{"$f":"('Грошові потоки _ Cash flows'!I28-'Грошові потоки _ Cash flows'!I28*'Грошові потоки _ Cash flows'!I54)*'Грошові потоки _ Cash flows'!I48","v":0},{"$f":"('Грошові потоки _ Cash flows'!J28-'Грошові потоки _ Cash flows'!J28*'Грошові потоки _ Cash flows'!J54)*'Грошові потоки _ Cash flows'!J48","v":767.19778169816254},{"$f":"('Грошові потоки _ Cash flows'!K28-'Грошові потоки _ Cash flows'!K28*'Грошові потоки _ Cash flows'!K54)*'Грошові потоки _ Cash flows'!K48","v":665.48602110268939},{"$f":"('Грошові потоки _ Cash flows'!L28-'Грошові потоки _ Cash flows'!L28*'Грошові потоки _ Cash flows'!L54)*'Грошові потоки _ Cash flows'!L48","v":577.17292374457975},{"$f":"('Грошові потоки _ Cash flows'!M28-'Грошові потоки _ Cash flows'!M28*'Грошові потоки _ Cash flows'!M54)*'Грошові потоки _ Cash flows'!M48","v":500.50764263706509},{"$f":"('Грошові потоки _ Cash flows'!N28-'Грошові потоки _ Cash flows'!N28*'Грошові потоки _ Cash flows'!N54)*'Грошові потоки _ Cash flows'!N48","v":433.96607307254084},{"$f":"('Грошові потоки _ Cash flows'!O28-'Грошові потоки _ Cash flows'!O28*'Грошові потоки _ Cash flows'!O54)*'Грошові потоки _ Cash flows'!O48","v":376.22172847622716},{"$f":"('Грошові потоки _ Cash flows'!P28-'Грошові потоки _ Cash flows'!P28*'Грошові потоки _ Cash flows'!P54)*'Грошові потоки _ Cash flows'!P48","v":326.12033893089995},{"$f":"('Грошові потоки _ Cash flows'!Q28-'Грошові потоки _ Cash flows'!Q28*'Грошові потоки _ Cash flows'!Q54)*'Грошові потоки _ Cash flows'!Q48","v":282.65769610565224},{"$f":"('Грошові потоки _ Cash flows'!R28-'Грошові потоки _ Cash flows'!R28*'Грошові потоки _ Cash flows'!R54)*'Грошові потоки _ Cash flows'!R48","v":244.96032976004557},{"$f":"('Грошові потоки _ Cash flows'!S28-'Грошові потоки _ Cash flows'!S28*'Грошові потоки _ Cash flows'!S54)*'Грошові потоки _ Cash flows'!S48","v":212.26865416053496},{"$f":"('Грошові потоки _ Cash flows'!T28-'Грошові потоки _ Cash flows'!T28*'Грошові потоки _ Cash flows'!T54)*'Грошові потоки _ Cash flows'!T48","v":183.92226942415954},{"$f":"('Грошові потоки _ Cash flows'!U28-'Грошові потоки _ Cash flows'!U28*'Грошові потоки _ Cash flows'!U54)*'Грошові потоки _ Cash flows'!U48","v":159.34714310277664},{"$f":"('Грошові потоки _ Cash flows'!V28-'Грошові потоки _ Cash flows'!V28*'Грошові потоки _ Cash flows'!V54)*'Грошові потоки _ Cash flows'!V48","v":138.04443246917162},{"$f":"('Грошові потоки _ Cash flows'!W28-'Грошові потоки _ Cash flows'!W28*'Грошові потоки _ Cash flows'!W54)*'Грошові потоки _ Cash flows'!W48","v":119.58073866253504},{"$f":"('Грошові потоки _ Cash flows'!X28-'Грошові потоки _ Cash flows'!X28*'Грошові потоки _ Cash flows'!X54)*'Грошові потоки _ Cash flows'!X48","v":103.57961047323111},{"$f":"('Грошові потоки _ Cash flows'!Y28-'Грошові потоки _ Cash flows'!Y28*'Грошові потоки _ Cash flows'!Y54)*'Грошові потоки _ Cash flows'!Y48","v":0},{"$f":"('Грошові потоки _ Cash flows'!Z28-'Грошові потоки _ Cash flows'!Z28*'Грошові потоки _ Cash flows'!Z54)*'Грошові потоки _ Cash flows'!Z48","v":0}]
[null,4,"Амортизація/Depreciation",null,{"$f":"SUM(F9:AI9)","v":175.87055873556042},{"$f":"'Грошові потоки _ Cash flows'!I30*'Грошові потоки _ Cash flows'!I54*'Грошові потоки _ Cash flows'!I48","v":0},{"$f":"'Грошові потоки _ Cash flows'!J30*'Грошові потоки _ Cash flows'!J54*'Грошові потоки _ Cash flows'!J48","v":26.673132427021908},{"$f":"'Грошові потоки _ Cash flows'!K30*'Грошові потоки _ Cash flows'!K54*'Грошові потоки _ Cash flows'!K48","v":23.093621148936716},{"$f":"'Грошові потоки _ Cash flows'!L30*'Грошові потоки _ Cash flows'!L54*'Грошові потоки _ Cash flows'!L48","v":19.994477185226593},{"$f":"'Грошові потоки _ Cash flows'!M30*'Грошові потоки _ Cash flows'!M54*'Грошові потоки _ Cash flows'!M48","v":17.31123565820484},{"$f":"'Грошові потоки _ Cash flows'!N30*'Грошові потоки _ Cash flows'!N54*'Грошові потоки _ Cash flows'!N48","v":14.988082820956571},{"$f":"'Грошові потоки _ Cash flows'!O30*'Грошові потоки _ Cash flows'!O54*'Грошові потоки _ Cash flows'!O48","v":12.976695083079282},{"$f":"'Грошові потоки _ Cash flows'!P30*'Грошові потоки _ Cash flows'!P54*'Грошові потоки _ Cash flows'!P48","v":11.235233838163879},{"$f":"'Грошові потоки _ Cash flows'!Q30*'Грошові потоки _ Cash flows'!Q54*'Грошові потоки _ Cash flows'!Q48","v":9.7274751845574698},{"$f":"'Грошові потоки _ Cash flows'!R30*'Грошові потоки _ Cash flows'!R54*'Грошові потоки _ Cash flows'!R48","v":8.4220564368462938},{"$f":"'Грошові потоки _ Cash flows'!S30*'Грошові потоки _ Cash flows'!S54*'Грошові потоки _ Cash flows'!S48","v":7.2918237548452769},{"$f":"'Грошові потоки _ Cash flows'!T30*'Грошові потоки _ Cash flows'!T54*'Грошові потоки _ Cash flows'!T48","v":6.3132673202123604},{"$f":"'Грошові потоки _ Cash flows'!U30*'Грошові потоки _ Cash flows'!U54*'Грошові потоки _ Cash flows'!U48","v":5.4660323118721736},{"$f":"'Грошові потоки _ Cash flows'!V30*'Грошові потоки _ Cash flows'!V54*'Грошові потоки _ Cash flows'!V48","v":4.7324955081144351},{"$f":"'Грошові потоки _ Cash flows'!W30*'Грошові потоки _ Cash flows'!W54*'Грошові потоки _ Cash flows'!W48","v":4.097398708324187},{"$f":"'Грошові потоки _ Cash flows'!X30*'Грошові потоки _ Cash flows'!X54*'Грошові потоки _ Cash flows'!X48","v":3.5475313491984299},{"$f":"'Грошові потоки _ Cash flows'!Y30*'Грошові потоки _ Cash flows'!Y54*'Грошові потоки _ Cash flows'!Y48","v":0},{"$f":"'Грошові потоки _ Cash flows'!Z30*'Грошові потоки _ Cash flows'!Z54*'Грошові потоки _ Cash flows'!Z48","v":0}]
[null,5,"Залишкова вартість/Residual value",null,{"$f":"'Грошові потоки _ Cash flows'!S11","v":0},0,0,0,0,0,0,0,0,0,0,0,0,0,0,0,0,0,0]
[null,6,"Капітальні ремонти/Overhauls",null,{"$f":"SUM(F11:AI11)","v":0},{"$f":"-'Грошові потоки _ Cash flows'!I43*'Грошові потоки _ Cash flows'!I48","v":0},{"$f":"-'Грошові потоки _ Cash flows'!J43*'Грошові потоки _ Cash flows'!J48","v":0},{"$f":"-'Грошові потоки _ Cash flows'!K43*'Грошові потоки _ Cash flows'!K48","v":0},{"$f":"-'Грошові потоки _ Cash flows'!L43*'Грошові потоки _ Cash flows'!L48","v":0},{"$f":"-'Грошові потоки _ Cash flows'!M43*'Грошові потоки _ Cash flows'!M48","v":0},{"$f":"-'Грошові потоки _ Cash flows'!N43*'Грошові потоки _ Cash flows'!N48","v":0},{"$f":"-'Грошові потоки _ Cash flows'!O43*'Грошові потоки _ Cash flows'!O48","v":0},{"$f":"-'Грошові потоки _ Cash flows'!P43*'Грошові потоки _ Cash flows'!P48","v":0},{"$f":"-'Грошові потоки _ Cash flows'!Q43*'Грошові потоки _ Cash flows'!Q48","v":0},{"$f":"-'Грошові потоки _ Cash flows'!R43*'Грошові потоки _ Cash flows'!R48","v":0},{"$f":"-'Грошові потоки _ Cash flows'!S43*'Грошові потоки _ Cash flows'!S48","v":0},{"$f":"-'Грошові потоки _ Cash flows'!T43*'Грошові потоки _ Cash flows'!T48","v":0},{"$f":"-'Грошові потоки _ Cash flows'!U43*'Грошові потоки _ Cash flows'!U48","v":0},{"$f":"-'Грошові потоки _ Cash flows'!V43*'Грошові потоки _ Cash flows'!V48","v":0},{"$f":"-'Грошові потоки _ Cash flows'!W43*'Грошові потоки _ Cash flows'!W48","v":0},{"$f":"-'Грошові потоки _ Cash flows'!X43*'Грошові потоки _ Cash flows'!X48","v":0},{"$f":"-'Грошові потоки _ Cash flows'!Y43*'Грошові потоки _ Cash flows'!Y48","v":0},{"$f":"-'Грошові потоки _ Cash flows'!Z43*'Грошові потоки _ Cash flows'!Z48","v":0}]
[null,7,"Інші фактори/Other factors",null,{"$f":"SUM(F12:AI12)","v":0},0,0,0,0,0,0,0,0,0,0,0,0,0,0,0,0,0,0]
[null,null,"Разом приріст NPV/Total increase in NPV",null,{"$f":"E8+E7+E11+E6+E9+E10+E12","v":1479.2847079935079},{"$f":"SUM(F7:F12)","v":-213.94074967507152},{"$f":"SUM(G7:G12)","v":506.97009156910019},498.62748064077329,483.30996140282156,463.0533951173071,439.47095534320079,389.19842355930643,337.35557276906383,292.38517129020971,253.38238619689187,219.56047791538023,190.2355367443719,164.81317541464881,142.77692797728605,123.67813737085923,107.12714182242955,0,0]
[]
[null,null,"Фактори зміни ROI та PI/ROI and PI change factors",null,"Вплив фактору /factor influence",{"$f":"'Грошові потоки _ Cash flows'!I22","v":2024},{"$f":"'Грошові потоки _ Cash flows'!J22","v":2025},{"$f":"'Грошові потоки _ Cash flows'!K22","v":2026},{"$f":"'Грошові потоки _ Cash flows'!L22","v":2027},{"$f":"'Грошові потоки _ Cash flows'!M22","v":2028},{"$f":"'Грошові потоки _ Cash flows'!N22","v":2029},{"$f":"'Грошові потоки _ Cash flows'!O22","v":2030},{"$f":"'Грошові потоки _ Cash flows'!P22","v":2031},{"$f":"'Грошові потоки _ Cash flows'!Q22","v":2032},{"$f":"'Грошові потоки _ Cash flows'!R22","v":2033},{"$f":"'Грошові потоки _ Cash flows'!S22","v":2034},{"$f":"'Грошові потоки _ Cash flows'!T22","v":2035},{"$f":"'Грошові потоки _ Cash flows'!U22","v":2036},{"$f":"'Грошові потоки _ Cash flows'!V22","v":2037},{"$f":"'Грошові потоки _ Cash flows'!W22","v":2038},{"$f":"'Грошові потоки _ Cash flows'!X22","v":2039},{"$f":"'Грошові потоки _ Cash flows'!Y22","v":0},{"$f":"'Грошові потоки _ Cash flows'!Z22","v":0},{"$f":"'Грошові потоки _ Cash flows'!AA22","v":0},{"$f":"'Грошові потоки _ Cash flows'!AB22","v":0},{"$f":"'Грошові потоки _ Cash flows'!AC22","v":0},{"$f":"'Грошові потоки _ Cash flows'!AD22","v":0},{"$f":"'Грошові потоки _ Cash flows'!AE22","v":0},{"$f":"'Грошові потоки _ Cash flows'!AF22","v":0},{"$f":"'Грошові потоки _ Cash flows'!AG22","v":0},{"$f":"'Грошові потоки _ Cash flows'!AH22","v":0},{"$f":"'Грошові потоки _ Cash flows'!AI22","v":0},{"$f":"'Грошові потоки _ Cash flows'!AJ22","v":0},{"$f":"'Грошові потоки _ Cash flows'!AK22","v":0},{"$f":"'Грошові потоки _ Cash flows'!AL22","v":0}]
[]
[null,1,"Дисконтований чистий прибуток ДЧП",null,{"$f":"SUM(F17:AI17)","v":466.61333951089824},{"$f":"'Грошові потоки _ Cash flows'!I33*'Грошові потоки _ Cash flows'!I48+F18","v":-427.88149935014303},{"$f":"'Грошові потоки _ Cash flows'!J33*'Грошові потоки _ Cash flows'!J48+G18","v":-666.15378832306646},{"$f":"'Грошові потоки _ Cash flows'!K33*'Грошові потоки _ Cash flows'!K48+H18","v":-445.78758177716321},{"$f":"'Грошові потоки _ Cash flows'!L33*'Грошові потоки _ Cash flows'!L48+I18","v":-272.65406797688752},{"$f":"'Грошові потоки _ Cash flows'!M33*'Грошові потоки _ Cash flows'!M48+J18","v":-138.0311763481385},{"$f":"'Грошові потоки _ Cash flows'!N33*'Грошові потоки _ Cash flows'!N48+K18","v":196.60850222584921},{"$f":"'Грошові потоки _ Cash flows'!O33*'Грошові потоки _ Cash flows'!O48+L18","v":389.19842355930643},{"$f":"'Грошові потоки _ Cash flows'!P33*'Грошові потоки _ Cash flows'!P48+M18","v":337.35557276906383},{"$f":"'Грошові потоки _ Cash flows'!Q33*'Грошові потоки _ Cash flows'!Q48+N18","v":292.38517129020971},{"$f":"'Грошові потоки _ Cash flows'!R33*'Грошові потоки _ Cash flows'!R48+O18","v":253.38238619689187},{"$f":"'Грошові потоки _ Cash flows'!S33*'Грошові потоки _ Cash flows'!S48+P18","v":219.56047791538026},{"$f":"'Грошові потоки _ Cash flows'!T33*'Грошові потоки _ Cash flows'!T48+Q18","v":190.23553674437187},{"$f":"'Грошові потоки _ Cash flows'!U33*'Грошові потоки _ Cash flows'!U48+R18","v":164.81317541464881},{"$f":"'Грошові потоки _ Cash flows'!V33*'Грошові потоки _ Cash flows'!V48+S18","v":142.77692797728608},{"$f":"'Грошові потоки _ Cash flows'!W33*'Грошові потоки _ Cash flows'!W48+T18","v":123.67813737085923},{"$f":"'Грошові потоки _ Cash flows'!X33*'Грошові потоки _ Cash flows'!X48+U18","v":107.12714182242955},{"$f":"'Грошові потоки _ Cash flows'!Y33*'Грошові потоки _ Cash flows'!Y48+V18","v":0},{"$f":"'Грошові потоки _ Cash flows'!Z33*'Грошові потоки _ Cash flows'!Z48+W18","v":0}]
[null,2,"Дисконтовані інвестиції",null,{"$f":"SUM(F18:AI18)","v":-3931.3907459476814},{"$f":"IFERROR(IF(Головна_Summary!H13=\"Кредитні кошти\",-'Грошові потоки _ Cash flows'!I57*'Грошові потоки _ Cash flows'!I48,IF(Головна_Summary!H13=\"Власні кошти\",-'Грошові потоки _ Cash flows'!I41*'Грошові потоки _ Cash flows'!I48,-'Грошові потоки _ Cash flows'!I55*'Грошові потоки _ Cash flows'!I48)),\"Н/Д\")","v":-213.94074967507152},{"$f":"IFERROR(IF(Головна_Summary!I13=\"Кредитні кошти\",-'Грошові потоки _ Cash flows'!J57*'Грошові потоки _ Cash flows'!J48,IF(Головна_Summary!I13=\"Власні кошти\",-'Грошові потоки _ Cash flows'!J41*'Грошові потоки _ Cash flows'!J48,-'Грошові потоки _ Cash flows'!J55*'Грошові потоки _ Cash flows'!J48)),\"Н/Д\")","v":-1173.1238798921668},{"$f":"IFERROR(IF(Головна_Summary!J13=\"Кредитні кошти\",-'Грошові потоки _ Cash flows'!K57*'Грошові потоки _ Cash flows'!K48,IF(Головна_Summary!J13=\"Власні кошти\",-'Грошові потоки _ Cash flows'!K41*'Грошові потоки _ Cash flows'!K48,-'Грошові потоки _ Cash flows'!K55*'Грошові потоки _ Cash flows'!K48)),\"Н/Д\")","v":-944.41506241793638},{"$f":"IFERROR(IF(Головна_Summary!K13=\"Кредитні кошти\",-'Грошові потоки _ Cash flows'!L57*'Грошові потоки _ Cash flows'!L48,IF(Головна_Summary!K13=\"Власні кошти\",-'Грошові потоки _ Cash flows'!L41*'Грошові потоки _ Cash flows'!L48,-'Грошові потоки _ Cash flows'!L55*'Грошові потоки _ Cash flows'!L48)),\"Н/Д\")","v":-755.96402937970913},{"$f":"IFERROR(IF(Головна_Summary!L13=\"Кредитні кошти\",-'Грошові потоки _ Cash flows'!M57*'Грошові потоки _ Cash flows'!M48,IF(Головна_Summary!L13=\"Власні кошти\",-'Грошові потоки _ Cash flows'!M41*'Грошові потоки _ Cash flows'!M48,-'Грошові потоки _ Cash flows'!M55*'Грошові потоки _ Cash flows'!M48)),\"Н/Д\")","v":-601.08457146544561},{"$f":"IFERROR(IF(Головна_Summary!M13=\"Кредитні кошти\",-'Грошові потоки _ Cash flows'!N57*'Грошові потоки _ Cash flows'!N48,IF(Головна_Summary!M13=\"Власні кошти\",-'Грошові потоки _ Cash flows'!N41*'Грошові потоки _ Cash flows'!N48,-'Грошові потоки _ Cash flows'!N55*'Грошові потоки _ Cash flows'!N48)),\"Н/Д\")","v":-242.86245311735163},{"$f":"IFERROR(IF(Головна_Summary!N13=\"Кредитні кошти\",-'Грошові потоки _ Cash flows'!O57*'Грошові потоки _ Cash flows'!O48,IF(Головна_Summary!N13=\"Власні кошти\",-'Грошові потоки _ Cash flows'!O41*'Грошові потоки _ Cash flows'!O48,-'Грошові потоки _ Cash flows'!O55*'Грошові потоки _ Cash flows'!O48)),\"Н/Д\")","v":0},{"$f":"IFERROR(IF(Головна_Summary!O13=\"Кредитні кошти\",-'Грошові потоки _ Cash flows'!P57*'Грошові потоки _ Cash flows'!P48,IF(Головна_Summary!O13=\"Власні кошти\",-'Грошові потоки _ Cash flows'!P41*'Грошові потоки _ Cash flows'!P48,-'Грошові потоки _ Cash flows'!P55*'Грошові потоки _ Cash flows'!P48)),\"Н/Д\")","v":0},{"$f":"IFERROR(IF(Головна_Summary!P13=\"Кредитні кошти\",-'Грошові потоки _ Cash flows'!Q57*'Грошові потоки _ Cash flows'!Q48,IF(Головна_Summary!P13=\"Власні кошти\",-'Грошові потоки _ Cash flows'!Q41*'Грошові потоки _ Cash flows'!Q48,-'Грошові потоки _ Cash flows'!Q55*'Грошові потоки _ Cash flows'!Q48)),\"Н/Д\")","v":0},{"$f":"IFERROR(IF(Головна_Summary!Q13=\"Кредитні кошти\",-'Грошові потоки _ Cash flows'!R57*'Грошові потоки _ Cash flows'!R48,IF(Головна_Summary!Q13=\"Власні кошти\",-'Грошові потоки _ Cash flows'!R41*'Грошові потоки _ Cash flows'!R48,-'Грошові потоки _ Cash flows'!R55*'Грошові потоки _ Cash flows'!R48)),\"Н/Д\")","v":0},{"$f":"IFERROR(IF(Головна_Summary!R13=\"Кредитні кошти\",-'Грошові потоки _ Cash flows'!S57*'Грошові потоки _ Cash flows'!S48,IF(Головна_Summary!R13=\"Власні кошти\",-'Грошові потоки _ Cash flows'!S41*'Грошові потоки _ Cash flows'!S48,-'Грошові потоки _ Cash flows'!S55*'Грошові потоки _ Cash flows'!S48)),\"Н/Д\")","v":0},{"$f":"IFERROR(IF(Головна_Summary!S13=\"Кредитні кошти\",-'Грошові потоки _ Cash flows'!T57*'Грошові потоки _ Cash flows'!T48,IF(Головна_Summary!S13=\"Власні кошти\",-'Грошові потоки _ Cash flows'!T41*'Грошові потоки _ Cash flows'!T48,-'Грошові потоки _ Cash flows'!T55*'Грошові потоки _ Cash flows'!T48)),\"Н/Д\")","v":0},{"$f":"IFERROR(IF(Головна_Summary!T13=\"Кредитні кошти\",-'Грошові потоки _ Cash flows'!U57*'Грошові потоки _ Cash flows'!U48,IF(Головна_Summary!T13=\"Власні кошти\",-'Грошові потоки _ Cash flows'!U41*'Грошові потоки _ Cash flows'!U48,-'Грошові потоки _ Cash flows'!U55*'Грошові потоки _ Cash flows'!U48)),\"Н/Д\")","v":0},{"$f":"IFERROR(IF(Головна_Summary!U13=\"Кредитні кошти\",-'Грошові потоки _ Cash flows'!V57*'Грошові потоки _ Cash flows'!V48,IF(Головна_Summary!U13=\"Власні кошти\",-'Грошові потоки _ Cash flows'!V41*'Грошові потоки _ Cash flows'!V48,-'Грошові потоки _ Cash flows'!V55*'Грошові потоки _ Cash flows'!V48)),\"Н/Д\")","v":0},{"$f":"IFERROR(IF(Головна_Summary!V13=\"Кредитні кошти\",-'Грошові потоки _ Cash flows'!W57*'Грошові потоки _ Cash flows'!W48,IF(Головна_Summary!V13=\"Власні кошти\",-'Грошові потоки _ Cash flows'!W41*'Грошові потоки _ Cash flows'!W48,-'Грошові потоки _ Cash flows'!W55*'Грошові потоки _ Cash flows'!W48)),\"Н/Д\")","v":0},{"$f":"IFERROR(IF(Головна_Summary!W13=\"Кредитні кошти\",-'Грошові потоки _ Cash flows'!X57*'Грошові потоки _ Cash flows'!X48,IF(Головна_Summary!W13=\"Власні кошти\",-'Грошові потоки _ Cash flows'!X41*'Грошові потоки _ Cash flows'!X48,-'Грошові потоки _ Cash flows'!X55*'Грошові потоки _ Cash flows'!X48)),\"Н/Д\")","v":0},{"$f":"IFERROR(IF(Головна_Summary!X13=\"Кредитні кошти\",-'Грошові потоки _ Cash flows'!Y57*'Грошові потоки _ Cash flows'!Y48,IF(Головна_Summary!X13=\"Власні кошти\",-'Грошові потоки _ Cash flows'!Y41*'Грошові потоки _ Cash flows'!Y48,-'Грошові потоки _ Cash flows'!Y55*'Грошові потоки _ Cash flows'!Y48)),\"Н/Д\")","v":0},{"$f":"IFERROR(IF(Головна_Summary!Y13=\"Кредитні кошти\",-'Грошові потоки _ Cash flows'!Z57*'Грошові потоки _ Cash flows'!Z48,IF(Головна_Summary!Y13=\"Власні кошти\",-'Грошові потоки _ Cash flows'!Z41*'Грошові потоки _ Cash flows'!Z48,-'Грошові потоки _ Cash flows'!Z55*'Грошові потоки _ Cash flows'!Z48)),\"Н/Д\")","v":0}]
[null,3,"Дисконтований інвестиційний  грошовий потік CFI",null,{"$f":"SUM(F19:AI19)","v":2918.7193774650714},{"$f":"'Грошові потоки _ Cash flows'!I38*'Грошові потоки _ Cash flows'!I48","v":0},{"$f":"'Грошові потоки _ Cash flows'!J38*'Грошові потоки _ Cash flows'!J48","v":823.24482799450311},{"$f":"'Грошові потоки _ Cash flows'!K38*'Грошові потоки _ Cash flows'!K48","v":712.76608484372559},{"$f":"'Грошові потоки _ Cash flows'!L38*'Грошові потоки _ Cash flows'!L48","v":617.113493371191},{"$f":"'Грошові потоки _ Cash flows'!M38*'Грошові потоки _ Cash flows'!M48","v":534.2973968581739},{"$f":"'Грошові потоки _ Cash flows'!N38*'Грошові потоки _ Cash flows'!N48","v":231.29757439747775},{"$f":"'Грошові потоки _ Cash flows'!O38*'Грошові потоки _ Cash flows'!O48","v":0},{"$f":"'Грошові потоки _ Cash flows'!P38*'Грошові потоки _ Cash flows'!P48","v":0},{"$f":"'Грошові потоки _ Cash flows'!Q38*'Грошові потоки _ Cash flows'!Q48","v":0},{"$f":"'Грошові потоки _ Cash flows'!R38*'Грошові потоки _ Cash flows'!R48","v":0},{"$f":"'Грошові потоки _ Cash flows'!S38*'Грошові потоки _ Cash flows'!S48","v":0},{"$f":"'Грошові потоки _ Cash flows'!T38*'Грошові потоки _ Cash flows'!T48","v":0},{"$f":"'Грошові потоки _ Cash flows'!U38*'Грошові потоки _ Cash flows'!U48","v":0},{"$f":"'Грошові потоки _ Cash flows'!V38*'Грошові потоки _ Cash flows'!V48","v":0},{"$f":"'Грошові потоки _ Cash flows'!W38*'Грошові потоки _ Cash flows'!W48","v":0},{"$f":"'Грошові потоки _ Cash flows'!X38*'Грошові потоки _ Cash flows'!X48","v":0},{"$f":"'Грошові потоки _ Cash flows'!Y38*'Грошові потоки _ Cash flows'!Y48","v":0},{"$f":"'Грошові потоки _ Cash flows'!Z38*'Грошові потоки _ Cash flows'!Z48","v":0}]
[null,4]
[null,5]
[]
[null,"АНАЛІЗ СЦЕНАРІЇВ/ Scenario analysis"]
[]
[null,null,null,null,null,null,null,null,null,null,null,null,null,null,"Розрахунок показників/Indicators calculation"]
[null,"Показник/Indicator","Фактор зміни/Change factor","Оптимістичний сценарій/Optimistic sc.","Песимістичний сценарій/Pessimistic sc.","Одиниці виміру/Unit","Значення NPV відп. до базов. сценарію/Value of NPV according to the basic sc.","Значення NPV відп. до оптим. сценарію/Value of NPV according to the optim. sc.","Відхилення, абс./deviation","Відхилення, %/deviation","Значення NPV відп. до песим. сценарію/Value of NPV according to the pesim. sc.","Відхилення, абс./deviation","Відхилення, %/deviation",null,null,null,{"$f":"C28","v":"Бюджет/Project budget "}]
[null,"Зміна NPV/NPV change","Строки реалізації/Implementation period","Пришвидшення проекту на 1 місяць/1 month acceleration","Запізнення проекту на 1 місяць / 1 month delay",{"$f":"Головна_Summary!AD5","v":"тис.US$/ ths.US$"},{"$f":"'Грошові потоки _ Cash flows'!K7","v":1479.2847079935079},{"$f":"G27*1.1","v":1627.2131787928588},{"$f":"H27-$G$27","v":147.92847079935086},{"$f":"I27/$G$27","v":0.10000000000000005},{"$f":"G27*0.9","v":1331.3562371941571},{"$f":"K27-$G$27","v":-147.92847079935086},{"$f":"L27/$G$27","v":-0.10000000000000005},{"$f":"C29","v":"Ефективність проєкту/Project efficiency"},"NPV",null,"Оптимістичний/ optimistic","Базовий/base ","Песимістичний/Pesimisstic"]
[null,null,"Бюджет/Project budget ","Бюджет проєкту зменшиться на 20% / Project budget will decrese by 20%","Бюджет проєкту збільшиться на 20% / Project budget will increse by 20%",null,null,{"$f":"Q30","v":-693.02929836169244},{"$f":"H28-$G$27","v":-2172.3140063552005},{"$f":"I28/$G$27","v":-1.4684894629254384},{"$f":"S30","v":-693.02929836169244},{"$f":"K28-$G$27","v":-2172.3140063552005},{"$f":"L28/$G$27","v":-1.4684894629254384},null,null,{"$f":"E13","v":1479.2847079935079}]
[null,null,"Ефективність проєкту/Project efficiency","Ефективність будівництва збільшиться на 20% / The efficiency of construction will increase by 20%","Ефективність будівництва зменшиться на 20% / The efficiency of construction will decrease by 20%",null,null,{"$f":"R29","v":-693.02929836169244},{"$f":"H29-$G$27","v":-2172.3140063552005},{"$f":"I29/$G$27","v":-1.4684894629254384},{"$f":"R31","v":-693.02929836169244},{"$f":"K29-$G$27","v":-2172.3140063552005},{"$f":"L29/$G$27","v":-1.4684894629254384},null,"Оптимістичний/ Optimistic",null,-693.02929836169244,-693.02929836169244,-693.02929836169244]
[null,null,null,null,null,null,null,null,null,null,null,null,null,null,"Базовий/Base",null,-693.02929836169244,-693.02929836169244,-693.02929836169244]
[null,"Показник/Indicator","Фактор зміни/Change factor","Оптимістичний сценарій/Optimistic sc.","Песимістичний сценарій/Pessimistic sc.","Одиниці виміру/Unit","Значення ROI відп. до базов. сценарію/Value of ROI according to the basic sc.","Значення ROI відп. до оптим. сценарію/Value of ROI according to the optim. sc.","Відхилення, абс./deviation","Відхилення, %/deviation","Значення ROI відп. до песим. сценарію/Value of ROI according to the pesim. sc.","Відхилення, абс./deviation","Відхилення, %/deviation",null,"Песимістичний/Pessimistic",null,-693.02929836169244,-693.02929836169244,-693.02929836169244]
[null,"Зміна ROI/ROI change","Строки реалізації/Implementation period","Пришвидшення проекту на 1 місяць/1 month acceleration","Запізнення проекту на 1 місяць / 1 month delay","%",{"$f":"'Грошові потоки _ Cash flows'!K11","v":0.11868912801197984},{"$f":"G32*1.1","v":0.13055804081317784},{"$f":"H32-$G$32","v":1.1868912801198006E-2},{"$f":"I32/$G$32","v":0.10000000000000019},{"$f":"G32*0.9","v":0.10682021521078186},{"$f":"K32-$G$32","v":-1.1868912801197978E-2},{"$f":"L32/$G$32","v":-9.999999999999995E-2}]
[null,null,"Дисконтований чистий прибуток (ДЧП)/Discounted net profit","ДЧП збільшиться на 20% / Discounted net profit will increase by 20% ","ДЧП зменшиться на 20% / Discounted net profit will decrease by 20%",null,null,{"$f":"R36","v":0.1424269536143761},2.3737825602396262E-2,{"$f":"I33/$G$32","v":0.20000000000000248},{"$f":"R38","v":9.4951302409584076E-2},{"$f":"K33-$G$32","v":-2.3737825602395762E-2},{"$f":"L33/$G$32","v":-0.19999999999999826},null,null,null,{"$f":"C34","v":"Дисконтовані інвестиції (ДІ)/Discounted investments"}]
[null,null,"Дисконтовані інвестиції (ДІ)/Discounted investments","ДІ зменшаться на 20%/Discounted investments will decrease by 20%","ДІ зменшаться на 20%/Discounted investments will increase by 20%",null,null,{"$f":"Q37","v":0.1483614100149751},2.9672282002995265E-2,0.25000000000000255,{"$f":"S37","v":9.8907606676650078E-2},{"$f":"K34-$G$32","v":-1.978152133532976E-2},{"$f":"L34/$G$32","v":-0.16666666666666488},{"$f":"C33","v":"Дисконтований чистий прибуток (ДЧП)/Discounted net profit"},"ROI",null,"Оптимістичний/ optimistic","Базовий/base ","Песимістичний/Pesimisstic"]
[null,null,null,null,null,null,null,null,null,null,null,null,null,null,null,{"$f":"'Грошові потоки _ Cash flows'!K11","v":0.11868912801197984},{"$f":"R35*0.8","v":3145.1125967581452},{"$f":"-E18","v":3931.3907459476814},{"$f":"R35*1.2","v":4717.6688951372171}]
[null,"Показник/Indicator","Фактор зміни/Change factor","Оптимістичний сценарій/Optimistic sc.","Песимістичний сценарій/Pessimistic sc.","Одиниці виміру/Unit","Значення PI відп. до базов. сценарію/Value of PI according to the basic sc.","Значення PI відп. до оптим. сценарію/Value of PI according to the optim. sc.","Відхилення, абс./deviation","Відхилення, %/deviation","Значення PI відп. до песим. сценарію/Value of PI according to the pesim. sc.","Відхилення, абс./deviation","Відхилення, %/deviation",null,"Оптимістичний/ Optimistic",{"$f":"P37*1.2","v":559.93600741307785},{"$f":"$P$36/Q35","v":0.17803369201797012},{"$f":"$P$36/R35","v":0.1424269536143761},0.11868912801198009]
[null,"Зміна PI/PI change","Строки реалізації/Implementation period","Пришвидшення проекту на 1 місяць/1 month acceleration","Запізнення проекту на 1 місяць / 1 month delay"," - ",{"$f":"'Грошові потоки _ Cash flows'!N7","v":1.5068266306842686},{"$f":"G37*1.1","v":1.6575092937526956},{"$f":"H37-$G$37","v":0.15068266306842704},{"$f":"I37/$G$37","v":0.10000000000000012},{"$f":"G37*0.9","v":1.3561439676158418},{"$f":"K37-$G$37","v":-0.15068266306842681},{"$f":"L37/$G$37","v":-9.9999999999999964E-2},null,"Базовий/Base",{"$f":"E17","v":466.61333951089824},{"$f":"$P$37/Q35","v":0.1483614100149751},{"$f":"$P$37/R35","v":0.11868912801198009},9.8907606676650078E-2]
[null,null,"Чиста приведена вартість (NPV)/Net present value","Чиста приведена вартість збільшиться на 20%/NPV will increase by 20%","Чиста приведена вартість зменшиться на 20%/NPV will decrease by 20%",null,null,{"$f":"R43","v":1.6081919568211223},0.10136532613685367,{"$f":"I38/$G$37","v":6.7270729142092756E-2},{"$f":"R45","v":1.4054613045474149},{"$f":"K38-$G$37","v":-0.10136532613685367},{"$f":"L38/$G$37","v":-6.7270729142092756E-2},null,"Песимістичний/Pessimistic",{"$f":"P37*0.8","v":373.29067160871864},{"$f":"$P$38/Q35","v":0.1186891280119801},{"$f":"$P$38/R35","v":9.4951302409584076E-2},7.9126085341320082E-2]
[null,null,"Дисконтований інвестиційний  грошовий потік (CFI)/Cash flow of investments (CFI)","Дисконтований інвестиційний  грошовий потік збільшиться на 20%/CFI will increase by 20%","Дисконтований інвестиційний  грошовий потік зменшиться на 20%/CFI will decrease by 20%",null,null,{"$f":"Q44","v":1.4223555255702238},-8.4471105114044764E-2,-5.6058940951743991E-2,{"$f":"S44","v":1.6335332883553355},{"$f":"K39-$G$37","v":0.12670665767106692},{"$f":"L39/$G$37","v":8.4088411427615847E-2}]
[null,null,null,null,null,null,null,null,null,null,null,null,null,null,null,null,{"$f":"C39","v":"Дисконтований інвестиційний  грошовий потік (CFI)/Cash flow of investments (CFI)"}]
[null,null,null,null,null,null,null,null,null,null,null,null,null,{"$f":"C38","v":"Чиста приведена вартість (NPV)/Net present value"},"PI",null,"Оптимістичний/ optimistic","Базовий/base ","Песимістичний/Pesimisstic"]
[null,null,null,null,null,null,null,null,null,null,null,null,null,null,null,{"$f":"'Грошові потоки _ Cash flows'!N7","v":1.5068266306842686},{"$f":"R42*1.2","v":3502.4632529580854},{"$f":"E19","v":2918.7193774650714},{"$f":"R42*0.8","v":2334.9755019720574}]
[null,null,null,null,null,null,null,null,null,null,null,null,null,null,"Оптимістичний/ Optimistic",{"$f":"P44*1.2","v":1775.1416495922094},{"$f":"($P$43/Q42)+1","v":1.5068266306842686},{"$f":"($P$43/R42)+1","v":1.6081919568211223},{"$f":"($P$43/S42)+1","v":1.7602399460264027}]
[null,null,null,null,null,null,null,null,null,null,null,null,null,null,"Базовий/Base",{"$f":"E13","v":1479.2847079935079},{"$f":"($P$44/Q42)+1","v":1.4223555255702238},{"$f":"($P$44/R42)+1","v":1.5068266306842686},{"$f":"($P$44/S42)+1","v":1.6335332883553355}]
[null,null,null,null,null,null,null,null,null,null,null,null,null,null,"Песимістичний/Pessimistic",{"$f":"P44*0.8","v":1183.4277663948064},{"$f":"($P$45/Q42)+1","v":1.3378844204561791},{"$f":"($P$45/R42)+1","v":1.4054613045474149},{"$f":"($P$45/S42)+1","v":1.5068266306842686}]
[]
[]
[null,null,null,null,null,null,null,null,null,null,null,null,null,null,null,null,"Оптимістичний/ optimistic","Базовий/base ","Песимістичний/Pesimisstic"]
[]
[null,null,null,null,null,null,null,null,null,null,null,null,null,null,"Оптимістичний/ Optimistic"]
[null,null,null,null,null,null,null,null,null,null,null,null,null,null,"Базовий/Base"]
[null,null,null,null,null,null,null,null,null,null,null,null,null,null,"Песимістичний/Pessimistic"]

{"sheet":"Ризики проекту_Project risks","index":11,"n_rows":12,"n_cols":23,"rows_kept":12,"cut":false,"hidden":true,"merged":[[11,13,11,15],[11,16,11,17],[3,1,3,2],[11,2,11,4],[11,5,11,6],[11,7,11,8],[11,9,11,10],[11,11,11,12],[7,13,7,15],[8,13,8,15],[9,13,9,15],[10,13,10,15],[7,16,7,17],[8,16,8,17],[9,16,9,17],[10,16,10,17],[5,20,6,20],[5,21,6,21],[5,22,6,22],[5,1,6,1],[4,20,4,22],[5,11,6,12],[5,13,6,15],[5,16,6,17],[5,2,6,4],[5,5,6,6],[5,7,6,8],[5,9,6,10],[10,9,10,10],[7,11,7,12],[8,11,8,12],[9,11,9,12],[10,11,10,12],[8,9,8,10],[7,9,7,10],[9,9,9,10],[7,2,7,4],[10,2,10,4],[10,5,10,6],[10,7,10,8],[8,2,8,4],[9,2,9,4],[7,5,7,6],[8,5,8,6],[9,5,9,6],[7,7,7,8],[8,7,8,8],[9,7,9,8]]}
[]
[null,"РИЗИКИ ПРОЕКТУ/RISK",null,null,{"$f":"CONCATENATE(Головна_Summary!A2,\" / \",Головна_Summary!K2)","v":"Будівництво СЕС 10 МВт / Project name"}]
[]
[null,"Загальна оцінка/Overall rating",null,{"$f":"IF(SUM(B8:B12)<=18,\"Простий/Simple\",IF(SUM(B8:B12)<=30,\"Середньої важкості/\nModerate\",IF(30<SUM(B8:B12),\"Складний/complicated\",\"-\")))","v":"Простий/Simple"}]
[null,null,null,null,null,null,null,null,null,null,null,null,null,null,null,null,null,null,null,null,"Матриця ризиків/ Risk Matrix"]
[null,null,"Ризик/ Risks",null,null,"Опис ризику/ Risk Description",null,"Істотність ризику/ Significance of risk",null,"Ймовірність реалізації/Probability",null,"Фінансові втрати в результаті реалізації/Financial loss ",null,"Заходи мінімізації/ Minimization measures",null,null,"Відповідальний/ Responsible",null,null,null,"Незначний/Minor","Помірний/Moderate ","Катастрофічний/Disastrous"]
[]
[null,{"$f":"IF(AND(H8=\"Незначний/Minor\",J8=\"Велика вірогідність реалізації/High probability of realization\"),4,IF(AND(H8=\"Незначний/Minor\",J8=\"Можливо/Maybe\"),2,IF(AND(H8=\"Незначний/Minor\",J8=\"Малоймовірно/Unlikely\"),1,IF(AND(H8=\"Помірний/Moderate\",J8=\"Велика вірогідність реалізації/High probability of realization\"),7,IF(AND(H8=\"Помірний/Moderate\",J8=\"Можливо/Maybe\"),5,IF(AND(H8=\"Помірний/Moderate\",J8=\"Малоймовірно/Unlikely\"),3,IF(AND(H8=\"Катастрофічний/Disastrous\",J8=\"Велика вірогідність реалізації/High probability of realization\"),9,IF(AND(H8=\"Катастрофічний/Disastrous\",J8=\"Можливо/Maybe\"),8,IF(AND(H8=\"Катастрофічний/Disastrous\",J8=\"Малоймовірно/Unlikely\"),6,0)))))))))","v":0},null,null,null,null,null,null,null,null,null,null,null,null,null,null,null,null,null,"Велик вірогідність реалізації/High Probability",{"$f":"COUNTIF(B8:B12,4)","v":0},{"$f":"COUNTIF(B8:B12,7)","v":0},{"$f":"COUNTIF(B8:B12,9)","v":0}]
[null,{"$f":"IF(AND(H9=\"Незначний/Minor\",J9=\"Велика вірогідність реалізації/High probability of realization\"),4,IF(AND(H9=\"Незначний/Minor\",J9=\"Можливо/Maybe\"),2,IF(AND(H9=\"Незначний/Minor\",J9=\"Малоймовірно/Unlikely\"),1,IF(AND(H9=\"Помірний/Moderate\",J9=\"Велика вірогідність реалізації/High probability of realization\"),7,IF(AND(H9=\"Помірний/Moderate\",J9=\"Можливо/Maybe\"),5,IF(AND(H9=\"Помірний/Moderate\",J9=\"Малоймовірно/Unlikely\"),3,IF(AND(H9=\"Катастрофічний/Disastrous\",J9=\"Велика вірогідність реалізації/High probability of realization\"),9,IF(AND(H9=\"Катастрофічний/Disastrous\",J9=\"Можливо/Maybe\"),8,IF(AND(H9=\"Катастрофічний/Disastrous\",J9=\"Малоймовірно/Unlikely\"),6,0)))))))))","v":0},null,null,null,null,null,null,null,null,null,null,null,null,null,null,null,null,null,"Можливо/Probably",{"$f":"COUNTIF(B8:B12,1)","v":0},{"$f":"COUNTIF(B8:B12,5)","v":0},{"$f":"COUNTIF(B8:B12,8)","v":0}]
[null,{"$f":"IF(AND(H10=\"Незначний/Minor\",J10=\"Велика вірогідність реалізації/High probability of realization\"),4,IF(AND(H10=\"Незначний/Minor\",J10=\"Можливо/Maybe\"),2,IF(AND(H10=\"Незначний/Minor\",J10=\"Малоймовірно/Unlikely\"),1,IF(AND(H10=\"Помірний/Moderate\",J10=\"Велика вірогідність реалізації/High probability of realization\"),7,IF(AND(H10=\"Помірний/Moderate\",J10=\"Можливо/Maybe\"),5,IF(AND(H10=\"Помірний/Moderate\",J10=\"Малоймовірно/Unlikely\"),3,IF(AND(H10=\"Катастрофічний/Disastrous\",J10=\"Велика вірогідність реалізації/High probability of realization\"),9,IF(AND(H10=\"Катастрофічний/Disastrous\",J10=\"Можливо/Maybe\"),8,IF(AND(H10=\"Катастрофічний/Disastrous\",J10=\"Малоймовірно/Unlikely\"),6,0)))))))))","v":0},null,null,null,null,null,null,null,null,null,null,null,null,null,null,null,null,null,"Малоймовірно/Unlikely",{"$f":"COUNTIF(B8:B12,2)","v":0},{"$f":"COUNTIF(B8:B12,3)","v":0},{"$f":"COUNTIF(B8:B12,6)","v":0}]
[null,{"$f":"IF(AND(H11=\"Незначний/Minor\",J11=\"Велика вірогідність реалізації/High probability of realization\"),4,IF(AND(H11=\"Незначний/Minor\",J11=\"Можливо/Maybe\"),2,IF(AND(H11=\"Незначний/Minor\",J11=\"Малоймовірно/Unlikely\"),1,IF(AND(H11=\"Помірний/Moderate\",J11=\"Велика вірогідність реалізації/High probability of realization\"),7,IF(AND(H11=\"Помірний/Moderate\",J11=\"Можливо/Maybe\"),5,IF(AND(H11=\"Помірний/Moderate\",J11=\"Малоймовірно/Unlikely\"),3,IF(AND(H11=\"Катастрофічний/Disastrous\",J11=\"Велика вірогідність реалізації/High probability of realization\"),9,IF(AND(H11=\"Катастрофічний/Disastrous\",J11=\"Можливо/Maybe\"),8,IF(AND(H11=\"Катастрофічний/Disastrous\",J11=\"Малоймовірно/Unlikely\"),6,0)))))))))","v":0},null,null,null,null,null,null,null,null,null,null,null,null,null,null,null,null,null,null," низький /low","середній/medium","високий/high"]
[null,{"$f":"IF(AND(H12=\"Незначний/Minor\",J12=\"Велика вірогідність реалізації/High probability of realization\"),4,IF(AND(H12=\"Незначний/Minor\",J12=\"Можливо/Maybe\"),2,IF(AND(H12=\"Незначний/Minor\",J12=\"Малоймовірно/Unlikely\"),1,IF(AND(H12=\"Помірний/Moderate\",J12=\"Велика вірогідність реалізації/High probability of realization\"),7,IF(AND(H12=\"Помірний/Moderate\",J12=\"Можливо/Maybe\"),5,IF(AND(H12=\"Помірний/Moderate\",J12=\"Малоймовірно/Unlikely\"),3,IF(AND(H12=\"Катастрофічний/Disastrous\",J12=\"Велика вірогідність реалізації/High probability of realization\"),9,IF(AND(H12=\"Катастрофічний/Disastrous\",J12=\"Можливо/Maybe\"),8,IF(AND(H12=\"Катастрофічний/Disastrous\",J12=\"Малоймовірно/Unlikely\"),6,0)))))))))","v":0}]

{"sheet":"Аналіз чутливості_Sensitivity","index":12,"n_rows":34,"n_cols":17,"rows_kept":34,"cut":false,"hidden":false,"merged":[[27,2,27,4],[31,2,31,4],[29,2,29,4],[33,2,33,4],[11,11,11,12],[13,11,13,12],[13,7,13,8],[10,11,10,12],[12,11,12,12],[10,7,10,8],[12,7,12,8],[11,7,11,8],[5,9,13,10],[6,7,6,8],[5,7,5,8],[13,13,13,14],[10,15,10,16],[12,15,12,16],[11,15,11,16],[13,15,13,16],[8,15,8,16],[7,15,7,16],[15,1,16,4],[15,6,15,16],[25,2,25,4],[23,2,23,4],[21,2,21,4],[19,2,19,4],[17,2,17,4],[10,2,10,4],[12,2,12,4],[11,2,11,4],[13,2,13,4],[10,13,10,14],[12,13,12,14],[11,13,11,14],[6,15,6,16],[5,15,5,16],[9,13,9,14],[9,15,9,16],[4,11,4,12],[9,11,9,12],[8,11,8,12],[7,11,7,12],[6,11,6,12],[5,11,5,12],[4,15,4,16],[8,13,8,14],[7,13,7,14],[6,13,6,14],[5,13,5,14],[4,13,4,14],[1,1,1,4],[9,2,9,4],[8,2,8,4],[7,2,7,4],[6,2,6,4],[5,2,5,4],[4,1,4,4],[4,7,4,8],[4,9,4,10],[9,7,9,8],[8,7,8,8],[7,7,7,8]]}
[]
[null,"АНАЛІЗ ЧУТЛИВОСТІ/SENSITIVITY ANALYSIS",null,null,null,null,{"$f":"CONCATENATE(Головна_Summary!A2,\" / \",Головна_Summary!K2)","v":"Будівництво СЕС 10 МВт / Project name"}]
[]
[]
[null,"Фактори/Factors",null,null,null,"Прив'язка/\nBind","Одиниці виміру/\nUnit","Базове значення показника/ Base Inidcator ",null,"Базове значення показника NPV/ Base NPV",null,"Значення, при якому NPV=0/ value npv=0",null,"Відхилення показника, абс./ Indicator Deviation",null,"Відхилення показника, %/Indicator Deviation"]
[null,1,null,null,null,{"$f":"1+F17","v":1},null,null,null,{"$f":"'Грошові потоки _ Cash flows'!K7","v":1479.2847079935079},null,20273.377410389188,null,{"$f":"L6-H6","v":20273.377410389188},null,{"$f":"N6/H6","v":{"$error":"#DIV/0!"}}]
[null,2,null,null,null,{"$f":"1+F19","v":1},null,null,null,null,null,-1239.9335346387161,null,{"$f":"L7-H7","v":-1239.9335346387161},null,{"$f":"N7/H7","v":{"$error":"#DIV/0!"}}]
[null,3,null,null,null,{"$f":"1+F21","v":1},null,null,null,null,null,-11117.311286580083,null,-11117.311286580083,null,{"$error":"#DIV/0!"}]
[null,4,"Бюджет проекту / Project budjet",null,null,{"$f":"1+F23","v":1},null,{"$f":"SUM('Грошові потоки _ Cash flows'!I39:X39)","v":4278.8149935014299},null,null,null,9947.359866219369,null,5668.5448727179391,null,1.3247931685121233]
[null,null,null,null,null,{"$f":"1+F25","v":1},null,null,null,null,null,null,null,0,null,{"$error":"#DIV/0!"}]
[null,null,null,null,null,{"$f":"1+F27","v":1},null,null,null,null,null,null,null,0,null,{"$f":"N11/H11","v":{"$error":"#DIV/0!"}}]
[null,5,null,null,null,{"$f":"1+F29","v":1},null,null,null,null,null,-133.53393069350466,null,-133.53393069350466,null,{"$error":"#DIV/0!"}]
[null,6,null,null,null,{"$f":"1+F31","v":1},null,null,null,null,null,-540.85393069350482,null,-540.85393069350482,null,{"$f":"N13/H13","v":{"$error":"#DIV/0!"}}]
[null,7,null,null,null,{"$f":"1+F33","v":1},null,null,null,null,null,5.2544001324297458,null,5.2544001324297458,null,{"$error":"#DIV/0!"}]
[]
[null,"Фактори/Factor ",null,null,null,null,"Значення NPV при зміні фактора / NPV when factor changes"]
[null,null,null,null,null,null,-0.5,-0.4,-0.3,-0.2,-0.1,0,0.1,0.2,0.3,0.4,0.5]
[null,1,{"$f":"C6","v":0},null,null,{"$f":"'Грошові потоки _ Cash flows'!K7","v":1479.2847079935079},1479.2847079935079,1479.2847079935079,1479.2847079935079,1479.2847079935079,1479.2847079935079,1479.2847079935079,1479.2847079935079,1479.2847079935079,1479.2847079935079,1479.2847079935079,1479.2847079935079]
[null,null,null,null,null,null,{"$f":"G17","v":-0.5},{"$f":"H17","v":-0.4},-0.3,-0.2,-0.1,0,0.1,0.2,0.3,0.4,0.5]
[null,2,{"$f":"C7","v":0},null,null,{"$f":"'Грошові потоки _ Cash flows'!K7","v":1479.2847079935079},1479.2847079935079,1479.2847079935079,1479.2847079935079,1479.2847079935079,1479.2847079935079,1479.2847079935079,1479.2847079935079,1479.2847079935079,1479.2847079935079,1479.2847079935079,1479.2847079935079]
[null,null,null,null,null,null,{"$f":"G17","v":-0.5},{"$f":"H17","v":-0.4},-0.3,-0.2,-0.1,0,0.1,0.2,0.3,0.4,0.5]
[null,3,{"$f":"C8","v":0},null,null,{"$f":"'Грошові потоки _ Cash flows'!K7","v":1479.2847079935079},1479.2847079935079,1479.2847079935079,1479.2847079935079,1479.2847079935079,1479.2847079935079,1479.2847079935079,1479.2847079935079,1479.2847079935079,1479.2847079935079,1479.2847079935079,1479.2847079935079]
[null,null,null,null,null,null,{"$f":"G17","v":-0.5},{"$f":"H17","v":-0.4},-0.3,-0.2,-0.1,0,0.1,0.2,0.3,0.4,0.5]
[null,4,{"$f":"C9","v":"Бюджет проекту / Project budjet"},null,null,{"$f":"'Грошові потоки _ Cash flows'!K7","v":1479.2847079935079},2938.6443967260439,2646.7724589795366,2354.9005212330294,2063.0285834865222,1771.1566457400152,1479.2847079935079,1187.4127702470005,895.54083250049348,603.66889475398614,311.79695700747976,19.925019260972533]
[null,null,null,null,null,null,{"$f":"G17","v":-0.5},{"$f":"H17","v":-0.4},-0.3,-0.2,-0.1,0,0.1,0.2,0.3,0.4,0.5]
[null,5,{"$f":"C10","v":0},null,null,{"$f":"'Грошові потоки _ Cash flows'!K7","v":1479.2847079935079},1479.2847079935079,1479.2847079935079,1479.2847079935079,1479.2847079935079,1479.2847079935079,1479.2847079935079,1479.2847079935079,1479.2847079935079,1479.2847079935079,1479.2847079935079,1479.2847079935079]
[null,null,null,null,null,null,{"$f":"G17","v":-0.5},{"$f":"H17","v":-0.4},-0.3,-0.2,-0.1,0,0.1,0.2,0.3,0.4,0.5]
[null,6,{"$f":"C11","v":0},null,null,{"$f":"'Грошові потоки _ Cash flows'!K7","v":1479.2847079935079},1479.2847079935079,1479.2847079935079,1479.2847079935079,1479.2847079935079,1479.2847079935079,1479.2847079935079,1479.2847079935079,1479.2847079935079,1479.2847079935079,1479.2847079935079,1479.2847079935079]
[null,null,null,null,null,null,{"$f":"G17","v":-0.5},{"$f":"H17","v":-0.4},-0.3,-0.2,-0.1,0,0.1,0.2,0.3,0.4,0.5]
[null,5,{"$f":"C12","v":0},null,null,{"$f":"'Грошові потоки _ Cash flows'!K7","v":1479.2847079935079},1479.2847079935079,1479.2847079935079,1479.2847079935079,1479.2847079935079,1479.2847079935079,1479.2847079935079,1479.2847079935079,1479.2847079935079,1479.2847079935079,1479.2847079935079,1479.2847079935079]
[null,null,null,null,null,null,{"$f":"G17","v":-0.5},{"$f":"H17","v":-0.4},-0.3,-0.2,-0.1,0,0.1,0.2,0.3,0.4,0.5]
[null,6,{"$f":"C13","v":0},null,null,{"$f":"'Грошові потоки _ Cash flows'!K7","v":1479.2847079935079},1479.2847079935079,1479.2847079935079,1479.2847079935079,1479.2847079935079,1479.2847079935079,1479.2847079935079,1479.2847079935079,1479.2847079935079,1479.2847079935079,1479.2847079935079,1479.2847079935079]
[null,null,null,null,null,null,{"$f":"G17","v":-0.5},{"$f":"H17","v":-0.4},-0.3,-0.2,-0.1,0,0.1,0.2,0.3,0.4,0.5]
[null,7,{"$f":"C14","v":0},null,null,{"$f":"'Грошові потоки _ Cash flows'!K7","v":1479.2847079935079},1479.2847079935079,1479.2847079935079,1479.2847079935079,1479.2847079935079,1479.2847079935079,1479.2847079935079,1479.2847079935079,1479.2847079935079,1479.2847079935079,1479.2847079935079,1479.2847079935079]

{"sheet":"Тариф ОСП_Tariff","index":13,"n_rows":44,"n_cols":31,"rows_kept":44,"cut":false,"hidden":false,"merged":[[17,2,19,3],[44,7,44,11],[1,1,1,4],[6,1,8,1],[11,2,11,4],[12,2,12,4],[9,1,10,1],[20,1,21,1],[20,2,21,3],[30,2,31,3],[24,2,24,4],[25,2,26,3],[27,2,27,4],[28,2,28,4],[1,5,2,12],[25,1,26,1],[0,15,0,22],[32,1,34,1],[37,2,38,3],[13,2,14,3],[13,1,14,1],[15,2,16,3],[15,1,16,1],[37,1,38,1],[23,2,23,4],[36,2,36,4],[6,2,8,3],[9,2,10,3],[22,2,22,4],[35,2,35,4],[32,2,34,3],[29,2,29,4],[5,21,5,22],[5,2,5,4],[5,9,5,10],[5,12,5,13],[5,6,5,7],[5,15,5,16],[5,18,5,19],[1,15,1,17],[2,15,2,17],[3,15,3,17],[3,19,3,21],[1,19,1,21],[2,19,2,21]]}
[null,null,null,null,null,null,null,null,null,null,null,null,null,null,null,"Припущення/ Assumptions"]
[null,"РОЗРАХУНОК ТАРИФУ/TARIFF CALCULATION",null,null,null,{"$f":"CONCATENATE(Головна_Summary!A2, \" / \",Головна_Summary!K2)","v":"Будівництво СЕС 10 МВт / Project name"},null,null,null,null,null,null,null,null,null,"Темп зростання витрат/Cost rate",null,null,{"$f":"1+AVERAGE(TenYearsMarket!H6:P6)","v":1.0660000000000001},"Коефіцієнт передачі е/е / Electricity transmission ratio",null,null,{"$f":"AVERAGE(TenYearsMarket!H38:P38)","v":0.79659999999999986}]
[null,null,null,null,null,null,null,null,null,null,null,null,null,null,null,"Темп зростання обсягу виробництва е/е /Growth rate of electricity production",null,null,1.01,"Коефіцієнт диспетчеризації е/е / Electricity Dispatching ratio",null,null,{"$f":"1-W2","v":0.20340000000000014}]
[null,null,null,null,null,null,null,null,null,null,null,null,null,null,null,"Індекс споживчих цін / Consumer price index",null,null,{"$f":"1+AVERAGE(TenYearsMarket!H5:P5)","v":1.060888888888889}]
[]
[null,null,null,null,null,null,2024,null,null,{"$f":"G6+1","v":2025},null,null,{"$f":"J6+1","v":2026},null,null,{"$f":"M6+1","v":2027},null,null,{"$f":"P6+1","v":2028},null,null,{"$f":"S6+1","v":2029},null,null,null,{"$f":"G6","v":2024},{"$f":"J6","v":2025},{"$f":"M6","v":2026},{"$f":"P6","v":2027},{"$f":"S6","v":2028},{"$f":"V6","v":2029}]
[null,"1.","ОПЕРАЦІЙНІ  ВИТРАТИ/Operating costs",null,"До реалізації/Before implementation",null,23673799,18944739,null,{"$f":"G7*$S$2","v":25236269.734000001},{"$f":"H7*$S$2","v":20195091.774},null,{"$f":"J7*$S$2","v":26901863.536444001},{"$f":"K7*$S$2","v":21527967.831084002},null,{"$f":"M7*$S$2","v":28677386.529849306},{"$f":"N7*$S$2","v":22948813.707935546},null,{"$f":"P7*$S$2","v":30570094.040819362},{"$f":"Q7*$S$2","v":24463435.412659291},null,{"$f":"S7*$S$2","v":32587720.247513443},{"$f":"T7*$S$2","v":26078022.149894807},null,"Тариф за передачу е/е",{"$f":"G38","v":528.57084820347427},{"$f":"J38","v":669.87076838843723},{"$f":"M38","v":668.78760579513073},{"$f":"P38","v":514.21240439807843},{"$f":"S38","v":533.13972298764702},{"$f":"V38","v":555.12289265725485}]
[null,null,null,null,"Економічний ефект за новим проєктом з урахуванням аморизації/Economic effect of the new project taking into account depreciation",null,{"$f":"IFERROR(IF(Головна_Summary!$AD$5=\"тис.UAH/ ths.UAH\",HLOOKUP(G6,CFO!$B$4:$AK$11,5,FALSE)+HLOOKUP(G6,CFO!$B$4:$AK$11,7,FALSE)*$W$2-HLOOKUP(G6,'Грошові потоки _ Cash flows'!$A$22:$AL$30,9,FALSE)*$W$2,IF(Головна_Summary!$AD$5=\"млн.UAH/mln.UAH\",(HLOOKUP(G6,CFO!$B$4:$AK$11,5,FALSE)+HLOOKUP(G6,CFO!$B$4:$AK$11,7,FALSE)*$W$2-HLOOKUP(G6,'Грошові потоки _ Cash flows'!$A$22:$AL$30,9,FALSE)*$W$2)*1000,IF(Головна_Summary!$AD$5=\"тис.US$/ ths.US$\",(HLOOKUP(G6,CFO!$B$4:$AK$11,5,FALSE)+HLOOKUP(G6,CFO!$B$4:$AK$11,7,FALSE)*$W$2-HLOOKUP(G6,'Грошові потоки _ Cash flows'!$A$22:$AL$30,9,FALSE)*$W$2)*HLOOKUP(G6,CFO!$B$4:$AK$14,10,FALSE),IF(Головна_Summary!$AD$5=\"тис.EUR/ ths.EUR\",(HLOOKUP(G6,CFO!$B$4:$AK$11,5,FALSE)+HLOOKUP(G6,CFO!$B$4:$AK$11,7,FALSE)*$W$2-HLOOKUP(G6,'Грошові потоки _ Cash flows'!$A$22:$AL$30,9,FALSE)*$W$2)*HLOOKUP(G6,CFO!$B$4:$AK$14,11,FALSE),0)))),0)","v":0},{"$f":"IFERROR(IF(Головна_Summary!$AD$5=\"тис.UAH/ ths.UAH\",HLOOKUP(G6,CFO!$B$4:$AK$11,6,FALSE)+HLOOKUP(G6,CFO!$B$4:$AK$11,7,FALSE)*$W$3-HLOOKUP(G6,'Грошові потоки _ Cash flows'!$A$22:$AL$30,9,FALSE)*$W$3,IF(Головна_Summary!$AD$5=\"млн.UAH/mln.UAH\",(HLOOKUP(G6,CFO!$B$4:$AK$11,6,FALSE)+HLOOKUP(G6,CFO!$B$4:$AK$11,7,FALSE)*$W$3-HLOOKUP(G6,'Грошові потоки _ Cash flows'!$A$22:$AL$30,9,FALSE)*$W$3)*1000,IF(Головна_Summary!$AD$5=\"тис.US$/ ths.US$\",(HLOOKUP(G6,CFO!$B$4:$AK$11,6,FALSE)+HLOOKUP(G6,CFO!$B$4:$AK$11,7,FALSE)*$W$3-HLOOKUP(G6,'Грошові потоки _ Cash flows'!$A$22:$AL$30,9,FALSE)*$W$3)*HLOOKUP(G6,CFO!$B$4:$AK$14,10,FALSE),IF(Головна_Summary!$AD$5=\"тис.EUR/ ths.EUR\",(HLOOKUP(G6,CFO!$B$4:$AK$11,6,FALSE)+HLOOKUP(G6,CFO!$B$4:$AK$11,7,FALSE)*$W$3-HLOOKUP(G6,'Грошові потоки _ Cash flows'!$A$22:$AL$30,9,FALSE)*$W$3)*HLOOKUP(G6,CFO!$B$4:$AK$14,11,FALSE),0)))),0)","v":0},null,{"$f":"IFERROR(IF(Головна_Summary!$AD$5=\"тис.UAH/ ths.UAH\",HLOOKUP(J6,CFO!$B$4:$AK$11,5,FALSE)+HLOOKUP(J6,CFO!$B$4:$AK$11,7,FALSE)*$W$2-HLOOKUP(J6,'Грошові потоки _ Cash flows'!$A$22:$AL$30,9,FALSE)*$W$2,IF(Головна_Summary!$AD$5=\"млн.UAH/mln.UAH\",(HLOOKUP(J6,CFO!$B$4:$AK$11,5,FALSE)+HLOOKUP(J6,CFO!$B$4:$AK$11,7,FALSE)*$W$2-HLOOKUP(J6,'Грошові потоки _ Cash flows'!$A$22:$AL$30,9,FALSE)*$W$2)*1000,IF(Головна_Summary!$AD$5=\"тис.US$/ ths.US$\",(HLOOKUP(J6,CFO!$B$4:$AK$11,5,FALSE)+HLOOKUP(J6,CFO!$B$4:$AK$11,7,FALSE)*$W$2-HLOOKUP(J6,'Грошові потоки _ Cash flows'!$A$22:$AL$30,9,FALSE)*$W$2)*HLOOKUP(J6,CFO!$B$4:$AK$14,10,FALSE),IF(Головна_Summary!$AD$5=\"тис.EUR/ ths.EUR\",(HLOOKUP(J6,CFO!$B$4:$AK$11,5,FALSE)+HLOOKUP(J6,CFO!$B$4:$AK$11,7,FALSE)*$W$2-HLOOKUP(J6,'Грошові потоки _ Cash flows'!$A$22:$AL$30,9,FALSE)*$W$2)*HLOOKUP(J6,CFO!$B$4:$AK$14,11,FALSE),0)))),0)","v":-5245.0059918591987},{"$f":"IFERROR(IF(Головна_Summary!$AD$5=\"тис.UAH/ ths.UAH\",HLOOKUP(J6,CFO!$B$4:$AK$11,6,FALSE)+HLOOKUP(J6,CFO!$B$4:$AK$11,7,FALSE)*$W$3-HLOOKUP(J6,'Грошові потоки _ Cash flows'!$A$22:$AL$30,9,FALSE)*$W$3,IF(Головна_Summary!$AD$5=\"млн.UAH/mln.UAH\",(HLOOKUP(J6,CFO!$B$4:$AK$11,6,FALSE)+HLOOKUP(J6,CFO!$B$4:$AK$11,7,FALSE)*$W$3-HLOOKUP(J6,'Грошові потоки _ Cash flows'!$A$22:$AL$30,9,FALSE)*$W$3)*1000,IF(Головна_Summary!$AD$5=\"тис.US$/ ths.US$\",(HLOOKUP(J6,CFO!$B$4:$AK$11,6,FALSE)+HLOOKUP(J6,CFO!$B$4:$AK$11,7,FALSE)*$W$3-HLOOKUP(J6,'Грошові потоки _ Cash flows'!$A$22:$AL$30,9,FALSE)*$W$3)*HLOOKUP(J6,CFO!$B$4:$AK$14,10,FALSE),IF(Головна_Summary!$AD$5=\"тис.EUR/ ths.EUR\",(HLOOKUP(J6,CFO!$B$4:$AK$11,6,FALSE)+HLOOKUP(J6,CFO!$B$4:$AK$11,7,FALSE)*$W$3-HLOOKUP(J6,'Грошові потоки _ Cash flows'!$A$22:$AL$30,9,FALSE)*$W$3)*HLOOKUP(J6,CFO!$B$4:$AK$14,11,FALSE),0)))),0)","v":-1339.2345201408009},null,{"$f":"IFERROR(IF(Головна_Summary!$AD$5=\"тис.UAH/ ths.UAH\",HLOOKUP(M6,CFO!$B$4:$AK$11,5,FALSE)+HLOOKUP(M6,CFO!$B$4:$AK$11,7,FALSE)*$W$2-HLOOKUP(M6,'Грошові потоки _ Cash flows'!$A$22:$AL$30,9,FALSE)*$W$2,IF(Головна_Summary!$AD$5=\"млн.UAH/mln.UAH\",(HLOOKUP(M6,CFO!$B$4:$AK$11,5,FALSE)+HLOOKUP(M6,CFO!$B$4:$AK$11,7,FALSE)*$W$2-HLOOKUP(M6,'Грошові потоки _ Cash flows'!$A$22:$AL$30,9,FALSE)*$W$2)*1000,IF(Головна_Summary!$AD$5=\"тис.US$/ ths.US$\",(HLOOKUP(M6,CFO!$B$4:$AK$11,5,FALSE)+HLOOKUP(M6,CFO!$B$4:$AK$11,7,FALSE)*$W$2-HLOOKUP(M6,'Грошові потоки _ Cash flows'!$A$22:$AL$30,9,FALSE)*$W$2)*HLOOKUP(M6,CFO!$B$4:$AK$14,10,FALSE),IF(Головна_Summary!$AD$5=\"тис.EUR/ ths.EUR\",(HLOOKUP(M6,CFO!$B$4:$AK$11,5,FALSE)+HLOOKUP(M6,CFO!$B$4:$AK$11,7,FALSE)*$W$2-HLOOKUP(M6,'Грошові потоки _ Cash flows'!$A$22:$AL$30,9,FALSE)*$W$2)*HLOOKUP(M6,CFO!$B$4:$AK$14,11,FALSE),0)))),0)","v":-5245.0059918591987},{"$f":"IFERROR(IF(Головна_Summary!$AD$5=\"тис.UAH/ ths.UAH\",HLOOKUP(M6,CFO!$B$4:$AK$11,6,FALSE)+HLOOKUP(M6,CFO!$B$4:$AK$11,7,FALSE)*$W$3-HLOOKUP(M6,'Грошові потоки _ Cash flows'!$A$22:$AL$30,9,FALSE)*$W$3,IF(Головна_Summary!$AD$5=\"млн.UAH/mln.UAH\",(HLOOKUP(M6,CFO!$B$4:$AK$11,6,FALSE)+HLOOKUP(M6,CFO!$B$4:$AK$11,7,FALSE)*$W$3-HLOOKUP(M6,'Грошові потоки _ Cash flows'!$A$22:$AL$30,9,FALSE)*$W$3)*1000,IF(Головна_Summary!$AD$5=\"тис.US$/ ths.US$\",(HLOOKUP(M6,CFO!$B$4:$AK$11,6,FALSE)+HLOOKUP(M6,CFO!$B$4:$AK$11,7,FALSE)*$W$3-HLOOKUP(M6,'Грошові потоки _ Cash flows'!$A$22:$AL$30,9,FALSE)*$W$3)*HLOOKUP(M6,CFO!$B$4:$AK$14,10,FALSE),IF(Головна_Summary!$AD$5=\"тис.EUR/ ths.EUR\",(HLOOKUP(M6,CFO!$B$4:$AK$11,6,FALSE)+HLOOKUP(M6,CFO!$B$4:$AK$11,7,FALSE)*$W$3-HLOOKUP(M6,'Грошові потоки _ Cash flows'!$A$22:$AL$30,9,FALSE)*$W$3)*HLOOKUP(M6,CFO!$B$4:$AK$14,11,FALSE),0)))),0)","v":-1339.2345201408009},null,{"$f":"IFERROR(IF(Головна_Summary!$AD$5=\"тис.UAH/ ths.UAH\",HLOOKUP(P6,CFO!$B$4:$AK$11,5,FALSE)+HLOOKUP(P6,CFO!$B$4:$AK$11,7,FALSE)*$W$2-HLOOKUP(P6,'Грошові потоки _ Cash flows'!$A$22:$AL$30,9,FALSE)*$W$2,IF(Головна_Summary!$AD$5=\"млн.UAH/mln.UAH\",(HLOOKUP(P6,CFO!$B$4:$AK$11,5,FALSE)+HLOOKUP(P6,CFO!$B$4:$AK$11,7,FALSE)*$W$2-HLOOKUP(P6,'Грошові потоки _ Cash flows'!$A$22:$AL$30,9,FALSE)*$W$2)*1000,IF(Головна_Summary!$AD$5=\"тис.US$/ ths.US$\",(HLOOKUP(P6,CFO!$B$4:$AK$11,5,FALSE)+HLOOKUP(P6,CFO!$B$4:$AK$11,7,FALSE)*$W$2-HLOOKUP(P6,'Грошові потоки _ Cash flows'!$A$22:$AL$30,9,FALSE)*$W$2)*HLOOKUP(P6,CFO!$B$4:$AK$14,10,FALSE),IF(Головна_Summary!$AD$5=\"тис.EUR/ ths.EUR\",(HLOOKUP(P6,CFO!$B$4:$AK$11,5,FALSE)+HLOOKUP(P6,CFO!$B$4:$AK$11,7,FALSE)*$W$2-HLOOKUP(P6,'Грошові потоки _ Cash flows'!$A$22:$AL$30,9,FALSE)*$W$2)*HLOOKUP(P6,CFO!$B$4:$AK$14,11,FALSE),0)))),0)","v":-5245.0059918591987},{"$f":"IFERROR(IF(Головна_Summary!$AD$5=\"тис.UAH/ ths.UAH\",HLOOKUP(P6,CFO!$B$4:$AK$11,6,FALSE)+HLOOKUP(P6,CFO!$B$4:$AK$11,7,FALSE)*$W$3-HLOOKUP(P6,'Грошові потоки _ Cash flows'!$A$22:$AL$30,9,FALSE)*$W$3,IF(Головна_Summary!$AD$5=\"млн.UAH/mln.UAH\",(HLOOKUP(P6,CFO!$B$4:$AK$11,6,FALSE)+HLOOKUP(P6,CFO!$B$4:$AK$11,7,FALSE)*$W$3-HLOOKUP(P6,'Грошові потоки _ Cash flows'!$A$22:$AL$30,9,FALSE)*$W$3)*1000,IF(Головна_Summary!$AD$5=\"тис.US$/ ths.US$\",(HLOOKUP(P6,CFO!$B$4:$AK$11,6,FALSE)+HLOOKUP(P6,CFO!$B$4:$AK$11,7,FALSE)*$W$3-HLOOKUP(P6,'Грошові потоки _ Cash flows'!$A$22:$AL$30,9,FALSE)*$W$3)*HLOOKUP(P6,CFO!$B$4:$AK$14,10,FALSE),IF(Головна_Summary!$AD$5=\"тис.EUR/ ths.EUR\",(HLOOKUP(P6,CFO!$B$4:$AK$11,6,FALSE)+HLOOKUP(P6,CFO!$B$4:$AK$11,7,FALSE)*$W$3-HLOOKUP(P6,'Грошові потоки _ Cash flows'!$A$22:$AL$30,9,FALSE)*$W$3)*HLOOKUP(P6,CFO!$B$4:$AK$14,11,FALSE),0)))),0)","v":-1339.2345201408009},null,{"$f":"IFERROR(IF(Головна_Summary!$AD$5=\"тис.UAH/ ths.UAH\",HLOOKUP(S6,CFO!$B$4:$AK$11,5,FALSE)+HLOOKUP(S6,CFO!$B$4:$AK$11,7,FALSE)*$W$2-HLOOKUP(S6,'Грошові потоки _ Cash flows'!$A$22:$AL$30,9,FALSE)*$W$2,IF(Головна_Summary!$AD$5=\"млн.UAH/mln.UAH\",(HLOOKUP(S6,CFO!$B$4:$AK$11,5,FALSE)+HLOOKUP(S6,CFO!$B$4:$AK$11,7,FALSE)*$W$2-HLOOKUP(S6,'Грошові потоки _ Cash flows'!$A$22:$AL$30,9,FALSE)*$W$2)*1000,IF(Головна_Summary!$AD$5=\"тис.US$/ ths.US$\",(HLOOKUP(S6,CFO!$B$4:$AK$11,5,FALSE)+HLOOKUP(S6,CFO!$B$4:$AK$11,7,FALSE)*$W$2-HLOOKUP(S6,'Грошові потоки _ Cash flows'!$A$22:$AL$30,9,FALSE)*$W$2)*HLOOKUP(S6,CFO!$B$4:$AK$14,10,FALSE),IF(Головна_Summary!$AD$5=\"тис.EUR/ ths.EUR\",(HLOOKUP(S6,CFO!$B$4:$AK$11,5,FALSE)+HLOOKUP(S6,CFO!$B$4:$AK$11,7,FALSE)*$W$2-HLOOKUP(S6,'Грошові потоки _ Cash flows'!$A$22:$AL$30,9,FALSE)*$W$2)*HLOOKUP(S6,CFO!$B$4:$AK$14,11,FALSE),0)))),0)","v":-5245.0059918591987},{"$f":"IFERROR(IF(Головна_Summary!$AD$5=\"тис.UAH/ ths.UAH\",HLOOKUP(S6,CFO!$B$4:$AK$11,6,FALSE)+HLOOKUP(S6,CFO!$B$4:$AK$11,7,FALSE)*$W$3-HLOOKUP(S6,'Грошові потоки _ Cash flows'!$A$22:$AL$30,9,FALSE)*$W$3,IF(Головна_Summary!$AD$5=\"млн.UAH/mln.UAH\",(HLOOKUP(S6,CFO!$B$4:$AK$11,6,FALSE)+HLOOKUP(S6,CFO!$B$4:$AK$11,7,FALSE)*$W$3-HLOOKUP(S6,'Грошові потоки _ Cash flows'!$A$22:$AL$30,9,FALSE)*$W$3)*1000,IF(Головна_Summary!$AD$5=\"тис.US$/ ths.US$\",(HLOOKUP(S6,CFO!$B$4:$AK$11,6,FALSE)+HLOOKUP(S6,CFO!$B$4:$AK$11,7,FALSE)*$W$3-HLOOKUP(S6,'Грошові потоки _ Cash flows'!$A$22:$AL$30,9,FALSE)*$W$3)*HLOOKUP(S6,CFO!$B$4:$AK$14,10,FALSE),IF(Головна_Summary!$AD$5=\"тис.EUR/ ths.EUR\",(HLOOKUP(S6,CFO!$B$4:$AK$11,6,FALSE)+HLOOKUP(S6,CFO!$B$4:$AK$11,7,FALSE)*$W$3-HLOOKUP(S6,'Грошові потоки _ Cash flows'!$A$22:$AL$30,9,FALSE)*$W$3)*HLOOKUP(S6,CFO!$B$4:$AK$14,11,FALSE),0)))),0)","v":-1339.2345201408009},null,{"$f":"IFERROR(IF(Головна_Summary!$AD$5=\"тис.UAH/ ths.UAH\",HLOOKUP(V6,CFO!$B$4:$AK$11,5,FALSE)+HLOOKUP(V6,CFO!$B$4:$AK$11,7,FALSE)*$W$2-HLOOKUP(V6,'Грошові потоки _ Cash flows'!$A$22:$AL$30,9,FALSE)*$W$2,IF(Головна_Summary!$AD$5=\"млн.UAH/mln.UAH\",(HLOOKUP(V6,CFO!$B$4:$AK$11,5,FALSE)+HLOOKUP(V6,CFO!$B$4:$AK$11,7,FALSE)*$W$2-HLOOKUP(V6,'Грошові потоки _ Cash flows'!$A$22:$AL$30,9,FALSE)*$W$2)*1000,IF(Головна_Summary!$AD$5=\"тис.US$/ ths.US$\",(HLOOKUP(V6,CFO!$B$4:$AK$11,5,FALSE)+HLOOKUP(V6,CFO!$B$4:$AK$11,7,FALSE)*$W$2-HLOOKUP(V6,'Грошові потоки _ Cash flows'!$A$22:$AL$30,9,FALSE)*$W$2)*HLOOKUP(V6,CFO!$B$4:$AK$14,10,FALSE),IF(Головна_Summary!$AD$5=\"тис.EUR/ ths.EUR\",(HLOOKUP(V6,CFO!$B$4:$AK$11,5,FALSE)+HLOOKUP(V6,CFO!$B$4:$AK$11,7,FALSE)*$W$2-HLOOKUP(V6,'Грошові потоки _ Cash flows'!$A$22:$AL$30,9,FALSE)*$W$2)*HLOOKUP(V6,CFO!$B$4:$AK$14,11,FALSE),0)))),0)","v":-5245.0059918591987},{"$f":"IFERROR(IF(Головна_Summary!$AD$5=\"тис.UAH/ ths.UAH\",HLOOKUP(V6,CFO!$B$4:$AK$11,6,FALSE)+HLOOKUP(V6,CFO!$B$4:$AK$11,7,FALSE)*$W$3-HLOOKUP(V6,'Грошові потоки _ Cash flows'!$A$22:$AL$30,9,FALSE)*$W$3,IF(Головна_Summary!$AD$5=\"млн.UAH/mln.UAH\",(HLOOKUP(V6,CFO!$B$4:$AK$11,6,FALSE)+HLOOKUP(V6,CFO!$B$4:$AK$11,7,FALSE)*$W$3-HLOOKUP(V6,'Грошові потоки _ Cash flows'!$A$22:$AL$30,9,FALSE)*$W$3)*1000,IF(Головна_Summary!$AD$5=\"тис.US$/ ths.US$\",(HLOOKUP(V6,CFO!$B$4:$AK$11,6,FALSE)+HLOOKUP(V6,CFO!$B$4:$AK$11,7,FALSE)*$W$3-HLOOKUP(V6,'Грошові потоки _ Cash flows'!$A$22:$AL$30,9,FALSE)*$W$3)*HLOOKUP(V6,CFO!$B$4:$AK$14,10,FALSE),IF(Головна_Summary!$AD$5=\"тис.EUR/ ths.EUR\",(HLOOKUP(V6,CFO!$B$4:$AK$11,6,FALSE)+HLOOKUP(V6,CFO!$B$4:$AK$11,7,FALSE)*$W$3-HLOOKUP(V6,'Грошові потоки _ Cash flows'!$A$22:$AL$30,9,FALSE)*$W$3)*HLOOKUP(V6,CFO!$B$4:$AK$14,11,FALSE),0)))),0)","v":-1339.2345201408009}]
[null,null,null,null,"Після / After implementation",null,{"$f":"G7-G8","v":23673799},{"$f":"H7-H8","v":18944739},null,{"$f":"J7-J8","v":25241514.739991859},{"$f":"K7-K8","v":20196431.008520141},null,{"$f":"M7-M8","v":26907108.542435858},{"$f":"N7-N8","v":21529307.065604143},null,{"$f":"P7-P8","v":28682631.535841163},{"$f":"Q7-Q8","v":22950152.942455687},null,{"$f":"S7-S8","v":30575339.046811219},{"$f":"T7-T8","v":24464774.647179432},null,{"$f":"V7-V8","v":32592965.253505301},{"$f":"W7-W8","v":26079361.384414949},null,"Тариф за передачу е/е після реалізації проекту",{"$f":"G39","v":528.64228165769214},{"$f":"J39","v":670.29883284679363},{"$f":"M39","v":669.18442012059484},{"$f":"P39","v":514.48638538367095},{"$f":"S39","v":533.39703102325029},{"$f":"V39","v":555.26159481729383}]
[null,"2.","ФІНАНСОВІ ВИТРАТИ (відсотки за банківський кредит)/ Finance expenses (interests)",null,"До реалізації/Before implementation",null,4694891,626798,null,{"$f":"2939217.02323019*$W$2","v":2341380.2807051688},{"$f":"2939217.02323019*$W$3","v":597836.74252502108},null,{"$f":"2700869.13909531*$W$2","v":2151512.3562033237},{"$f":"2700869.13909531*$W$3","v":549356.78289198643},null,{"$f":"2454230.75460263*$W$2","v":1955040.2191164549},{"$f":"2454230.75460263*$W$3","v":499190.53548617533},null,{"$f":"2177705.43411617*$W$2","v":1734760.1488169406},{"$f":"2177705.43411617*$W$3","v":442945.28529922926},null,{"$f":"1932.31272377228*$W$2","v":1539.2803157569979},{"$f":"1932.31272377228*$W$3","v":393.03240801528199},null,"Тариф за диспечеризацію",{"$f":"H38","v":104.57401832073126},{"$f":"K38","v":107.92634642238235},{"$f":"N38","v":110.2304753169129},{"$f":"Q38","v":97.491098851809554},{"$f":"T38","v":100.87380187490487},{"$f":"W38","v":105.3635955640857}]
[null,null,null,null,"Після/ After implementation",null,{"$f":"G10+G12","v":4701990.9138816241},{"$f":"H10+H12","v":628610.85774983966},null,{"$f":"J10+J12","v":2351745.9201642848},{"$f":"K10+K12","v":600483.45488503133},null,{"$f":"M10+M12","v":2159839.4169263365},{"$f":"N10+N12","v":551482.97439469898},null,{"$f":"P10+P12","v":1960825.1940277519},{"$f":"Q10+Q12","v":500667.64306458086},null,{"$f":"S10+S12","v":1737985.2219382212},{"$f":"T10+T12","v":443768.7599073996},null,{"$f":"V10+V12","v":2186.5423777282949},{"$f":"W10+W12","v":558.30117955050912},null,"Тариф за диспечеризацію після реалізації е/е",{"$f":"H39","v":104.58296575597615},{"$f":"K39","v":108.08680731073606},{"$f":"N39","v":110.38952739319478},{"$f":"Q39","v":97.621999157369302},{"$f":"T39","v":101.00184989443579},{"$f":"W39","v":105.42889898401026}]
[null,"2.10"," - відсотки за користування  кредитом НОВИЙ ПРОЕКТ/ interests for the loan usage",null,null,null,{"$f":"IFERROR(HLOOKUP(G6,CFF!$B$25:$CH$34,10,FALSE)*Припущення_Assumptions!$G$8*'Тариф ОСП_Tariff'!$W$2,0)","v":7099.9138816238055},{"$f":"IFERROR(HLOOKUP(G6,CFF!$B$25:$CH$34,10,FALSE)*Припущення_Assumptions!$G$8*'Тариф ОСП_Tariff'!$W$3,0)","v":1812.8577498396726},null,{"$f":"IFERROR(HLOOKUP(J6,CFF!$B$25:$CH$34,10,FALSE)*TenYearsMarket!$I$43*'Тариф ОСП_Tariff'!$W$2,0)","v":10365.639459115782},{"$f":"IFERROR(HLOOKUP(J6,CFF!$B$25:$CH$34,10,FALSE)*TenYearsMarket!$I$43*'Тариф ОСП_Tariff'!$W$3,0)","v":2646.7123600102332},null,{"$f":"IFERROR(HLOOKUP(M6,CFF!$B$25:$CH$34,10,FALSE)*TenYearsMarket!$J$43*'Тариф ОСП_Tariff'!$W$2,0)","v":8327.0607230128735},{"$f":"IFERROR(HLOOKUP(M6,CFF!$B$25:$CH$34,10,FALSE)*TenYearsMarket!$J$43*'Тариф ОСП_Tariff'!$W$3,0)","v":2126.1915027125528},null,{"$f":"IFERROR(HLOOKUP(P6,CFF!$B$25:$CH$34,10,FALSE)*TenYearsMarket!$K$43*'Тариф ОСП_Tariff'!$W$2,0)","v":5784.9749112970703},{"$f":"IFERROR(HLOOKUP(P6,CFF!$B$25:$CH$34,10,FALSE)*TenYearsMarket!$K$43*'Тариф ОСП_Tariff'!$W$3,0)","v":1477.1075784055047},null,{"$f":"IFERROR(HLOOKUP(S6,CFF!$B$25:$CH$34,10,FALSE)*TenYearsMarket!$L$43*'Тариф ОСП_Tariff'!$W$2,0)","v":3225.0731212805958},{"$f":"IFERROR(HLOOKUP(S6,CFF!$B$25:$CH$34,10,FALSE)*TenYearsMarket!$L$43*'Тариф ОСП_Tariff'!$W$3,0)","v":823.47460817031606},null,{"$f":"IFERROR(HLOOKUP(V6,CFF!$B$25:$CH$34,10,FALSE)*TenYearsMarket!$M$43*'Тариф ОСП_Tariff'!$W$2,0)","v":647.26206197129704},{"$f":"IFERROR(HLOOKUP(V6,CFF!$B$25:$CH$34,10,FALSE)*TenYearsMarket!$M$43*'Тариф ОСП_Tariff'!$W$3,0)","v":165.2687715352271}]
[null,null,"Коригування/Adjustment",null,null,null,0,0,null,0,0,null,0,0,null,0,0,null,0,0,null,0,0]
[null,"3.","ВИТРАТИ З ПРИБУТКУ/ Profit expenses",null,"До реалізації/Before implementation",null,{"$f":"G16+G26","v":5075339},{"$f":"H16+H26","v":1616414},null,{"$f":"J16/0.82","v":9695113.9305322543},{"$f":"K16/0.82","v":1893628.9775423817},null,{"$f":"M16/0.82","v":10181082.47727555},{"$f":"N16/0.82","v":1979310.1156671955},null,{"$f":"P16/0.82","v":10429572.084870288},{"$f":"Q16/0.82","v":2001819.8815397839},null,{"$f":"S16/0.82","v":8964926.356380986},{"$f":"T16/0.82","v":1584204.0049304767},null,{"$f":"V16/0.82","v":10071817.118110431},{"$f":"W16/0.82","v":1820311.5867014928}]
[null,null,null,null,"Після After implementation",null,{"$f":"G17+G27","v":5075339},{"$f":"H17+H27","v":1616414},null,{"$f":"J17/0.82","v":9724857.5157807935},{"$f":"K17/0.82","v":1923372.5627909205},null,{"$f":"M17/0.82","v":10212328.483740889},{"$f":"N17/0.82","v":2010556.1221325349},null,{"$f":"P17/0.82","v":10460926.962438295},{"$f":"Q17/0.82","v":2033174.75910779},null,{"$f":"S17/0.82","v":8996390.4843934812},{"$f":"T17/0.82","v":1615668.1329429701},null,{"$f":"V17/0.82","v":10087603.997670708},{"$f":"W17/0.82","v":1836098.4662617682}]
[null,"3.1","Прибуток (чистий прибуток)",null,"До реалізації/Before implementation",null,{"$f":"G18+G21+G24+G25","v":5075339},{"$f":"H18+H21+H24+H25","v":1616414},null,{"$f":"J18+J21+J24+J25","v":7949993.4230364477},{"$f":"K18+K21+K24+K25","v":1552775.7615847529},null,{"$f":"M18+M21+M24+M25","v":8348487.6313659502},{"$f":"N18+N21+N24+N25","v":1623034.2948471003},null,{"$f":"P18+P21+P24+P25","v":8552249.1095936354},{"$f":"Q18+Q21+Q24+Q25","v":1641492.3028626228},null,{"$f":"S18+S21+S24+S25","v":7351239.6122324085},{"$f":"T18+T21+T24+T25","v":1299047.2840429908},null,{"$f":"V18+V21+V24+V25","v":8258890.0368505539},{"$f":"W18+W21+W24+W25","v":1492655.5010952239}]
[null,null,null,null,"Після реалізації/After implementation",null,{"$f":"G22+G19+G24+G25","v":5075339},{"$f":"H22+H18+H24+H25","v":1616414},null,{"$f":"J22+J18+J24+J25","v":7974383.1629402498},{"$f":"K22+K18+K24+K25","v":1577165.5014885548},null,{"$f":"M22+M18+M24+M25","v":8374109.3566675279},{"$f":"N22+N18+N24+N25","v":1648656.0201486784},null,{"$f":"P22+P18+P24+P25","v":8577960.109199401},{"$f":"Q22+Q18+Q24+Q25","v":1667203.3024683876},null,{"$f":"S22+S18+S24+S25","v":7377040.1972026536},{"$f":"T22+T18+T24+T25","v":1324847.8690132354},null,{"$f":"V22+V18+V24+V25","v":8271835.2780899806},{"$f":"W22+W18+W24+W25","v":1505600.7423346499}]
[null,"3.1.1","Капітальні інвестиції/Capital Investments",null,"До реалізації/Before implementation",null,2094946,8569,null,{"$f":"G18*$S$2","v":2233212.4360000002},{"$f":"H18*$S$2","v":9134.5540000000001},null,{"$f":"J18*$S$2","v":2380604.4567760006},{"$f":"K18*$S$2","v":9737.434564000001},null,{"$f":"M18*$S$2","v":2537724.3509232169},{"$f":"N18*$S$2","v":10380.105245224002},null,{"$f":"P18*$S$2","v":2705214.1580841495},{"$f":"Q18*$S$2","v":11065.192191408787},null,{"$f":"S18*$S$2","v":2883758.2925177035},{"$f":"T18*$S$2","v":11795.494876041768}]
[null,null,null,null,"Після After implementation",null,{"$f":"G18+G20","v":2094946},{"$f":"H18+H20","v":8569},null,{"$f":"J18+J20","v":2233212.4360000002},{"$f":"K18+K20","v":9134.5540000000001},null,{"$f":"M18+M20","v":2380604.4567760006},{"$f":"N18+N20","v":9737.434564000001},null,{"$f":"P18+P20","v":2537724.3509232169},{"$f":"Q18+Q20","v":10380.105245224002},null,{"$f":"S18+S20","v":2705214.1580841495},{"$f":"T18+T20","v":11065.192191408787},null,{"$f":"V18+V20","v":2883758.2925177035},{"$f":"W18+W20","v":11795.494876041768}]
[null,null,null,null,"Від нового проєкту/From a new project",null,{"$f":"IF(Головна_Summary!$H$13=\"Власні кошти\",HLOOKUP('Тариф ОСП_Tariff'!F6,'Грошові потоки _ Cash flows'!$A$22:$AM$50,18,0),0)","v":0},{"$f":"IF(Головна_Summary!$H$13=\"Власні кошти\",HLOOKUP('Тариф ОСП_Tariff'!G6,'Грошові потоки _ Cash flows'!$A$22:$AM$50,18,0),0)","v":0},null,{"$f":"IF(Головна_Summary!$H$13=\"Власні кошти\",HLOOKUP('Тариф ОСП_Tariff'!J6,'Грошові потоки _ Cash flows'!$A$22:$AM$50,18,0),0)","v":0},{"$f":"IF(Головна_Summary!$H$13=\"Власні кошти\",HLOOKUP('Тариф ОСП_Tariff'!J6,'Грошові потоки _ Cash flows'!$A$22:$AM$50,18,0),0)","v":0},null,{"$f":"IF(Головна_Summary!$H$13=\"Власні кошти\",HLOOKUP('Тариф ОСП_Tariff'!M6,'Грошові потоки _ Cash flows'!$A$22:$AM$50,18,0),0)","v":0},{"$f":"IF(Головна_Summary!$H$13=\"Власні кошти\",HLOOKUP('Тариф ОСП_Tariff'!M6,'Грошові потоки _ Cash flows'!$A$22:$AM$50,18,0),0)","v":0},null,{"$f":"IF(Головна_Summary!$H$13=\"Власні кошти\",HLOOKUP('Тариф ОСП_Tariff'!P6,'Грошові потоки _ Cash flows'!$A$22:$AM$50,18,0),0)","v":0},{"$f":"IF(Головна_Summary!$H$13=\"Власні кошти\",HLOOKUP('Тариф ОСП_Tariff'!P6,'Грошові потоки _ Cash flows'!$A$22:$AM$50,18,0),0)","v":0},null,{"$f":"IF(Головна_Summary!$H$13=\"Власні кошти\",HLOOKUP('Тариф ОСП_Tariff'!S6,'Грошові потоки _ Cash flows'!$A$22:$AM$50,18,0),0)","v":0},{"$f":"IF(Головна_Summary!$H$13=\"Власні кошти\",HLOOKUP('Тариф ОСП_Tariff'!S6,'Грошові потоки _ Cash flows'!$A$22:$AM$50,18,0),0)","v":0},null,{"$f":"IF(Головна_Summary!$H$13=\"Власні кошти\",HLOOKUP('Тариф ОСП_Tariff'!V6,'Грошові потоки _ Cash flows'!$A$22:$AM$50,18,0),0)","v":0},{"$f":"IF(Головна_Summary!$H$13=\"Власні кошти\",HLOOKUP('Тариф ОСП_Tariff'!V6,'Грошові потоки _ Cash flows'!$A$22:$AM$50,18,0),0)","v":0}]
[null,"3.1.2","Витрати на погашення кредитів/Loan repayment costs",null,"До реалізації/Before implementation",null,2916765,1512850,null,{"$f":"7091330.0766212*$W$2","v":5648953.5390364472},{"$f":"7091330.0766212*$W$3","v":1442376.537584753},null,{"$f":"7400927.83708505*$W$2","v":5895579.1150219496},{"$f":"7400927.83708505*$W$3","v":1505348.7220631002},null,{"$f":"7453488.11344581*$W$2","v":5937448.6311709313},{"$f":"7453488.11344581*$W$3","v":1516039.4822748788},null,{"$f":"5729176.87953026*$W$2","v":4563862.3022338049},{"$f":"5729176.87953026*$W$3","v":1165314.5772964556},null,{"$f":"6637642.26009546*$W$2","v":5287545.8243920431},{"$f":"6637642.26009546*$W$3","v":1350096.4357034175}]
[null,null,null,null,"Після After implementation",null,{"$f":"G21+G23","v":2916765},{"$f":"H21+H23","v":1512850},null,{"$f":"J21+J23","v":5673343.2789402492},{"$f":"K21+K23","v":1466766.2774885548},null,{"$f":"M21+M23","v":5921200.8403235273},{"$f":"N21+N23","v":1530970.4473646784},null,{"$f":"P21+P23","v":5963159.6307766959},{"$f":"Q21+Q23","v":1541750.4818806436},null,{"$f":"S21+S23","v":4589662.8872040501},{"$f":"T21+T23","v":1191115.1622667003},null,{"$f":"V21+V23","v":5300491.0656314688},{"$f":"W21+W23","v":1363041.6769428435}]
[null,"3.1.2.10","- Погашення позики НОВИЙ ПРОЕКТ / - Loan repayment",null,null,null,{"$f":"IFERROR(HLOOKUP(G6,CFF!$B$25:$CH$35,11,FALSE)*Припущення_Assumptions!$G$8*'Тариф ОСП_Tariff'!$W$2,0)","v":0},{"$f":"IFERROR(HLOOKUP(G6,CFF!$B$25:$CH$35,11,FALSE)*Припущення_Assumptions!$G$8*'Тариф ОСП_Tariff'!$W$2,0)","v":0},null,{"$f":"IFERROR(HLOOKUP(J6,CFF!$B$25:$CH$35,11,FALSE)*TenYearsMarket!$I$43*'Тариф ОСП_Tariff'!$W$2,0)","v":24389.739903801841},{"$f":"IFERROR(HLOOKUP(J6,CFF!$B$25:$CH$35,11,FALSE)*TenYearsMarket!$I$43*'Тариф ОСП_Tariff'!$W$2,0)","v":24389.739903801841},null,{"$f":"IFERROR(HLOOKUP(M6,CFF!$B$25:$CH$35,11,FALSE)*TenYearsMarket!$J$43*'Тариф ОСП_Tariff'!$W$2,0)","v":25621.72530157807},{"$f":"IFERROR(HLOOKUP(M6,CFF!$B$25:$CH$35,11,FALSE)*TenYearsMarket!$J$43*'Тариф ОСП_Tariff'!$W$2,0)","v":25621.72530157807},null,{"$f":"IFERROR(HLOOKUP(P6,CFF!$B$25:$CH$35,11,FALSE)*TenYearsMarket!$K$43*'Тариф ОСП_Tariff'!$W$2,0)","v":25710.999605764755},{"$f":"IFERROR(HLOOKUP(P6,CFF!$B$25:$CH$35,11,FALSE)*TenYearsMarket!$K$43*'Тариф ОСП_Tariff'!$W$2,0)","v":25710.999605764755},null,{"$f":"IFERROR(HLOOKUP(S6,CFF!$B$25:$CH$35,11,FALSE)*TenYearsMarket!$L$43*'Тариф ОСП_Tariff'!$W$2,0)","v":25800.584970244763},{"$f":"IFERROR(HLOOKUP(S6,CFF!$B$25:$CH$35,11,FALSE)*TenYearsMarket!$L$43*'Тариф ОСП_Tariff'!$W$2,0)","v":25800.584970244763},null,{"$f":"IFERROR(HLOOKUP(V6,CFF!$B$25:$CH$35,11,FALSE)*TenYearsMarket!$M$43*'Тариф ОСП_Tariff'!$W$2,0)","v":12945.241239425941},{"$f":"IFERROR(HLOOKUP(V6,CFF!$B$25:$CH$35,11,FALSE)*TenYearsMarket!$M$43*'Тариф ОСП_Tariff'!$W$2,0)","v":12945.241239425941}]
[null,"3.1.3","Інші витрати з прибутку",null,null,null,63628,94995,null,{"$f":"G24*$S$2","v":67827.448000000004},{"$f":"H24*$S$2","v":101264.67000000001},null,{"$f":"J24*$S$2","v":72304.059568000011},{"$f":"K24*$S$2","v":107948.13822000002},null,{"$f":"M24*$S$2","v":77076.127499488022},{"$f":"N24*$S$2","v":115072.71534252002},null,{"$f":"P24*$S$2","v":82163.15191445424},{"$f":"Q24*$S$2","v":122667.51455512636},null,{"$f":"S24*$S$2","v":87585.91994080822},{"$f":"T24*$S$2","v":130763.5705157647}]
[null,"3.1.4","Відрахування частини прибутку на виплату девидендів до держ бюджету",null,null,null,0,0,null,{"$f":"G25*$S$2","v":0},{"$f":"H25*$S$2","v":0},null,{"$f":"J25*$S$2","v":0},{"$f":"K25*$S$2","v":0},null,{"$f":"M25*$S$2","v":0},{"$f":"N25*$S$2","v":0},null,{"$f":"P25*$S$2","v":0},{"$f":"Q25*$S$2","v":0},null,{"$f":"S25*$S$2","v":0},{"$f":"T25*$S$2","v":0}]
[null,"3.2","Податок на прибуток",null,"До реалізації",null,0,0,null,{"$f":"J14*0.18","v":1745120.5074958056},{"$f":"K14*0.18","v":340853.21595762868},null,{"$f":"M14*0.18","v":1832594.845909599},{"$f":"N14*0.18","v":356275.82082009519},null,{"$f":"P14*0.18","v":1877322.9752766518},{"$f":"Q14*0.18","v":360327.57867716107},null,{"$f":"S14*0.18","v":1613686.7441485773},{"$f":"T14*0.18","v":285156.72088748578},null,{"$f":"V14*0.18","v":1812927.0812598777},{"$f":"W14*0.18","v":327656.08560626867}]
[null,null,null,null,"Після реалізації",null,0,0,null,{"$f":"J15*0.18","v":1750474.3528405428},{"$f":"K15*0.18","v":346207.06130236568},null,{"$f":"M15*0.18","v":1838219.1270733599},{"$f":"N15*0.18","v":361900.10198385624},null,{"$f":"P15*0.18","v":1882966.853238893},{"$f":"Q15*0.18","v":365971.4566394022},null,{"$f":"S15*0.18","v":1619350.2871908266},{"$f":"T15*0.18","v":290820.26392973459},null,{"$f":"V15*0.18","v":1815768.7195807274},{"$f":"W15*0.18","v":330497.72392711829}]
[null,"4.","Витрати на виконання спеціальних обов’язків для забезпечення загальносуспільних інтересів/Expenses for the performance of special duties to ensure the general interest",null,null,null,16215593,0,null,30597872.286814999,{"$f":"H28*$S$4","v":0},null,33014151.804847602,{"$f":"K28*$S$4","v":0},null,35035742.331691101,{"$f":"N28*$S$4","v":0},null,37809837.579144798,{"$f":"Q28*$S$4","v":0},null,40217233.733050503,{"$f":"T28*$S$4","v":0}]
[null,"5.","Витрати на послуги із зменшення навантаження виробником, який здійснює продаж електричної енергії за \"зеленим\" тарифом або за аукціонною ціною/Costs of services to reduce the load on the manufacturer",null,null,null,2804225,0,null,{"$f":"G29*($S$4)","v":2974971.1444444447},{"$f":"H29*$S$2","v":0},null,{"$f":"J29*($S$4)","v":3156113.8319061734},{"$f":"K29*$S$2","v":0},null,{"$f":"M29*($S$4)","v":3348286.0963377939},{"$f":"N29*$S$2","v":0},null,{"$f":"P29*($S$4)","v":3552159.5164259179},{"$f":"Q29*$S$2","v":0},null,{"$f":"S29*($S$4)","v":3768446.5625371854},{"$f":"T29*$S$2","v":0}]
[null,"6.","Дефіцит або профіцит коштів у частині надходження та витрат, пов’язаних з наданням послуг із приєднання електроустановок замовників до електричних мереж/Deficit or surplus of funds in terms of revenues and expenditures related to the provision of services for the connection of electrical installations of customers to electrical networks",null,null,null,0,0,null,{"$f":"G30*$S$2","v":0},{"$f":"H30*$S$2","v":0},null,{"$f":"J30*$S$2","v":0},{"$f":"K30*$S$2","v":0},null,{"$f":"M30*$S$2","v":0},{"$f":"N30*$S$2","v":0},null,{"$f":"P30*$S$2","v":0},{"$f":"Q30*$S$2","v":0},null,{"$f":"S30*$S$2","v":0},{"$f":"T30*$S$2","v":0}]
[null,null,"Всього витрат/Total costs",null,"До реалізації/Before implementation",null,{"$f":"G30+G28+G14+G10+G7+G29","v":52463847},{"$f":"H30+H28+H14+H10+H7+H29","v":21187951},null,{"$f":"J30+J28+J14+J10+J7+J29","v":70845607.376496866},{"$f":"K30+K28+K14+K10+K7+K29","v":22686557.494067404},null,{"$f":"M30+M28+M14+M10+M7+M29","v":75404724.006676644},{"$f":"N30+N28+N14+N10+N7+N29","v":24056634.729643185},null,{"$f":"P30+P28+P14+P10+P7+P29","v":79446027.261864945},{"$f":"Q30+Q28+Q14+Q10+Q7+Q29","v":25449824.124961503},null,{"$f":"S30+S28+S14+S10+S7+S29","v":82631777.641588017},{"$f":"T30+T28+T14+T10+T7+T29","v":26490584.702888995},null,{"$f":"V30+V28+V14+V10+V7+V29","v":86646756.941527322},{"$f":"W30+W28+W14+W10+W7+W29","v":27898726.769004315}]
[null,null,null,null,"Після реалізації/After implementation",null,{"$f":"G9+G11+G15+G28+G30+G29","v":52470946.913881622},{"$f":"H9+H11+H15+H28+H30+H29","v":21189763.857749838},null,{"$f":"J9+J11+J15+J28+J30+J29","v":70890961.607196391},{"$f":"K9+K11+K15+K28+K30+K29","v":22720287.026196092},null,{"$f":"M9+M11+M15+M28+M30+M29","v":75449542.079856858},{"$f":"N9+N11+N15+N28+N30+N29","v":24091346.162131377},null,{"$f":"P9+P11+P15+P28+P30+P29","v":79488412.120336115},{"$f":"Q9+Q11+Q15+Q28+Q30+Q29","v":25483995.344628058},null,{"$f":"S9+S11+S15+S28+S30+S29","v":82671711.848713651},{"$f":"T9+T11+T15+T28+T30+T29","v":26524211.540029801},null,{"$f":"V9+V11+V15+V28+V30+V29","v":86668436.089141414},{"$f":"W9+W11+W15+W28+W30+W29","v":27916018.151856266}]
[null,"6.","Обсяг передачі електричної енергії/The amount of electricity transmission",null,"До реалізації/Before implementation",null,99392000,{"$f":"G33","v":99392000},null,{"$f":"G33*S2","v":105951872},{"$f":"J33","v":105951872},null,{"$f":"J33*S2","v":112944695.552},{"$f":"M33","v":112944695.552},null,154700000,{"$f":"P33","v":154700000},null,155200000,{"$f":"S33","v":155200000},null,156300000,{"$f":"V33","v":156300000}]
[null,null,null,null,"Додатковий об'єм е/е при реалізації проєкту / Additional electricity supply",null,{"$f":"IFERROR(HLOOKUP(G6,CFO!$B$4:$AL$49,8,FALSE),0)","v":0},{"$f":"IFERROR(HLOOKUP(G6,CFO!$B$4:$AL$49,8,FALSE),0)","v":0},null,{"$f":"IFERROR(HLOOKUP(J6,CFO!$B$4:$AL$49,8,FALSE),0)","v":0},{"$f":"IFERROR(HLOOKUP(J6,CFO!$B$4:$AL$49,8,FALSE),0)","v":0},null,{"$f":"IFERROR(HLOOKUP(M6,CFO!$B$4:$AL$49,8,FALSE),0)","v":0},{"$f":"IFERROR(HLOOKUP(M6,CFO!$B$4:$AL$49,8,FALSE),0)","v":0},null,{"$f":"IFERROR(HLOOKUP(P6,CFO!$B$4:$AL$49,8,FALSE),0)","v":0},{"$f":"IFERROR(HLOOKUP(P6,CFO!$B$4:$AL$49,8,FALSE),0)","v":0},null,{"$f":"IFERROR(HLOOKUP(S6,CFO!$B$4:$AL$49,8,FALSE),0)","v":0},{"$f":"IFERROR(HLOOKUP(S6,CFO!$B$4:$AL$49,8,FALSE),0)","v":0},null,{"$f":"IFERROR(HLOOKUP(V6,CFO!$B$4:$AL$49,8,FALSE),0)","v":0},{"$f":"IFERROR(HLOOKUP(V6,CFO!$B$4:$AL$49,8,FALSE),0)","v":0}]
[null,null,null,null,"Після реалізації/After implementation",null,{"$f":"G33+G34","v":99392000},{"$f":"H33+H34","v":99392000},null,{"$f":"J33+J34","v":105951872},{"$f":"K33+K34","v":105951872},null,{"$f":"M33+M34","v":112944695.552},{"$f":"N33+N34","v":112944695.552},null,{"$f":"P33+P34","v":154700000},{"$f":"Q33+Q34","v":154700000},null,{"$f":"S33+S34","v":155200000},{"$f":"T33+T34","v":155200000},null,{"$f":"V33+V34","v":156300000},{"$f":"W33+W34","v":156300000}]
[null,"7.","Обсяг споживання електричної енергії для підприємств \"зеленої\" електрометалургії/Volume of electricity consumption for \"green\" metallurgy enterprises",null,null,null,438557,null,null,{"$f":"G36*$S$3","v":442942.57},{"$f":"H36*$S$3","v":0},null,{"$f":"J36*$S$3","v":447371.99570000003},{"$f":"K36*$S$3","v":0},null,{"$f":"M36*$S$3","v":451845.71565700002},{"$f":"N36*$S$3","v":0},null,{"$f":"P36*$S$3","v":456364.17281357001},{"$f":"Q36*$S$3","v":0},null,{"$f":"S36*$S$3","v":460927.81454170571},{"$f":"T36*$S$3","v":0}]
[null,"8.","Обсяг виробництва (відпуску) електричної енергії +імпорт / Volume of production (supply) of electricity + imports",null,null,null,null,103220000,null,null,{"$f":"H37*$S$3","v":104252200},null,null,{"$f":"K37*$S$3","v":105294722},null,null,{"$f":"N37*$S$3","v":106347669.22},null,null,{"$f":"Q37*$S$3","v":107411145.9122},null,null,{"$f":"T37*$S$3","v":108485257.37132201}]
[null,"8.","Тариф/Tariff",null,"До реалізації/Before implementation",null,{"$f":"((G31-G28)/G33+G28/(G33-G36))*1000","v":528.57084820347427},{"$f":"H31/(H33+H37)*1000","v":104.57401832073126},null,{"$f":"((J31-J28)/J33+J28/(J33-J36))*1000","v":669.87076838843723},{"$f":"K31/(K33+K37)*1000","v":107.92634642238235},null,{"$f":"((M31-M28)/M33+M28/(M33-M36))*1000","v":668.78760579513073},{"$f":"N31/(N33+N37)*1000","v":110.2304753169129},null,{"$f":"((P31-P28)/P33+P28/(P33-P36))*1000","v":514.21240439807843},{"$f":"Q31/(Q33+Q37)*1000","v":97.491098851809554},null,{"$f":"((S31-S28)/S33+S28/(S33-S36))*1000","v":533.13972298764702},{"$f":"T31/(T33+T37)*1000","v":100.87380187490487},null,{"$f":"((V31-V28)/V33+V28/(V33-V36))*1000","v":555.12289265725485},{"$f":"W31/(W33+W37)*1000","v":105.3635955640857}]
[null,null,null,null,"Після реалізації/After implementation",null,{"$f":"((G32-G28)/G35+G28/(G35-G36))*1000","v":528.64228165769214},{"$f":"H32/(H35+H37)*1000","v":104.58296575597615},null,{"$f":"((J32-J28)/J35+J28/(J35-J36))*1000","v":670.29883284679363},{"$f":"K32/(K35+K37)*1000","v":108.08680731073606},null,{"$f":"((M32-M28)/M35+M28/(M35-M36))*1000","v":669.18442012059484},{"$f":"N32/(N35+N37)*1000","v":110.38952739319478},null,{"$f":"((P32-P28)/P35+P28/(P35-P36))*1000","v":514.48638538367095},{"$f":"Q32/(Q35+Q37)*1000","v":97.621999157369302},null,{"$f":"((S32-S28)/S35+S28/(S35-S36))*1000","v":533.39703102325029},{"$f":"T32/(T35+T37)*1000","v":101.00184989443579},null,{"$f":"((V32-V28)/V35+V28/(V35-V36))*1000","v":555.26159481729383},{"$f":"W32/(W35+W37)*1000","v":105.42889898401026}]
[null,null,null,null,null,null,null,null,null,null,null,null,null,null,null,null,null,null,null,null,null,{"$f":"V38/V39-1","v":-2.4979606249309061E-4}]
[]
[]
[]
[null,null,null,null,null,null,{"$f":"244176.4*(G38+H38)/1000","v":154599.03418636101}]

{"sheet":"Тарифи ОСР (НКРЕКП)_Tariff","index":14,"n_rows":50,"n_cols":36,"rows_kept":50,"cut":false,"hidden":true,"merged":[[26,1,26,2],[44,1,45,2],[46,1,46,2],[47,1,47,2],[49,1,49,2],[25,1,25,2],[0,1,0,2],[2,1,3,2],[4,1,4,2],[5,1,5,2],[23,1,24,2]]}
[null,"ТАРИФИ ОСР/ MSO Tariff"]
[]
[null,"I КЛАС НАПРУГИ / 1 Class Circuit"]
[]
[null,2020]
[null,"Постанова/Resolution",null,2670,2671,2672,2673,2674,2675,2676,2677,2678,2679,2680,2681,2682,2683,2684,2685,2686,2687,2688,2689,2690,2691,2692,2693,2694,279,2695,2696,2697,1924,2698,1925,280]
[null,null,"Перелік складових  частин витрат на послуги з розподілу електричної енергії.  що включаються в розрахунок тарифу","ПАТ «ВІННИЦЯОБЛЕНЕРГО»","ПРАТ «ВОЛИНЬОБЛЕНЕРГО»","АТ «ДТЕК ДНІПРОВСЬКІ ЕЛЕКТРОМЕРЕЖІ»","АТ «ДТЕК ДОНЕЦЬКІ ЕЛЕКТРОМЕРЕЖІ»","АТ«ЖИТОМИРОБЛЕНЕРГО»","ПРАТ «ЗАКАРПАТТЯОБЛЕНЕРГО»","ПАТ «ЗАПОРІЖЖЯОБЛЕНЕРГО»","ПРАТ «ДТЕК КИЇВСЬКІ ЕЛЕКТРОМЕРЕЖІ»","ПРАТ «КИЇВОБЛЕНЕРГО»","ПРАТ «КІРОВОГРАДОБЛЕНЕРГО»","ПРАТ «ЛЬВІВОБЛЕНЕРГО»","АТ «МИКОЛАЇВОБЛЕНЕРГО»","АТ «ОДЕСАОБЛЕНЕРГО»","ПАТ «ПОЛТАВАОБЛЕНЕРГО»","АТ «ПРИКАРПАТТЯОБЛЕНЕРГО»","ПРАТ «РІВНЕОБЛЕНЕРГО»","ПАТ «СУМИОБЛЕНЕРГО»","ВАТ «ТЕРНОПІЛЬОБЛЕНЕРГО»","АТ «ХАРКІВОБЛЕНЕРГО»","АТ «ХЕРСОНОБЛЕНЕРГО»","АТ «ХМЕЛЬНИЦЬКОБЛЕНЕРГО»","ПАТ «ЧЕРКАСИОБЛЕНЕРГО»","АТ «ЧЕРНІВЦІОБЛЕНЕРГО»","ПАТ «ЧЕРНІГІВОБЛЕНЕРГО»","ДПЕМ ПРАТ «АТОМСЕРВІС»","ДП «РЕГІОНАЛЬНІ ЕЛЕКТРИЧНІ МЕРЕЖІ»","ПРАТ «ДТЕК ПЕМ-ЕНЕРГОВУГІЛЛЯ»","ТОВ «ДТЕК ВИСОКОВОЛЬТНІ МЕРЕЖІ»","АТ «УКРЗАЛІЗНИЦЯ»","КП «МІСЬКІ ЕЛЕКТРИЧНІ МЕРЕЖІ»","ПРАТ «ПЕЕМ «ЦЕК»","ПП «ГАРАНТ ЕНЕРГО М»","ТОВ «ЛУГАНСЬКЕ ЕНЕРГЕТИЧНЕ ОБ’ЄДНАННЯ»"]
[null,null,"Область/Region","Вінницька","Волинська","Дніпропетровська","Донецька","Житомирська","Закарпатська","Запорізька","Київська","Київська","Кіровоградська","Львівська","Миколаївська","Одеська","Полтавська","Івано-Франківська","Рівненська","Сумська","Тернопільска","Харківська","Херсонська","Хмельницька","Черкаська","Чернівецька","Чернігівська","Миколаївська","Донецька. Луганська. Львівська. Волинська","Донецька","Донецька та Дніпропетровська","Донецька. Львівська. Одеська. Харківська. Дніпропетровська. Київська","Рівненська","Дніпропетровська","Львівська","Луганська"]
[null,1," Операційні витрати: / Operating costs",{"$f":"D10+D11+D12+D13+D14+D15+D16","v":406544},{"$f":"E10+E11+E12+E13+E14+E15+E16","v":174942},1462887,637375,411191,407143,658364,661545,1043937,393323,590714,388657,730967,515577,311675,333284,233273,217304,1060829,627968,347873,314997,155984,306070,10694,52522,23799,210821,884588,2148,39322,null,426936]
[null,"1.1","Матеріальні витрати: / Material Costs",44996,19850,186914,71271,52382,52283,79344,91825,122574,46615,68347,43991,86757,65165,41021,41544,31788,26810,123523,80583,40134,32231,16277,33002,1586,6525,1545,47605,105214,480,4486,null,45241]
[null,"1.2","Витрати. пов’язані з купівлею електричної енергії з метою компенсації технологічних витрат електричної енергії на її розподіл/Costs. related to the purchase of electricity in order to compensate for the technological costs of electricity for its distribution",230343,113169,806427,310110,213589,183598,372123,381771,699461,218632,369983,208660,419711,243620,157645,192885,69494,137047,619392,297126,194898,221085,106994,186650,5751,18084,3247,83594,300847,363,21020,null,199564]
[null,"1.3","Витрати на оплату праці  / salary expenses",95445,25819,269376,165871,101407,103094,174114,90746,150081,86669,102258,104412,141659,149313,71645,66961,94451,36335,245997,164066,82014,50223,22499,59243,2268,27976,15048,40132,314936,1339,9165,null,149570]
[null,"1.4","Відрахування на соціальні заходи/Deductions for social events",20998,5680,59263,36492,22310,22681,38305,19964,33018,19067,22497,22971,31165,32849,15762,14731,20779,7994,54119,36095,18043,11049,4950,13033,499,6155,3311,8829,69286,295,2016,null,32905]
[null,"1.5","Амортизація  /Depreciation ",7336,8648,83692,23342,15856,37825,12287,44883,25581,15286,18554,10204,41092,17028,19846,10138,11571,6274,30140,39687,7930,2659,3906,7484,295,1097,254,19255,83551,141,1608,null,8424]
[null,"1.6","Інші операційні витрати:/Other operating expenses:",5690,1776,56034,30289,5647,7662,7930,32356,13222,6212,9064,5049,10583,7602,5756,7025,5190,2844,19580,10411,4854,3041,1358,6658,295,1257,394,11406,10754,86,1027,null,6553]
[null,"1.7","Коригування витрат/Cost adjustment *",1736,0,1181,0,0,0,-25739,0,0,842,11,-6630,0,0,0,0,0,0,-31922,0,0,-5291,0,0,0,-8572,0,0,0,-556,0,null,-15321]
[null,"2","Усього фінансові витрати (% за кредит)/ Financial costs ( loan interest )",0,0,0,0,0,0,0,0,0,0,0,0,0,0,0,0,0,0,0,0,0,0,0,0,0,0,0,0,0,0,0,null,0]
[null,"3","Витрати з прибутку/Profit costs ",11116,1658,35391,19439,12585,8713,9661,15114,15374,10730,12890,5899,17820,8725,7402,8374,11308,2979,14408,9719,9628,2894,2660,7260,128,1461,727,5676,17191,102,982,null,0]
[null,"4","Дефіцит або профіцит коштів у частині надходження та витрат. пов’язаних з наданням послуг з приєднання електроустановок замовників до електричних мереж/Deficit or surplus of funds in terms of revenues and expenditures related to the provision of services for the connection of electrical installations of customers to electrical networks",0,0,0,0,0,0,0,0,0,0,0,0,0,0,0,0,0,0,0,0,0,0,0,0,0,0,0,0,0,0,0,null,0]
[null,"5","Усього загальні витрати (необхідний дохід)/ Total expenses",{"$f":"SUM(D9,D18,D17,D19)","v":417660},176600,1498278,656814,423776,415856,668025,676659,1059311,404053,603604,394556,748787,524302,319077,341658,244581,220283,1075237,637687,357501,317891,158644,313330,10822,53983,24526,216497,901779,2250,40304,null,{"$f":"SUM(AJ9,AJ18,AJ17,AJ19)","v":426936}]
[null,null,"Прогнозований обсяг електричної енергії. що розподіляється на 1 Класі напруги (МВт·год)/ Projected amount of electricity. which is divided into 1 Circuit Class",{"$f":"D20/D22","v":2718.2557761145458},{"$f":"E20/E22","v":1642.485119047619},{"$f":"F20/F22","v":18023.312883435585},3422.1539102797892,2365.217391304348,1820.9747339843236,8390.1657874905795,9722.1120689655181,6434.4955354431149,1876.0005571547963,4517.6558640820294,2739.0211732037483,6074.8580236897615,4938.7905048982666,2389.7318753744757,2136.2971299943724,1984.7520895885741,1420.0812274368232,6641.3650401482391,2101.5950960682858,2137.7803025772887,3113.2210361374987,1505.8756525866161,1666.205796330763,736.19047619047626,629.09917259060717,357.83484096877731,6382.5766509433961,5185.9163839208695,54.664723032069972,414.09637316346453,null,1236.2772919441711]
[null,null,"Тариф на розподіл електричної енергії для \n1 класу напруги (грн/МВт·год) /Electricity transportation tariff",153.65,107.52,83.13,191.93,179.17,228.37,79.62,69.599999999999994,164.63,215.38,133.61000000000001,144.05000000000001,123.26,106.16000000000001,133.52000000000001,159.93,123.23,155.12,161.9,303.43,167.23000000000002,102.11,105.35,188.05,14.7,85.81,68.540000000000006,33.92,173.89,41.16,97.33,null,345.34]
[]
[null,"IІ КЛАС НАПРУГИ / 2 Class Circuit"]
[]
[null,2020]
[null,null,"Постанова",{"$f":"D6","v":2670},2671,2672,2673,2674,2675,2676,2677,2678,2679,2680,2681,2682,2683,2684,2685,2686,2687,2688,2689,2690,2691,2692,2693,2694,279,2695,2696,2697,1924,2698,1925,280]
[null,null,"Перелік складових  частин витрат на послуги з розподілу електричної енергії.  що включаються в розрахунок тарифу/List of components of costs for electricity distribution services. included in the calculation of the tariff","ПАТ «ВІННИЦЯОБЛЕНЕРГО»","ПРАТ «ВОЛИНЬОБЛЕНЕРГО»","АТ «ДТЕК ДНІПРОВСЬКІ ЕЛЕКТРОМЕРЕЖІ»","АТ «ДТЕК ДОНЕЦЬКІ ЕЛЕКТРОМЕРЕЖІ»","АТ«ЖИТОМИРОБЛЕНЕРГО»","ПРАТ «ЗАКАРПАТТЯОБЛЕНЕРГО»","ПАТ «ЗАПОРІЖЖЯОБЛЕНЕРГО»","ПРАТ «ДТЕК КИЇВСЬКІ ЕЛЕКТРОМЕРЕЖІ»","ПРАТ «КИЇВОБЛЕНЕРГО»","ПРАТ «КІРОВОГРАДОБЛЕНЕРГО»","ПРАТ «ЛЬВІВОБЛЕНЕРГО»","АТ «МИКОЛАЇВОБЛЕНЕРГО»","АТ «ОДЕСАОБЛЕНЕРГО»","ПАТ «ПОЛТАВАОБЛЕНЕРГО»","АТ «ПРИКАРПАТТЯОБЛЕНЕРГО»","ПРАТ «РІВНЕОБЛЕНЕРГО»","ПАТ «СУМИОБЛЕНЕРГО»","ВАТ «ТЕРНОПІЛЬОБЛЕНЕРГО»","АТ «ХАРКІВОБЛЕНЕРГО»","АТ «ХЕРСОНОБЛЕНЕРГО»","АТ «ХМЕЛЬНИЦЬКОБЛЕНЕРГО»","ПАТ «ЧЕРКАСИОБЛЕНЕРГО»","АТ «ЧЕРНІВЦІОБЛЕНЕРГО»","ПАТ «ЧЕРНІГІВОБЛЕНЕРГО»","ДПЕМ ПРАТ «АТОМСЕРВІС»","ДП «РЕГІОНАЛЬНІ ЕЛЕКТРИЧНІ МЕРЕЖІ»","ПРАТ «ДТЕК ПЕМ-ЕНЕРГОВУГІЛЛЯ»","ТОВ «ДТЕК ВИСОКОВОЛЬТНІ МЕРЕЖІ»","АТ «УКРЗАЛІЗНИЦЯ»","КП «МІСЬКІ ЕЛЕКТРИЧНІ МЕРЕЖІ»","ПРАТ «ПЕЕМ «ЦЕК»","ПП «ГАРАНТ ЕНЕРГО М»","ТОВ «ЛУГАНСЬКЕ ЕНЕРГЕТИЧНЕ ОБ’ЄДНАННЯ»"]
[null,null,"Область","Вінницька","Волинська","Дніпропетровська","Донецька","Житомирська","Закарпатська","Запорізька","Київська","Київська","Кіровоградська","Львівська","Миколаївська","Одеська","Полтавська","Івано-Франківська","Рівненська","Сумська","Тернопільска","Харківська","Херсонська","Хмельницька","Черкаська","Чернівецька","Чернігівська","Миколаївська","Донецька. Луганська. Львівська. Волинська","Донецька","Донецька та Дніпропетровська","Донецька. Львівська. Одеська. Харківська. Дніпропетровська. Київська","Рівненська","Дніпропетровська","Львівська","Луганська"]
[null,1," Операційні витрати: / Operating costs",{"$f":"D31+D32+D33+D35+D36+D37+D34","v":1655393},955041,3228888,1888828,1308962,1251627,1920563,1882688,2194790,980960,2073975,1179662,2918865,1680755,1305545,827084,1181636,929251,2444024,947102,1283659,1330878,804401,1069553,45582,258187,82680,167729,1148963,18103,321508,null,{"$f":"AJ31+AJ32+AJ33+AJ35+AJ36+AJ37+AJ34","v":763720}]
[null,"1.1","Матеріальні витрати: / Material Costs",214249,145014,509908,226817,199714,173354,271081,310074,307501,144102,306502,150774,407663,243304,207184,116083,167781,152040,336702,134796,171189,170803,101026,143905,9708,36197,5001,52784,143419,4316,41784,null,88625]
[null,"1.2","Витрати. пов’язані з купівлею електричної енергії з метою компенсації технологічних витрат електричної енергії на її розподіл/Costs. related to the purchase of electricity in order to compensate for the technological costs of electricity for its distribution",478962,253051,840803,638038,346832,434004,639337,771355,1052513,211546,649986,364859,1008786,427823,342075,360522,265912,296197,835670,304202,419306,450749,327173,226440,5680,17297,1651,9399,257079,2047,96169,null,156723]
[null,"1.3","Витрати на оплату праці  /salary expenses",699933,343022,1077505,663485,532388,387828,850087,386862,564592,423149,749889,509778,948027,729001,479467,237406,535223,327011,983988,333104,503802,577562,258737,479329,20410,205155,60193,53199,492593,12050,121758,null,425698]
[null,"1.4","Відрахування на соціальні заходи/Deductions for social events",153985,75465,237051,145966,117125,85322,187019,85110,124210,93093,164975,112151,208566,160380,105483,52230,117749,71942,216478,73282,110837,127064,56922,105453,4490,45134,13242,11704,108370,2651,26787,null,93654]
[null,"1.5","Амортизація  /Depreciation",53794,114898,334768,93368,83246,142293,59987,191345,96235,74632,136066,49818,275004,83136,132814,35942,65567,56462,120558,80577,48714,30581,44924,60552,2651,8041,1014,25525,130683,1267,21362,null,23977]
[null,"1.6","Інші операційні витрати:/Other operating expenses:",41740,23591,224130,121154,29657,28826,38718,137942,49739,30330,66478,24651,70819,37111,38522,24901,29404,25599,78317,21141,29811,34969,15619,53874,2643,9221,1579,15118,16819,779,13648,null,18649]
[null,"1.7","Коригування витрат*/Cost adjustment *",12730,0,4723,0,0,0,-125666,0,0,4108,79,-32369,0,0,0,0,0,0,-127689,0,0,-60850,0,0,0,-62858,0,0,0,-5007,0,null,-43606]
[null,"2","Усього фінансові витрати (% за кредит)/ Financial costs ( loan interest )",0,0,0,0,0,0,0,0,0,0,0,0,0,0,0,0,0,0,0,0,0,0,0,0,0,0,0,0,0,0,0,null,0]
[null,"3","Витрати з прибутку/Profit costs ",81518,22030,141563,77754,66070,32778,47168,64438,57833,52388,94520,28803,119260,42597,49538,29686,64078,26814,57630,19734,59144,33279,30590,58742,1150,10712,2909,7524,26889,920,13046,null,0]
[null,"4","Дефіцит або профіцит коштів у частині надходження та витрат. пов’язаних з наданням послуг з приєднання електроустановок замовників до електричних мереж/Deficit or surplus of funds in terms of revenues and expenditures related to the provision of services for the connection of electrical installations of customers to electrical networks",0,0,0,0,0,0,0,0,0,0,0,0,0,0,0,0,0,0,0,0,0,0,0,0,0,0,0,0,0,0,0,null,0]
[null,"5","Усього загальні витрати (необхідний дохід)/ Total expenses",{"$f":"D40+D39+D38+D30","v":1736911},{"$f":"E40+E39+E38+E30","v":977071},3370451,1966582,1375032,1284405,1967731,1947126,2252623,1033348,2168495,1208465,3038125,1723352,1355083,856770,1245714,956065,2501654,966836,1342803,1364157,834991,1128295,46732,268899,85589,175253,1175852,19023,334554,null,{"$f":"AJ40+AJ39+AJ38+AJ30","v":763720}]
[null,null,"Прогнозований обсяг електричної енергії. що розподіляється на 1 Класі напруги (МВт·год)/ Projected amount of electricity. which is divided into 1 Circuit Class",{"$f":"D41/D43","v":1908.9241556671686},{"$f":"E41/E43","v":1280.4306232636159},6292.851008215086,2044.7954250064986,1521.3896879840675,1307.4421303365298,3044.373791289549,6871.5626764539802,3692.3403488067138,1164.9395743145744,2983.9484258036105,1554.1359088453921,4320.3051676573477,2087.8992003876911,1447.769183102203,1210.1100266945382,1318.606571259209,1045.3596186227558,4042.881153237015,1217.6775818639799,1482.9409166206515,1797.0241858994625,1065.7328108846316,1184.0768609178394,64.629086684737501,948.39699502698136,148.1752709393719,293.33991697911085,1690.1953456280814,45.910462169663326,579.01349948078928,null,588.12838836865456]
[null,null,"Тариф на розподіл електричної енергії для \n2 класу напруги (грн/МВт·год) /Electricity transportation tariff",909.89,763.08,535.6,961.75,903.79999999999984,982.37999999999988,646.35,283.36,610.08000000000004,887.04,726.72,777.58,703.22,825.39999999999986,935.98,708.01,944.72,914.58,618.78,794,905.50000000000011,759.12,783.49,952.89,723.08000000000015,283.52999999999997,577.62,597.44000000000005,695.69,414.35,577.79999999999995,null,1298.56]
[]
[null,"ТАРИФ ПУП"]
[]
[null,2020]
[null,"Постанова/Resolution",null,2701,2702,2703,2704,2705,2706,2707,2708,2709,2710,2712,2713,2714,2715,2716,2717,2718,2719,2720,2721,2722,2723,2724,2725,2710,2702,null,null,2710,null,null,null,2711]
[null,null,"Підприємство-постачальник універсальних послуг/Enterprise-provider of universal services","ТОВ «ЕНЕРА ВІННИЦЯ»","ТОВ «ВОЛИНЬЕЛЕКТРОЗБУТ»","ТОВ «ДНІПРОВСЬКІ ЕНЕРГЕТИЧНІ  ПОСЛУГИ»","ТОВ «ДОНЕЦЬКІ ЕНЕРГЕТИЧНІ ПОСЛУГИ»","ТОВ «ЖИТОМИРСЬКА ОБЛАСНА ЕНЕРГОПОСТАЧАЛЬНА КОМПАНІЯ»","ТОВ «ЗАКАРПАТТЯЕНЕРГОЗБУТ»","ТОВ «ЗАПОРІЖЖЯЕЛЕКТРОПОСТАЧАННЯ»","ТОВ  «КИЇВСЬКІ ЕНЕРГЕТИЧНІ ПОСЛУГИ»","ТОВ «КИЇВСЬКА ОБЛАСНА ЕНЕРГОПОСТАЧАЛЬНА КОМПАНІЯ»","ТОВ «КІРОВОГРАДСЬКА ОБЛАСНА ЕК»","ТОВ «ЛЬВІВЕНЕРГОЗБУТ»","ТОВ «МИКОЛАЇВСЬКА ЕНЕРГОПОСТАЧАЛЬНА КОМПАНІЯ»","ТОВ «ОДЕСЬКА ОБЛАСНА ЕНЕРГОПОСТАЧАЛЬНА КОМПАНІЯ»","ТОВ «ПОЛТАВАЕНЕРГОЗБУТ»","ТОВ «ПРИКАРПАТЕНЕРГОТРЕЙД»","ТОВ  «РІВНЕНСЬКА ОБЛАСНА ЕНЕРГОПОСТАЧАЛЬНА КОМПАНІЯ»","ТОВ «ЕНЕРА СУМИ»","ТОВ «ТЕРНОПІЛЬЕЛЕКТРОПОСТАЧ»","ПРАТ «ХАРКІВЕНЕРГОЗБУТ»","ТОВ «ХЕРСОНСЬКА ОБЛАСНА ЕНЕРГОПОСТАЧАЛЬНА КОМПАНІЯ»","ТОВ «ХМЕЛЬНИЦЬКЕНЕРГОЗБУТ»","ТОВ «ЧЕРКАСИЕНЕРГОЗБУТ»","ТОВ «ЧЕРНІВЕЦЬКА ОБЛАСНА ЕНЕРГОПОСТАЧАЛЬНА КОМПАНІЯ»","ТОВ «ЕНЕРА ЧЕРНІГІВ»","ДПЕМ ПРАТ «АТОМСЕРВІС»","ДП «РЕГІОНАЛЬНІ ЕЛЕКТРИЧНІ МЕРЕЖІ»","ПРАТ «ДТЕК ПЕМ-ЕНЕРГОВУГІЛЛЯ»","ТОВ «ДТЕК ВИСОКОВОЛЬТНІ МЕРЕЖІ»","АТ «УКРЗАЛІЗНИЦЯ»","КП «МІСЬКІ ЕЛЕКТРИЧНІ МЕРЕЖІ»","ПРАТ «ПЕЕМ «ЦЕК»","ПП «ГАРАНТ ЕНЕРГО М»","ТОВ «ЕНЕРА СХІД» (Луганська обл.)"]
[null,"Тариф постачальника універсальних послуг/Tariff of the universal service provider",null,79.98,64.48,64.75,106.94,78.05,63.28,67.209999999999994,51.01,47.72,66.14,62.09,62.16,56.14,83.63,75.5,52.23,93.06,67.099999999999994,60.05,44.05,60.34,71.7,54.19,89.24,117.41,64.48,null,null,117.41,null,null,null,131.83000000000001]

{"sheet":"Споживачі_CONSUMER","index":15,"n_rows":52,"n_cols":20,"rows_kept":52,"cut":false,"hidden":true,"merged":[[30,13,30,18],[31,13,31,18],[24,2,25,2],[24,12,25,12],[27,1,28,2],[27,3,27,5],[27,11,28,12],[27,13,27,15],[29,1,29,2],[29,9,30,9],[29,11,29,12],[5,14,5,19],[6,4,6,9],[6,14,6,19],[8,1,9,1],[8,2,9,2],[8,11,9,11],[8,12,9,12],[5,4,5,9],[42,11,44,11],[1,1,2,2],[2,3,2,5],[3,1,4,2],[3,3,3,5],[3,11,4,12],[11,1,12,1],[11,2,12,2],[11,11,12,11],[11,12,12,12],[21,1,22,1],[21,2,22,2],[21,11,22,11],[21,12,22,12],[36,11,38,11],[39,11,41,11]]}
[]
[null,"ПРОГНОЗ ЦІНИ ЗА Е/Е ДЛЯ КІНЦЕВОГО СПОЖИВАЧА /ENERGY PRICE FORECAST FOR END CONSUMER"]
[null,null,null,"Темп зростання витрат/ The growth rate of costs",null,null,1.1000000000000001]
[null,"I КЛАС НАПРУГИ /  1 Class Circuit",null,"Темп зростання обсягу розподілу  е/е /The growth rate of the distribution of electricity",null,null,1.01,null,null,null,null,"IІ КЛАС НАПРУГИ / 2 Class Circuit"]
[]
[null,null,"Область/Region",null,"Донецька",null,null,null,null,null,null,null,"Область/Region",null,{"$f":"E6","v":"Донецька"}]
[null,null,"Оператор системи розподілу/ Distribution system operator",null,"АТ «ДТЕК ДОНЕЦЬКІ ЕЛЕКТРОМЕРЕЖІ»",null,null,null,null,null,null,null,"Оператор системи розподілу/ Distribution system operator",null,{"$f":"E7","v":"АТ «ДТЕК ДОНЕЦЬКІ ЕЛЕКТРОМЕРЕЖІ»"}]
[null,null,null,null,2020,2021,2022,2023,2024,2025,null,null,null,null,2020,2021,2022,2023,2024,2025]
[null,1," Операційні витрати: / Operating costs","До реалізації/Before implementation",{"$f":"HLOOKUP($E$7,'Тарифи ОСР (НКРЕКП)_Tariff'!$B$7:$AJ$22,3,FALSE)","v":637375},{"$f":"E9*$G$3","v":701112.5},{"$f":"F9*$G$3","v":771223.75000000012},848346.12500000023,933180.73750000028,1026498.8112500004,null,1," Операційні витрати: / Operating costs","До реалізації/Before implementation",{"$f":"HLOOKUP($O$7,'Тарифи ОСР (НКРЕКП)_Tariff'!B$28:$AJ$43,3,FALSE)","v":1888828},{"$f":"O9*$G$3","v":2077710.8000000003},{"$f":"P9*$G$3","v":2285481.8800000004},{"$f":"Q9*$G$3","v":2514030.0680000004},2765433.0748000005,3041976.382280001]
[null,null,null,"Після реалізації /After implementation",{"$f":"E11+E13+E14+E15+E16+E17+E18","v":327265},{"$f":"E10*$G$3","v":359991.5},395990.65,435589.71500000008,479148.68650000013,527063.55515000015,null,null,null,"Після реалізації /After implementation",{"$f":"O11+O13+O14+O15+O16+O17+O18","v":1250790},{"$f":"P11+P13+P14+P15+P16+P17+P18","v":1375869.0000000005},{"$f":"Q11+Q13+Q14+Q15+Q16+Q17+Q18","v":1513455.9000000004},1664801.4900000002,1831281.6390000004,2014409.8029000009]
[null,"1.1","Матеріальні витрати: / Material Costs",null,{"$f":"HLOOKUP($E$7,'Тарифи ОСР (НКРЕКП)_Tariff'!$B$7:$AJ$22,4,FALSE)","v":71271},78398.100000000006,86237.910000000018,94861.70100000003,104347.87110000005,114782.65821000007,null,"1.1","Матеріальні витрати: / Material Costs",null,{"$f":"HLOOKUP($O$7,'Тарифи ОСР (НКРЕКП)_Tariff'!B$28:$AJ$43,4,FALSE)","v":226817},{"$f":"O11*$G$3","v":249498.7},{"$f":"P11*$G$3","v":274448.57},301893.42700000003,332082.76970000006,365291.04667000013]
[null,"1.2","Витрати. пов’язані з купівлею електричної енергії з метою компенсації технологічних витрат електричної енергії на її розподіл/Costs. related to the purchase of electricity in order to compensate for the technological costs of electricity for its distribution","До реалізації/Before implementation",{"$f":"HLOOKUP($E$7,'Тарифи ОСР (НКРЕКП)_Tariff'!$B$7:$AJ$22,5,FALSE)","v":310110},341121,375233.10000000003,412756.41000000009,454032.05100000015,499435.25610000023,null,"1.2","Витрати. пов’язані з купівлею електричної енергії з метою компенсації технологічних витрат електричної енергії на її розподіл/Costs. related to the purchase of electricity in order to compensate for the technological costs of electricity for its distribution","До реалізації/Before implementation",{"$f":"HLOOKUP($O$7,'Тарифи ОСР (НКРЕКП)_Tariff'!B$28:$AJ$43,5,FALSE)","v":638038},{"$f":"O12*$G$3","v":701841.8},772025.9800000001,849228.57800000021,934151.43580000033,1027566.5793800005]
[null,null,null,"Після реалізації / After implementation",null,0,0,0,0,0,null,null,null,"Після реалізації / After implementation",null,{"$f":"O13*$G$3","v":0},{"$f":"P13*$G$3","v":0},0,0,0]
[null,"1.3","Витрати на оплату праці  / salary expenses",null,{"$f":"HLOOKUP($E$7,'Тарифи ОСР (НКРЕКП)_Tariff'!$B$7:$AJ$22,6,FALSE)","v":165871},182458.1,200703.91000000003,220774.30100000006,242851.73110000009,267136.90421000012,null,"1.3","Витрати на оплату праці  / salary expenses",null,{"$f":"HLOOKUP($O$7,'Тарифи ОСР (НКРЕКП)_Tariff'!B$28:$AJ$43,6,FALSE)","v":663485},{"$f":"O14*$G$3","v":729833.50000000012},{"$f":"P14*$G$3","v":802816.85000000021},883098.53500000027,971408.38850000035,1068549.2273500005]
[null,"1.4","Відрахування на соціальні заходи/Deductions for social events",null,{"$f":"HLOOKUP($E$7,'Тарифи ОСР (НКРЕКП)_Tariff'!$B$7:$AJ$22,7,FALSE)","v":36492},40141.200000000004,44155.320000000007,48570.852000000014,53427.937200000022,58770.730920000031,null,"1.4","Відрахування на соціальні заходи/Deductions for social events",null,{"$f":"HLOOKUP($O$7,'Тарифи ОСР (НКРЕКП)_Tariff'!B$28:$AJ$43,7,FALSE)","v":145966},{"$f":"O15*$G$3","v":160562.6},176618.86000000002,194280.74600000004,213708.82060000006,235079.7026600001]
[null,"1.5","Амортизація  /Depreciation ",null,{"$f":"HLOOKUP($E$7,'Тарифи ОСР (НКРЕКП)_Tariff'!$B$7:$AJ$22,8,FALSE)","v":23342},25676.2,28243.820000000003,31068.202000000005,34175.022200000007,37592.524420000009,null,"1.5","Амортизація  /Depreciation ",null,{"$f":"HLOOKUP($O$7,'Тарифи ОСР (НКРЕКП)_Tariff'!B$28:$AJ$43,8,FALSE)","v":93368},{"$f":"O16*$G$3","v":102704.8},112975.28000000001,124272.80800000002,136700.08880000003,150370.09768000004]
[null,"1.6","Інші операційні витрати:/Other operating expenses:",null,{"$f":"HLOOKUP($E$7,'Тарифи ОСР (НКРЕКП)_Tariff'!$B$7:$AJ$22,9,FALSE)","v":30289},33317.9,36649.69,40314.659000000007,44346.12490000001,48780.737390000017,null,"1.6","Інші операційні витрати:/Other operating expenses:",null,{"$f":"HLOOKUP($O$7,'Тарифи ОСР (НКРЕКП)_Tariff'!B$28:$AJ$43,9,FALSE)","v":121154},133269.40000000002,146596.34000000003,161255.97400000005,177381.57140000007,195119.7285400001]
[null,"1.7","Коригування витрат/Cost adjustment *",null,{"$f":"HLOOKUP($E$7,'Тарифи ОСР (НКРЕКП)_Tariff'!$B$7:$AJ$22,10,FALSE)","v":0},0,0,0,0,0,null,"1.7","Коригування витрат/Cost adjustment *",null,{"$f":"HLOOKUP($O$7,'Тарифи ОСР (НКРЕКП)_Tariff'!B$28:$AJ$43,10,FALSE)","v":0},0,0,0,0,0]
[null,"2","Усього фінансові витрати (% за кредит)/ Financial costs ( loan interest )",null,{"$f":"HLOOKUP($E$7,'Тарифи ОСР (НКРЕКП)_Tariff'!$B$7:$AJ$22,11,FALSE)","v":0},0,0,0,0,0,null,"2","Усього фінансові витрати (% за кредит)/ Financial costs ( loan interest )",null,{"$f":"HLOOKUP($O$7,'Тарифи ОСР (НКРЕКП)_Tariff'!B$28:$AJ$43,11,FALSE)","v":0},0,0,0,0,0]
[null,"3","Витрати з прибутку/Profit costs ",null,{"$f":"HLOOKUP($E$7,'Тарифи ОСР (НКРЕКП)_Tariff'!$B$7:$AJ$22,12,FALSE)","v":19439},21382.9,23521.190000000002,25873.309000000005,28460.639900000009,31306.703890000012,null,"3","Витрати з прибутку/Profit costs ",null,{"$f":"HLOOKUP($O$7,'Тарифи ОСР (НКРЕКП)_Tariff'!B$28:$AJ$43,12,FALSE)","v":77754},85529.400000000009,{"$f":"P20*$G$3","v":94082.340000000011},103490.57400000002,113839.63140000003,125223.59454000003]
[null,"4","Дефіцит або профіцит коштів у частині надходження та витрат. пов’язаних з наданням послуг з приєднання електроустановок замовників до електричних мереж/Deficit or surplus of funds in terms of revenues and expenditures related to the provision of services for the connection of electrical installations of customers to electrical networks",null,{"$f":"HLOOKUP($E$7,'Тарифи ОСР (НКРЕКП)_Tariff'!$B$7:$AJ$22,13,FALSE)","v":0},0,0,0,0,0,null,"4","Дефіцит або профіцит коштів у частині надходження та витрат. пов’язаних з наданням послуг з приєднання електроустановок замовників до електричних мереж/Deficit or surplus of funds in terms of revenues and expenditures related to the provision of services for the connection of electrical installations of customers to electrical networks",null,{"$f":"HLOOKUP($O$7,'Тарифи ОСР (НКРЕКП)_Tariff'!B$28:$AJ$43,13,FALSE)","v":0},{"$f":"O21*$G$3","v":0},{"$f":"P21*$G$3","v":0},0,0,0]
[null,"5","Усього загальні витрати (необхідний дохід)/ Total expenses","До реалізації/Before implementation",{"$f":"E9+E19+E20+E21","v":656814},722495.4,794744.94000000006,874219.43400000012,961641.37740000023,1057805.5151400003,null,"5","Усього загальні витрати (необхідний дохід)/ Total expenses","До реалізації/Before implementation",{"$f":"O9+O19+O20+O21","v":1966582},{"$f":"P9+P19+P20+P21","v":2163240.2000000002},2379564.2200000002,2617520.6420000005,2879272.7062000004,3167199.9768200009]
[null,null,null,"Після реалізації/ after implementation",{"$f":"E10+E19+E20+E21","v":346704},381374.4,419511.84000000008,461463.02400000015,507609.32640000019,558370.25904000027,null,null,null,"Після реалізації/ after implementation",{"$f":"O10+O19+O20+O21","v":1328544},{"$f":"P10+P19+P20+P21","v":1461398.4000000004},1607538.2400000005,1768292.0640000002,1945121.2704000005,2139633.3974400009]
[null,null,"Прогнозований обсяг електричної енергії. що розподіляється на 1 Класі напруги (МВт·год)/ Projected amount of electricity. which is divided into 1 Circuit Class",null,{"$f":"HLOOKUP($E$7,'Тарифи ОСР (НКРЕКП)_Tariff'!$B$7:$AJ$22,15,FALSE)","v":3422.1539102797892},{"$f":"E24*$G$4","v":3456.3754493825872},{"$f":"F24*$G$4","v":3490.9392038764131},3525.8485959151772,3561.1070818743287,3596.7181526930722,null,null,"Прогнозований обсяг електричної енергії. що розподіляється на 1 Класі напруги (МВт·год)/ Projected amount of electricity. which is divided into 1 Circuit Class",null,{"$f":"HLOOKUP($O$7,'Тарифи ОСР (НКРЕКП)_Tariff'!B$28:$AJ$43,15,FALSE)","v":2044.7954250064986},{"$f":"O24*$G$4","v":2065.2433792565635},{"$f":"P24*$G$4","v":2085.8958130491292},2106.7547711796205,2127.8223188914167,2149.1005420803308]
[null,null,"Тариф на розподіл електричної енергії для \n1 класу напруги (грн/МВт·год) /Electricity transportation tariff","До реалізації/Before implementation",{"$f":"HLOOKUP($E$7,'Тарифи ОСР (НКРЕКП)_Tariff'!$B$7:$AJ$22,16,FALSE)","v":191.93},{"$f":"F22/F24","v":209.03267326732674},{"$f":"G22/G24","v":227.65934712283112},247.94582359912303,270.040005900035,294.10297672281041,null,null,"Тариф на розподіл електричної енергії для \n2 класу напруги (грн/МВт·год) /Electricity transportation tariff","До реалізації/Before implementation",{"$f":"HLOOKUP($O$7,'Тарифи ОСР (НКРЕКП)_Tariff'!B$28:$AJ$43,16,FALSE)","v":961.75},{"$f":"P22/P24","v":1047.450495049505},{"$f":"Q22/Q24","v":1140.7876678756986},1242.4420145180877,1353.1546692771251,1473.7328081236019]
[null,null,null,"Після реалізації/after implementation",{"$f":"E23/E24","v":101.31163269966841},{"$f":"F23/F24","v":110.33940195013392},{"$f":"G23/G24","v":120.17162588628447},130.8799885890227,142.54256182962871,155.24437426989266,null,null,null,"Після реалізації/after implementation",{"$f":"O23/O24","v":649.71976352880279},{"$f":"P23/P24","v":707.61558404127061},{"$f":"Q23/Q24","v":770.6704380647501},839.34404145665837,914.13707485378654,995.5948339991736]
[]
[null,"ЦІНА Е/Е / Electricity price",null,"Темп зростання ціни на е/е / Electricity price growth rate ",null,null,1.07,null,null,null,null,"ТАРИФ ПУП/ Universal service provider tariff",null,"Темп зростання тарифу на ПУП / tariff for universal service provider growth rate ",null,null,1.07]
[]
[null,null,null,2020,2021,2022,2023,2024,2025," Від середньої /from average",null,null,null,2020,2021,2022,2023,2024,2025]
[null,null,"ОЕС України / IPS Ukraine ",null,null,null,null,null,null,null,null,null,"Область/Region",{"$f":"E6","v":"Донецька"}]
[null,null,"Ринок на добу наперед / day ahead market",null,null,null,null,null,null,null,null,null,"Постачальник універсальних послуг/ Universal service provider ","АТ «УКРЗАЛІЗНИЦЯ»"]
[null,null,"Peak",{"$f":"D35*$J$33","v":1749.7904000000001},{"$f":"E35*$J$33","v":1872.2757280000001},{"$f":"F35*$J$33","v":2003.33502896},2143.5684809872005,2293.6182746563045,2454.1715538822459,1.206752,null,null,"Тариф на постачання універсальних послуг / Universal service provider tariff",{"$f":"HLOOKUP(N32,'Тарифи ОСР (НКРЕКП)_Tariff'!$B$49:$AJ$50,2,FALSE)","v":117.41},{"$f":"N33*$Q$28","v":125.62870000000001},{"$f":"O33*$Q$28","v":134.42270900000003},143.83229863000003,153.90055953410004,164.67359870148707]
[null,null,"Offpeak",{"$f":"D35*$J$34","v":860.85919999999999},{"$f":"E35*$J$34","v":921.11934399999996},{"$f":"F35*$J$34","v":985.59769807999999},1054.5895369456,1128.4108045317921,1207.3995608490177,0.593696]
[null,null,"Середня/average",1450,{"$f":"D35*$G$28","v":1551.5},{"$f":"E35*$G$28","v":1660.105},{"$f":"F35*$G$28","v":1776.3123500000002},1900.6542145000003,2033.7000095150004]
[null,null,"Небаланси/Imbalances",2200,{"$f":"D36*$G$28","v":2354},{"$f":"E36*$G$28","v":2518.7800000000002},2695.0946000000004,2883.7512220000003,3085.6138075400004,null,null,null,null,2020,2021,2022,2023,2024,2025]
[null,null,"Допоміжні послуги/Ancillary services",54.41,{"$f":"D37*$G$28","v":58.218699999999998},62.294009000000003,66.654589630000004,71.320410904100015,76.312839667387024,null,null,"До реалізації / before implementation","Споживачі ОСП /transmission system operator consumers ",{"$f":"D43+'Тариф ОСП_Tariff'!G38+'Тариф ОСП_Tariff'!H38+Споживачі_CONSUMER!D37","v":2113.6548665242053},{"$f":"'Тариф ОСП_Tariff'!J38+'Тариф ОСП_Tariff'!K38+Споживачі_CONSUMER!E43+Споживачі_CONSUMER!E37","v":2361.9428148108195},{"$f":"F37+F43+'Тариф ОСП_Tariff'!M38+'Тариф ОСП_Tariff'!N38","v":2474.0539801120435},{"$f":"G37+G43+'Тариф ОСП_Tariff'!P38+'Тариф ОСП_Tariff'!Q38","v":2425.3919151798882},{"$f":"H43+H37+'Тариф ОСП_Tariff'!S38+'Тариф ОСП_Tariff'!T38","v":2574.6601256276522},{"$f":"I37+I43+'Тариф ОСП_Tariff'!V38+'Тариф ОСП_Tariff'!W38","v":2736.978351039998}]
[null,null,"БуТЕС ",null,null,null,null,null,null,null,null,null,"Споживачі ОСР 1 класу/ distribution system operator consumers 1 class",{"$f":"D43+'Тариф ОСП_Tariff'!G38+Споживачі_CONSUMER!E25+Споживачі_CONSUMER!N33+Споживачі_CONSUMER!D37","v":2318.4208482034742},{"$f":"E43+'Тариф ОСП_Tariff'!J38+Споживачі_CONSUMER!E37+Споживачі_CONSUMER!F25+Споживачі_CONSUMER!O33","v":2588.677841655764},{"$f":"F43+F37+G25+P33+'Тариф ОСП_Tariff'!M38","v":2725.9055609179618},{"$f":"G43+G37+H25+Q33+'Тариф ОСП_Tariff'!P38","v":2719.6789385572015},{"$f":"H43+I25+H37+R33+'Тариф ОСП_Tariff'!S38","v":2897.7268891868821},{"$f":"I43+I37+J25+S33+'Тариф ОСП_Tariff'!V38","v":3090.3913309002101}]
[null,null,"Ринок на добу наперед / day ahead market",null,null,null,null,null,null,null,null,null,"Споживачі ОСР 2 класу/ distribution system operator  consumers 2 class",{"$f":"N33+O25+D37+D43+'Тариф ОСП_Tariff'!G38","v":3088.2408482034743},{"$f":"O33+P25+E37+E43+'Тариф ОСП_Tariff'!J38","v":3427.0956634379422},{"$f":"P33+Q25+F43+F37+'Тариф ОСП_Tariff'!M38","v":3639.0338816708295},{"$f":"Q33+R25+G37+G43+'Тариф ОСП_Tariff'!P38","v":3714.1751294761661},{"$f":"R33+S25+H43+H37+'Тариф ОСП_Tariff'!S38","v":3980.8415525639725},{"$f":"S33+T25+I43+I37+'Тариф ОСП_Tariff'!V38","v":4270.0211623010009}]
[null,null,"Peak",{"$f":"D42*$J$40","v":2125},{"$f":"E42*$J$40","v":2273.75},2432.9125000000004,2603.216375,2785.4415212500003,2980.4224277375006,1.25,null,"Після реалізації / after implementation ","Споживачі ОСП / transmission system operator consumers",{"$f":"D37+D43+'Тариф ОСП_Tariff'!G39+'Тариф ОСП_Tariff'!H39","v":2113.7352474136687},{"$f":"E37+E43+'Тариф ОСП_Tariff'!J39+'Тариф ОСП_Tariff'!K39","v":2362.5313401575299},{"$f":"F43+F37+'Тариф ОСП_Tariff'!M39+'Тариф ОСП_Tariff'!N39","v":2474.6098465137898},{"$f":"G37+G43+'Тариф ОСП_Tariff'!P39+'Тариф ОСП_Tariff'!Q39","v":2425.7967964710406},{"$f":"H43+H37+'Тариф ОСП_Tariff'!S39+'Тариф ОСП_Tariff'!T39","v":2575.0454816827864},{"$f":"I37+I43+'Тариф ОСП_Tariff'!V39+'Тариф ОСП_Tariff'!W39","v":2737.1823566199614}]
[null,null,"Offpeak",{"$f":"D42*$J$41","v":905.83555555555552},{"$f":"E42*$J$41","v":969.24404444444451},1037.0911275555557,1109.6875064844446,1187.3656319383558,1270.4812261740406,0.53284444444444445,null,null,"Споживачі ОСР 1 класу/ distribution system operator consumers 1 class",{"$f":"N33+D43+D37+E26+'Тариф ОСП_Tariff'!G39","v":2227.8739143573612},{"$f":"O33+E43+E37+F26+'Тариф ОСП_Tariff'!J39","v":2490.4126347969273},{"$f":"P33+F43+F37+G26+'Тариф ОСП_Tariff'!M39","v":2618.8146540068792},{"$f":"Q33+G43+G37+H26+'Тариф ОСП_Tariff'!P39","v":2602.8870845326937},{"$f":"R33+H43+I26+'Тариф ОСП_Tariff'!S39+H37","v":2770.486753152079},{"$f":"S33+I37+I43+J26+'Тариф ОСП_Tariff'!V39","v":2951.6714306073304}]
[null,null,"Середня/average",{"$f":"1700","v":1700},{"$f":"D42*$G$28","v":1819},{"$f":"E42*$G$28","v":1946.3300000000002},2082.5731000000001,2228.3532170000003,2384.3379421900004,null,null,null,"Споживачі ОСР 2 класу / distribution system operator consumers 2 class",{"$f":"N33+D43+D37+O26+'Тариф ОСП_Tariff'!G39","v":2776.2820451864955},{"$f":"O33+P26+E37+E43+'Тариф ОСП_Tariff'!J39","v":3087.6888168880641},{"$f":"P33+Q26+F43+F37+'Тариф ОСП_Tariff'!M39","v":3269.3134661853455},{"$f":"Q33+R26+G43+G37+'Тариф ОСП_Tariff'!P39","v":3311.3511374003297},{"$f":"R33+S26+H43+H37+'Тариф ОСП_Tariff'!S39","v":3542.081266176237},{"$f":"S33+T26+I43+I37+'Тариф ОСП_Tariff'!V39","v":3792.0218903366117}]
[null,null,"Оптова ціна на е/е Wholesale electricity price ",{"$f":"D35*$D$51*$D$46+D35*$D$47+D35*$D$48*$D$52+D36*$D$49","v":1426.1000000000001},{"$f":"E35*$D$51*$D$46+E35*$D$47+E35*$D$48*$D$52+E36*$D$49","v":1525.9269999999999},{"$f":"F35*$D$51*$D$46+F35*$D$47+F35*$D$48*$D$52+F36*$D$49","v":1632.74189},1747.0338223000003,1869.3261898610003,2000.1790231512703,null,null," △","Споживачі ОСП/ transmission system operator consumers",{"$f":"N40/N37-1","v":3.8029335222455884E-5},{"$f":"O40/O37-1","v":2.4917002351632078E-4},2.2467836442308098E-4,1.6693437815895606E-4,1.4967259223785945E-4,7.453678977253908E-5]
[null,null,null,null,null,null,null,null,null,null,null,null,"Споживачі ОСР 1 класу/ distribution system operator consumers 1 class",{"$f":"N41/N38-1","v":-3.9055434614589934E-2},{"$f":"O41/O38-1","v":-3.7959612153200428E-2},-3.9286359896862799E-2,-4.2943250531794819E-2,-4.3910327267076332E-2,-4.4887486871273197E-2]
[null,null,"Частка ринкових сегментів /Market share",null,null,null,null,null,null,null,null,null,"Споживачі ОСР 2 класу / distribution system operator consumers 2 class",{"$f":"N42/N39-1","v":-0.10101504978099585},-9.9036291916461128E-2,-0.10159850869971299,-0.10845584228890393,-0.11021797290704516,-0.11194306861627079]
[null,null,"Двосторонні договори / bilateral treaties ",{"$f":"1-SUM(D47:D49)","v":0.66}]
[null,null,"РДН / day ahead market ",0.3]
[null,null,"ВДР / day market",0.01]
[null,null,"БР / Balance market",0.03]
[null,null,"Цінові модифікатори (на підставі РДН) / Price modifiers (based on day ahead market)"]
[null,null,"Двосторонні договори/  bilateral treaties ",0.95]
[null,null,"ВДР / day market",1.1000000000000001]

{"sheet":"TenYearsMarket","index":16,"n_rows":45,"n_cols":22,"rows_kept":45,"cut":false,"hidden":true,"merged":[[96,8,96,13],[57,8,57,13],[70,8,70,13],[83,8,83,13]]}
["Припущення","Показники, які можна змінювати","Показники, коефіцієнти","Од.вим","Джерело даних",2019,2020,2021,2022,2023,2024,2025,2026,2027,2028,2029,2030,2031,2032,2033,2034]
[null,null,"Облікова ставка НБУ","%","Станом на 04.09.2019",0.16500000000000001,0.16500000000000001,0.14000000000000001,0.14000000000000001,0.14000000000000001,0.14000000000000001,0.14000000000000001,0.14000000000000001,0.14000000000000001,0.14000000000000001]
[null,0.3,"Ставка дивідендів","%",null,0.3,0.3,0.3,0.3,0.3,0.3,0.3,0.3,0.3,0.3,0.3]
[null,null,"Податок на прибуток ","%",null,0.18,0.18,0.18,0.18,0.18,0.18,0.18,0.18,0.18,0.18,0.18]
[null,null,"Індекс споживчіх цін","%","Постанова КМУ №555 від 15.05.2019",null,6.8000000000000005E-2,6.0999999999999999E-2,6.7000000000000004E-2,0.06,0.06,0.06,0.06,0.06,0.06,0.06]
[null,null,"Індекс цін виробників","%","Постанова КМУ №555 від 15.05.2019",null,8.4000000000000005E-2,8.6999999999999994E-2,0.08,6.0999999999999999E-2,6.0999999999999999E-2,6.0999999999999999E-2,6.0999999999999999E-2,6.0999999999999999E-2,6.0999999999999999E-2,6.0999999999999999E-2]
[null,1.01,"Збільшення відпуску в мережу",null,"Експертна думка",1.01,1.01,1.01,1.01,1.01,1.01,1.01,1.01,1.01,1.01,1.01]
[null,null,"Коефіціент поправки на зміну кількості у.о. обладнання",null,"Встановлюється НКРЕКП"]
[null,null,"Корегування з урахуванням економії контрольованих операційних витрат  (+/-)",null,"За результатами діяльності ",null,null,null,"50% економії вилучається з доходу наступного періоду","50% економії вилучається з доходу наступного періоду","50% економії вилучається з доходу наступного періоду","50% економії вилучається з доходу наступного періоду","50% економії вилучається з доходу наступного періоду","50% економії вилучається з доходу наступного періоду","50% економії вилучається з доходу наступного періоду"]
[null,null,"Індекс заробітньої платні",null,"Постанова КМУ №555 від 15.05.2019",null,null,1.25,1.0720000000000001,1.071,1.071,1.071,1.071,1.071,1.071,1.071]
[null,null,"ЄСВ",null,"ставка збору",0.22,0.22,0.22,0.22,0.22,0.22,0.22,0.22,0.22,0.22,0.22]
[null,null,"OPEX база "]
[null,null,"Операційні витрати, в т.ч.:","тис.грн",null,3951138,7102785.9542997424,5077199,5387190.2707600007,5704800.3250609599,6044402.3016655082,6407523.8729018914,6795799.1352939522,7210976.042313912,7654924.3574018143,8129644.1637395425]
[null,null,"Матеріальні витрати","тис.грн",null,320791,363393,380483,410921.64,435987.86004,462583.11950243998,490800.68979208882,520739.53186940623,552504.64331344003,586207.42655555985,621966.079575449,null,0]
[null,null,"Витрати на оплату праці","тис.грн",null,1902189,2630917,2849214,3054357.4080000003,3271216.7839680002,3503473.175629728,3752219.7710994384,4018627.3748474983,4303949.9184616702,4609530.3626724482,4936807.018422192,null,0]
[null,null,"Відрахування на соціальні заходи","тис.грн",null,379486,578802,626827,671958.62976000004,719667.6924729601,770764.09863854013,825488.34964187641,884098.02246644965,946868.98206156748,1014096.6797879386,1086097.5440528824,null,0]
[null,null,"Амортизація","тис.грн",null,967476,3121803.9542997424,783696,783696,783696,783696,783696,783696,783696,783696,783696,null,0]
[null,null,"Інші витрати","тис.грн",null,381196,407870,436979,466256.59299999999,494231.98858,523885.90789480001,555319.06236848806,588638.20611059736,623956.49847723322,661393.88838586723,701077.52168901928,null,0]
[null,null,"Різниця між бухгалтерською та податковою амортизацією","тис.грн",null,null,null,null,null,null,null,null,null,null,null,null,null,0]
[null,null,"Фінансові витрати","тис.грн",null,339958,2495638.0781392921,641433,849919.80357872066,905994.8636839618,887293.27295773127,789078.46858651331,704305.29604520614,621735.48320739286,537987.19666867668,465417.03689942393,null,0]
[null,null,"% витрати по позикаъ на ГарПок",null,null,null,null,1626419.021520375,1557838.0430407496,519279.34768024983,0,0,0,0,null,null,null,0]
[null,null,"Витрати на придбання допоміжних послуг","тис.грн",null,null,null,9031187,9753681.9600000009,10348656.559560001,10979924.60969316,11649700.010884443,12360331.711548394,13114311.945952846,13914284.974655969,14763056.358109983,null,0]
[null,null,"Витрати з прибутку, в т.ч.:","тис.грн",null,2318126,0,3423385,20680702.528267503,25581550.773921218,12296336.212951979,8762363.1995587982,7077210.6594212465,6751172.6048952471,6067197.3204742391,5967423.4276827145,null,0]
[null,null,"Податок на прибуток ","тис.грн",null,454031,0,659888,3722526.4550881512,4604679.1393058198,2213340.5183313559,1577225.3759205837,1273897.9186958245,1215211.0688811445,1092095.5176853631,1074136.2169828885,null,0]
[null,null,"Чистий прибуток","тис.грн",null,1864095,0,2763497,16958176.073179353,20976871.634615399,10082995.694620622,7185137.8236382138,5803312.7407254223,5535961.5360141024,4975101.802788876,4893287.2106998255,null,0]
[null,null,"у т. ч. капітальні інвестиції","тис.грн",null,87131.85566663323,null,300000,300000,300000,300000,300000,300000,300000,300000,300000,null,0]
[null,null,"у т. ч. на повернення залучених кредитних коштів ","тис.грн",null,1278922.1443333668,null,2213751,2967953.065969354,2728244.9054515921,3489934.2042360022,3860239.1152520278,3347771.3936339589,3494967.7137964754,3014313.341984645,3100756.6698631626,null,0]
[null,null,"у т. ч. інші витрати з прибутку","тис.грн",null,498041,null,9804,null,null,null,null,null,null,null,null,null,0]
[null,null,"у т.ч. дивіденди","тис.грн",null,0,null,239942,829049.1,5087452.8219538061,6293061.4903846197,3024898.7083861865,2155541.3470914639,1740993.8222176267,1660788.4608042308,1492530.5408366628,null,0]
[null,null,"повернення тіла кредиту на ГарПок",null,null,null,null,0,12861173.90721,12861173.90721,0,0,0,0,0,0,null,0]
[null,null,"Усього витрат","тис.грн",null,6609222,9598424.0324390344,19799623.021520376,38229332.605646968,43060281.869906388,30207956.397268377,27608665.551931646,26937646.802308798,27698196.076369397,28174393.849200699,29325540.986431666,null,0]
[null,null,"Витрати, пов’язані з купівлею електричної енергії з метою компенсації технологічних витрат електричної енергії","тис.грн",null,1337523,null,4733931,5101615.4207699997,5461789.4694763618,5847391.8060213923,6260217.6675265031,6702189.0348538738,7175363.5807145573,7681944.2495130049,8224289.5135286236,null,0]
[null,null,"Витрати на виконання спеціальних обов’язків для забезпечення загальносуспільних інтересів","тис.грн",null,6352046,null,27209880.01274344,29032941.973597247,30774918.492013082,32621413.601533867,34578698.417625904,36653420.322683461,38852625.542044468,41183783.074567139,43654810.059041172,null,0]
[null,null,"Витрати на послугу із зменшення навантаження ВДЕ","тис.грн",null,null,null,2468850,null,null,null,null,null,null,null,null,null,-641901]
[null,null,"Необхідний дохід","тис.грн",null,14298791,{"$error":"#REF!"},54212284.034263819,72363890.000014216,79296989.831395835,68676761.804823637,68447581.637084052,70293256.159846127,73726185.199128419,77040121.173280835,81204640.559001461]
[null,null,"Обсяг передачі"," МВт∙год",null,125368000,139156000,138871974.40795839,140003427.41148576,140823966.66371116,141246311.4945693,141428361.26099074,142488761.81003228,145316995.4052898,146335734.55083266,148412428.34825221]
[null,null,null,null,null,null,null,null,null,null,null,null,null,null,null,null,"x"]
[null,null,"Частка OPEX для послуг передачі е/е",null,null,0.8,0.8,0.79659999999999997,{"$f":"H38","v":0.79659999999999997},{"$f":"I38","v":0.79659999999999997},0.79659999999999997,0.79659999999999997,0.79659999999999997,0.79659999999999997,0.79659999999999997,0.79659999999999997]
[]
[]
[null,null,"Курс валют UAH/US$","UAH/US$",null,null,null,27.32,28.7,28.8,{"$f":"J44*J41","v":28.90034843205575},29.001046510216224,29.10209545276053,29.203496482212657,29.305250825356254,29.40735971324948,29.509824381239895,29.612646068979405,29.715826020439263,29.819365483925115,29.9232657120921,30.027527961960015]
[null,"https://apecon.ru/prognoz-evro-dollar-forex-na-zavtra-nedelyu-mesyats-5-let","Прогноз курса EUR/US$","EUR/US$",null,null,null,null,1.131,1.139,1.169,1.109,1.0840000000000001,{"$f":"M42*M42/L42","v":1.0595635707844906},{"$f":"N42*N42/M42","v":1.0356780078723065},1.012330893177259,{"$f":"P42","v":1.012330893177259},1.012330893177259,1.012330893177259,{"$f":"S42","v":1.012330893177259},1.012330893177259,1.012330893177259]
[null,null,"Курс валют UAH/EUR","UAH/EUR",null,null,null,null,32.200000000000003,{"$f":"I43*I44","v":33.826500732064424},{"$f":"J43*J44","v":33.944363103953151},34.062636146127204,34.181321289493503,34.300419969944699,34.419933628376562,34.539863710705397,34.660211667885555,34.780978955926969,34.902167035912775,35.023777374017001,35.145811441522284,35.268270714837691]
[null,null,null,null,null,null,null,null,{"$f":"I41/H41","v":1.0505124450951684},1.0034843205574913,1.0034843205574913,1.0034843205574913,1.0034843205574913,1.0034843205574913,1.0034843205574913,1.0034843205574913,1.0034843205574913,1.0034843205574913,1.0034843205574913,1.0034843205574913,1.0034843205574913,1.0034843205574913]
[null,"https://apecon.ru/prognoz-evro-dollar-forex-na-zavtra-nedelyu-mesyats-5-let","Прогноз курса US$/EUR","US$/EUR",null,null,null,null,0.93941666666666668,0.93679166666666658,0.91204166666666653,0.96170833333333328,0.98299999999999987,{"$f":"M45*M45/L45","v":1.0047630518608377},{"$f":"N45*N45/M45","v":1.0270079251116018},1.0497452869993895,1.0729860409379834,1.0967413317364458,1.1210225509434699,1.1458413423100533,1.1712096073731109,1.1971395111627063]

{"sheet":"Строки експлуатації_useful life","index":17,"n_rows":61,"n_cols":9,"rows_kept":61,"cut":false,"hidden":true,"merged":[[1,1,1,2],[60,1,60,3],[1,6,1,7],[60,6,60,8]]}
[]
[null,"СТРОКИ КОРИСНОГО ВИКОРИСТАННЯ ОБЛАДНАННЯ",null,null,null,null,"TERMS OF USEFUL LIFE OF THE EQUIPMENT"]
[]
[null,"Група","Групи активів ліцензіатів з передачі електричної енергії магістральними та міждержавними електромережами","Строки корисного використання",null,null,"Group","Assets groups of licensees for electricity transmission by main and interstate power grids","Useful life"]
[null,1,"Будівлі, споруди, передавальні пристрої",null,null,null,1,"Buildings, structures, transmitting devices"]
[null,1.1000000000000001,"Будівлі",null,null,null,1.1000000000000001,"Buildings"]
[null,"1.1.1","Будівлі технологічного (виробничого) призначення",50,null,null,"1.1.1","Technological (production) buildings",50]
[null,"1.1.2","Будівлі інфраструктурні (інженерна інфраструктура, склади, транспорт)",50,null,null,"1.1.2","Infrastructure buildings (engineering infrastructure, warehouses, transport)",50]
[null,"1.1.3","Будівлі адміністративного призначення",70,null,null,"1.1.3","Administrative buildings",70]
[null,1.2,"Споруди",30,null,null,1.2,"Structures",30]
[null,1.3,"Передавальні пристрої (повітряні та кабельні лінії електропередач):",null,null,null,1.3,"Transmitting devices (overhead and cable power lines):"]
[null,"1.3.1","ПЛ-800 кВ",40,null,null,"1.3.1","OHL-800 kV",40]
[null,"1.3.2","ПЛ-750 кВ",40,null,null,"1.3.2","OHL-750 kV",40]
[null,"1.3.3","ПЛ-500 кВ",40,null,null,"1.3.3","OHL-500 kV",40]
[null,"1.3.4","ПЛ-400 кВ",40,null,null,"1.3.4","OHL-400 kV",40]
[null,"1.3.5","ПЛ-330 кВ",40,null,null,"1.3.5","OHL-330 kV",40]
[null,"1.3.6","ПЛ-220 кВ",40,null,null,"1.3.6","OHL-220 kV",40]
[null,"1.3.7","ПЛ-110 кВ",40,null,null,"1.3.7","OHL-110 kV",40]
[null,"1.3.8","ПЛ-35 кВ",40,null,null,"1.3.8","OHL-35kV",40]
[null,"1.3.9","КЛ-110 кВ",30,null,null,"1.3.9","CL-110 kV",30]
[null,"1.3.10","КЛ-35 кВ",30,null,null,"1.3.10","CL-35 kV",30]
[null,"1.3.11","КЛ-0,4-10 Кв",30,null,null,"1.3.11","CL-0,4-10 kV",30]
[null,1.4,"Розподільчі пристрої",null,null,null,1.4,"Distribution devices"]
[null,"1.4.1","РП-750 кВ",35,null,null,"1.4.1","DD-750 kV",35]
[null,"1.4.2","РП-500 кВ",35,null,null,"1.4.2","DD-500 kV",35]
[null,"1.4.3","РП-400 кВ",35,null,null,"1.4.3","DD-400 kV",35]
[null,"1.4.4","РП-330 кВ",35,null,null,"1.4.4","DD-330 kV",35]
[null,"1.4.5","РП-220 кВ",35,null,null,"1.4.5","DD-220 kV",35]
[null,"1.4.6","РП-110 кВ",35,null,null,"1.4.6","DD-110 kV",35]
[null,"1.4.7","РП-35 кВ",35,null,null,"1.4.7","DD-35 kV",35]
[null,"1.4.8","РП-10 кВ",35,null,null,"1.4.8","DD-10 kV",35]
[null,"1.5","Силові трансформатори:",null,null,null,"1.5","Power transformers:"]
[null,"1.5.1","Трансформатори 750 кВ",35,null,null,"1.5.1","Transformators 750 kV",35]
[null,"1.5.2","Трансформатори 500 кВ",35,null,null,"1.5.2","Transformators 500 kV",35]
[null,"1.5.3","Трансформатори 400 кВ",35,null,null,"1.5.3","Transformators 400 kV",35]
[null,"1.5.4","Трансформатори 330 кВ",35,null,null,"1.5.4","Transformators 330 kV",35]
[null,"1.5.5","Трансформатори 220 кВ",35,null,null,"1.5.5","Transformators 220 kV",35]
[null,"1.5.6","Трансформатори 154 кВ",30,null,null,"1.5.6","Transformators 154 kV",30]
[null,"1.5.7","Трансформатори 110 кВ",30,null,null,"1.5.7","Transformators 110 kV",30]
[null,"1.5.8","Трансформатори 35 кВ",30,null,null,"1.5.8","Transformators 35 kV",30]
[null,"1.5.9","Трансформатори 3-20 кВ",30,null,null,"1.5.9","Transformators 3-20 kV",30]
[null,"1.6","Шунтуючі реактори:",null,null,null,"1.6","Shunt reactors:"]
[null,"1.6.1","Реактор 750 кВ",35,null,null,"1.6.1","Reactor 750 kV",35]
[null,"1.6.2","Реактор 500 кВ",35,null,null,"1.6.2","Reactor 500 kV",35]
[null,"1.6.3","Реактор 35 кВ",35,null,null,"1.6.3","Reactor 35 kV",35]
[null,"1.6.4","Реактор 0,4-10 кВ",35,null,null,"1.6.4","Reactor 0,4-10 kV",35]
[null,2,"Машини та обладнання:",null,null,null,2,"Machines and equipment:"]
[null,2.1,"Технологічне обладнання:",25,null,null,2.1,"Technical equipment:",25]
[null,"2.1.1","Вимірювальні пристрої, телемеханіка та релейний захист автоматика",15,null,null,"2.1.1","Measuring devices, telemechanics and relay protection automation",15]
[null,"2.1.2","Обладнання системи зв'язку",15,null,null,"2.1.2","Communication system equipment",15]
[null,"2.1.3","Обчислювальна техніка",7,null,null,"2.1.3","Computers",7]
[null,"2.1.4","Транспортні засоби, спецтехніка і спецмеханізми",10,null,null,"2.1.4","Vehicles, special equipment and special mechanisms",10]
[null,"2.1.5","Інше обладнання",7,null,null,"2.1.5","Other equipment",7]
[null,"2.2","Діагностичне обладнання",null,null,null,"2.2","Diagnostic equipment"]
[null,"2.2.1","Прилади і пристрої",5,null,null,"2.2.1","Devices",5]
[null,"2.2.2","Інше обладнання",5,null,null,"2.2.2","Other equipment",5]
[null,"3","Меблі",15,null,null,"3","Furniture",15]
[null,"4","Інвентар",5,null,null,"4","Inventory",5]
[null,5,"Програмне забезпечення",7,null,null,5,"Software",7]
[null,6,"Інші активи",15,null,null,6,"Other assets",15]
[null,"Джерело: Додаток до Порядку визначення регуляторної бази активів для ліцензіата для передачі електричної енергії магістральними та міждержавними електромережами Постанови Національної комісії, що здійснює регулювання у сферах енергетики та комунальних послуг від 27.07.17 № 979",null,null,null,null,"Source: Annex to the Procedure for Determining the Regulatory Base of Assets for a Licensee for Transmission of Electricity through Main and Interstate Electricity Networks of the Resolution of the National Commission for Regulation of Energy and Utilities dated July 27, 2017 № 979"]

{"sheet":"Списки","index":18,"n_rows":123,"n_cols":17,"rows_kept":123,"cut":false,"hidden":false,"merged":[]}
["Вид робіт за проектом","Поточний стан проекту","Фінансування",null,"Енергосистема","Підстанція","ТУОМ","Валюта","Залишкова вартість","Оцінка ризику","Ймовірність ризику","Об'єкт","Область","ОСР","ПУП","Області України","Ставка дисконтування"]
["Нове будівництво","Передпроектні роботи","Кредитні кошти","Кредитні кошти/Loan","Дніпровська ","ПС 220 кВ Азовська ","--","тис.UAH/ ths.UAH","Ліквідаційна","Незначний/Minor","Малоймовірно/Unlikely","Підстанція","Вінницька","ПАТ «ВІННИЦЯОБЛЕНЕРГО»","ТОВ «ЕНЕРА ВІННИЦЯ»","Вінницька",0.1608]
["Технічне переоснащення","Не розпочатий","Власні кошти","Власні кошти/Own funds","Дніпровська ","ПС 330 кВ ВДМГК","Західне ТУОМ","млн.UAH/mln.UAH","Подовжена","Помірний/Moderate","Можливо/Maybe","Повітряна лінія","Волинська","ПРАТ «ВОЛИНЬОБЛЕНЕРГО»","ТОВ «ВОЛИНЬЕЛЕКТРОЗБУТ»","Волинська",0.1004]
["Реконструкція","Землевпорядкування","Кредитні + Власні кошти","Кредитні кошти/Loan","Дніпровська ","ПС 330 кВ Гірнична","Південне ТУОМ","тис.US$/ ths.US$","Відсутня","Катастрофічний/Disastrous","Велика вірогідність реалізації/High probability of realization","Системи накопичення електроенергії","Волинська","ДП «РЕГІОНАЛЬНІ ЕЛЕКТРИЧНІ МЕРЕЖІ»","ДП «РЕГІОНАЛЬНІ ЕЛЕКТРИЧНІ МЕРЕЖІ»","Дніпропетровська",0.04]
["Автоматизація","Тендер ","Кредитні + Власні кошти","Власні кошти/Own funds","Дніпровська ","ПС 750 кВ Дніпровська ","Східне ТУОМ","тис.EUR/ ths.EUR",null,null,null,"Інформаційні системи ","Житомирська","АТ«ЖИТОМИРОБЛЕНЕРГО»","ТОВ «ЖИТОМИРСЬКА ОБЛАСНА ЕНЕРГОПОСТАЧАЛЬНА КОМПАНІЯ»","Донецька"]
["Інформаційні системи","ТЕО","Грантові кошти","Грантові кошти/Grant funds","Дніпровська ","ПС 330 кВ Дніпровська ","Північне ТУОМ",null,null,null,null,"Апаратне забезпечення","Закарпатська","ПРАТ «ЗАКАРПАТТЯОБЛЕНЕРГО»","ТОВ «ЗАКАРПАТТЯЕНЕРГОЗБУТ»","Житомирська"]
["Апаратне і програмне забезпечення","ПКД стадії П",null,null,"Дніпровська ","ПС 330 кВ Дніпро-донбас","Апарат Управління",null,null,null,null,"Програмне забезпечення","Запорізька","ПАТ «ЗАПОРІЖЖЯОБЛЕНЕРГО»","ТОВ «ЗАПОРІЖЖЯЕЛЕКТРОПОСТАЧАННЯ»","Закарпатська"]
[null,"ПКД стадії РП",null,null,"Дніпровська ","ПС 750 кВ Запорізька",null,null,null,null,null,"Вставка постійного струму","Київська","ПРАТ «ДТЕК КИЇВСЬКІ ЕЛЕКТРОМЕРЕЖІ»","ТОВ  «КИЇВСЬКІ ЕНЕРГЕТИЧНІ ПОСЛУГИ»","Запорізька"]
[null,"Експертиза",null,null,"Дніпровська ","ПС 330 кВ Запорізька",null,null,null,null,null,"СТАТКОМ","Київська","ПРАТ «КИЇВОБЛЕНЕРГО»","ТОВ «КИЇВСЬКА ОБЛАСНА ЕНЕРГОПОСТАЧАЛЬНА КОМПАНІЯ»","Івано-Франківська"]
[null,"Поставка обладнання",null,null,"Дніпровська ","ПС 330 кВ Зоря",null,null,null,null,null,null,"Київська","АТ «УКРЗАЛІЗНИЦЯ»","АТ «УКРЗАЛІЗНИЦЯ»","Київська"]
[null,"БМР",null,null,"Дніпровська ","ПС 330 кВ Іванівка",null,null,null,null,null,null,"Кіровоградська","ПРАТ «КІРОВОГРАДОБЛЕНЕРГО»","ТОВ «КІРОВОГРАДСЬКА ОБЛАСНА ЕК»","Кіровоградська"]
[null,"ПНР",null,null,"Дніпровська ","ПС 330 кВ Кам'янська",null,null,null,null,null,null,"Миколаївська","ДПЕМ ПРАТ «АТОМСЕРВІС»","ТОВ «МИКОЛАЇВСЬКА ЕНЕРГОПОСТАЧАЛЬНА КОМПАНІЯ»","Львівська"]
[null,"Введенно в експлуатацію",null,null,"Дніпровська ","ПС 330 кВ Кварцит",null,null,null,null,null,null,"Миколаївська","АТ «МИКОЛАЇВОБЛЕНЕРГО»","ДПЕМ ПРАТ «АТОМСЕРВІС»","Миколаївська"]
[null,"Призупинений",null,null,"Дніпровська ","ПС 330 кВ Криворізька",null,null,null,null,null,null,"Одеська","АТ «ОДЕСАОБЛЕНЕРГО»","ТОВ «ОДЕСЬКА ОБЛАСНА ЕНЕРГОПОСТАЧАЛЬНА КОМПАНІЯ»","Одеська"]
[null,"Відмінений",null,null,"Дніпровська ","ПС 330 кВ Лівобережна",null,null,null,null,null,null,"Одеська","АТ «УКРЗАЛІЗНИЦЯ»","АТ «УКРЗАЛІЗНИЦЯ»","Полтавська"]
[null,null,null,null,"Дніпровська ","ПС 330 кВ Мелітопільська ",null,null,null,null,null,null,"Полтавська","ПАТ «ПОЛТАВАОБЛЕНЕРГО»","ТОВ «ПОЛТАВАЕНЕРГОЗБУТ»","Рівненська"]
[null,null,null,null,"Дніпровська ","ПС 330 кВ Мирна",null,null,null,null,null,null,"Івано-Франківська","АТ «ПРИКАРПАТТЯОБЛЕНЕРГО»","ТОВ «ПРИКАРПАТЕНЕРГОТРЕЙД»","Сумська"]
[null,null,null,null,"Дніпровська ","ПС 330 кВ Молчанська",null,null,null,null,null,null,"Рівненська","ПРАТ «РІВНЕОБЛЕНЕРГО»","ТОВ  «РІВНЕНСЬКА ОБЛАСНА ЕНЕРГОПОСТАЧАЛЬНА КОМПАНІЯ»","Тернопільска"]
[null,null,null,null,"Дніпровська ","ПС 330 кВ Нікопольська",null,null,null,null,null,null,"Рівненська","КП «МІСЬКІ ЕЛЕКТРИЧНІ МЕРЕЖІ»","КП «МІСЬКІ ЕЛЕКТРИЧНІ МЕРЕЖІ»","Харківська"]
[null,null,null,null,"Дніпровська ","ПС 330 кВ Павлоградська ",null,null,null,null,null,null,"Сумська","ПАТ «СУМИОБЛЕНЕРГО»","ТОВ «ЕНЕРА СУМИ»","Херсонська"]
[null,null,null,null,"Дніпровська ","ПС 330 кВ Першотравнева",null,null,null,null,null,null,"Тернопільска","ВАТ «ТЕРНОПІЛЬОБЛЕНЕРГО»","ТОВ «ТЕРНОПІЛЬЕЛЕКТРОПОСТАЧ»","Хмельницька"]
[null,null,null,null,"Дніпровська ","ПС 330 кВ Південна",null,null,null,null,null,null,"Харківська","АТ «ХАРКІВОБЛЕНЕРГО»","ПРАТ «ХАРКІВЕНЕРГОЗБУТ»","Черкаська"]
[null,null,null,null,"Дніпровська ","ПС 750 кВ Південнодонбаська",null,null,null,null,null,null,"Харківська","АТ «УКРЗАЛІЗНИЦЯ»","АТ «УКРЗАЛІЗНИЦЯ»","Чернівецька"]
[null,null,null,null,"Дніпровська ","ПС 330 кВ Побузька",null,null,null,null,null,null,"Херсонська","АТ «ХЕРСОНОБЛЕНЕРГО»","ТОВ «ХЕРСОНСЬКА ОБЛАСНА ЕНЕРГОПОСТАЧАЛЬНА КОМПАНІЯ»","Чернігівська"]
[null,null,null,null,"Дніпровська ","ПС 330 кВ Прометей",null,null,null,null,null,null,"Хмельницька","АТ «ХМЕЛЬНИЦЬКОБЛЕНЕРГО»","ТОВ «ХМЕЛЬНИЦЬКЕНЕРГОЗБУТ»","Луганська"]
[null,null,null,null,"Дніпровська ","ПС 330 кВ Рудна",null,null,null,null,null,null,"Черкаська","ПАТ «ЧЕРКАСИОБЛЕНЕРГО»","ТОВ «ЧЕРКАСИЕНЕРГОЗБУТ»"]
[null,null,null,null,"Дніпровська ","ПС 330 кВ Українка",null,null,null,null,null,null,"Чернівецька","АТ «ЧЕРНІВЦІОБЛЕНЕРГО»","ТОВ «ЧЕРНІВЕЦЬКА ОБЛАСНА ЕНЕРГОПОСТАЧАЛЬНА КОМПАНІЯ»"]
[null,null,null,null,"Дніпровська ","ПС 330 кВ Феросплавна",null,null,null,null,null,null,"Чернігівська","ПАТ «ЧЕРНІГІВОБЛЕНЕРГО»","ТОВ «ЕНЕРА ЧЕРНІГІВ»"]
[null,null,null,null,"Західна ","ПС 330 кВ Богородчани",null,null,null,null,null,null,"Донецька","ПРАТ «ДТЕК ПЕМ-ЕНЕРГОВУГІЛЛЯ»","ТОВ «ДОНЕЦЬКІ ЕНЕРГЕТИЧНІ ПОСЛУГИ»"]
[null,null,null,null,"Західна ","ПС 330 кВ Борислав",null,null,null,null,null,null,"Донецька","ТОВ «ДТЕК ВИСОКОВОЛЬТНІ МЕРЕЖІ»","ДП «РЕГІОНАЛЬНІ ЕЛЕКТРИЧНІ МЕРЕЖІ»"]
[null,null,null,null,"Західна ","ПС 330 кВ Воловець",null,null,null,null,null,null,"Донецька","АТ «УКРЗАЛІЗНИЦЯ»","ПРАТ «ДТЕК ПЕМ-ЕНЕРГОВУГІЛЛЯ»"]
[null,null,null,null,"Західна ","ПС 330 кВ Грабів",null,null,null,null,null,null,"Донецька","ДП «РЕГІОНАЛЬНІ ЕЛЕКТРИЧНІ МЕРЕЖІ»","ТОВ «ДТЕК ВИСОКОВОЛЬТНІ МЕРЕЖІ»"]
[null,null,null,null,"Західна ","ПС 330 кВ Івано-Франківськ",null,null,null,null,null,null,"Донецька","АТ «ДТЕК ДОНЕЦЬКІ ЕЛЕКТРОМЕРЕЖІ»","АТ «УКРЗАЛІЗНИЦЯ»"]
[null,null,null,null,"Західна ","ПС 330 кВ Калуш",null,null,null,null,null,null,"Дніпропетровська","ПРАТ «ПЕЕМ «ЦЕК»","ТОВ «ДНІПРОВСЬКІ ЕНЕРГЕТИЧНІ  ПОСЛУГИ»"]
[null,null,null,null,"Західна ","ПС 330 кВ Ковель",null,null,null,null,null,null,"Дніпропетровська","ТОВ «ДТЕК ВИСОКОВОЛЬТНІ МЕРЕЖІ»","ТОВ «ДТЕК ВИСОКОВОЛЬТНІ МЕРЕЖІ»"]
[null,null,null,null,"Західна ","ПС 330 кВ Луцьк Південна",null,null,null,null,null,null,"Дніпропетровська","АТ «УКРЗАЛІЗНИЦЯ»","АТ «УКРЗАЛІЗНИЦЯ»"]
[null,null,null,null,"Західна ","ПС 330 кВ Луцьк-Північна",null,null,null,null,null,null,"Дніпропетровська","АТ «ДТЕК ДНІПРОВСЬКІ ЕЛЕКТРОМЕРЕЖІ»","ПРАТ «ПЕЕМ «ЦЕК»"]
[null,null,null,null,"Західна ","ПС 330 кВ Львів Західна",null,null,null,null,null,null,"Львівська","ПП «ГАРАНТ ЕНЕРГО М»","ТОВ «ЛЬВІВЕНЕРГОЗБУТ»"]
[null,null,null,null,"Західна ","ПС 330 кВ Львів Південна",null,null,null,null,null,null,"Львівська","АТ «УКРЗАЛІЗНИЦЯ»","ДП «РЕГІОНАЛЬНІ ЕЛЕКТРИЧНІ МЕРЕЖІ»"]
[null,null,null,null,"Західна ","ПС 330 кВ Львів-2",null,null,null,null,null,null,"Львівська","ДП «РЕГІОНАЛЬНІ ЕЛЕКТРИЧНІ МЕРЕЖІ»","АТ «УКРЗАЛІЗНИЦЯ»"]
[null,null,null,null,"Західна ","ПС 330 кВ Нововолинськ",null,null,null,null,null,null,"Львівська","ПРАТ «ЛЬВІВОБЛЕНЕРГО»","ПП «ГАРАНТ ЕНЕРГО М»"]
[null,null,null,null,"Західна ","ПС 330 кВ Радивілів",null,null,null,null,null,null,"Луганська","ДП «РЕГІОНАЛЬНІ ЕЛЕКТРИЧНІ МЕРЕЖІ»","ДП «РЕГІОНАЛЬНІ ЕЛЕКТРИЧНІ МЕРЕЖІ»"]
[null,null,null,null,"Західна ","ПС 330 кВ Рівне",null,null,null,null,null,null,"Луганська","ТОВ «ЛУГАНСЬКЕ ЕНЕРГЕТИЧНЕ ОБ’ЄДНАННЯ»","ТОВ «ЕНЕРА СХІД» (Луганська обл.)"]
[null,null,null,null,"Західна ","ПС 330 кВ Розділ"]
[null,null,null,null,"Західна ","ПС 330 кВ Стрий"]
[null,null,null,null,"Західна ","ПС 330 кВ Яворів"]
[null,null,null,null,"Західна ","ПС 330 кВ Мукачеве"]
[null,null,null,null,"Західна ","ПС 750 кВ Західноукраїнська"]
[null,null,null,null,"Південна ","ПС 330 кВ  Аджалик"]
[null,null,null,null,"Південна ","ПС 330 кВ Аквілон"]
[null,null,null,null,"Південна ","ПС 330 кВ Арциз"]
[null,null,null,null,"Південна ","ПС 220 кВ Березань"]
[null,null,null,null,"Південна ","ПС 220 кВ Доброславська"]
[null,null,null,null,"Південна ","ПС 330 кВ Каховська"]
[null,null,null,null,"Південна ","ПС 750 кВ Каховська"]
[null,null,null,null,"Південна ","ПС 330 кВ Миколаївська"]
[null,null,null,null,"Південна ","ПС 330 кВ Новоодеська"]
[null,null,null,null,"Південна ","ПС 330 кВ Подільська"]
[null,null,null,null,"Південна ","ПС 330 кВ Подільська"]
[null,null,null,null,"Південна ","ПС 110 кВ Придунайська"]
[null,null,null,null,"Південна ","ПС 330 кВ Приморська"]
[null,null,null,null,"Південна ","ПС 330 кВ Приморська"]
[null,null,null,null,"Південна ","ПС 330 кВ Сиваш"]
[null,null,null,null,"Південна ","ПС 110 кВ Сонячна Арциз"]
[null,null,null,null,"Південна ","ПС 110 кВ Сонячна-Кілія "]
[null,null,null,null,"Південна ","ПС 110 кВ Сонячна-Рені "]
[null,null,null,null,"Південна ","ПС 330 кВ Трихати"]
[null,null,null,null,"Південна ","ПС 330 кВ Усатове"]
[null,null,null,null,"Південна ","ПС 330 кВ Херсонська"]
[null,null,null,null,"Південна ","ПС 220 кВ Центроліт"]
[null,null,null,null,"Південно-Західна ","ПС 330 кВ Бар"]
[null,null,null,null,"Південно-Західна ","ПС 330 кВ Вінницька"]
[null,null,null,null,"Південно-Західна ","ПС 750 кВ Вінницька"]
[null,null,null,null,"Південно-Західна ","ПС 330 кВ Кам'янець-Подільська"]
[null,null,null,null,"Південно-Західна ","ПС 330 кВ Козятин"]
[null,null,null,null,"Південно-Західна ","ПС 330 кВ Тернопільська"]
[null,null,null,null,"Південно-Західна ","ПС 330 кВ Хмельницька"]
[null,null,null,null,"Південно-Західна ","ПС 330 кВ Чернівецька"]
[null,null,null,null,"Південно-Західна ","ПС 330 кВ Шепетівка"]
[null,null,null,null,"Північна ","ПС 330 кВ Білицька"]
[null,null,null,null,"Північна ","ПС 330 кВ Великоцька"]
[null,null,null,null,"Північна ","ПС 330 кВ Донбаська"]
[null,null,null,null,"Північна ","ПС 330 кВ Залютине"]
[null,null,null,null,"Північна ","ПС 330 кВ Конотоп"]
[null,null,null,null,"Північна ","ПС 330 кВ Кременчук"]
[null,null,null,null,"Північна ","ПС 330 кВ Кремінська"]
[null,null,null,null,"Північна ","ПС 330 кВ Куп'янськ"]
[null,null,null,null,"Північна ","ПС 330 кВ Лисичанська"]
[null,null,null,null,"Північна ","ПС 330 кВ Лозова"]
[null,null,null,null,"Північна ","ПС 330 кВ Лосєво"]
[null,null,null,null,"Північна ","ПС 330 кВ Миргород"]
[null,null,null,null,"Північна ","ПС 750 кВ Північноукраїнська"]
[null,null,null,null,"Північна ","ПС 330 кВ Полтава"]
[null,null,null,null,"Північна ","ПС 330 кВ Степова"]
[null,null,null,null,"Північна ","ПС 330 кВ Суми"]
[null,null,null,null,"Північна ","ПС 330 кВ Суми-Північна"]
[null,null,null,null,"Північна ","ПС 330 кВ Травнева"]
[null,null,null,null,"Північна ","ПС 330 кВ Харківська"]
[null,null,null,null,"Північна ","ПС 330 кВ Центральна"]
[null,null,null,null,"Північна ","ПС 330 кВ Шостка"]
[null,null,null,null,"Північна ","ПС 330 кВ Слобожанська"]
[null,null,null,null,"Північна ","ПС 330 кВ Ювілейна"]
[null,null,null,null,"Центальна","ПС 330 кВ Білоцерквівська"]
[null,null,null,null,"Центальна","ПС 330 кВ Броварська "]
[null,null,null,null,"Центальна","ПС 330 кВ Житомирська"]
[null,null,null,null,"Центальна","ПС 330 кВ Західна"]
[null,null,null,null,"Центальна","ПС 750 кВ Київська"]
[null,null,null,null,"Центальна","ПС 330 кВ Лісова"]
[null,null,null,null,"Центальна","ПС 330 кВ Нивки"]
[null,null,null,null,"Центальна","ПС 330 кВ Ніжинська"]
[null,null,null,null,"Центальна","ПС 330 кВ Новокиївська"]
[null,null,null,null,"Центальна","ПС 330 кВ Північна"]
[null,null,null,null,"Центальна","ПС 330 кВ Поляна"]
[null,null,null,null,"Центальна","ПС 330 кВ Славутич"]
[null,null,null,null,"Центальна","ПС 330 кВ Східна"]
[null,null,null,null,"Центальна","ПС 330 кВ Тальне"]
[null,null,null,null,"Центальна","ПС 330 кВ Фастів"]
[null,null,null,null,"Центальна","ПС 330 кВ Черкаська"]
[null,null,null,null,"Центальна","ПС 330 кВ Чернігівська"]
[null,null,null,null,"Апарат Управління","--"]
[null,null,null,null,"ВП \"Вінницяелектротехнологія\"","--"]
[null,null,null,null,"ВП \"Укренергосервіс\"","--"]
[null,null,null,null,"--","--"]

{"sheet":"Lists","index":19,"n_rows":123,"n_cols":15,"rows_kept":123,"cut":false,"hidden":false,"merged":[]}
["Type of work according to the project","Current state of the project","Financing","Power system","Substation","Territorial office of network maintenance","Currency","Residual value","Risk assessment","Probability of risk","Object","Region","Distribution system operator","Universal service provider","Ukraine Region"]
["New construction","Pre-Project work","Loan","Dniprovska","SS 220 kV Azovska","--","th.UAH","Liquidation","Minor","Unlikely","Substation","Vinnytsia","PJSC \"VINNITSIAOBLENERGO\"","ENERA VINNITSA LLC","Vinnytsia"]
["Technical re-equipment","Not started","Own funds","Dniprovska","SS 330 kV VDHMK","Zakhidne TONM","ml.UAH","Extended","Moderate ","Probably","Overhead line","Volyn","PJSC \"VOLYNOBLENERGO\"","VOLYNELEKTROZBUT LLC","Volyn"]
["Reconstruction","Land management",{"$f":"CONCATENATE(C2,\" + \",C3)","v":"Loan + Own funds"},"Dniprovska","SS 330 kV Hirnycha","Pivdenne TONM","th.US$","Missing","Disastrous","High Probability","Energy storage systems","Volyn","SE \"REGIONAL ELECTRICAL NETWORKS\"","SE \"REGIONAL ELECTRICAL NETWORKS\"","Dnipro"]
["Automation","Tender","Grant funds","Dniprovska","SS 750 kV Dniprovska","Skhidne TONM","th.EUR",null,null,null,"Information systems","Zhytomyr","JSC \"ZHYTOMYROBLENERGO\"","ZHYTOMYR REGIONAL ENERGY SUPPLY COMPANY LLC","Донецька"]
["Information systems","Feasibility",null,"Dniprovska","SS 330 kV Dniprovska","Pivnichne TONM",null,null,null,null,"Hardware","Transcarpathian","PJSC \"ZAKARPATTYAOBLENERGO\"","LLC \"ZAKARPATTYAENERGOZBUT\"","Zhytomyr"]
["Office and software ","Design and estimate documentation Project",null,"Dniprovska","SS 330 kV Dnipro-Donbas","Office of Management",null,null,null,null,"Software","Zaporizhye","PJSC \"ZAPORIZHZHIAOBLENERGO\"","LLC \"ZAPORIZHZHIAELKTROPOSTACHANNYA\"","Transcarpathian"]
[null,"Design and estimate documentation Work Project",null,"Dniprovska","SS 750 kV Zaporizka",null,null,null,null,null,"Insert DC","Kyiv","PJSC DTEK KYIV ELECTRIC NETWORKS","KYIV ENERGY SERVICES LLC","Zaporizhye"]
[null,"Expertise",null,"Dniprovska","SS 330 kV Zaporizka",null,null,null,null,null,"STATCOM","Kyiv","PJSC \"KYIVOBLENERGO\"","KYIV REGIONAL ENERGY SUPPLY COMPANY LLC","Ivano-Frankivsk"]
[null,"Delivery of equipment",null,"Dniprovska","SS 330 kV Zoria",null,null,null,null,null,null,"Kyiv","JSC UKRZALIZNYTSYA","JSC \"UKRZALIZNYTSYA\"","Kyiv"]
[null,"Construction and installation work",null,"Dniprovska","SS 330 kV Ivanivka",null,null,null,null,null,null,"Kirovograd","PJSC \"KIROVOHRADOBLENERGO\"","LLC \"KIROVOHRAD REGIONAL EC\"","Kirovograd"]
[null,"Commissioning works",null,"Dniprovska","SS 330 kV Kamianska",null,null,null,null,null,null,"Mykolayivska","DPEM PJSC \"ATOMSERVICE\"","LLC \"MYKOLAIV ENERGY SUPPLY COMPANY\"","Lviv"]
[null,"Put into operation",null,"Dniprovska","SS 330 kV Kvartsyt",null,null,null,null,null,null,"Mykolayivska","JSC \"MYKOLAYIVOBLENERGO\"","DPEM PJSC \"ATOMSERVICE\"","Mykolayivska"]
[null,"Suspended",null,"Dniprovska","SS 330 kV Kryvorizka",null,null,null,null,null,null,"Odessa","JSC \"ODESAOBLENERGO\"","ODESSA REGIONAL ENERGY SUPPLY COMPANY LLC","Odessa"]
[null,"Canceled",null,"Dniprovska","SS 330 kV Livoberezhna",null,null,null,null,null,null,"Odessa","JSC \"UKRZALIZNYTSYA\"","JSC \"UKRZALIZNYTSYA\"","Poltava"]
[null,null,null,"Dniprovska","SS 330 kV Melitopolska",null,null,null,null,null,null,"Poltava","PJSC \"POLTAVAOBLENERGO\"","POLTAVAENERGOZBUT LLC","Rivne"]
[null,null,null,"Dniprovska","SS 330 kV Myrna",null,null,null,null,null,null,"Ivano-Frankivsk","JSC \"PRIKARPATTYAOBLENERGO\"","PRIKARPATENERGOTRADE LLC","Sumy"]
[null,null,null,"Dniprovska","SS 330 kV Molochanska",null,null,null,null,null,null,"Rivne","PJSC \"RIVNEOBLENERGO\"","RIVNE REGIONAL ENERGY SUPPLY COMPANY LLC","Ternopil"]
[null,null,null,"Dniprovska","SS 330 kV Nikopolska",null,null,null,null,null,null,"Rivne","ME \"CITY ELECTRIC NETWORKS\"","ME \"CITY ELECTRIC NETWORKS\"","Kharkiv"]
[null,null,null,"Dniprovska","SS 330 kV Pavlohradska",null,null,null,null,null,null,"Sumy","PJSC \"SUMIOBLENERGO\"","ENERA SUMY LLC","Kherson"]
[null,null,null,"Dniprovska","SS 330 kV Pershotravneva",null,null,null,null,null,null,"Ternopil","OJSC \"TERNOPILOBLENERGO\"","LLC \"TERNOPILELEKTROPOSTACH\"","Khmelnytsky"]
[null,null,null,"Dniprovska","SS 330 kV Pivdenna",null,null,null,null,null,null,"Kharkiv","JSC \"KHARKIVOBLENERGO\"","PJSC \"KHARKIVENERGOZBUT\"","Cherkasy"]
[null,null,null,"Dniprovska","SS 750 kV Pivdennodonbaska",null,null,null,null,null,null,"Kharkiv","JSC \"UKRZALIZNYTSYA\"","JSC \"UKRZALIZNYTSYA\"","Chernivtsi"]
[null,null,null,"Dniprovska","SS 330 kV Pobuzka",null,null,null,null,null,null,"Kherson","JSC \"KHERSONOBLENERGO\"","KHERSON REGIONAL ENERGY SUPPLY COMPANY LLC","Chernihiv"]
[null,null,null,"Dniprovska","SS 330 kV Prometei",null,null,null,null,null,null,"Khmelnytsky","JSC \"Khmelnitskoblenergo\"","LLC \"KHMELNYTSKENERGOZBUT\"","Luhansk"]
[null,null,null,"Dniprovska","SS 330 kV Rudna",null,null,null,null,null,null,"Cherkasy","PJSC \"CHERKASIOBLENERGO\"","CHERKASIENERGOZBUT LLC"]
[null,null,null,"Dniprovska","SS 330 kV Ukrainka",null,null,null,null,null,null,"Chernivtsi","JSC \"CHERNIVTSIOBLENERGO\"","LLC \"CHERNIVTSI REGIONAL ENERGY SUPPLY COMPANY\""]
[null,null,null,"Dniprovska","SS 330 kV Ferosplavna",null,null,null,null,null,null,"Chernihiv","PJSC \"CHERNIGIVOBLENERGO\"","ENERA CHERNIGIV LLC"]
[null,null,null,"Zakhidna","SS 330 kV Bohorodchany",null,null,null,null,null,null,"Donetsk","PJSC DTEK PEM-ENERGY COAL","DONETSK ENERGY SERVICES LLC"]
[null,null,null,"Zakhidna","SS 330 kV Boryslav",null,null,null,null,null,null,"Donetsk","DTEK HIGH VOLTAGE NETWORKS LLC","SE \"REGIONAL ELECTRICAL NETWORKS\""]
[null,null,null,"Zakhidna","SS 330 kV Volovets",null,null,null,null,null,null,"Donetsk","JSC \"UKRZALIZNYTSYA\"","PJSC DTEK PEM-ENERGY COAL"]
[null,null,null,"Zakhidna","SS 330 kV Hrabiv",null,null,null,null,null,null,"Donetsk","SE \"REGIONAL ELECTRICAL NETWORKS\"","DTEK HIGH VOLTAGE NETWORKS LLC"]
[null,null,null,"Zakhidna","SS 330 kV Ivano-Frankivsk",null,null,null,null,null,null,"Donetsk","JSC DTEK DONETSK ELECTRIC NETWORKS","JSC \"UKRZALIZNYTSYA\""]
[null,null,null,"Zakhidna","SS 330 kV Kalush",null,null,null,null,null,null,"Dnipro","PJSC \"SING\" TSEK \"","LLC \"DNIPRO ENERGY SERVICES\""]
[null,null,null,"Zakhidna","SS 330 kV Kovel",null,null,null,null,null,null,"Dnipro","DTEK HIGH VOLTAGE NETWORKS LLC","DTEK HIGH VOLTAGE NETWORKS LLC"]
[null,null,null,"Zakhidna","SS 330 kV Lutsk pivdenna",null,null,null,null,null,null,"Dnipro","JSC \"UKRZALIZNYTSYA\"","JSC \"UKRZALIZNYTSYA\""]
[null,null,null,"Zakhidna","SS 330 kV Lutsk pivnichna",null,null,null,null,null,null,"Dnipro","JSC DTEK DNIPRO ELECTRIC NETWORKS","PJSC \"SING\" TSEK \""]
[null,null,null,"Zakhidna","SS 330 kV Lviv zakhidna",null,null,null,null,null,null,"Lviv","PE \"GARANT ENERGO M\"","LVIVENERGOZBUT LLC"]
[null,null,null,"Zakhidna","SS330 kV Lviv pivdenna",null,null,null,null,null,null,"Lviv","JSC \"UKRZALIZNYTSYA\"","SE \"REGIONAL ELECTRICAL NETWORKS\""]
[null,null,null,"Zakhidna","SS 330 kV Lviv-2",null,null,null,null,null,null,"Lviv","SE \"REGIONAL ELECTRICAL NETWORKS\"","JSC \"UKRZALIZNYTSYA\""]
[null,null,null,"Zakhidna","SS 330 kV Novovolynsk",null,null,null,null,null,null,"Lviv","PJSC \"LVIVOBLENERGO\"","PE \"GARANT ENERGO M\""]
[null,null,null,"Zakhidna","SS 330 kV Radyvyliv",null,null,null,null,null,null,"Luhansk","SE \"REGIONAL ELECTRICAL NETWORKS\"","SE \"REGIONAL ELECTRICAL NETWORKS\""]
[null,null,null,"Zakhidna","SS 330 kV Rivne",null,null,null,null,null,null,"Luhansk","LUGANSK ENERGY ASSOCIATION LLC","ENERA EAST LLC (Luhansk region)"]
[null,null,null,"Zakhidna","SS 330 kV Rozdil"]
[null,null,null,"Zakhidna","SS 330 kV Stryi"]
[null,null,null,"Zakhidna","SS 330 kV Yavoriv"]
[null,null,null,"Zakhidna","SS 330 kV Mukacheve"]
[null,null,null,"Zakhidna","SS 750 kV Zakhidnoukrainska"]
[null,null,null,"Pivdenna","SS 330 kV Adzhalyk"]
[null,null,null,"Pivdenna","SS 330 kV Akvilon"]
[null,null,null,"Pivdenna","SS 330 kV Artsyz"]
[null,null,null,"Pivdenna","SS 220 kV Berezan"]
[null,null,null,"Pivdenna","SS 220 kV Dobroslavska"]
[null,null,null,"Pivdenna","SS 330 kV Kakhovka"]
[null,null,null,"Pivdenna","SS 750 kV Kakhovka"]
[null,null,null,"Pivdenna","SS 330 kV Mykolayivska"]
[null,null,null,"Pivdenna","SS 330 kV Novoodeska"]
[null,null,null,"Pivdenna","SS 330 kV Podilska"]
[null,null,null,"Pivdenna","SS 330 kV Podilska"]
[null,null,null,"Pivdenna","SS 330 kV Prydunaiska"]
[null,null,null,"Pivdenna","SS  330 kV Primorska"]
[null,null,null,"Pivdenna","SS  330 kV Primorska"]
[null,null,null,"Pivdenna","SS 330 kV Syvash"]
[null,null,null,"Pivdenna","SS 110 kV Sonyashna Artsyz"]
[null,null,null,"Pivdenna","SS 110 kV Sonyachna Kiliya"]
[null,null,null,"Pivdenna","SS 110 kV Sonychna Reni"]
[null,null,null,"Pivdenna","SS 330 kV Trykhaty"]
[null,null,null,"Pivdenna","SS 330 kV Usatove"]
[null,null,null,"Pivdenna","SS  330 kV Khersonska"]
[null,null,null,"Pivdenna","SS 220 kV Tsentrolit"]
[null,null,null,"Pivdenno-Zakhidna","SS 330 kV Bar"]
[null,null,null,"Pivdenno-Zakhidna","SS 330 kV Vinnytska"]
[null,null,null,"Pivdenno-Zakhidna","SS 750 kV Vinnytska"]
[null,null,null,"Pivdenno-Zakhidna","SS 330 kV Kamianets-Podilska"]
[null,null,null,"Pivdenno-Zakhidna","SS 330 kV Koziatin"]
[null,null,null,"Pivdenno-Zakhidna","SS  330 kV Ternopilska"]
[null,null,null,"Pivdenno-Zakhidna","SS 330 kV Khmelnytska"]
[null,null,null,"Pivdenno-Zakhidna","SS 330 kV Chernivetska"]
[null,null,null,"Pivdenno-Zakhidna","SS 330 kV Shepetivka"]
[null,null,null,"Pivnichna","SS 330 kV Bilytska"]
[null,null,null,"Pivnichna","SS 330 kV Velykotska"]
[null,null,null,"Pivnichna","SS 330 kV Donbaska"]
[null,null,null,"Pivnichna","SS 330 kV Zaliutyne"]
[null,null,null,"Pivnichna","SS 330 kV Konotop"]
[null,null,null,"Pivnichna","SS 330 kV Kremenchuk"]
[null,null,null,"Pivnichna","SS 330 kV Kreminska"]
[null,null,null,"Pivnichna","SS 330 kV Kupiansk"]
[null,null,null,"Pivnichna","SS 330 kV Lysychanska"]
[null,null,null,"Pivnichna","SS 330 kV Lozova"]
[null,null,null,"Pivnichna","SS 330 kV Losievo"]
[null,null,null,"Pivnichna","SS 330 kV Myrhorod"]
[null,null,null,"Pivnichna","SS 750 kV Pivnichnoukrainska"]
[null,null,null,"Pivnichna","SS 330 kV Poltava"]
[null,null,null,"Pivnichna","SS 330 kV Stepova"]
[null,null,null,"Pivnichna","SS 330 kV Sumy"]
[null,null,null,"Pivnichna","SS 330 kV Sumy pivnichna"]
[null,null,null,"Pivnichna","SS 330 kV Travneva"]
[null,null,null,"Pivnichna","SS 330 kV Kharkivska"]
[null,null,null,"Pivnichna","SS 330 kV Tsentralna"]
[null,null,null,"Pivnichna","SS 330 kV Shostka"]
[null,null,null,"Pivnichna","SS 330 kV Slobozhanska"]
[null,null,null,"Pivnichna","SS 330 kV Yuvileina"]
[null,null,null,"Tsentralna","SS 330 kV Bilotserkivska"]
[null,null,null,"Tsentralna","SS 330 kV Brovarska"]
[null,null,null,"Tsentralna","SS 330 kV Zhytomyrska"]
[null,null,null,"Tsentralna","SS 330 kV Zakhidna"]
[null,null,null,"Tsentralna","SS 750 kV Kyivska"]
[null,null,null,"Tsentralna","SS 330 kV Lisova"]
[null,null,null,"Tsentralna","SS 330 kV Nyvky"]
[null,null,null,"Tsentralna","SS 330 kV Nizhynska"]
[null,null,null,"Tsentralna","SS 330 kV Novokyivska"]
[null,null,null,"Tsentralna","SS 330 kV Pivnichna"]
[null,null,null,"Tsentralna","SS 330 kV Poliana"]
[null,null,null,"Tsentralna","SS 330 kV Slavutych"]
[null,null,null,"Tsentralna","SS 330 kV Shidna"]
[null,null,null,"Tsentralna","SS 330 kV Talne"]
[null,null,null,"Tsentralna","SS 330 kV Fastiv"]
[null,null,null,"Tsentralna","SS 330 kV Cherkaska"]
[null,null,null,"Tsentralna","SS 330 kV Chernihivska"]
[null,null,null,"Office of Management","--"]
[null,null,null,"ВП \"Вінницяелектротехнологія\"","--"]
[null,null,null,"ВП \"Укренергосервіс\"","--"]
[null,null,null,"--","--"]